{"text_format":"1","workbook":"xlsx","n_sheets":23,"sheets":["Lists","CWE Market view","CWE Market graphs","CWE map","BorderDataOverview","Virgin domain initial comp.","PTDFs_Early Publication","LTN","PTDFs","Virgin domain final computation","ATCs","Max net pos","Max exchanges (Maxbex)","Shadow Auction ATC","Net Position","Allocated Capacities","Price Spread","Intraday ATC","Congestion Income","D2CF","Refprog","Final Flowbased domain","Intraday Implicit Allocation"],"not_rendered":{"charts":12,"images":1,"macros":1,"external_links":0,"defined_names":79,"comments":0,"pivot_tables":0},"unopened":[],"bounds":{"document_bytes":16777216,"sheet_cells":100000,"rows_first":2000,"rows_last":500,"rows_between":2000,"halvings":0,"cell_chars":16384,"cell_head_chars":4096},"cells_cut":0,"cells_raw":0,"read":"whole","date_system":"1900"}

{"sheet":"Lists","index":0,"n_rows":370,"n_cols":9,"rows_kept":370,"cut":false,"hidden":true,"merged":[]}
["Dates:",null,"Hours:",null,"Borders:",null,"Version:",null,"Refprog borders:"]
[{"$f":"A3+1","v":"2020-11-04"},null,1,null,"AT-DE",null,"4.2",null,"APG-CZ"]
[{"$f":"IF(G3=\"PR\",DATE(2015,5,19),TODAY())","v":"2020-11-03"},null,2,null,"AT-IT",null,"",null,"APG-HU"]
[{"$f":"IF(OR(A3-1>DATE(2015,5,19),$G$3=\"PR\"),A3-1,\"\")","v":"2020-11-02"},null,3,null,"AT-SI",null,"https://alegro-dryrun-utilitytool.jao.eu/",null,"APG-SHB"]
[{"$f":"IF(A4=\"\",\"\",IF(OR(A4-1>DATE(2015,5,19),$G$3=\"PR\"),A4-1,\"\"))","v":"2020-11-01"},null,4,null,"BE-DE(DC)",null,null,null,"BE-NL"]
[{"$f":"IF(A5=\"\",\"\",IF(OR(A5-1>DATE(2015,5,19),$G$3=\"PR\"),A5-1,\"\"))","v":"2020-10-31"},null,5,null,"BE-FR",null,null,null,"BG-TR"]
["2020-10-30",null,6,null,"BE-NL",null,null,null,"CH-APG"]
["2020-10-29",null,7,null,"DE-AT",null,null,null,"CH-DE+"]
["2020-10-28",null,8,null,"DE-BE(DC)",null,null,null,"CH-FR"]
["2020-10-27",null,9,null,"DE-DK1",null,null,null,"CH-IT"]
["2020-10-26",null,10,null,"DE-FR",null,null,null,"CZ-SK"]
["2020-10-25",null,11,null,"DE-NL",null,null,null,"DE+-APG"]
["2020-10-24",null,12,null,"DK1-DE",null,null,null,"DE-CZ"]
["2020-10-23",null,13,null,"ES-FR",null,null,null,"DE-NL"]
["2020-10-22",null,14,null,"FR-BE",null,null,null,"DE-PL"]
["2020-10-21",null,15,null,"FR-DE",null,null,null,"ES-MA"]
["2020-10-20",null,16,null,"FR-ES",null,null,null,"ES-PT"]
["2020-10-19",null,17,null,"FR-IT",null,null,null,"FR-BE"]
["2020-10-18",null,18,null,"HR-SI",null,null,null,"FR-DE"]
["2020-10-17",null,19,null,"IT-AT",null,null,null,"FR-ES"]
["2020-10-16",null,20,null,"IT-FR",null,null,null,"FR-IT"]
["2020-10-15",null,21,null,"IT-SI",null,null,null,"GR-AL"]
["2020-10-14",null,22,null,"NL-BE",null,null,null,"GR-BG"]
["2020-10-13",null,23,null,"NL-DE",null,null,null,"GR-IT"]
["2020-10-12",null,24,null,"SI-AT",null,null,null,"GR-SMM"]
["2020-10-11",null,25,null,"SI-HR",null,null,null,"GR-TR"]
["2020-10-10",null,null,null,"SI-IT",null,null,null,"IT-APG"]
["2020-10-09",null,null,null,null,null,null,null,"IT-SHB"]
["2020-10-08",null,null,null,null,null,null,null,"PL-CZ"]
["2020-10-07",null,null,null,null,null,null,null,"PL-SK"]
["2020-10-06",null,null,null,null,null,null,null,"RO-BG"]
["2020-10-05",null,null,null,null,null,null,null,"RO-HU"]
["2020-10-04",null,null,null,null,null,null,null,"SHB-HU"]
["2020-10-03",null,null,null,null,null,null,null,"SK-HU"]
["2020-10-02",null,null,null,null,null,null,null,"SMM-AL"]
["2020-10-01",null,null,null,null,null,null,null,"SMM-BG"]
["2020-09-30",null,null,null,null,null,null,null,"SMM-HU"]
[{"$f":"IF(A37=\"\",\"\",IF(OR(A37-1>DATE(2015,5,19),$G$3=\"PR\"),A37-1,\"\"))","v":"2020-09-29"},null,null,null,null,null,null,null,"SMM-RO"]
["2020-09-28",null,null,null,null,null,null,null,"SMM-SHB"]
["2020-09-27",null,null,null,null,null,null,null,"WPS-HU"]
["2020-09-26",null,null,null,null,null,null,null,"WPS-RO"]
["2020-09-25",null,null,null,null,null,null,null,"WPS-SK"]
["2020-09-24"]
["2020-09-23"]
["2020-09-22"]
["2020-09-21"]
["2020-09-20"]
["2020-09-19"]
["2020-09-18"]
["2020-09-17"]
["2020-09-16"]
["2020-09-15"]
["2020-09-14"]
["2020-09-13"]
["2020-09-12"]
["2020-09-11"]
["2020-09-10"]
["2020-09-09"]
["2020-09-08"]
["2020-09-07"]
["2020-09-06"]
["2020-09-05"]
["2020-09-04"]
["2020-09-03"]
["2020-09-02"]
["2020-09-01"]
["2020-08-31"]
["2020-08-30"]
[{"$f":"IF(A68=\"\",\"\",IF(OR(A68-1>DATE(2015,5,19),$G$3=\"PR\"),A68-1,\"\"))","v":"2020-08-29"}]
[{"$f":"IF(A69=\"\",\"\",IF(OR(A69-1>DATE(2015,5,19),$G$3=\"PR\"),A69-1,\"\"))","v":"2020-08-28"}]
["2020-08-27"]
["2020-08-26"]
["2020-08-25"]
["2020-08-24"]
["2020-08-23"]
["2020-08-22"]
["2020-08-21"]
["2020-08-20"]
["2020-08-19"]
["2020-08-18"]
["2020-08-17"]
["2020-08-16"]
["2020-08-15"]
["2020-08-14"]
["2020-08-13"]
["2020-08-12"]
["2020-08-11"]
["2020-08-10"]
["2020-08-09"]
["2020-08-08"]
["2020-08-07"]
["2020-08-06"]
["2020-08-05"]
["2020-08-04"]
["2020-08-03"]
["2020-08-02"]
["2020-08-01"]
["2020-07-31"]
["2020-07-30"]
["2020-07-29"]
["2020-07-28"]
[{"$f":"IF(A101=\"\",\"\",IF(OR(A101-1>DATE(2015,5,19),$G$3=\"PR\"),A101-1,\"\"))","v":"2020-07-27"}]
["2020-07-26"]
["2020-07-25"]
["2020-07-24"]
["2020-07-23"]
["2020-07-22"]
["2020-07-21"]
["2020-07-20"]
["2020-07-19"]
["2020-07-18"]
["2020-07-17"]
["2020-07-16"]
["2020-07-15"]
["2020-07-14"]
["2020-07-13"]
["2020-07-12"]
["2020-07-11"]
["2020-07-10"]
["2020-07-09"]
["2020-07-08"]
["2020-07-07"]
["2020-07-06"]
["2020-07-05"]
["2020-07-04"]
["2020-07-03"]
["2020-07-02"]
["2020-07-01"]
["2020-06-30"]
["2020-06-29"]
["2020-06-28"]
["2020-06-27"]
[{"$f":"IF(A132=\"\",\"\",IF(OR(A132-1>DATE(2015,5,19),$G$3=\"PR\"),A132-1,\"\"))","v":"2020-06-26"}]
[{"$f":"IF(A133=\"\",\"\",IF(OR(A133-1>DATE(2015,5,19),$G$3=\"PR\"),A133-1,\"\"))","v":"2020-06-25"}]
["2020-06-24"]
["2020-06-23"]
["2020-06-22"]
["2020-06-21"]
["2020-06-20"]
["2020-06-19"]
["2020-06-18"]
["2020-06-17"]
["2020-06-16"]
["2020-06-15"]
["2020-06-14"]
["2020-06-13"]
["2020-06-12"]
["2020-06-11"]
["2020-06-10"]
["2020-06-09"]
["2020-06-08"]
["2020-06-07"]
["2020-06-06"]
["2020-06-05"]
["2020-06-04"]
["2020-06-03"]
["2020-06-02"]
["2020-06-01"]
["2020-05-31"]
["2020-05-30"]
["2020-05-29"]
["2020-05-28"]
["2020-05-27"]
["2020-05-26"]
["2020-05-25"]
[{"$f":"IF(A165=\"\",\"\",IF(OR(A165-1>DATE(2015,5,19),$G$3=\"PR\"),A165-1,\"\"))","v":"2020-05-24"}]
["2020-05-23"]
["2020-05-22"]
["2020-05-21"]
["2020-05-20"]
["2020-05-19"]
["2020-05-18"]
["2020-05-17"]
["2020-05-16"]
["2020-05-15"]
["2020-05-14"]
["2020-05-13"]
["2020-05-12"]
["2020-05-11"]
["2020-05-10"]
["2020-05-09"]
["2020-05-08"]
["2020-05-07"]
["2020-05-06"]
["2020-05-05"]
["2020-05-04"]
["2020-05-03"]
["2020-05-02"]
["2020-05-01"]
["2020-04-30"]
["2020-04-29"]
["2020-04-28"]
["2020-04-27"]
["2020-04-26"]
["2020-04-25"]
["2020-04-24"]
[{"$f":"IF(A196=\"\",\"\",IF(OR(A196-1>DATE(2015,5,19),$G$3=\"PR\"),A196-1,\"\"))","v":"2020-04-23"}]
[{"$f":"IF(A197=\"\",\"\",IF(OR(A197-1>DATE(2015,5,19),$G$3=\"PR\"),A197-1,\"\"))","v":"2020-04-22"}]
["2020-04-21"]
["2020-04-20"]
["2020-04-19"]
["2020-04-18"]
["2020-04-17"]
["2020-04-16"]
["2020-04-15"]
["2020-04-14"]
["2020-04-13"]
["2020-04-12"]
["2020-04-11"]
["2020-04-10"]
["2020-04-09"]
["2020-04-08"]
["2020-04-07"]
["2020-04-06"]
["2020-04-05"]
["2020-04-04"]
["2020-04-03"]
["2020-04-02"]
["2020-04-01"]
["2020-03-31"]
["2020-03-30"]
["2020-03-29"]
["2020-03-28"]
["2020-03-27"]
["2020-03-26"]
["2020-03-25"]
["2020-03-24"]
["2020-03-23"]
["2020-03-22"]
[{"$f":"IF(A229=\"\",\"\",IF(OR(A229-1>DATE(2015,5,19),$G$3=\"PR\"),A229-1,\"\"))","v":"2020-03-21"}]
["2020-03-20"]
["2020-03-19"]
["2020-03-18"]
["2020-03-17"]
["2020-03-16"]
["2020-03-15"]
["2020-03-14"]
["2020-03-13"]
["2020-03-12"]
["2020-03-11"]
["2020-03-10"]
["2020-03-09"]
["2020-03-08"]
["2020-03-07"]
["2020-03-06"]
["2020-03-05"]
["2020-03-04"]
["2020-03-03"]
["2020-03-02"]
["2020-03-01"]
["2020-02-29"]
["2020-02-28"]
["2020-02-27"]
["2020-02-26"]
["2020-02-25"]
["2020-02-24"]
["2020-02-23"]
["2020-02-22"]
["2020-02-21"]
["2020-02-20"]
[{"$f":"IF(A260=\"\",\"\",IF(OR(A260-1>DATE(2015,5,19),$G$3=\"PR\"),A260-1,\"\"))","v":"2020-02-19"}]
[{"$f":"IF(A261=\"\",\"\",IF(OR(A261-1>DATE(2015,5,19),$G$3=\"PR\"),A261-1,\"\"))","v":"2020-02-18"}]
["2020-02-17"]
["2020-02-16"]
["2020-02-15"]
["2020-02-14"]
["2020-02-13"]
["2020-02-12"]
["2020-02-11"]
["2020-02-10"]
["2020-02-09"]
["2020-02-08"]
["2020-02-07"]
["2020-02-06"]
["2020-02-05"]
["2020-02-04"]
["2020-02-03"]
["2020-02-02"]
["2020-02-01"]
["2020-01-31"]
["2020-01-30"]
["2020-01-29"]
["2020-01-28"]
["2020-01-27"]
["2020-01-26"]
["2020-01-25"]
["2020-01-24"]
["2020-01-23"]
["2020-01-22"]
["2020-01-21"]
["2020-01-20"]
["2020-01-19"]
["2020-01-18"]
[{"$f":"IF(A293=\"\",\"\",IF(OR(A293-1>DATE(2015,5,19),$G$3=\"PR\"),A293-1,\"\"))","v":"2020-01-17"}]
["2020-01-16"]
["2020-01-15"]
["2020-01-14"]
["2020-01-13"]
["2020-01-12"]
["2020-01-11"]
["2020-01-10"]
["2020-01-09"]
["2020-01-08"]
["2020-01-07"]
["2020-01-06"]
["2020-01-05"]
["2020-01-04"]
["2020-01-03"]
["2020-01-02"]
["2020-01-01"]
["2019-12-31"]
["2019-12-30"]
["2019-12-29"]
["2019-12-28"]
["2019-12-27"]
["2019-12-26"]
["2019-12-25"]
["2019-12-24"]
["2019-12-23"]
["2019-12-22"]
["2019-12-21"]
["2019-12-20"]
["2019-12-19"]
["2019-12-18"]
[{"$f":"IF(A324=\"\",\"\",IF(OR(A324-1>DATE(2015,5,19),$G$3=\"PR\"),A324-1,\"\"))","v":"2019-12-17"}]
[{"$f":"IF(A325=\"\",\"\",IF(OR(A325-1>DATE(2015,5,19),$G$3=\"PR\"),A325-1,\"\"))","v":"2019-12-16"}]
["2019-12-15"]
["2019-12-14"]
["2019-12-13"]
["2019-12-12"]
["2019-12-11"]
["2019-12-10"]
["2019-12-09"]
["2019-12-08"]
["2019-12-07"]
["2019-12-06"]
["2019-12-05"]
["2019-12-04"]
["2019-12-03"]
["2019-12-02"]
["2019-12-01"]
["2019-11-30"]
["2019-11-29"]
["2019-11-28"]
["2019-11-27"]
["2019-11-26"]
["2019-11-25"]
["2019-11-24"]
["2019-11-23"]
["2019-11-22"]
["2019-11-21"]
["2019-11-20"]
["2019-11-19"]
["2019-11-18"]
["2019-11-17"]
["2019-11-16"]
["2019-11-15"]
["2019-11-14"]
["2019-11-13"]
["2019-11-12"]
["2019-11-11"]
["2019-11-10"]
["2019-11-09"]
["2019-11-08"]
["2019-11-07"]
["2019-11-06"]
["2019-11-05"]
["2019-11-04"]
["2019-11-03"]
["2019-11-02"]

{"sheet":"CWE Market view","index":1,"n_rows":27,"n_cols":11,"rows_kept":27,"cut":false,"hidden":false,"merged":[[19,1,26,1],[10,5,10,6],[11,5,17,6],[20,5,26,5],[20,6,26,6],[10,1,17,1],[5,3,8,6],[5,8,8,10],[3,8,3,10],[3,3,3,6],[1,3,1,10]]}
[]
[null,null,null,"Utility Tool  "]
[]
[null,"Reference \ntime:",null,"1) Check volume (interactive module)",null,null,null,null,"2) Max volume (information module)"]
[]
[null,"date:",null,"Here you can check the simultaneous execution of trading volumes of the markets involved in the CWE Market Coupling",null,null,null,null,"Here you can find the maximal  trade volumes (MWh/h) which can be physically transported between two Hubs under the condition that no other trade is executed between other Hubs."]
[null,"2020-11-04"]
[null,"hour:"]
[null,"1"]
[]
[null,"HUB TO HUB EXCHANGES ",null,null,"Hub-to-Hub \ntrade in MWh/h \n(please insert values)","Test 1: \n hub to hub \ninside FB space ",null,null,null,"direction\n-->","direction\n<--"]
[null,null,null,"DE=>AT",0,{"$f":"IF(PTDFs!O6>0,\"Constrained Transmission System\",\"Trades feasible\")","v":"Trades feasible"},null,null,"DE=>AT",{"$f":"INDEX('Max exchanges (Maxbex)'!N2:N41,$B$9,1)","v":5068},{"$f":"INDEX('Max exchanges (Maxbex)'!G2:G41,$B$9,1)","v":5008}]
[null,null,null,"DE=>BE (DC)",0,null,null,null,"DE=>BE",{"$f":"INDEX('Max exchanges (Maxbex)'!O2:O41,$B$9,1)","v":3519},{"$f":"INDEX('Max exchanges (Maxbex)'!K2:K41,$B$9,1)","v":2904}]
[null,null,null,"DE=>NL",0,null,null,null,"DE=>NL",{"$f":"INDEX('Max exchanges (Maxbex)'!Q2:Q41,$B$9,1)","v":1982},{"$f":"INDEX('Max exchanges (Maxbex)'!X2:X41,$B$9,1)","v":4305}]
[null,null,null,"DE=>FR",0,null,null,null,"DE=>FR",{"$f":"INDEX('Max exchanges (Maxbex)'!P2:P41,$B$9,1)","v":4946},{"$f":"INDEX('Max exchanges (Maxbex)'!T2:T41,$B$9,1)","v":3939}]
[null,null,null,"NL=>BE",0,null,null,null,"NL=>BE",{"$f":"INDEX('Max exchanges (Maxbex)'!W2:W41,$B$9,1)","v":2393},{"$f":"INDEX('Max exchanges (Maxbex)'!M2:M41,$B$9,1)","v":2781}]
[null,null,null,"NL=>FR",0,null,null,null,"NL=>FR",{"$f":"INDEX('Max exchanges (Maxbex)'!Y2:Y41,$B$9,1)","v":2589},{"$f":"INDEX('Max exchanges (Maxbex)'!U2:U41,$B$9,1)","v":2669}]
[null,null,null,"BE=>FR",0,null,null,null,"BE=>FR",{"$f":"INDEX('Max exchanges (Maxbex)'!L2:L41,$B$9,1)","v":2022},{"$f":"INDEX('Max exchanges (Maxbex)'!S2:S41,$B$9,1)","v":4333}]
[]
[null,"HUB \nPOSITION",null,null,"Hub Positions\ntrade in MWh/h \n(please insert values)","Test 1: \nsum hub positions = 0","Test 2: \n hub positions \ninside FB space ",null,null,"export","import"]
[null,null,null,"ALBE",0,{"$f":"IF(AND(SUM(E21:E22)=0,SUM(E23:E27)=0),\"OK\",\"KO\")","v":"OK"},{"$f":"IF(PTDFs!Q6>0,\"Constrained Transmission System\",\"Trades feasible\")","v":"Trades feasible"},null,"ALBE",{"$f":"INDEX('Max net pos'!$M$2:$M$43,B9,1)","v":0},{"$f":"INDEX('Max net pos'!$L$2:$L$43,B9,1)","v":0}]
[null,null,null,"ALDE",0,null,null,null,"ALDE",{"$f":"INDEX('Max net pos'!$O$2:$O$43,B9,1)","v":0},{"$f":"INDEX('Max net pos'!$N$2:$N$43,B9,1)","v":0}]
[null,null,null,"AT",0,null,null,null,"AT",{"$f":"INDEX('Max net pos'!$Q$2:$Q$43,$B$9,1)","v":5234},{"$f":"INDEX('Max net pos'!$P$2:$P$43,B9,1)","v":-5508}]
[null,null,null,"DE",0,null,null,null,"DE",{"$f":"INDEX('Max net pos'!$U$2:$U$43,B9,1)","v":9121},{"$f":"INDEX('Max net pos'!$T$2:$T$43,B9,1)","v":-11538}]
[null,null,null,"BE",0,null,null,null,"BE",{"$f":"INDEX('Max net pos'!$S$2:$S$43,B9,1)","v":3288},{"$f":"INDEX('Max net pos'!$R$2:$R$43,B9,1)","v":-4679}]
[null,null,null,"FR",0,null,null,null,"FR",{"$f":"INDEX('Max net pos'!$W$2:$W$43,B9,1)","v":6782},{"$f":"INDEX('Max net pos'!$V$2:$V$43,B9,1)","v":-6180}]
[null,null,null,"NL",0,null,null,null,"NL",{"$f":"INDEX('Max net pos'!$Y$2:$Y$43,B9,1)","v":4831},{"$f":"INDEX('Max net pos'!$X$2:$X$43,B9,1)","v":-3495}]

{"sheet":"CWE Market graphs","index":2,"n_rows":2,"n_cols":16,"rows_kept":2,"cut":false,"hidden":false,"merged":[[1,0,2,13],[1,15,2,25]]}
[]
["Maximum bilateral exchanges",null,null,null,null,null,null,null,null,null,null,null,null,null,null,"Maximum / minimum net positions"]

{"sheet":"CWE map","index":3,"n_rows":30,"n_cols":16,"rows_kept":30,"cut":false,"hidden":false,"merged":[[1,4,2,16]]}
[]
["data shown for hour:",null,null,null,"CWE max net positions and bilateral exchanges"]
[{"$f":"'CWE Market view'!B9","v":"1"}]
[]
[]
[null,null,null,null,null,"NL",null,null,null,null,null,null,"DE"]
[]
[null,null,null,null,{"$f":"'CWE Market view'!J17","v":2589},"←",null,"export",{"$f":"'CWE Market view'!J27","v":4831},null,"←",{"$f":"'CWE Market view'!J14","v":1982}]
[null,null,null,null,{"$f":"'CWE Market view'!K17","v":2669},"→",null,"import",{"$f":"'CWE Market view'!K27","v":-3495},null,null,{"$f":"'CWE Market view'!K14","v":4305},"→"]
[]
[null,null,null,null,null,null,null,null,"↑"]
[null,null,null,null,null,null,null,{"$f":"'CWE Market view'!J16","v":2393},{"$f":"'CWE Market view'!K16","v":2781}]
[null,null,null,null,null,"BE",null,"↓"]
[]
[null,null,null,null,null,null,null,"export",{"$f":"'CWE Market view'!J25","v":3288},null,"←",{"$f":"'CWE Market view'!J13","v":3519},null,null,"export",{"$f":"'CWE Market view'!J24","v":9121}]
[null,null,null,null,null,null,null,"import",{"$f":"'CWE Market view'!K25","v":-4679},null,null,{"$f":"'CWE Market view'!K13","v":2904},"→",null,"import",{"$f":"'CWE Market view'!K24","v":-11538}]
[]
[null,null,null,null,null,null,null,null,"↑"]
[null,null,null,null,null,null,null,{"$f":"'CWE Market view'!J18","v":2022},{"$f":"'CWE Market view'!K18","v":4333}]
[null,null,null,null,null,"FR",null,"↓"]
[]
[null,null,null,null,null,null,null,null,null,null,"←",{"$f":"'CWE Market view'!J15","v":4946}]
[null,null,null,null,null,null,null,null,null,null,null,{"$f":"'CWE Market view'!K15","v":3939},"→"]
[]
[null,null,null,null,null,null,null,null,null,null,null,null,null,{"$f":"IF(SIGN(S24)=1,\"^\",IF(SIGN(S24)=0,\" \",\" \"))","v":" "},null,"↑"]
[null,null,null,null,{"$f":"'CWE Market view'!K17","v":2669},"←",null,"export",{"$f":"'CWE Market view'!J26","v":6782},null,null,null,null,null,{"$f":"+'CWE Market view'!J12","v":5068},{"$f":"'CWE Market view'!K12","v":5008}]
[null,null,null,null,{"$f":"'CWE Market view'!J17","v":2589},"→",null,"import",{"$f":"'CWE Market view'!K26","v":-6180},null,null,null,"AT",{"$f":"IF(SIGN(S24)=1,\" \",IF(SIGN(S24)=0,\" \",\"v\"))","v":" "},"↓"]
[]
[null,null,null,null,null,null,null,null,null,null,{"$f":"IF(SIGN(S23)=1,\"<\",IF(SIGN(S23)=0,\" \",\" \"))","v":" "},null,{"$f":"IF(SIGN(S23)=1,\" \",IF(SIGN(S23)=0,\" \",\">\"))","v":" "},null,"export",{"$f":"'CWE Market view'!J23","v":5234}]
[null,null,null,null,null,null,null,null,null,null,{"$f":"IF(SIGN(U23)=1,\"<\",IF(SIGN(U23)=0,\" \",\" \"))","v":" "},null,{"$f":"IF(SIGN(U23)=1,\" \",IF(SIGN(U23)=0,\" \",\">\"))","v":" "},null,"import",{"$f":"'CWE Market view'!K23","v":-5508}]

{"sheet":"BorderDataOverview","index":4,"n_rows":31,"n_cols":8,"rows_kept":31,"cut":false,"hidden":false,"merged":[]}
[]
["Date:","2020-11-04"]
[]
["Border:","BE-DE(DC)",null,"Choosing another Business Day on this sheet will also update the following sheets:"]
[null,null,null,"ATCs, Allocated Capacities, Price spread, Congestion Income, LTN, Shadow Auction ATC and ID ATC"]
["Hour","ATC (MW)","BEC (MW)","Price Spread (€/MWh)","Congestion Income (€)","LTN (MW)","Shadow Auction ATC (MW)","Intraday ATC (MW)"]
[{"$f":"IF(AND($B$2<>\"\",SUM(ATCs!A6,'Allocated Capacities'!A6,'Price Spread'!A6,LTN!A6,'Intraday ATC'!A7,'Shadow Auction ATC'!A6,'Congestion Income'!A7)>0),Lists!C2,\"\")","v":1},{"$f":"IF($A7<>\"\",HLOOKUP($B$4,ATCs!$B$5:$Y$36,$A7+1,FALSE),\"\")","v":"N/A"},{"$f":"IF($A7<>\"\",HLOOKUP($B$4,'Allocated Capacities'!$B$5:$AC$42,$A7+1,FALSE),\"\")","v":0},{"$f":"IF($A7<>\"\",HLOOKUP($B$4,'Price Spread'!$B$5:$AG$41,$A7+1,FALSE),\"\")","v":0},{"$f":"IF($A7<>\"\",HLOOKUP($B$4,'Congestion Income'!$N$6:$AA$36,$A7+1,FALSE),\"\")","v":{"$error":"#N/A"}},{"$f":"IF($A7<>\"\",HLOOKUP($B$4,LTN!$B$5:$M$34,$A7+1,FALSE),\"\")","v":0},{"$f":"IF($A7<>\"\",HLOOKUP($B$4,'Shadow Auction ATC'!$B$5:$M$36,$A7+1,FALSE),\"\")","v":0},{"$f":"IF($A7<>\"\",HLOOKUP($B$4,'Intraday ATC'!$B$6:$Y$38,$A7+1,FALSE),\"\")","v":0}]
[{"$f":"IF(AND($B$2<>\"\",SUM(ATCs!A7,'Allocated Capacities'!A7,'Price Spread'!A7,LTN!A7,'Intraday ATC'!A8,'Shadow Auction ATC'!A7,'Congestion Income'!A8)>0),Lists!C3,\"\")","v":2},{"$f":"IF($A8<>\"\",HLOOKUP($B$4,ATCs!$B$5:$Y$36,$A8+1,FALSE),\"\")","v":"N/A"},{"$f":"IF($A8<>\"\",HLOOKUP($B$4,'Allocated Capacities'!$B$5:$Y$42,$A8+1,FALSE),\"\")","v":0},{"$f":"IF($A8<>\"\",HLOOKUP($B$4,'Price Spread'!$B$5:$Y$41,$A8+1,FALSE),\"\")","v":0},{"$f":"IF($A8<>\"\",HLOOKUP($B$4,'Congestion Income'!$N$6:$Y$36,$A8+1,FALSE),\"\")","v":{"$error":"#N/A"}},{"$f":"IF($A8<>\"\",HLOOKUP($B$4,LTN!$B$5:$M$34,$A8+1,FALSE),\"\")","v":0},{"$f":"IF($A8<>\"\",HLOOKUP($B$4,'Shadow Auction ATC'!$B$5:$M$36,$A8+1,FALSE),\"\")","v":0},{"$f":"IF($A8<>\"\",HLOOKUP($B$4,'Intraday ATC'!$B$6:$Y$38,$A8+1,FALSE),\"\")","v":0}]
[{"$f":"IF(AND($B$2<>\"\",SUM(ATCs!A8,'Allocated Capacities'!A8,'Price Spread'!A8,LTN!A8,'Intraday ATC'!A9,'Shadow Auction ATC'!A8,'Congestion Income'!A9)>0),Lists!C4,\"\")","v":3},{"$f":"IF($A9<>\"\",HLOOKUP($B$4,ATCs!$B$5:$Y$36,$A9+1,FALSE),\"\")","v":"N/A"},{"$f":"IF($A9<>\"\",HLOOKUP($B$4,'Allocated Capacities'!$B$5:$Y$42,$A9+1,FALSE),\"\")","v":0},{"$f":"IF($A9<>\"\",HLOOKUP($B$4,'Price Spread'!$B$5:$Y$41,$A9+1,FALSE),\"\")","v":0},{"$f":"IF($A9<>\"\",HLOOKUP($B$4,'Congestion Income'!$N$6:$Y$36,$A9+1,FALSE),\"\")","v":{"$error":"#N/A"}},{"$f":"IF($A9<>\"\",HLOOKUP($B$4,LTN!$B$5:$M$34,$A9+1,FALSE),\"\")","v":0},{"$f":"IF($A9<>\"\",HLOOKUP($B$4,'Shadow Auction ATC'!$B$5:$M$36,$A9+1,FALSE),\"\")","v":0},{"$f":"IF($A9<>\"\",HLOOKUP($B$4,'Intraday ATC'!$B$6:$Y$38,$A9+1,FALSE),\"\")","v":0}]
[{"$f":"IF(AND($B$2<>\"\",SUM(ATCs!A9,'Allocated Capacities'!A9,'Price Spread'!A9,LTN!A9,'Intraday ATC'!A10,'Shadow Auction ATC'!A9,'Congestion Income'!A10)>0),Lists!C5,\"\")","v":4},{"$f":"IF($A10<>\"\",HLOOKUP($B$4,ATCs!$B$5:$Y$36,$A10+1,FALSE),\"\")","v":"N/A"},{"$f":"IF($A10<>\"\",HLOOKUP($B$4,'Allocated Capacities'!$B$5:$Y$42,$A10+1,FALSE),\"\")","v":0},{"$f":"IF($A10<>\"\",HLOOKUP($B$4,'Price Spread'!$B$5:$Y$41,$A10+1,FALSE),\"\")","v":0},{"$f":"IF($A10<>\"\",HLOOKUP($B$4,'Congestion Income'!$N$6:$Y$36,$A10+1,FALSE),\"\")","v":{"$error":"#N/A"}},{"$f":"IF($A10<>\"\",HLOOKUP($B$4,LTN!$B$5:$M$34,$A10+1,FALSE),\"\")","v":0},{"$f":"IF($A10<>\"\",HLOOKUP($B$4,'Shadow Auction ATC'!$B$5:$M$36,$A10+1,FALSE),\"\")","v":0},{"$f":"IF($A10<>\"\",HLOOKUP($B$4,'Intraday ATC'!$B$6:$Y$38,$A10+1,FALSE),\"\")","v":0}]
[{"$f":"IF(AND($B$2<>\"\",SUM(ATCs!A10,'Allocated Capacities'!A10,'Price Spread'!A10,LTN!A10,'Intraday ATC'!A11,'Shadow Auction ATC'!A10,'Congestion Income'!A11)>0),Lists!C6,\"\")","v":5},{"$f":"IF($A11<>\"\",HLOOKUP($B$4,ATCs!$B$5:$Y$36,$A11+1,FALSE),\"\")","v":"N/A"},{"$f":"IF($A11<>\"\",HLOOKUP($B$4,'Allocated Capacities'!$B$5:$Y$42,$A11+1,FALSE),\"\")","v":0},{"$f":"IF($A11<>\"\",HLOOKUP($B$4,'Price Spread'!$B$5:$Y$41,$A11+1,FALSE),\"\")","v":0},{"$f":"IF($A11<>\"\",HLOOKUP($B$4,'Congestion Income'!$N$6:$Y$36,$A11+1,FALSE),\"\")","v":{"$error":"#N/A"}},{"$f":"IF($A11<>\"\",HLOOKUP($B$4,LTN!$B$5:$M$34,$A11+1,FALSE),\"\")","v":0},{"$f":"IF($A11<>\"\",HLOOKUP($B$4,'Shadow Auction ATC'!$B$5:$M$36,$A11+1,FALSE),\"\")","v":0},{"$f":"IF($A11<>\"\",HLOOKUP($B$4,'Intraday ATC'!$B$6:$Y$38,$A11+1,FALSE),\"\")","v":0}]
[{"$f":"IF(AND($B$2<>\"\",SUM(ATCs!A11,'Allocated Capacities'!A11,'Price Spread'!A11,LTN!A11,'Intraday ATC'!A12,'Shadow Auction ATC'!A11,'Congestion Income'!A12)>0),Lists!C7,\"\")","v":6},{"$f":"IF($A12<>\"\",HLOOKUP($B$4,ATCs!$B$5:$Y$36,$A12+1,FALSE),\"\")","v":"N/A"},{"$f":"IF($A12<>\"\",HLOOKUP($B$4,'Allocated Capacities'!$B$5:$Y$42,$A12+1,FALSE),\"\")","v":0},{"$f":"IF($A12<>\"\",HLOOKUP($B$4,'Price Spread'!$B$5:$Y$41,$A12+1,FALSE),\"\")","v":0},{"$f":"IF($A12<>\"\",HLOOKUP($B$4,'Congestion Income'!$N$6:$Y$36,$A12+1,FALSE),\"\")","v":{"$error":"#N/A"}},{"$f":"IF($A12<>\"\",HLOOKUP($B$4,LTN!$B$5:$M$34,$A12+1,FALSE),\"\")","v":0},{"$f":"IF($A12<>\"\",HLOOKUP($B$4,'Shadow Auction ATC'!$B$5:$M$36,$A12+1,FALSE),\"\")","v":0},{"$f":"IF($A12<>\"\",HLOOKUP($B$4,'Intraday ATC'!$B$6:$Y$38,$A12+1,FALSE),\"\")","v":0}]
[{"$f":"IF(AND($B$2<>\"\",SUM(ATCs!A12,'Allocated Capacities'!A12,'Price Spread'!A12,LTN!A12,'Intraday ATC'!A13,'Shadow Auction ATC'!A12,'Congestion Income'!A13)>0),Lists!C8,\"\")","v":7},{"$f":"IF($A13<>\"\",HLOOKUP($B$4,ATCs!$B$5:$Y$36,$A13+1,FALSE),\"\")","v":"N/A"},{"$f":"IF($A13<>\"\",HLOOKUP($B$4,'Allocated Capacities'!$B$5:$Y$42,$A13+1,FALSE),\"\")","v":0},{"$f":"IF($A13<>\"\",HLOOKUP($B$4,'Price Spread'!$B$5:$Y$41,$A13+1,FALSE),\"\")","v":0},{"$f":"IF($A13<>\"\",HLOOKUP($B$4,'Congestion Income'!$N$6:$Y$36,$A13+1,FALSE),\"\")","v":{"$error":"#N/A"}},{"$f":"IF($A13<>\"\",HLOOKUP($B$4,LTN!$B$5:$M$34,$A13+1,FALSE),\"\")","v":0},{"$f":"IF($A13<>\"\",HLOOKUP($B$4,'Shadow Auction ATC'!$B$5:$M$36,$A13+1,FALSE),\"\")","v":0},{"$f":"IF($A13<>\"\",HLOOKUP($B$4,'Intraday ATC'!$B$6:$Y$38,$A13+1,FALSE),\"\")","v":0}]
[{"$f":"IF(AND($B$2<>\"\",SUM(ATCs!A13,'Allocated Capacities'!A13,'Price Spread'!A13,LTN!A13,'Intraday ATC'!A14,'Shadow Auction ATC'!A13,'Congestion Income'!A14)>0),Lists!C9,\"\")","v":8},{"$f":"IF($A14<>\"\",HLOOKUP($B$4,ATCs!$B$5:$Y$36,$A14+1,FALSE),\"\")","v":"N/A"},{"$f":"IF($A14<>\"\",HLOOKUP($B$4,'Allocated Capacities'!$B$5:$Y$42,$A14+1,FALSE),\"\")","v":0},{"$f":"IF($A14<>\"\",HLOOKUP($B$4,'Price Spread'!$B$5:$Y$41,$A14+1,FALSE),\"\")","v":0},{"$f":"IF($A14<>\"\",HLOOKUP($B$4,'Congestion Income'!$N$6:$Y$36,$A14+1,FALSE),\"\")","v":{"$error":"#N/A"}},{"$f":"IF($A14<>\"\",HLOOKUP($B$4,LTN!$B$5:$M$34,$A14+1,FALSE),\"\")","v":0},{"$f":"IF($A14<>\"\",HLOOKUP($B$4,'Shadow Auction ATC'!$B$5:$M$36,$A14+1,FALSE),\"\")","v":0},{"$f":"IF($A14<>\"\",HLOOKUP($B$4,'Intraday ATC'!$B$6:$Y$38,$A14+1,FALSE),\"\")","v":0}]
[{"$f":"IF(AND($B$2<>\"\",SUM(ATCs!A14,'Allocated Capacities'!A14,'Price Spread'!A14,LTN!A14,'Intraday ATC'!A15,'Shadow Auction ATC'!A14,'Congestion Income'!A15)>0),Lists!C10,\"\")","v":9},{"$f":"IF($A15<>\"\",HLOOKUP($B$4,ATCs!$B$5:$Y$36,$A15+1,FALSE),\"\")","v":"N/A"},{"$f":"IF($A15<>\"\",HLOOKUP($B$4,'Allocated Capacities'!$B$5:$Y$42,$A15+1,FALSE),\"\")","v":0},{"$f":"IF($A15<>\"\",HLOOKUP($B$4,'Price Spread'!$B$5:$Y$41,$A15+1,FALSE),\"\")","v":0},{"$f":"IF($A15<>\"\",HLOOKUP($B$4,'Congestion Income'!$N$6:$Y$36,$A15+1,FALSE),\"\")","v":{"$error":"#N/A"}},{"$f":"IF($A15<>\"\",HLOOKUP($B$4,LTN!$B$5:$M$34,$A15+1,FALSE),\"\")","v":0},{"$f":"IF($A15<>\"\",HLOOKUP($B$4,'Shadow Auction ATC'!$B$5:$M$36,$A15+1,FALSE),\"\")","v":0},{"$f":"IF($A15<>\"\",HLOOKUP($B$4,'Intraday ATC'!$B$6:$Y$38,$A15+1,FALSE),\"\")","v":0}]
[{"$f":"IF(AND($B$2<>\"\",SUM(ATCs!A15,'Allocated Capacities'!A15,'Price Spread'!A15,LTN!A15,'Intraday ATC'!A16,'Shadow Auction ATC'!A15,'Congestion Income'!A16)>0),Lists!C11,\"\")","v":10},{"$f":"IF($A16<>\"\",HLOOKUP($B$4,ATCs!$B$5:$Y$36,$A16+1,FALSE),\"\")","v":"N/A"},{"$f":"IF($A16<>\"\",HLOOKUP($B$4,'Allocated Capacities'!$B$5:$Y$42,$A16+1,FALSE),\"\")","v":0},{"$f":"IF($A16<>\"\",HLOOKUP($B$4,'Price Spread'!$B$5:$Y$41,$A16+1,FALSE),\"\")","v":0},{"$f":"IF($A16<>\"\",HLOOKUP($B$4,'Congestion Income'!$N$6:$Y$36,$A16+1,FALSE),\"\")","v":{"$error":"#N/A"}},{"$f":"IF($A16<>\"\",HLOOKUP($B$4,LTN!$B$5:$M$34,$A16+1,FALSE),\"\")","v":0},{"$f":"IF($A16<>\"\",HLOOKUP($B$4,'Shadow Auction ATC'!$B$5:$M$36,$A16+1,FALSE),\"\")","v":0},{"$f":"IF($A16<>\"\",HLOOKUP($B$4,'Intraday ATC'!$B$6:$Y$38,$A16+1,FALSE),\"\")","v":0}]
[{"$f":"IF(AND($B$2<>\"\",SUM(ATCs!A16,'Allocated Capacities'!A16,'Price Spread'!A16,LTN!A16,'Intraday ATC'!A17,'Shadow Auction ATC'!A16,'Congestion Income'!A17)>0),Lists!C12,\"\")","v":11},{"$f":"IF($A17<>\"\",HLOOKUP($B$4,ATCs!$B$5:$Y$36,$A17+1,FALSE),\"\")","v":"N/A"},{"$f":"IF($A17<>\"\",HLOOKUP($B$4,'Allocated Capacities'!$B$5:$Y$42,$A17+1,FALSE),\"\")","v":0},{"$f":"IF($A17<>\"\",HLOOKUP($B$4,'Price Spread'!$B$5:$Y$41,$A17+1,FALSE),\"\")","v":0},{"$f":"IF($A17<>\"\",HLOOKUP($B$4,'Congestion Income'!$N$6:$Y$36,$A17+1,FALSE),\"\")","v":{"$error":"#N/A"}},{"$f":"IF($A17<>\"\",HLOOKUP($B$4,LTN!$B$5:$M$34,$A17+1,FALSE),\"\")","v":0},{"$f":"IF($A17<>\"\",HLOOKUP($B$4,'Shadow Auction ATC'!$B$5:$M$36,$A17+1,FALSE),\"\")","v":0},{"$f":"IF($A17<>\"\",HLOOKUP($B$4,'Intraday ATC'!$B$6:$Y$38,$A17+1,FALSE),\"\")","v":0}]
[{"$f":"IF(AND($B$2<>\"\",SUM(ATCs!A17,'Allocated Capacities'!A17,'Price Spread'!A17,LTN!A17,'Intraday ATC'!A18,'Shadow Auction ATC'!A17,'Congestion Income'!A18)>0),Lists!C13,\"\")","v":12},{"$f":"IF($A18<>\"\",HLOOKUP($B$4,ATCs!$B$5:$Y$36,$A18+1,FALSE),\"\")","v":"N/A"},{"$f":"IF($A18<>\"\",HLOOKUP($B$4,'Allocated Capacities'!$B$5:$Y$42,$A18+1,FALSE),\"\")","v":0},{"$f":"IF($A18<>\"\",HLOOKUP($B$4,'Price Spread'!$B$5:$Y$41,$A18+1,FALSE),\"\")","v":0},{"$f":"IF($A18<>\"\",HLOOKUP($B$4,'Congestion Income'!$N$6:$Y$36,$A18+1,FALSE),\"\")","v":{"$error":"#N/A"}},{"$f":"IF($A18<>\"\",HLOOKUP($B$4,LTN!$B$5:$M$34,$A18+1,FALSE),\"\")","v":0},{"$f":"IF($A18<>\"\",HLOOKUP($B$4,'Shadow Auction ATC'!$B$5:$M$36,$A18+1,FALSE),\"\")","v":0},{"$f":"IF($A18<>\"\",HLOOKUP($B$4,'Intraday ATC'!$B$6:$Y$38,$A18+1,FALSE),\"\")","v":0}]
[{"$f":"IF(AND($B$2<>\"\",SUM(ATCs!A18,'Allocated Capacities'!A18,'Price Spread'!A18,LTN!A18,'Intraday ATC'!A19,'Shadow Auction ATC'!A18,'Congestion Income'!A19)>0),Lists!C14,\"\")","v":13},{"$f":"IF($A19<>\"\",HLOOKUP($B$4,ATCs!$B$5:$Y$36,$A19+1,FALSE),\"\")","v":"N/A"},{"$f":"IF($A19<>\"\",HLOOKUP($B$4,'Allocated Capacities'!$B$5:$Y$42,$A19+1,FALSE),\"\")","v":0},{"$f":"IF($A19<>\"\",HLOOKUP($B$4,'Price Spread'!$B$5:$Y$41,$A19+1,FALSE),\"\")","v":0},{"$f":"IF($A19<>\"\",HLOOKUP($B$4,'Congestion Income'!$N$6:$Y$36,$A19+1,FALSE),\"\")","v":{"$error":"#N/A"}},{"$f":"IF($A19<>\"\",HLOOKUP($B$4,LTN!$B$5:$M$34,$A19+1,FALSE),\"\")","v":0},{"$f":"IF($A19<>\"\",HLOOKUP($B$4,'Shadow Auction ATC'!$B$5:$M$36,$A19+1,FALSE),\"\")","v":0},{"$f":"IF($A19<>\"\",HLOOKUP($B$4,'Intraday ATC'!$B$6:$Y$38,$A19+1,FALSE),\"\")","v":0}]
[{"$f":"IF(AND($B$2<>\"\",SUM(ATCs!A19,'Allocated Capacities'!A19,'Price Spread'!A19,LTN!A19,'Intraday ATC'!A20,'Shadow Auction ATC'!A19,'Congestion Income'!A20)>0),Lists!C15,\"\")","v":14},{"$f":"IF($A20<>\"\",HLOOKUP($B$4,ATCs!$B$5:$Y$36,$A20+1,FALSE),\"\")","v":"N/A"},{"$f":"IF($A20<>\"\",HLOOKUP($B$4,'Allocated Capacities'!$B$5:$Y$42,$A20+1,FALSE),\"\")","v":0},{"$f":"IF($A20<>\"\",HLOOKUP($B$4,'Price Spread'!$B$5:$Y$41,$A20+1,FALSE),\"\")","v":0},{"$f":"IF($A20<>\"\",HLOOKUP($B$4,'Congestion Income'!$N$6:$Y$36,$A20+1,FALSE),\"\")","v":{"$error":"#N/A"}},{"$f":"IF($A20<>\"\",HLOOKUP($B$4,LTN!$B$5:$M$34,$A20+1,FALSE),\"\")","v":0},{"$f":"IF($A20<>\"\",HLOOKUP($B$4,'Shadow Auction ATC'!$B$5:$M$36,$A20+1,FALSE),\"\")","v":0},{"$f":"IF($A20<>\"\",HLOOKUP($B$4,'Intraday ATC'!$B$6:$Y$38,$A20+1,FALSE),\"\")","v":0}]
[{"$f":"IF(AND($B$2<>\"\",SUM(ATCs!A20,'Allocated Capacities'!A20,'Price Spread'!A20,LTN!A20,'Intraday ATC'!A21,'Shadow Auction ATC'!A20,'Congestion Income'!A21)>0),Lists!C16,\"\")","v":15},{"$f":"IF($A21<>\"\",HLOOKUP($B$4,ATCs!$B$5:$Y$36,$A21+1,FALSE),\"\")","v":"N/A"},{"$f":"IF($A21<>\"\",HLOOKUP($B$4,'Allocated Capacities'!$B$5:$Y$42,$A21+1,FALSE),\"\")","v":0},{"$f":"IF($A21<>\"\",HLOOKUP($B$4,'Price Spread'!$B$5:$Y$41,$A21+1,FALSE),\"\")","v":0},{"$f":"IF($A21<>\"\",HLOOKUP($B$4,'Congestion Income'!$N$6:$Y$36,$A21+1,FALSE),\"\")","v":{"$error":"#N/A"}},{"$f":"IF($A21<>\"\",HLOOKUP($B$4,LTN!$B$5:$M$34,$A21+1,FALSE),\"\")","v":0},{"$f":"IF($A21<>\"\",HLOOKUP($B$4,'Shadow Auction ATC'!$B$5:$M$36,$A21+1,FALSE),\"\")","v":0},{"$f":"IF($A21<>\"\",HLOOKUP($B$4,'Intraday ATC'!$B$6:$Y$38,$A21+1,FALSE),\"\")","v":0}]
[{"$f":"IF(AND($B$2<>\"\",SUM(ATCs!A21,'Allocated Capacities'!A21,'Price Spread'!A21,LTN!A21,'Intraday ATC'!A22,'Shadow Auction ATC'!A21,'Congestion Income'!A22)>0),Lists!C17,\"\")","v":16},{"$f":"IF($A22<>\"\",HLOOKUP($B$4,ATCs!$B$5:$Y$36,$A22+1,FALSE),\"\")","v":"N/A"},{"$f":"IF($A22<>\"\",HLOOKUP($B$4,'Allocated Capacities'!$B$5:$Y$42,$A22+1,FALSE),\"\")","v":0},{"$f":"IF($A22<>\"\",HLOOKUP($B$4,'Price Spread'!$B$5:$Y$41,$A22+1,FALSE),\"\")","v":0},{"$f":"IF($A22<>\"\",HLOOKUP($B$4,'Congestion Income'!$N$6:$Y$36,$A22+1,FALSE),\"\")","v":{"$error":"#N/A"}},{"$f":"IF($A22<>\"\",HLOOKUP($B$4,LTN!$B$5:$M$34,$A22+1,FALSE),\"\")","v":0},{"$f":"IF($A22<>\"\",HLOOKUP($B$4,'Shadow Auction ATC'!$B$5:$M$36,$A22+1,FALSE),\"\")","v":0},{"$f":"IF($A22<>\"\",HLOOKUP($B$4,'Intraday ATC'!$B$6:$Y$38,$A22+1,FALSE),\"\")","v":0}]
[{"$f":"IF(AND($B$2<>\"\",SUM(ATCs!A22,'Allocated Capacities'!A22,'Price Spread'!A22,LTN!A22,'Intraday ATC'!A23,'Shadow Auction ATC'!A22,'Congestion Income'!A23)>0),Lists!C18,\"\")","v":17},{"$f":"IF($A23<>\"\",HLOOKUP($B$4,ATCs!$B$5:$Y$36,$A23+1,FALSE),\"\")","v":"N/A"},{"$f":"IF($A23<>\"\",HLOOKUP($B$4,'Allocated Capacities'!$B$5:$Y$42,$A23+1,FALSE),\"\")","v":0},{"$f":"IF($A23<>\"\",HLOOKUP($B$4,'Price Spread'!$B$5:$Y$41,$A23+1,FALSE),\"\")","v":0},{"$f":"IF($A23<>\"\",HLOOKUP($B$4,'Congestion Income'!$N$6:$Y$36,$A23+1,FALSE),\"\")","v":{"$error":"#N/A"}},{"$f":"IF($A23<>\"\",HLOOKUP($B$4,LTN!$B$5:$M$34,$A23+1,FALSE),\"\")","v":0},{"$f":"IF($A23<>\"\",HLOOKUP($B$4,'Shadow Auction ATC'!$B$5:$M$36,$A23+1,FALSE),\"\")","v":0},{"$f":"IF($A23<>\"\",HLOOKUP($B$4,'Intraday ATC'!$B$6:$Y$38,$A23+1,FALSE),\"\")","v":0}]
[{"$f":"IF(AND($B$2<>\"\",SUM(ATCs!A23,'Allocated Capacities'!A23,'Price Spread'!A23,LTN!A23,'Intraday ATC'!A24,'Shadow Auction ATC'!A23,'Congestion Income'!A24)>0),Lists!C19,\"\")","v":18},{"$f":"IF($A24<>\"\",HLOOKUP($B$4,ATCs!$B$5:$Y$36,$A24+1,FALSE),\"\")","v":"N/A"},{"$f":"IF($A24<>\"\",HLOOKUP($B$4,'Allocated Capacities'!$B$5:$Y$42,$A24+1,FALSE),\"\")","v":0},{"$f":"IF($A24<>\"\",HLOOKUP($B$4,'Price Spread'!$B$5:$Y$41,$A24+1,FALSE),\"\")","v":0},{"$f":"IF($A24<>\"\",HLOOKUP($B$4,'Congestion Income'!$N$6:$Y$36,$A24+1,FALSE),\"\")","v":{"$error":"#N/A"}},{"$f":"IF($A24<>\"\",HLOOKUP($B$4,LTN!$B$5:$M$34,$A24+1,FALSE),\"\")","v":0},{"$f":"IF($A24<>\"\",HLOOKUP($B$4,'Shadow Auction ATC'!$B$5:$M$36,$A24+1,FALSE),\"\")","v":0},{"$f":"IF($A24<>\"\",HLOOKUP($B$4,'Intraday ATC'!$B$6:$Y$38,$A24+1,FALSE),\"\")","v":0}]
[{"$f":"IF(AND($B$2<>\"\",SUM(ATCs!A24,'Allocated Capacities'!A24,'Price Spread'!A24,LTN!A24,'Intraday ATC'!A25,'Shadow Auction ATC'!A24,'Congestion Income'!A25)>0),Lists!C20,\"\")","v":19},{"$f":"IF($A25<>\"\",HLOOKUP($B$4,ATCs!$B$5:$Y$36,$A25+1,FALSE),\"\")","v":"N/A"},{"$f":"IF($A25<>\"\",HLOOKUP($B$4,'Allocated Capacities'!$B$5:$Y$42,$A25+1,FALSE),\"\")","v":0},{"$f":"IF($A25<>\"\",HLOOKUP($B$4,'Price Spread'!$B$5:$Y$41,$A25+1,FALSE),\"\")","v":0},{"$f":"IF($A25<>\"\",HLOOKUP($B$4,'Congestion Income'!$N$6:$Y$36,$A25+1,FALSE),\"\")","v":{"$error":"#N/A"}},{"$f":"IF($A25<>\"\",HLOOKUP($B$4,LTN!$B$5:$M$34,$A25+1,FALSE),\"\")","v":0},{"$f":"IF($A25<>\"\",HLOOKUP($B$4,'Shadow Auction ATC'!$B$5:$M$36,$A25+1,FALSE),\"\")","v":0},{"$f":"IF($A25<>\"\",HLOOKUP($B$4,'Intraday ATC'!$B$6:$Y$38,$A25+1,FALSE),\"\")","v":0}]
[{"$f":"IF(AND($B$2<>\"\",SUM(ATCs!A25,'Allocated Capacities'!A25,'Price Spread'!A25,LTN!A25,'Intraday ATC'!A26,'Shadow Auction ATC'!A25,'Congestion Income'!A26)>0),Lists!C21,\"\")","v":20},{"$f":"IF($A26<>\"\",HLOOKUP($B$4,ATCs!$B$5:$Y$36,$A26+1,FALSE),\"\")","v":"N/A"},{"$f":"IF($A26<>\"\",HLOOKUP($B$4,'Allocated Capacities'!$B$5:$Y$42,$A26+1,FALSE),\"\")","v":0},{"$f":"IF($A26<>\"\",HLOOKUP($B$4,'Price Spread'!$B$5:$Y$41,$A26+1,FALSE),\"\")","v":0},{"$f":"IF($A26<>\"\",HLOOKUP($B$4,'Congestion Income'!$N$6:$Y$36,$A26+1,FALSE),\"\")","v":{"$error":"#N/A"}},{"$f":"IF($A26<>\"\",HLOOKUP($B$4,LTN!$B$5:$M$34,$A26+1,FALSE),\"\")","v":0},{"$f":"IF($A26<>\"\",HLOOKUP($B$4,'Shadow Auction ATC'!$B$5:$M$36,$A26+1,FALSE),\"\")","v":0},{"$f":"IF($A26<>\"\",HLOOKUP($B$4,'Intraday ATC'!$B$6:$Y$38,$A26+1,FALSE),\"\")","v":0}]
[{"$f":"IF(AND($B$2<>\"\",SUM(ATCs!A26,'Allocated Capacities'!A26,'Price Spread'!A26,LTN!A26,'Intraday ATC'!A27,'Shadow Auction ATC'!A26,'Congestion Income'!A27)>0),Lists!C22,\"\")","v":21},{"$f":"IF($A27<>\"\",HLOOKUP($B$4,ATCs!$B$5:$Y$36,$A27+1,FALSE),\"\")","v":"N/A"},{"$f":"IF($A27<>\"\",HLOOKUP($B$4,'Allocated Capacities'!$B$5:$Y$42,$A27+1,FALSE),\"\")","v":0},{"$f":"IF($A27<>\"\",HLOOKUP($B$4,'Price Spread'!$B$5:$Y$41,$A27+1,FALSE),\"\")","v":0},{"$f":"IF($A27<>\"\",HLOOKUP($B$4,'Congestion Income'!$N$6:$Y$36,$A27+1,FALSE),\"\")","v":{"$error":"#N/A"}},{"$f":"IF($A27<>\"\",HLOOKUP($B$4,LTN!$B$5:$M$34,$A27+1,FALSE),\"\")","v":0},{"$f":"IF($A27<>\"\",HLOOKUP($B$4,'Shadow Auction ATC'!$B$5:$M$36,$A27+1,FALSE),\"\")","v":0},{"$f":"IF($A27<>\"\",HLOOKUP($B$4,'Intraday ATC'!$B$6:$Y$38,$A27+1,FALSE),\"\")","v":0}]
[{"$f":"IF(AND($B$2<>\"\",SUM(ATCs!A27,'Allocated Capacities'!A27,'Price Spread'!A27,LTN!A27,'Intraday ATC'!A28,'Shadow Auction ATC'!A27,'Congestion Income'!A28)>0),Lists!C23,\"\")","v":22},{"$f":"IF($A28<>\"\",HLOOKUP($B$4,ATCs!$B$5:$Y$36,$A28+1,FALSE),\"\")","v":"N/A"},{"$f":"IF($A28<>\"\",HLOOKUP($B$4,'Allocated Capacities'!$B$5:$Y$42,$A28+1,FALSE),\"\")","v":0},{"$f":"IF($A28<>\"\",HLOOKUP($B$4,'Price Spread'!$B$5:$Y$41,$A28+1,FALSE),\"\")","v":0},{"$f":"IF($A28<>\"\",HLOOKUP($B$4,'Congestion Income'!$N$6:$Y$36,$A28+1,FALSE),\"\")","v":{"$error":"#N/A"}},{"$f":"IF($A28<>\"\",HLOOKUP($B$4,LTN!$B$5:$M$34,$A28+1,FALSE),\"\")","v":0},{"$f":"IF($A28<>\"\",HLOOKUP($B$4,'Shadow Auction ATC'!$B$5:$M$36,$A28+1,FALSE),\"\")","v":0},{"$f":"IF($A28<>\"\",HLOOKUP($B$4,'Intraday ATC'!$B$6:$Y$38,$A28+1,FALSE),\"\")","v":0}]
[{"$f":"IF(AND($B$2<>\"\",SUM(ATCs!A28,'Allocated Capacities'!A28,'Price Spread'!A28,LTN!A28,'Intraday ATC'!A29,'Shadow Auction ATC'!A28,'Congestion Income'!A29)>0),Lists!C24,\"\")","v":23},{"$f":"IF($A29<>\"\",HLOOKUP($B$4,ATCs!$B$5:$Y$36,$A29+1,FALSE),\"\")","v":"N/A"},{"$f":"IF($A29<>\"\",HLOOKUP($B$4,'Allocated Capacities'!$B$5:$Y$42,$A29+1,FALSE),\"\")","v":0},{"$f":"IF($A29<>\"\",HLOOKUP($B$4,'Price Spread'!$B$5:$Y$41,$A29+1,FALSE),\"\")","v":0},{"$f":"IF($A29<>\"\",HLOOKUP($B$4,'Congestion Income'!$N$6:$Y$36,$A29+1,FALSE),\"\")","v":{"$error":"#N/A"}},{"$f":"IF($A29<>\"\",HLOOKUP($B$4,LTN!$B$5:$M$34,$A29+1,FALSE),\"\")","v":0},{"$f":"IF($A29<>\"\",HLOOKUP($B$4,'Shadow Auction ATC'!$B$5:$M$36,$A29+1,FALSE),\"\")","v":0},{"$f":"IF($A29<>\"\",HLOOKUP($B$4,'Intraday ATC'!$B$6:$Y$38,$A29+1,FALSE),\"\")","v":0}]
[{"$f":"IF(AND($B$2<>\"\",SUM(ATCs!A29,'Allocated Capacities'!A29,'Price Spread'!A29,LTN!A29,'Intraday ATC'!A30,'Shadow Auction ATC'!A29,'Congestion Income'!A30)>0),Lists!C25,\"\")","v":24},{"$f":"IF($A30<>\"\",HLOOKUP($B$4,ATCs!$B$5:$Y$36,$A30+1,FALSE),\"\")","v":"N/A"},{"$f":"IF($A30<>\"\",HLOOKUP($B$4,'Allocated Capacities'!$B$5:$Y$42,$A30+1,FALSE),\"\")","v":0},{"$f":"IF($A30<>\"\",HLOOKUP($B$4,'Price Spread'!$B$5:$Y$41,$A30+1,FALSE),\"\")","v":0},{"$f":"IF($A30<>\"\",HLOOKUP($B$4,'Congestion Income'!$N$6:$Y$36,$A30+1,FALSE),\"\")","v":{"$error":"#N/A"}},{"$f":"IF($A30<>\"\",HLOOKUP($B$4,LTN!$B$5:$M$34,$A30+1,FALSE),\"\")","v":0},{"$f":"IF($A30<>\"\",HLOOKUP($B$4,'Shadow Auction ATC'!$B$5:$M$36,$A30+1,FALSE),\"\")","v":0},{"$f":"IF($A30<>\"\",HLOOKUP($B$4,'Intraday ATC'!$B$6:$Y$38,$A30+1,FALSE),\"\")","v":0}]
[{"$f":"IF(AND($B$2<>\"\",SUM(ATCs!A30,'Allocated Capacities'!A30,'Price Spread'!A30,LTN!A30,'Intraday ATC'!A31,'Shadow Auction ATC'!A30,'Congestion Income'!A31)>0),Lists!C26,\"\")","v":""},{"$f":"IF($A31<>\"\",HLOOKUP($B$4,ATCs!$B$5:$Y$36,$A31+1,FALSE),\"\")","v":""},{"$f":"IF($A31<>\"\",HLOOKUP($B$4,'Allocated Capacities'!$B$5:$Y$42,$A31+1,FALSE),\"\")","v":""},{"$f":"IF($A31<>\"\",HLOOKUP($B$4,'Price Spread'!$B$5:$Y$41,$A31+1,FALSE),\"\")","v":""},{"$f":"IF($A31<>\"\",HLOOKUP($B$4,'Congestion Income'!$N$6:$Y$36,$A31+1,FALSE),\"\")","v":""},{"$f":"IF($A31<>\"\",HLOOKUP($B$4,LTN!$B$5:$M$34,$A31+1,FALSE),\"\")","v":""},{"$f":"IF($A31<>\"\",HLOOKUP($B$4,'Shadow Auction ATC'!$B$5:$M$36,$A31+1,FALSE),\"\")","v":""},{"$f":"IF($A31<>\"\",HLOOKUP($B$4,'Intraday ATC'!$B$6:$Y$38,$A31+1,FALSE),\"\")","v":""}]

{"sheet":"Virgin domain initial comp.","index":5,"n_rows":4,"n_cols":31,"rows_kept":4,"cut":false,"hidden":false,"merged":[]}
[]
["Date:","2020-11-04",null,"The data for 2020-11-04 was not loaded automatically, please reselect the date in this sheet to load the data."]
[]
["FileId","DeliveryDate","Period","Row","OutageName","EIC_Code","CriticalBranchName","EIC_Code","Presolved","RemainingAvailableMargin","Fmax","Fref","FRM","FAV","AMR","AMR_Exclusion","AMR_ExclusionJustification","BiddingArea_Shortname","Factor","BiddingArea_Shortname","Factor","BiddingArea_Shortname","Factor","BiddingArea_Shortname","Factor","BiddingArea_Shortname","Factor","BiddingArea_Shortname","Factor","BiddingArea_Shortname","Factor"]

{"sheet":"PTDFs_Early Publication","index":6,"n_rows":3302,"n_cols":17,"rows_kept":3302,"cut":false,"hidden":false,"merged":[[2720,0,2864,0],[2865,0,2997,0],[2998,0,3112,0],[3113,0,3201,0],[3202,0,3301,0],[1888,0,2066,0],[2067,0,2227,0],[2228,0,2390,0],[2391,0,2554,0],[2555,0,2719,0],[1024,0,1223,0],[1224,0,1396,0],[1397,0,1559,0],[1560,0,1734,0],[1735,0,1887,0],[389,0,476,0],[477,0,580,0],[581,0,670,0],[671,0,839,0],[840,0,1023,0],[7,15,8,15],[9,0,109,0],[110,0,209,0],[210,0,295,0],[296,0,388,0]]}
[]
["Date:","2020-11-04",null,"The data for 2020-11-04 has been retrieved successfully."]
[]
[null,null,"ALBE-hub","ALDE-hub","AT-hub (MW)","BE-hub (MW)","DE-hub (MW)","FR-hub (MW)","NL-hub (MW)","Sum"]
[null,"Test Hub to Hub",{"$f":"'CWE Market view'!E13","v":0},{"$f":"-'CWE Market view'!E13","v":0},{"$f":"-'CWE Market view'!E12","v":0},{"$f":"-'CWE Market view'!E13-'CWE Market view'!E16+'CWE Market view'!E18","v":0},{"$f":"'CWE Market view'!E12+'CWE Market view'!E13+'CWE Market view'!E14+'CWE Market view'!E15","v":0},{"$f":"-'CWE Market view'!E15-'CWE Market view'!E17-'CWE Market view'!E18","v":0},{"$f":"-'CWE Market view'!E14+'CWE Market view'!E16+'CWE Market view'!E17","v":0},{"$f":"SUM(C5:I5)","v":0}]
[null,"Test Hub Positions",{"$f":"'CWE Market view'!E21","v":0},{"$f":"'CWE Market view'!E22","v":0},{"$f":"'CWE Market view'!E23","v":0},{"$f":"'CWE Market view'!E25","v":0},{"$f":"'CWE Market view'!E24","v":0},{"$f":"'CWE Market view'!E26","v":0},{"$f":"'CWE Market view'!E27","v":0},{"$f":"SUM(C6:I6)","v":0}]
[]
[null,null,null,null,null,null,null,null,null,null,null,null,null,null,"Test Hub to Hub","# of constraints violated","Test Hub positions"]
[null,"ID","Critical Branch name","EIC code","Critical Outage name","EIC code","ALBE-hub","ALDE-hub","AT-hub","BE-hub","DE-hub","FR-hub","NL-hub","RAM (MW)",{"$f":"SUM(O10:O2000)","v":0},null,{"$f":"SUM(Q10:Q2000)","v":0}]
["hour 1",1,"[D2-NL] Diele - Meeden 380 Black [DIR] [NL]_LTA_corner#05_#17","10T-DE-NL-00001V","[D2-NL] Diele - Meeden 380 White","10T-DE-NL-00002T",0,0,0.52395000000000003,0.42320000000000002,0.57181999999999999,0.46839999999999998,0,1292,{"$f":"IF((G10*ALBE+H10*ALDE+I10*AT+J10*BE+K10*DE+L10*FR+M10*NL)>(N10),1,0)","v":0},null,{"$f":"IF((C$6*G10+D$6*H10+E$6*I10+F$6*J10+G$6*K10+H$6*L10+I$6*M10)>(N10),1,0)","v":0}]
[null,2,"[D2-NL] Diele - Meeden 380 Black [DIR] [NL]_LTA_corner#05_#1","10T-DE-NL-00001V","[D2-NL] Diele - Meeden 380 White","10T-DE-NL-00002T",0,0,0.56623000000000001,0.33776,0.60711999999999999,0.44352999999999998,0,1406,{"$f":"IF((G11*ALBE+H11*ALDE+I11*AT+J11*BE+K11*DE+L11*FR+M11*NL)>(N11),1,0)","v":0},null,{"$f":"IF((C$6*G11+D$6*H11+E$6*I11+F$6*J11+G$6*K11+H$6*L11+I$6*M11)>(N11),1,0)","v":0}]
[null,3,"[D2-NL] Diele - Meeden 380 Black [DIR] [D2]_LTA_corner#01_#6","10T-DE-NL-00001V","[D2-NL] Diele - Meeden 380 White ","10T-DE-NL-00002T",0,0,-0.88541999999999998,0.19077,0.37847999999999998,0.19077,0,6808,{"$f":"IF((G12*ALBE+H12*ALDE+I12*AT+J12*BE+K12*DE+L12*FR+M12*NL)>(N12),1,0)","v":0},null,{"$f":"IF((C$6*G12+D$6*H12+E$6*I12+F$6*J12+G$6*K12+H$6*L12+I$6*M12)>(N12),1,0)","v":0}]
[null,4,"[D2-NL] Diele - Meeden 380 Black [DIR] [D2]_LTA_corner#05_#1","10T-DE-NL-00001V","[D2-NL] Diele - Meeden 380 White ","10T-DE-NL-00002T",0,0,0.54274,0.36807000000000001,0.60960999999999999,0.44535000000000002,0,1505,{"$f":"IF((G13*ALBE+H13*ALDE+I13*AT+J13*BE+K13*DE+L13*FR+M13*NL)>(N13),1,0)","v":0},null,{"$f":"IF((C$6*G13+D$6*H13+E$6*I13+F$6*J13+G$6*K13+H$6*L13+I$6*M13)>(N13),1,0)","v":0}]
[null,5,"[BE-FR] Achene - Lonny 380.19 [DIR] [BE]_LTA_corner#02_#4","10T-BE-FR-000015","[BE-BE] Avelgem - Horta 380.102","22T20161020---1E",0,0,-0.41008,0.47097,-0.29021000000000002,-0.72511999999999999,0,2419,{"$f":"IF((G14*ALBE+H14*ALDE+I14*AT+J14*BE+K14*DE+L14*FR+M14*NL)>(N14),1,0)","v":0},null,{"$f":"IF((C$6*G14+D$6*H14+E$6*I14+F$6*J14+G$6*K14+H$6*L14+I$6*M14)>(N14),1,0)","v":0}]
[null,6,"[D4-AT] Buers - Westtirol 421 weiss [OPP] [D4]_LTA_corner#17_#3","10T-AT-DE-000061","[AT-AT] Westtirol Transformer WTRHU41","14T-38220-WT041O",0,0,0.99675000000000002,5.6100000000000004E-3,8.0229999999999996E-2,-4.0400000000000002E-3,0,4597,{"$f":"IF((G15*ALBE+H15*ALDE+I15*AT+J15*BE+K15*DE+L15*FR+M15*NL)>(N15),1,0)","v":0},null,{"$f":"IF((C$6*G15+D$6*H15+E$6*I15+F$6*J15+G$6*K15+H$6*L15+I$6*M15)>(N15),1,0)","v":0}]
[null,7,"[D2-NL] Diele - Meeden 380 Black [DIR] [NL]_LTA_corner#01_#7","10T-DE-NL-00001V","[D2-NL] Diele - Meeden 380 White","10T-DE-NL-00002T",0,0,0.52202000000000004,0.41738999999999998,0.61568999999999996,0.41738999999999998,0,1575,{"$f":"IF((G16*ALBE+H16*ALDE+I16*AT+J16*BE+K16*DE+L16*FR+M16*NL)>(N16),1,0)","v":0},null,{"$f":"IF((C$6*G16+D$6*H16+E$6*I16+F$6*J16+G$6*K16+H$6*L16+I$6*M16)>(N16),1,0)","v":0}]
[null,8,"[AT-AT] Westtirol Transformer WTRHU41 [OPP]_LTA_corner#17_#1","14T-38220-WT041O","BASECASE","N/A",0,0,0.99409999999999998,0,7.8340000000000007E-2,-7.5079999999999994E-2,0,4696,{"$f":"IF((G17*ALBE+H17*ALDE+I17*AT+J17*BE+K17*DE+L17*FR+M17*NL)>(N17),1,0)","v":0},null,{"$f":"IF((C$6*G17+D$6*H17+E$6*I17+F$6*J17+G$6*K17+H$6*L17+I$6*M17)>(N17),1,0)","v":0}]
[null,9,"[D4-AT] Buers - Westtirol 421 weiss [OPP] [D4]_LTA_corner#17_#9","10T-AT-DE-000061","[AT-AT] Westtirol Transformer WTRHU41","14T-38220-WT041O",0,0,0.99624000000000001,0,8.6080000000000004E-2,-1.009E-2,0,4581,{"$f":"IF((G18*ALBE+H18*ALDE+I18*AT+J18*BE+K18*DE+L18*FR+M18*NL)>(N18),1,0)","v":0},null,{"$f":"IF((C$6*G18+D$6*H18+E$6*I18+F$6*J18+G$6*K18+H$6*L18+I$6*M18)>(N18),1,0)","v":0}]
[null,10,"[BE-BE] PST_ZANDV_2 [N - S]_LTA_corner#13_#10","22T20161020---56","[NL-BE] Rilland - Zandvliet 380 White/30","10T-BE-NL-00004C",0,0,-0.2913,-0.83228999999999997,-0.24903,-0.40051999999999999,0,2056,{"$f":"IF((G19*ALBE+H19*ALDE+I19*AT+J19*BE+K19*DE+L19*FR+M19*NL)>(N19),1,0)","v":0},null,{"$f":"IF((C$6*G19+D$6*H19+E$6*I19+F$6*J19+G$6*K19+H$6*L19+I$6*M19)>(N19),1,0)","v":0}]
[null,11,"[AT-AT] Westtirol Transformer WTRHU41 [OPP]_LTA_corner#20_#9","14T-38220-WT041O","BASECASE","N/A",0,0,0.99556999999999995,-2.5239999999999999E-2,5.0540000000000002E-2,-7.5190000000000007E-2,0,4783,{"$f":"IF((G20*ALBE+H20*ALDE+I20*AT+J20*BE+K20*DE+L20*FR+M20*NL)>(N20),1,0)","v":0},null,{"$f":"IF((C$6*G20+D$6*H20+E$6*I20+F$6*J20+G$6*K20+H$6*L20+I$6*M20)>(N20),1,0)","v":0}]
[null,12,"[D2-NL] Diele - Meeden 380 Black [DIR] [D2]_LTA_corner#21_#4","10T-DE-NL-00001V","[D2-NL] Diele - Meeden 380 White ","10T-DE-NL-00002T",0,0,0.82693000000000005,0.22978000000000001,0.40073999999999999,0.32062000000000002,0,2864,{"$f":"IF((G21*ALBE+H21*ALDE+I21*AT+J21*BE+K21*DE+L21*FR+M21*NL)>(N21),1,0)","v":0},null,{"$f":"IF((C$6*G21+D$6*H21+E$6*I21+F$6*J21+G$6*K21+H$6*L21+I$6*M21)>(N21),1,0)","v":0}]
[null,13,"[D2-NL] Diele - Meeden 380 Black [DIR] [D2]_LTA_corner#01_#3","10T-DE-NL-00001V","[D2-NL] Diele - Meeden 380 White ","10T-DE-NL-00002T",0,0,-0.79381000000000002,0.26462000000000002,0.47939999999999999,0.26462000000000002,0,7034,{"$f":"IF((G22*ALBE+H22*ALDE+I22*AT+J22*BE+K22*DE+L22*FR+M22*NL)>(N22),1,0)","v":0},null,{"$f":"IF((C$6*G22+D$6*H22+E$6*I22+F$6*J22+G$6*K22+H$6*L22+I$6*M22)>(N22),1,0)","v":0}]
[null,14,"[D4-AT] Buers - Westtirol 421 weiss [OPP] [D4]_LTA_corner#17_#21","10T-AT-DE-000061","[AT-AT] Westtirol Transformer WTRHU41","14T-38220-WT041O",0,0,0.99741000000000002,5.0000000000000001E-3,7.0150000000000004E-2,-1.494E-2,0,4644,{"$f":"IF((G23*ALBE+H23*ALDE+I23*AT+J23*BE+K23*DE+L23*FR+M23*NL)>(N23),1,0)","v":0},null,{"$f":"IF((C$6*G23+D$6*H23+E$6*I23+F$6*J23+G$6*K23+H$6*L23+I$6*M23)>(N23),1,0)","v":0}]
[null,15,"[AT-AT] Westtirol Transformer WTRHU41 [OPP]_LTA_corner#20_#16","14T-38220-WT041O","BASECASE","N/A",0,0,0.98641999999999996,-7.4499999999999997E-2,0.12603,-7.4499999999999997E-2,0,4539,{"$f":"IF((G24*ALBE+H24*ALDE+I24*AT+J24*BE+K24*DE+L24*FR+M24*NL)>(N24),1,0)","v":0},null,{"$f":"IF((C$6*G24+D$6*H24+E$6*I24+F$6*J24+G$6*K24+H$6*L24+I$6*M24)>(N24),1,0)","v":0}]
[null,16,"[AT-AT] Westtirol Transformer WTRHU41 [OPP]_LTA_corner#20_#5","14T-38220-WT041O","BASECASE","N/A",0,0,0.99268999999999996,-2.1299999999999999E-2,0.11687,-2.1299999999999999E-2,0,4501,{"$f":"IF((G25*ALBE+H25*ALDE+I25*AT+J25*BE+K25*DE+L25*FR+M25*NL)>(N25),1,0)","v":0},null,{"$f":"IF((C$6*G25+D$6*H25+E$6*I25+F$6*J25+G$6*K25+H$6*L25+I$6*M25)>(N25),1,0)","v":0}]
[null,17,"[D2-NL] Diele - Meeden 380 Black [DIR] [NL]_LTA_corner#05_#25","10T-DE-NL-00001V","[D2-NL] Diele - Meeden 380 White","10T-DE-NL-00002T",0,0,0.57093000000000005,0.26132,0.62090000000000001,0.46928999999999998,0,1579,{"$f":"IF((G26*ALBE+H26*ALDE+I26*AT+J26*BE+K26*DE+L26*FR+M26*NL)>(N26),1,0)","v":0},null,{"$f":"IF((C$6*G26+D$6*H26+E$6*I26+F$6*J26+G$6*K26+H$6*L26+I$6*M26)>(N26),1,0)","v":0}]
[null,18,"[AT-AT] Westtirol Transformer WTRHU41 [OPP]_LTA_corner#20_#6","14T-38220-WT041O","BASECASE","N/A",0,0,0.99348999999999998,-2.5190000000000001E-2,0.1082,-2.5190000000000001E-2,0,4535,{"$f":"IF((G27*ALBE+H27*ALDE+I27*AT+J27*BE+K27*DE+L27*FR+M27*NL)>(N27),1,0)","v":0},null,{"$f":"IF((C$6*G27+D$6*H27+E$6*I27+F$6*J27+G$6*K27+H$6*L27+I$6*M27)>(N27),1,0)","v":0}]
[null,19,"[D2-NL] Diele - Meeden 380 Black [DIR] [NL]_LTA_corner#05_#28","10T-DE-NL-00001V","[D2-NL] Diele - Meeden 380 White","10T-DE-NL-00002T",0,0,0.51822000000000001,0.44066,0.56760999999999995,0.46378000000000003,0,1268,{"$f":"IF((G28*ALBE+H28*ALDE+I28*AT+J28*BE+K28*DE+L28*FR+M28*NL)>(N28),1,0)","v":0},null,{"$f":"IF((C$6*G28+D$6*H28+E$6*I28+F$6*J28+G$6*K28+H$6*L28+I$6*M28)>(N28),1,0)","v":0}]
[null,20,"ALDE_import","N/A","BASECASE","N/A",0,-1,0,0,0,0,0,0,{"$f":"IF((G29*ALBE+H29*ALDE+I29*AT+J29*BE+K29*DE+L29*FR+M29*NL)>(N29),1,0)","v":0},null,{"$f":"IF((C$6*G29+D$6*H29+E$6*I29+F$6*J29+G$6*K29+H$6*L29+I$6*M29)>(N29),1,0)","v":0}]
[null,21,"[D4-AT] Buers - Westtirol 421 weiss [OPP] [D4]_LTA_corner#17_#23","10T-AT-DE-000061","[AT-AT] Westtirol Transformer WTRHU41","14T-38220-WT041O",0,0,0.99724999999999997,0,6.9980000000000001E-2,-2.4549999999999999E-2,0,4653,{"$f":"IF((G30*ALBE+H30*ALDE+I30*AT+J30*BE+K30*DE+L30*FR+M30*NL)>(N30),1,0)","v":0},null,{"$f":"IF((C$6*G30+D$6*H30+E$6*I30+F$6*J30+G$6*K30+H$6*L30+I$6*M30)>(N30),1,0)","v":0}]
[null,22,"[BE-BE] PST_ZANDV_2 [N - S]_LTA_corner#13_#4","22T20161020---56","[NL-BE] Rilland - Zandvliet 380 White/30","10T-BE-NL-00004C",0,0,-0.39889999999999998,-0.60902999999999996,-0.31952999999999998,-0.60651999999999995,0,1570,{"$f":"IF((G31*ALBE+H31*ALDE+I31*AT+J31*BE+K31*DE+L31*FR+M31*NL)>(N31),1,0)","v":0},null,{"$f":"IF((C$6*G31+D$6*H31+E$6*I31+F$6*J31+G$6*K31+H$6*L31+I$6*M31)>(N31),1,0)","v":0}]
[null,23,"[D4-AT] Buers - Westtirol 421 weiss [OPP] [D4]_LTA_corner#20_#15","10T-AT-DE-000061","[AT-AT] Westtirol Transformer WTRHU41","14T-38220-WT041O",0,0,0.94538,-9.1120000000000007E-2,2.2100000000000002E-3,-0.31297000000000003,0,5064,{"$f":"IF((G32*ALBE+H32*ALDE+I32*AT+J32*BE+K32*DE+L32*FR+M32*NL)>(N32),1,0)","v":0},null,{"$f":"IF((C$6*G32+D$6*H32+E$6*I32+F$6*J32+G$6*K32+H$6*L32+I$6*M32)>(N32),1,0)","v":0}]
[null,24,"[AT-AT] Westtirol Transformer WTRHU41 [OPP]_LTA_corner#20_#7","14T-38220-WT041O","BASECASE","N/A",0,0,0.99356,-2.0580000000000001E-2,0.10953,-2.0580000000000001E-2,0,4524,{"$f":"IF((G33*ALBE+H33*ALDE+I33*AT+J33*BE+K33*DE+L33*FR+M33*NL)>(N33),1,0)","v":0},null,{"$f":"IF((C$6*G33+D$6*H33+E$6*I33+F$6*J33+G$6*K33+H$6*L33+I$6*M33)>(N33),1,0)","v":0}]
[null,25,"[D2-D7] Y - Meppen (- Doerpen/West - Niederlangen) Emsland O weiss EOWS [DIR] [D2]","11T-D2-D7-00001H","[D2-D7] Doerpen/West - Hanekenfaehr Emsland W blau EWBL","11T-D2-D7-00002F",1.0710000000000001E-2,-1.1480000000000001E-2,-3.2699999999999999E-3,1.2959999999999999E-2,-1.3469999999999999E-2,1.8000000000000001E-4,7.9670000000000005E-2,401,{"$f":"IF((G34*ALBE+H34*ALDE+I34*AT+J34*BE+K34*DE+L34*FR+M34*NL)>(N34),1,0)","v":0},null,{"$f":"IF((C$6*G34+D$6*H34+E$6*I34+F$6*J34+G$6*K34+H$6*L34+I$6*M34)>(N34),1,0)","v":0}]
[null,26,"[BE-BE] PST_ZANDV_2 [N - S]_LTA_corner#13_#6","22T20161020---56","[NL-BE] Rilland - Zandvliet 380 White/30","10T-BE-NL-00004C",0,0,-0.36588999999999999,-0.73597999999999997,-0.28188999999999997,-0.49497000000000002,0,1967,{"$f":"IF((G35*ALBE+H35*ALDE+I35*AT+J35*BE+K35*DE+L35*FR+M35*NL)>(N35),1,0)","v":0},null,{"$f":"IF((C$6*G35+D$6*H35+E$6*I35+F$6*J35+G$6*K35+H$6*L35+I$6*M35)>(N35),1,0)","v":0}]
[null,27,"[D2-NL] Diele - Meeden 380 Black [DIR] [D2]_LTA_corner#05_#5","10T-DE-NL-00001V","[D2-NL] Diele - Meeden 380 White ","10T-DE-NL-00002T",0,0,0.59045999999999998,0.33661999999999997,0.59045999999999998,0.43519999999999998,0,1170,{"$f":"IF((G36*ALBE+H36*ALDE+I36*AT+J36*BE+K36*DE+L36*FR+M36*NL)>(N36),1,0)","v":0},null,{"$f":"IF((C$6*G36+D$6*H36+E$6*I36+F$6*J36+G$6*K36+H$6*L36+I$6*M36)>(N36),1,0)","v":0}]
[null,28,"[BE-BE] PST_ZANDV_2 [N - S]_LTA_corner#13_#3","22T20161020---56","[NL-BE] Rilland - Zandvliet 380 White/30","10T-BE-NL-00004C",0,0,-0.29097000000000001,-0.81352999999999998,-0.23327000000000001,-0.44619999999999999,0,2047,{"$f":"IF((G37*ALBE+H37*ALDE+I37*AT+J37*BE+K37*DE+L37*FR+M37*NL)>(N37),1,0)","v":0},null,{"$f":"IF((C$6*G37+D$6*H37+E$6*I37+F$6*J37+G$6*K37+H$6*L37+I$6*M37)>(N37),1,0)","v":0}]
[null,29,"[D4-AT] Buers - Westtirol 421 weiss [OPP] [D4]_LTA_corner#20_#41","10T-AT-DE-000061","[AT-AT] Westtirol Transformer WTRHU41","14T-38220-WT041O",0,0,0.94523000000000001,-9.1660000000000005E-2,1.58E-3,-0.31324999999999997,0,5066,{"$f":"IF((G38*ALBE+H38*ALDE+I38*AT+J38*BE+K38*DE+L38*FR+M38*NL)>(N38),1,0)","v":0},null,{"$f":"IF((C$6*G38+D$6*H38+E$6*I38+F$6*J38+G$6*K38+H$6*L38+I$6*M38)>(N38),1,0)","v":0}]
[null,30,"[AT-AT] Westtirol Transformer WTRHU41 [OPP]_LTA_corner#20_#12","14T-38220-WT041O","BASECASE","N/A",0,0,0.98226000000000002,-2.4899999999999999E-2,0.17043,-7.4179999999999996E-2,0,4389,{"$f":"IF((G39*ALBE+H39*ALDE+I39*AT+J39*BE+K39*DE+L39*FR+M39*NL)>(N39),1,0)","v":0},null,{"$f":"IF((C$6*G39+D$6*H39+E$6*I39+F$6*J39+G$6*K39+H$6*L39+I$6*M39)>(N39),1,0)","v":0}]
[null,31,"[AT-AT] Westtirol Transformer WTRHU41 [OPP]_LTA_corner#20_#20","14T-38220-WT041O","BASECASE","N/A",0,0,0.98677000000000004,-8.0420000000000005E-2,0.11551,-8.0420000000000005E-2,0,4580,{"$f":"IF((G40*ALBE+H40*ALDE+I40*AT+J40*BE+K40*DE+L40*FR+M40*NL)>(N40),1,0)","v":0},null,{"$f":"IF((C$6*G40+D$6*H40+E$6*I40+F$6*J40+G$6*K40+H$6*L40+I$6*M40)>(N40),1,0)","v":0}]
[null,32,"[AT-AT] Westtirol Transformer WTRHU41 [OPP]_LTA_corner#17_#4","14T-38220-WT041O","BASECASE","N/A",0,0,0.98695999999999995,0,0.1162,-0.11142000000000001,0,4616,{"$f":"IF((G41*ALBE+H41*ALDE+I41*AT+J41*BE+K41*DE+L41*FR+M41*NL)>(N41),1,0)","v":0},null,{"$f":"IF((C$6*G41+D$6*H41+E$6*I41+F$6*J41+G$6*K41+H$6*L41+I$6*M41)>(N41),1,0)","v":0}]
[null,33,"[D2-NL] Diele - Meeden 380 Black [DIR] [NL]_LTA_corner#05_#30","10T-DE-NL-00001V","[D2-NL] Diele - Meeden 380 White","10T-DE-NL-00002T",0,0,0.57674999999999998,0.18826000000000001,0.65458000000000005,0.45102999999999999,0,1850,{"$f":"IF((G42*ALBE+H42*ALDE+I42*AT+J42*BE+K42*DE+L42*FR+M42*NL)>(N42),1,0)","v":0},null,{"$f":"IF((C$6*G42+D$6*H42+E$6*I42+F$6*J42+G$6*K42+H$6*L42+I$6*M42)>(N42),1,0)","v":0}]
[null,34,"[D2-NL] Diele - Meeden 380 Black [DIR] [NL]_LTA_corner#05_#32","10T-DE-NL-00001V","[D2-NL] Diele - Meeden 380 White","10T-DE-NL-00002T",0,0,0.57454000000000005,0.25122,0.62436999999999998,0.46579999999999999,0,1594,{"$f":"IF((G43*ALBE+H43*ALDE+I43*AT+J43*BE+K43*DE+L43*FR+M43*NL)>(N43),1,0)","v":0},null,{"$f":"IF((C$6*G43+D$6*H43+E$6*I43+F$6*J43+G$6*K43+H$6*L43+I$6*M43)>(N43),1,0)","v":0}]
[null,35,"[D2-NL] Diele - Meeden 380 Black [DIR] [NL]_LTA_corner#05_#5","10T-DE-NL-00001V","[D2-NL] Diele - Meeden 380 White","10T-DE-NL-00002T",0,0,0.52239000000000002,0.34942000000000001,0.62807999999999997,0.45884000000000003,0,1760,{"$f":"IF((G44*ALBE+H44*ALDE+I44*AT+J44*BE+K44*DE+L44*FR+M44*NL)>(N44),1,0)","v":0},null,{"$f":"IF((C$6*G44+D$6*H44+E$6*I44+F$6*J44+G$6*K44+H$6*L44+I$6*M44)>(N44),1,0)","v":0}]
[null,36,"[D4-AT] Buers - Westtirol 421 weiss [OPP] [D4]_LTA_corner#17_#11","10T-AT-DE-000061","[AT-AT] Westtirol Transformer WTRHU41","14T-38220-WT041O",0,0,0.98660000000000003,0,0.12144000000000001,-0.10894,0,4596,{"$f":"IF((G45*ALBE+H45*ALDE+I45*AT+J45*BE+K45*DE+L45*FR+M45*NL)>(N45),1,0)","v":0},null,{"$f":"IF((C$6*G45+D$6*H45+E$6*I45+F$6*J45+G$6*K45+H$6*L45+I$6*M45)>(N45),1,0)","v":0}]
[null,37,"[BE-BE] PST_VANYK_2 [S - N]","22T-BE-PST--002U","[NL-BE] Maasbracht - Van Eyck 380 Black/27","10T-BE-NL-00002G",0.48592000000000002,-4.9079999999999999E-2,1.2330000000000001E-2,0.27166000000000001,-1.6559999999999998E-2,9.5549999999999996E-2,-2.971E-2,1006,{"$f":"IF((G46*ALBE+H46*ALDE+I46*AT+J46*BE+K46*DE+L46*FR+M46*NL)>(N46),1,0)","v":0},null,{"$f":"IF((C$6*G46+D$6*H46+E$6*I46+F$6*J46+G$6*K46+H$6*L46+I$6*M46)>(N46),1,0)","v":0}]
[null,38,"[D4-AT] Buers - Westtirol 421 weiss [OPP] [D4]_LTA_corner#17_#29","10T-AT-DE-000061","[AT-AT] Westtirol Transformer WTRHU41","14T-38220-WT041O",0,0,0.99729000000000001,0,6.7140000000000005E-2,-3.0200000000000001E-2,0,4670,{"$f":"IF((G47*ALBE+H47*ALDE+I47*AT+J47*BE+K47*DE+L47*FR+M47*NL)>(N47),1,0)","v":0},null,{"$f":"IF((C$6*G47+D$6*H47+E$6*I47+F$6*J47+G$6*K47+H$6*L47+I$6*M47)>(N47),1,0)","v":0}]
[null,39,"[BE-BE] PST_ZANDV_2 [N - S]_LTA_corner#13_#0","22T20161020---56","[NL-BE] Rilland - Zandvliet 380 White/30","10T-BE-NL-00004C",0,0,-0.34641,-0.74756999999999996,-0.26145000000000002,-0.50277000000000005,0,1988,{"$f":"IF((G48*ALBE+H48*ALDE+I48*AT+J48*BE+K48*DE+L48*FR+M48*NL)>(N48),1,0)","v":0},null,{"$f":"IF((C$6*G48+D$6*H48+E$6*I48+F$6*J48+G$6*K48+H$6*L48+I$6*M48)>(N48),1,0)","v":0}]
[null,40,"[D2-NL] Diele - Meeden 380 Black [DIR] [D2]_LTA_corner#01_#8","10T-DE-NL-00001V","[D2-NL] Diele - Meeden 380 White ","10T-DE-NL-00002T",0,0,-0.86643000000000003,0.20438000000000001,0.40712999999999999,0.20438000000000001,0,6909,{"$f":"IF((G49*ALBE+H49*ALDE+I49*AT+J49*BE+K49*DE+L49*FR+M49*NL)>(N49),1,0)","v":0},null,{"$f":"IF((C$6*G49+D$6*H49+E$6*I49+F$6*J49+G$6*K49+H$6*L49+I$6*M49)>(N49),1,0)","v":0}]
[null,41,"[BE-FR] Achene - Lonny 380.19 [DIR] [BE]_LTA_corner#02_#2","10T-BE-FR-000015","[BE-BE] Avelgem - Horta 380.102","22T20161020---1E",0,0,-0.41759000000000002,0.40532000000000001,-0.29596,-0.75746000000000002,0,2401,{"$f":"IF((G50*ALBE+H50*ALDE+I50*AT+J50*BE+K50*DE+L50*FR+M50*NL)>(N50),1,0)","v":0},null,{"$f":"IF((C$6*G50+D$6*H50+E$6*I50+F$6*J50+G$6*K50+H$6*L50+I$6*M50)>(N50),1,0)","v":0}]
[null,42,"[D4-AT] Buers - Westtirol 421 weiss [OPP] [D4]_LTA_corner#20_#35","10T-AT-DE-000061","[AT-AT] Westtirol Transformer WTRHU41","14T-38220-WT041O",0,0,0.97143000000000002,-7.3700000000000002E-2,0.12356,-0.18873999999999999,0,4656,{"$f":"IF((G51*ALBE+H51*ALDE+I51*AT+J51*BE+K51*DE+L51*FR+M51*NL)>(N51),1,0)","v":0},null,{"$f":"IF((C$6*G51+D$6*H51+E$6*I51+F$6*J51+G$6*K51+H$6*L51+I$6*M51)>(N51),1,0)","v":0}]
[null,43,"[D2-NL] Diele - Meeden 380 Black [DIR] [NL]_LTA_corner#01_#2","10T-DE-NL-00001V","[D2-NL] Diele - Meeden 380 White","10T-DE-NL-00002T",0,0,0.50844,0.45576,0.60057000000000005,0.41604000000000002,0,1585,{"$f":"IF((G52*ALBE+H52*ALDE+I52*AT+J52*BE+K52*DE+L52*FR+M52*NL)>(N52),1,0)","v":0},null,{"$f":"IF((C$6*G52+D$6*H52+E$6*I52+F$6*J52+G$6*K52+H$6*L52+I$6*M52)>(N52),1,0)","v":0}]
[null,44,"[BE-FR] Achene - Lonny 380.19 [DIR] [BE]_LTA_corner#02_#9","10T-BE-FR-000015","[BE-BE] Avelgem - Horta 380.102","22T20161020---1E",0,0,-0.41244999999999998,0.44012000000000001,-0.28705000000000003,-0.74416000000000004,0,2437,{"$f":"IF((G53*ALBE+H53*ALDE+I53*AT+J53*BE+K53*DE+L53*FR+M53*NL)>(N53),1,0)","v":0},null,{"$f":"IF((C$6*G53+D$6*H53+E$6*I53+F$6*J53+G$6*K53+H$6*L53+I$6*M53)>(N53),1,0)","v":0}]
[null,45,"[BE-BE] PST_ZANDV_2 [N - S]_LTA_corner#13_#14","22T20161020---56","[NL-BE] Rilland - Zandvliet 380 White/30","10T-BE-NL-00004C",0,0,-0.36825000000000002,-0.71213000000000004,-0.31286000000000003,-0.50929000000000002,0,1773,{"$f":"IF((G54*ALBE+H54*ALDE+I54*AT+J54*BE+K54*DE+L54*FR+M54*NL)>(N54),1,0)","v":0},null,{"$f":"IF((C$6*G54+D$6*H54+E$6*I54+F$6*J54+G$6*K54+H$6*L54+I$6*M54)>(N54),1,0)","v":0}]
[null,46,"[D4-AT] Buers - Westtirol 421 weiss [OPP] [D4]_LTA_corner#17_#16","10T-AT-DE-000061","[AT-AT] Westtirol Transformer WTRHU41","14T-38220-WT041O",0,0,0.99651000000000001,0,8.2849999999999993E-2,-9.7800000000000005E-3,0,4591,{"$f":"IF((G55*ALBE+H55*ALDE+I55*AT+J55*BE+K55*DE+L55*FR+M55*NL)>(N55),1,0)","v":0},null,{"$f":"IF((C$6*G55+D$6*H55+E$6*I55+F$6*J55+G$6*K55+H$6*L55+I$6*M55)>(N55),1,0)","v":0}]
[null,47,"[BE-FR] Achene - Lonny 380.19 [DIR] [BE]_LTA_corner#02_#18","10T-BE-FR-000015","[BE-BE] Avelgem - Horta 380.102","22T20161020---1E",0,0,-0.42405999999999999,0.38273000000000001,-0.29519000000000001,-0.76585999999999999,0,2422,{"$f":"IF((G56*ALBE+H56*ALDE+I56*AT+J56*BE+K56*DE+L56*FR+M56*NL)>(N56),1,0)","v":0},null,{"$f":"IF((C$6*G56+D$6*H56+E$6*I56+F$6*J56+G$6*K56+H$6*L56+I$6*M56)>(N56),1,0)","v":0}]
[null,48,"ALBE_import","N/A","BASECASE","N/A",-1,0,0,0,0,0,0,0,{"$f":"IF((G57*ALBE+H57*ALDE+I57*AT+J57*BE+K57*DE+L57*FR+M57*NL)>(N57),1,0)","v":0},null,{"$f":"IF((C$6*G57+D$6*H57+E$6*I57+F$6*J57+G$6*K57+H$6*L57+I$6*M57)>(N57),1,0)","v":0}]
[null,49,"ALDE_export","N/A","BASECASE","N/A",0,1,0,0,0,0,0,0,{"$f":"IF((G58*ALBE+H58*ALDE+I58*AT+J58*BE+K58*DE+L58*FR+M58*NL)>(N58),1,0)","v":0},null,{"$f":"IF((C$6*G58+D$6*H58+E$6*I58+F$6*J58+G$6*K58+H$6*L58+I$6*M58)>(N58),1,0)","v":0}]
[null,50,"[BE-BE] PST_ZANDV_2 [N - S]_LTA_corner#13_#2","22T20161020---56","[NL-BE] Rilland - Zandvliet 380 White/30","10T-BE-NL-00004C",0,0,-0.30447000000000002,-0.78657999999999995,-0.23838999999999999,-0.48141,0,1999,{"$f":"IF((G59*ALBE+H59*ALDE+I59*AT+J59*BE+K59*DE+L59*FR+M59*NL)>(N59),1,0)","v":0},null,{"$f":"IF((C$6*G59+D$6*H59+E$6*I59+F$6*J59+G$6*K59+H$6*L59+I$6*M59)>(N59),1,0)","v":0}]
[null,51,"[D2-NL] Diele - Meeden 380 Black [DIR] [D2]_LTA_corner#01_#7","10T-DE-NL-00001V","[D2-NL] Diele - Meeden 380 White ","10T-DE-NL-00002T",0,0,-0.75775999999999999,0.26852999999999999,0.53064,0.26852999999999999,0,7213,{"$f":"IF((G60*ALBE+H60*ALDE+I60*AT+J60*BE+K60*DE+L60*FR+M60*NL)>(N60),1,0)","v":0},null,{"$f":"IF((C$6*G60+D$6*H60+E$6*I60+F$6*J60+G$6*K60+H$6*L60+I$6*M60)>(N60),1,0)","v":0}]
[null,52,"[D4-AT] Buers - Westtirol 421 weiss [OPP] [D4]_LTA_corner#20_#33","10T-AT-DE-000061","[AT-AT] Westtirol Transformer WTRHU41","14T-38220-WT041O",0,0,0.97435000000000005,-6.1490000000000003E-2,0.13353999999999999,-0.17039000000000001,0,4612,{"$f":"IF((G61*ALBE+H61*ALDE+I61*AT+J61*BE+K61*DE+L61*FR+M61*NL)>(N61),1,0)","v":0},null,{"$f":"IF((C$6*G61+D$6*H61+E$6*I61+F$6*J61+G$6*K61+H$6*L61+I$6*M61)>(N61),1,0)","v":0}]
[null,53,"[NL-D7] Maasbracht - Siersdorf 380 black [DIR] [D7]","10T-DE-NL-00006L","[BE-BE] Avelgem - Horta 380.102","22T20161020---1E",0.32052999999999998,-0.15518999999999999,-2.66E-3,0.30671999999999999,1.414E-2,3.8969999999999998E-2,0.23963999999999999,988,{"$f":"IF((G62*ALBE+H62*ALDE+I62*AT+J62*BE+K62*DE+L62*FR+M62*NL)>(N62),1,0)","v":0},null,{"$f":"IF((C$6*G62+D$6*H62+E$6*I62+F$6*J62+G$6*K62+H$6*L62+I$6*M62)>(N62),1,0)","v":0}]
[null,54,"[BE-FR] Achene - Lonny 380.19 [DIR] [BE]_LTA_corner#02_#5","10T-BE-FR-000015","[BE-BE] Avelgem - Horta 380.102","22T20161020---1E",0,0,-0.42107,0.40387000000000001,-0.29992999999999997,-0.75473999999999997,0,2394,{"$f":"IF((G63*ALBE+H63*ALDE+I63*AT+J63*BE+K63*DE+L63*FR+M63*NL)>(N63),1,0)","v":0},null,{"$f":"IF((C$6*G63+D$6*H63+E$6*I63+F$6*J63+G$6*K63+H$6*L63+I$6*M63)>(N63),1,0)","v":0}]
[null,55,"[BE-BE] PST_VANYK_2 [S - N]","22T-BE-PST--002U","[BE-FR] Achene - Lonny 380.19","10T-BE-FR-000015",0.57308000000000003,-2.4340000000000001E-2,5.3400000000000001E-3,0.32014999999999999,-6.9899999999999997E-3,4.5949999999999998E-2,5.0000000000000001E-3,950,{"$f":"IF((G64*ALBE+H64*ALDE+I64*AT+J64*BE+K64*DE+L64*FR+M64*NL)>(N64),1,0)","v":0},null,{"$f":"IF((C$6*G64+D$6*H64+E$6*I64+F$6*J64+G$6*K64+H$6*L64+I$6*M64)>(N64),1,0)","v":0}]
[null,56,"[D2-AT] Y - St. Peter (- Altheim - Simbach) 233/230 [OPP] [D2]","10T-AT-DE-00001B","[D2-AT] Y - St. Peter (- Altheim - Simbach) 234/230","10T-AT-DE-000045",-3.696E-2,-3.8269999999999998E-2,2.47E-2,-3.6720000000000003E-2,-3.7589999999999998E-2,-3.3919999999999999E-2,-3.7670000000000002E-2,324,{"$f":"IF((G65*ALBE+H65*ALDE+I65*AT+J65*BE+K65*DE+L65*FR+M65*NL)>(N65),1,0)","v":0},null,{"$f":"IF((C$6*G65+D$6*H65+E$6*I65+F$6*J65+G$6*K65+H$6*L65+I$6*M65)>(N65),1,0)","v":0}]
[null,57,"[D7-FR] Ensdorf - Vigy 2S [OPP] [D7]","10T-DE-FR-000068","[D7-D7] Ensdorf - Uchtelfangen Taubental N","11T0-0000-0604-N",6.726E-2,-5.9159999999999997E-2,1.975E-2,8.2860000000000003E-2,-1.244E-2,0.18432999999999999,6.13E-3,775,{"$f":"IF((G66*ALBE+H66*ALDE+I66*AT+J66*BE+K66*DE+L66*FR+M66*NL)>(N66),1,0)","v":0},null,{"$f":"IF((C$6*G66+D$6*H66+E$6*I66+F$6*J66+G$6*K66+H$6*L66+I$6*M66)>(N66),1,0)","v":0}]
[null,58,"[D4-AT] Buers - Westtirol 421 weiss [OPP] [D4]_LTA_corner#20_#31","10T-AT-DE-000061","[AT-AT] Westtirol Transformer WTRHU41","14T-38220-WT041O",0,0,0.95352999999999999,-9.1800000000000007E-2,3.9690000000000003E-2,-0.28420000000000001,0,4955,{"$f":"IF((G67*ALBE+H67*ALDE+I67*AT+J67*BE+K67*DE+L67*FR+M67*NL)>(N67),1,0)","v":0},null,{"$f":"IF((C$6*G67+D$6*H67+E$6*I67+F$6*J67+G$6*K67+H$6*L67+I$6*M67)>(N67),1,0)","v":0}]
[null,59,"[D2-NL] Diele - Meeden 380 Black [DIR] [D2]_LTA_corner#05_#8","10T-DE-NL-00001V","[D2-NL] Diele - Meeden 380 White ","10T-DE-NL-00002T",0,0,0.58950000000000002,0.33346999999999999,0.58950000000000002,0.44019000000000003,0,1175,{"$f":"IF((G68*ALBE+H68*ALDE+I68*AT+J68*BE+K68*DE+L68*FR+M68*NL)>(N68),1,0)","v":0},null,{"$f":"IF((C$6*G68+D$6*H68+E$6*I68+F$6*J68+G$6*K68+H$6*L68+I$6*M68)>(N68),1,0)","v":0}]
[null,60,"[D4-AT] Buers - Westtirol 421 weiss [OPP] [D4]_LTA_corner#20_#5","10T-AT-DE-000061","[AT-AT] Westtirol Transformer WTRHU41","14T-38220-WT041O",0,0,0.97790999999999995,-5.824E-2,0.14194000000000001,-0.14196,0,4560,{"$f":"IF((G69*ALBE+H69*ALDE+I69*AT+J69*BE+K69*DE+L69*FR+M69*NL)>(N69),1,0)","v":0},null,{"$f":"IF((C$6*G69+D$6*H69+E$6*I69+F$6*J69+G$6*K69+H$6*L69+I$6*M69)>(N69),1,0)","v":0}]
[null,61,"[D4-AT] Buers - Westtirol 421 weiss [OPP] [D4]_LTA_corner#17_#6","10T-AT-DE-000061","[AT-AT] Westtirol Transformer WTRHU41","14T-38220-WT041O",0,0,0.99583999999999995,0,9.0069999999999997E-2,-1.362E-2,0,4574,{"$f":"IF((G70*ALBE+H70*ALDE+I70*AT+J70*BE+K70*DE+L70*FR+M70*NL)>(N70),1,0)","v":0},null,{"$f":"IF((C$6*G70+D$6*H70+E$6*I70+F$6*J70+G$6*K70+H$6*L70+I$6*M70)>(N70),1,0)","v":0}]
[null,62,"[D4-AT] Buers - Westtirol 421 weiss [OPP] [D4]_LTA_corner#20_#46","10T-AT-DE-000061","[AT-AT] Westtirol Transformer WTRHU41","14T-38220-WT041O",0,0,0.94525000000000003,-9.1649999999999995E-2,1.5900000000000001E-3,-0.31322,0,5066,{"$f":"IF((G71*ALBE+H71*ALDE+I71*AT+J71*BE+K71*DE+L71*FR+M71*NL)>(N71),1,0)","v":0},null,{"$f":"IF((C$6*G71+D$6*H71+E$6*I71+F$6*J71+G$6*K71+H$6*L71+I$6*M71)>(N71),1,0)","v":0}]
[null,63,"[D4-AT] Buers - Westtirol 421 weiss [OPP] [D4]_LTA_corner#17_#10","10T-AT-DE-000061","[AT-AT] Westtirol Transformer WTRHU41","14T-38220-WT041O",0,0,0.99714000000000003,0,7.3090000000000002E-2,-1.9449999999999999E-2,0,4636,{"$f":"IF((G72*ALBE+H72*ALDE+I72*AT+J72*BE+K72*DE+L72*FR+M72*NL)>(N72),1,0)","v":0},null,{"$f":"IF((C$6*G72+D$6*H72+E$6*I72+F$6*J72+G$6*K72+H$6*L72+I$6*M72)>(N72),1,0)","v":0}]
[null,64,"[BE-BE] PST_ZANDV_2 [N - S]_LTA_corner#13_#17","22T20161020---56","[NL-BE] Rilland - Zandvliet 380 White/30","10T-BE-NL-00004C",0,0,-0.34222999999999998,-0.73856999999999995,-0.30112,-0.49670999999999998,0,1773,{"$f":"IF((G73*ALBE+H73*ALDE+I73*AT+J73*BE+K73*DE+L73*FR+M73*NL)>(N73),1,0)","v":0},null,{"$f":"IF((C$6*G73+D$6*H73+E$6*I73+F$6*J73+G$6*K73+H$6*L73+I$6*M73)>(N73),1,0)","v":0}]
[null,65,"[D2-NL] Diele - Meeden 380 Black [DIR] [D2]_LTA_corner#05_#3","10T-DE-NL-00001V","[D2-NL] Diele - Meeden 380 White ","10T-DE-NL-00002T",0,0,0.56235000000000002,0.32888000000000001,0.64686999999999995,0.39643,0,1676,{"$f":"IF((G74*ALBE+H74*ALDE+I74*AT+J74*BE+K74*DE+L74*FR+M74*NL)>(N74),1,0)","v":0},null,{"$f":"IF((C$6*G74+D$6*H74+E$6*I74+F$6*J74+G$6*K74+H$6*L74+I$6*M74)>(N74),1,0)","v":0}]
[null,66,"[AT-AT] Westtirol Transformer WTRHU41 [OPP]_LTA_corner#20_#11","14T-38220-WT041O","BASECASE","N/A",0,0,0.98651,-8.0649999999999999E-2,0.11741,-8.0649999999999999E-2,0,4574,{"$f":"IF((G75*ALBE+H75*ALDE+I75*AT+J75*BE+K75*DE+L75*FR+M75*NL)>(N75),1,0)","v":0},null,{"$f":"IF((C$6*G75+D$6*H75+E$6*I75+F$6*J75+G$6*K75+H$6*L75+I$6*M75)>(N75),1,0)","v":0}]
[null,67,"[D2-D2] Altheim - Sittling 220 [OPP]","11TD2L000000004J","[D2-AT] Pleinting - St. Peter 258","10T-AT-DE-000037",3.4680000000000002E-2,3.6450000000000003E-2,-2.5690000000000001E-2,3.4349999999999999E-2,3.4290000000000001E-2,3.0499999999999999E-2,3.5880000000000002E-2,304,{"$f":"IF((G76*ALBE+H76*ALDE+I76*AT+J76*BE+K76*DE+L76*FR+M76*NL)>(N76),1,0)","v":0},null,{"$f":"IF((C$6*G76+D$6*H76+E$6*I76+F$6*J76+G$6*K76+H$6*L76+I$6*M76)>(N76),1,0)","v":0}]
[null,68,"[D2-NL] Diele - Meeden 380 Black [DIR] [NL]_LTA_corner#01_#1","10T-DE-NL-00001V","[D2-NL] Diele - Meeden 380 White","10T-DE-NL-00002T",0,0,0.51563000000000003,0.44419999999999998,0.58265999999999996,0.44419999999999998,0,1367,{"$f":"IF((G77*ALBE+H77*ALDE+I77*AT+J77*BE+K77*DE+L77*FR+M77*NL)>(N77),1,0)","v":0},null,{"$f":"IF((C$6*G77+D$6*H77+E$6*I77+F$6*J77+G$6*K77+H$6*L77+I$6*M77)>(N77),1,0)","v":0}]
[null,69,"[AT-AT] Westtirol Transformer WTRHU41 [OPP]_LTA_corner#17_#3","14T-38220-WT041O","BASECASE","N/A",0,0,0.98616999999999999,0,0.14807999999999999,-7.4480000000000005E-2,0,4466,{"$f":"IF((G78*ALBE+H78*ALDE+I78*AT+J78*BE+K78*DE+L78*FR+M78*NL)>(N78),1,0)","v":0},null,{"$f":"IF((C$6*G78+D$6*H78+E$6*I78+F$6*J78+G$6*K78+H$6*L78+I$6*M78)>(N78),1,0)","v":0}]
[null,70,"[D4-AT] Buers - Westtirol 421 weiss [OPP] [D4]_LTA_corner#20_#21","10T-AT-DE-000061","[AT-AT] Westtirol Transformer WTRHU41","14T-38220-WT041O",0,0,0.97204999999999997,-6.5589999999999996E-2,0.12556,-0.18723000000000001,0,4650,{"$f":"IF((G79*ALBE+H79*ALDE+I79*AT+J79*BE+K79*DE+L79*FR+M79*NL)>(N79),1,0)","v":0},null,{"$f":"IF((C$6*G79+D$6*H79+E$6*I79+F$6*J79+G$6*K79+H$6*L79+I$6*M79)>(N79),1,0)","v":0}]
[null,71,"[D4-AT] Buers - Westtirol 421 weiss [OPP] [D4]_LTA_corner#20_#1","10T-AT-DE-000061","[AT-AT] Westtirol Transformer WTRHU41","14T-38220-WT041O",0,0,0.98145000000000004,-3.5279999999999999E-2,0.16433,-9.2200000000000004E-2,0,4433,{"$f":"IF((G80*ALBE+H80*ALDE+I80*AT+J80*BE+K80*DE+L80*FR+M80*NL)>(N80),1,0)","v":0},null,{"$f":"IF((C$6*G80+D$6*H80+E$6*I80+F$6*J80+G$6*K80+H$6*L80+I$6*M80)>(N80),1,0)","v":0}]
[null,72,"[BE-BE] PST_ZANDV_2 [N - S]_LTA_corner#13_#9","22T20161020---56","[NL-BE] Rilland - Zandvliet 380 White/30","10T-BE-NL-00004C",0,0,-0.32793,-0.74707999999999997,-0.28615000000000002,-0.50244,0,1788,{"$f":"IF((G81*ALBE+H81*ALDE+I81*AT+J81*BE+K81*DE+L81*FR+M81*NL)>(N81),1,0)","v":0},null,{"$f":"IF((C$6*G81+D$6*H81+E$6*I81+F$6*J81+G$6*K81+H$6*L81+I$6*M81)>(N81),1,0)","v":0}]
[null,73,"[BE-BE] PST_ZANDV_2 [N - S]_LTA_corner#13_#31","22T20161020---56","[NL-BE] Rilland - Zandvliet 380 White/30","10T-BE-NL-00004C",0,0,-0.29044999999999999,-0.82647000000000004,-0.24399000000000001,-0.41599999999999998,0,2050,{"$f":"IF((G82*ALBE+H82*ALDE+I82*AT+J82*BE+K82*DE+L82*FR+M82*NL)>(N82),1,0)","v":0},null,{"$f":"IF((C$6*G82+D$6*H82+E$6*I82+F$6*J82+G$6*K82+H$6*L82+I$6*M82)>(N82),1,0)","v":0}]
[null,74,"[D4-AT] Buers - Westtirol 421 weiss [OPP] [D4]_LTA_corner#17_#12","10T-AT-DE-000061","[AT-AT] Westtirol Transformer WTRHU41","14T-38220-WT041O",0,0,0.98694000000000004,0,0.10575,-0.12151000000000001,0,4661,{"$f":"IF((G83*ALBE+H83*ALDE+I83*AT+J83*BE+K83*DE+L83*FR+M83*NL)>(N83),1,0)","v":0},null,{"$f":"IF((C$6*G83+D$6*H83+E$6*I83+F$6*J83+G$6*K83+H$6*L83+I$6*M83)>(N83),1,0)","v":0}]
[null,75,"[BE-FR] Achene - Lonny 380.19 [OPP] [BE]","10T-BE-FR-000015","[BE-BE] Avelgem - Horta 380.102","22T20161020---1E",-0.30628,-6.4449999999999993E-2,2.0740000000000001E-2,-0.30152000000000001,-2.8549999999999999E-2,0.15109,-0.14374999999999999,1961,{"$f":"IF((G84*ALBE+H84*ALDE+I84*AT+J84*BE+K84*DE+L84*FR+M84*NL)>(N84),1,0)","v":0},null,{"$f":"IF((C$6*G84+D$6*H84+E$6*I84+F$6*J84+G$6*K84+H$6*L84+I$6*M84)>(N84),1,0)","v":0}]
[null,76,"[D2-NL] Diele - Meeden 380 Black [DIR] [D2]_LTA_corner#05_#17","10T-DE-NL-00001V","[D2-NL] Diele - Meeden 380 White ","10T-DE-NL-00002T",0,0,0.58989999999999998,0.32912000000000002,0.58989999999999998,0.44240000000000002,0,1182,{"$f":"IF((G85*ALBE+H85*ALDE+I85*AT+J85*BE+K85*DE+L85*FR+M85*NL)>(N85),1,0)","v":0},null,{"$f":"IF((C$6*G85+D$6*H85+E$6*I85+F$6*J85+G$6*K85+H$6*L85+I$6*M85)>(N85),1,0)","v":0}]
[null,77,"[D2-NL] Diele - Meeden 380 Black [DIR] [D2]_LTA_corner#05_#23","10T-DE-NL-00001V","[D2-NL] Diele - Meeden 380 White ","10T-DE-NL-00002T",0,0,0.59338000000000002,0.32329999999999998,0.59338000000000002,0.43735000000000002,0,1192,{"$f":"IF((G86*ALBE+H86*ALDE+I86*AT+J86*BE+K86*DE+L86*FR+M86*NL)>(N86),1,0)","v":0},null,{"$f":"IF((C$6*G86+D$6*H86+E$6*I86+F$6*J86+G$6*K86+H$6*L86+I$6*M86)>(N86),1,0)","v":0}]
[null,78,"[D2-NL] Diele - Meeden 380 Black [DIR] [NL]_LTA_corner#05_#18","10T-DE-NL-00001V","[D2-NL] Diele - Meeden 380 White","10T-DE-NL-00002T",0,0,0.53112999999999999,0.40772999999999998,0.57603000000000004,0.46888000000000002,0,1303,{"$f":"IF((G87*ALBE+H87*ALDE+I87*AT+J87*BE+K87*DE+L87*FR+M87*NL)>(N87),1,0)","v":0},null,{"$f":"IF((C$6*G87+D$6*H87+E$6*I87+F$6*J87+G$6*K87+H$6*L87+I$6*M87)>(N87),1,0)","v":0}]
[null,79,"[AT-AT] Westtirol Transformer WTRHU41 [OPP]_LTA_corner#17_#7","14T-38220-WT041O","BASECASE","N/A",0,0,0.99228000000000005,0,0.11681999999999999,-4.1610000000000001E-2,0,4528,{"$f":"IF((G88*ALBE+H88*ALDE+I88*AT+J88*BE+K88*DE+L88*FR+M88*NL)>(N88),1,0)","v":0},null,{"$f":"IF((C$6*G88+D$6*H88+E$6*I88+F$6*J88+G$6*K88+H$6*L88+I$6*M88)>(N88),1,0)","v":0}]
[null,80,"[BE-FR] Achene - Lonny 380.19 [DIR] [BE]_LTA_corner#02_#7","10T-BE-FR-000015","[BE-BE] Avelgem - Horta 380.102","22T20161020---1E",0,0,-0.42254000000000003,0.40527999999999997,-0.28910999999999998,-0.75738000000000005,0,2456,{"$f":"IF((G89*ALBE+H89*ALDE+I89*AT+J89*BE+K89*DE+L89*FR+M89*NL)>(N89),1,0)","v":0},null,{"$f":"IF((C$6*G89+D$6*H89+E$6*I89+F$6*J89+G$6*K89+H$6*L89+I$6*M89)>(N89),1,0)","v":0}]
[null,81,"[AT-AT] Westtirol Transformer WTRHU41 [OPP]_LTA_corner#17_#0","14T-38220-WT041O","BASECASE","N/A",0,0,0.98970000000000002,3.6499999999999998E-2,0.11652,-7.4740000000000001E-2,0,4614,{"$f":"IF((G90*ALBE+H90*ALDE+I90*AT+J90*BE+K90*DE+L90*FR+M90*NL)>(N90),1,0)","v":0},null,{"$f":"IF((C$6*G90+D$6*H90+E$6*I90+F$6*J90+G$6*K90+H$6*L90+I$6*M90)>(N90),1,0)","v":0}]
[null,82,"[BE-FR] Achene - Lonny 380.19 [DIR] [BE]_LTA_corner#02_#0","10T-BE-FR-000015","[BE-BE] Avelgem - Horta 380.102","22T20161020---1E",0,0,-0.45290000000000002,0.25047999999999998,-0.32463999999999998,-0.79168000000000005,0,2310,{"$f":"IF((G91*ALBE+H91*ALDE+I91*AT+J91*BE+K91*DE+L91*FR+M91*NL)>(N91),1,0)","v":0},null,{"$f":"IF((C$6*G91+D$6*H91+E$6*I91+F$6*J91+G$6*K91+H$6*L91+I$6*M91)>(N91),1,0)","v":0}]
[null,83,"[BE-FR] Achene - Lonny 380.19 [DIR] [BE]_LTA_corner#02_#15","10T-BE-FR-000015","[BE-BE] Avelgem - Horta 380.102","22T20161020---1E",0,0,-0.42612,0.37275000000000003,-0.29671999999999998,-0.76905000000000001,0,2418,{"$f":"IF((G92*ALBE+H92*ALDE+I92*AT+J92*BE+K92*DE+L92*FR+M92*NL)>(N92),1,0)","v":0},null,{"$f":"IF((C$6*G92+D$6*H92+E$6*I92+F$6*J92+G$6*K92+H$6*L92+I$6*M92)>(N92),1,0)","v":0}]
[null,84,"[D4-AT] Buers - Westtirol 421 weiss [OPP] [D4]_LTA_corner#20_#0","10T-AT-DE-000061","[AT-AT] Westtirol Transformer WTRHU41","14T-38220-WT041O",0,0,0.98482000000000003,-8.4629999999999997E-2,0.12001000000000001,-9.2509999999999995E-2,0,4578,{"$f":"IF((G93*ALBE+H93*ALDE+I93*AT+J93*BE+K93*DE+L93*FR+M93*NL)>(N93),1,0)","v":0},null,{"$f":"IF((C$6*G93+D$6*H93+E$6*I93+F$6*J93+G$6*K93+H$6*L93+I$6*M93)>(N93),1,0)","v":0}]
[null,85,"[D2-NL] Diele - Meeden 380 Black [DIR] [D2]_LTA_corner#01_#4","10T-DE-NL-00001V","[D2-NL] Diele - Meeden 380 White ","10T-DE-NL-00002T",0,0,-0.88285999999999998,0.19716,0.37791000000000002,0.19716,0,6789,{"$f":"IF((G94*ALBE+H94*ALDE+I94*AT+J94*BE+K94*DE+L94*FR+M94*NL)>(N94),1,0)","v":0},null,{"$f":"IF((C$6*G94+D$6*H94+E$6*I94+F$6*J94+G$6*K94+H$6*L94+I$6*M94)>(N94),1,0)","v":0}]
[null,86,"[AT-AT] Westtirol Transformer WTRHU41 [OPP]_LTA_corner#22_#5","14T-38220-WT041O","BASECASE","N/A",0,0,0.98667000000000005,-8.6269999999999999E-2,0.11616,-7.4510000000000007E-2,0,4596,{"$f":"IF((G95*ALBE+H95*ALDE+I95*AT+J95*BE+K95*DE+L95*FR+M95*NL)>(N95),1,0)","v":0},null,{"$f":"IF((C$6*G95+D$6*H95+E$6*I95+F$6*J95+G$6*K95+H$6*L95+I$6*M95)>(N95),1,0)","v":0}]
[null,87,"[AT-AT] Westtirol Transformer WTRHU41 [OPP]_LTA_corner#22_#1","14T-38220-WT041O","BASECASE","N/A",0,0,0.99268000000000001,-2.5170000000000001E-2,0.11687,-1.702E-2,0,4514,{"$f":"IF((G96*ALBE+H96*ALDE+I96*AT+J96*BE+K96*DE+L96*FR+M96*NL)>(N96),1,0)","v":0},null,{"$f":"IF((C$6*G96+D$6*H96+E$6*I96+F$6*J96+G$6*K96+H$6*L96+I$6*M96)>(N96),1,0)","v":0}]
[null,88,"[AT-AT] Westtirol Transformer WTRHU41 [OPP]_LTA_corner#20_#15","14T-38220-WT041O","BASECASE","N/A",0,0,0.99163999999999997,-2.5139999999999999E-2,0.12403,-2.5139999999999999E-2,0,4483,{"$f":"IF((G97*ALBE+H97*ALDE+I97*AT+J97*BE+K97*DE+L97*FR+M97*NL)>(N97),1,0)","v":0},null,{"$f":"IF((C$6*G97+D$6*H97+E$6*I97+F$6*J97+G$6*K97+H$6*L97+I$6*M97)>(N97),1,0)","v":0}]
[null,89,"[D2-NL] Diele - Meeden 380 Black [DIR] [NL]_LTA_corner#01_#8","10T-DE-NL-00001V","[D2-NL] Diele - Meeden 380 White","10T-DE-NL-00002T",0,0,0.52466999999999997,0.44135000000000002,0.57891999999999999,0.44135000000000002,0,1299,{"$f":"IF((G98*ALBE+H98*ALDE+I98*AT+J98*BE+K98*DE+L98*FR+M98*NL)>(N98),1,0)","v":0},null,{"$f":"IF((C$6*G98+D$6*H98+E$6*I98+F$6*J98+G$6*K98+H$6*L98+I$6*M98)>(N98),1,0)","v":0}]
[null,90,"[D2-NL] Diele - Meeden 380 Black [DIR] [NL]_LTA_corner#01_#4","10T-DE-NL-00001V","[D2-NL] Diele - Meeden 380 White","10T-DE-NL-00002T",0,0,0.52478999999999998,0.43713000000000002,0.58516999999999997,0.43713000000000002,0,1343,{"$f":"IF((G99*ALBE+H99*ALDE+I99*AT+J99*BE+K99*DE+L99*FR+M99*NL)>(N99),1,0)","v":0},null,{"$f":"IF((C$6*G99+D$6*H99+E$6*I99+F$6*J99+G$6*K99+H$6*L99+I$6*M99)>(N99),1,0)","v":0}]
[null,91,"[D2-NL] Diele - Meeden 380 Black [DIR] [D2]_LTA_corner#05_#6","10T-DE-NL-00001V","[D2-NL] Diele - Meeden 380 White ","10T-DE-NL-00002T",0,0,0.59709999999999996,0.32674999999999998,0.59709999999999996,0.42447000000000001,0,1187,{"$f":"IF((G100*ALBE+H100*ALDE+I100*AT+J100*BE+K100*DE+L100*FR+M100*NL)>(N100),1,0)","v":0},null,{"$f":"IF((C$6*G100+D$6*H100+E$6*I100+F$6*J100+G$6*K100+H$6*L100+I$6*M100)>(N100),1,0)","v":0}]
[null,92,"[D2-NL] Diele - Meeden 380 Black [DIR] [NL]_LTA_corner#01_#9","10T-DE-NL-00001V","[D2-NL] Diele - Meeden 380 White","10T-DE-NL-00002T",0,0,0.51593,0.45274999999999999,0.56908999999999998,0.45274999999999999,0,1269,{"$f":"IF((G101*ALBE+H101*ALDE+I101*AT+J101*BE+K101*DE+L101*FR+M101*NL)>(N101),1,0)","v":0},null,{"$f":"IF((C$6*G101+D$6*H101+E$6*I101+F$6*J101+G$6*K101+H$6*L101+I$6*M101)>(N101),1,0)","v":0}]
[null,93,"[D4-AT] Buers - Westtirol 421 weiss [OPP] [D4]_LTA_corner#17_#4","10T-AT-DE-000061","[AT-AT] Westtirol Transformer WTRHU41","14T-38220-WT041O",0,0,0.98826999999999998,1.401E-2,0.12044000000000001,-9.2840000000000006E-2,0,4598,{"$f":"IF((G102*ALBE+H102*ALDE+I102*AT+J102*BE+K102*DE+L102*FR+M102*NL)>(N102),1,0)","v":0},null,{"$f":"IF((C$6*G102+D$6*H102+E$6*I102+F$6*J102+G$6*K102+H$6*L102+I$6*M102)>(N102),1,0)","v":0}]
[null,94,"[AT-AT] Westtirol Transformer WTRHU41 [OPP]_LTA_corner#20_#19","14T-38220-WT041O","BASECASE","N/A",0,0,0.9889,-7.4679999999999996E-2,0.10452,-7.4679999999999996E-2,0,4610,{"$f":"IF((G103*ALBE+H103*ALDE+I103*AT+J103*BE+K103*DE+L103*FR+M103*NL)>(N103),1,0)","v":0},null,{"$f":"IF((C$6*G103+D$6*H103+E$6*I103+F$6*J103+G$6*K103+H$6*L103+I$6*M103)>(N103),1,0)","v":0}]
[null,95,"ALBE_export","N/A","BASECASE","N/A",1,0,0,0,0,0,0,0,{"$f":"IF((G104*ALBE+H104*ALDE+I104*AT+J104*BE+K104*DE+L104*FR+M104*NL)>(N104),1,0)","v":0},null,{"$f":"IF((C$6*G104+D$6*H104+E$6*I104+F$6*J104+G$6*K104+H$6*L104+I$6*M104)>(N104),1,0)","v":0}]
[null,96,"[D2-NL] Diele - Meeden 380 Black [DIR] [D2]_LTA_corner#01_#0","10T-DE-NL-00001V","[D2-NL] Diele - Meeden 380 White ","10T-DE-NL-00002T",0,0,-0.98068999999999995,8.3030000000000007E-2,0.17108999999999999,4.5530000000000001E-2,0,5937,{"$f":"IF((G105*ALBE+H105*ALDE+I105*AT+J105*BE+K105*DE+L105*FR+M105*NL)>(N105),1,0)","v":0},null,{"$f":"IF((C$6*G105+D$6*H105+E$6*I105+F$6*J105+G$6*K105+H$6*L105+I$6*M105)>(N105),1,0)","v":0}]
[null,97,"[D2-NL] Diele - Meeden 380 Black [DIR] [NL]_LTA_corner#05_#0","10T-DE-NL-00001V","[D2-NL] Diele - Meeden 380 White","10T-DE-NL-00002T",0,0,0.58838000000000001,8.6059999999999998E-2,0.71536999999999995,0.36693999999999999,0,2265,{"$f":"IF((G106*ALBE+H106*ALDE+I106*AT+J106*BE+K106*DE+L106*FR+M106*NL)>(N106),1,0)","v":0},null,{"$f":"IF((C$6*G106+D$6*H106+E$6*I106+F$6*J106+G$6*K106+H$6*L106+I$6*M106)>(N106),1,0)","v":0}]
[null,98,"[D2-NL] Diele - Meeden 380 Black [DIR] [D2]_LTA_corner#05_#22","10T-DE-NL-00001V","[D2-NL] Diele - Meeden 380 White ","10T-DE-NL-00002T",0,0,0.59524999999999995,0.32349,0.59524999999999995,0.43209999999999998,0,1192,{"$f":"IF((G107*ALBE+H107*ALDE+I107*AT+J107*BE+K107*DE+L107*FR+M107*NL)>(N107),1,0)","v":0},null,{"$f":"IF((C$6*G107+D$6*H107+E$6*I107+F$6*J107+G$6*K107+H$6*L107+I$6*M107)>(N107),1,0)","v":0}]
[null,99,"[D2-NL] Diele - Meeden 380 Black [DIR] [NL]_LTA_corner#01_#6","10T-DE-NL-00001V","[D2-NL] Diele - Meeden 380 White","10T-DE-NL-00002T",0,0,0.52381999999999995,0.42152000000000001,0.60848000000000002,0.42152000000000001,0,1515,{"$f":"IF((G108*ALBE+H108*ALDE+I108*AT+J108*BE+K108*DE+L108*FR+M108*NL)>(N108),1,0)","v":0},null,{"$f":"IF((C$6*G108+D$6*H108+E$6*I108+F$6*J108+G$6*K108+H$6*L108+I$6*M108)>(N108),1,0)","v":0}]
[null,100,"[D2-NL] Diele - Meeden 380 Black [DIR] [NL]_LTA_corner#01_#0","10T-DE-NL-00001V","[D2-NL] Diele - Meeden 380 White","10T-DE-NL-00002T",0,0,0.50897000000000003,0.47867999999999999,0.56537000000000004,0.43837999999999999,0,1331,{"$f":"IF((G109*ALBE+H109*ALDE+I109*AT+J109*BE+K109*DE+L109*FR+M109*NL)>(N109),1,0)","v":0},null,{"$f":"IF((C$6*G109+D$6*H109+E$6*I109+F$6*J109+G$6*K109+H$6*L109+I$6*M109)>(N109),1,0)","v":0}]
[null,101,"[BE-BE] PST_ZANDV_2 [N - S]_LTA_corner#13_#13","22T20161020---56","[NL-BE] Rilland - Zandvliet 380 White/30","10T-BE-NL-00004C",0,0,-0.37712000000000001,-0.68937000000000004,-0.31657999999999997,-0.53134000000000003,0,1728,{"$f":"IF((G110*ALBE+H110*ALDE+I110*AT+J110*BE+K110*DE+L110*FR+M110*NL)>(N110),1,0)","v":0},null,{"$f":"IF((C$6*G110+D$6*H110+E$6*I110+F$6*J110+G$6*K110+H$6*L110+I$6*M110)>(N110),1,0)","v":0}]
["hour 2",206,"[BE-FR] Achene - Lonny 380.19 [DIR] [BE]_LTA_corner#02_#0","10T-BE-FR-000015","[BE-BE] Avelgem - Horta 380.102","22T20161020---1E",0,0,-0.43590000000000001,0.40314,-0.32112000000000002,-0.73780000000000001,0,2344,{"$f":"IF((G111*ALBE+H111*ALDE+I111*AT+J111*BE+K111*DE+L111*FR+M111*NL)>(N111),1,0)","v":0},null,{"$f":"IF((C$6*G111+D$6*H111+E$6*I111+F$6*J111+G$6*K111+H$6*L111+I$6*M111)>(N111),1,0)","v":0}]
[null,207,"[D2-NL] Diele - Meeden 380 Black [DIR] [NL]_LTA_corner#05_#14","10T-DE-NL-00001V","[D2-NL] Diele - Meeden 380 White","10T-DE-NL-00002T",0,0,0.57669000000000004,0.23605999999999999,0.63371999999999995,0.45837,0,1660,{"$f":"IF((G112*ALBE+H112*ALDE+I112*AT+J112*BE+K112*DE+L112*FR+M112*NL)>(N112),1,0)","v":0},null,{"$f":"IF((C$6*G112+D$6*H112+E$6*I112+F$6*J112+G$6*K112+H$6*L112+I$6*M112)>(N112),1,0)","v":0}]
[null,208,"[BE-FR] Achene - Lonny 380.19 [DIR] [BE]_LTA_corner#02_#14","10T-BE-FR-000015","[BE-BE] Avelgem - Horta 380.102","22T20161020---1E",0,0,-0.44429999999999997,0.34494000000000002,-0.31683,-0.76370000000000005,0,2374,{"$f":"IF((G113*ALBE+H113*ALDE+I113*AT+J113*BE+K113*DE+L113*FR+M113*NL)>(N113),1,0)","v":0},null,{"$f":"IF((C$6*G113+D$6*H113+E$6*I113+F$6*J113+G$6*K113+H$6*L113+I$6*M113)>(N113),1,0)","v":0}]
[null,209,"ALDE_import","N/A","BASECASE","N/A",0,-1,0,0,0,0,0,0,{"$f":"IF((G114*ALBE+H114*ALDE+I114*AT+J114*BE+K114*DE+L114*FR+M114*NL)>(N114),1,0)","v":0},null,{"$f":"IF((C$6*G114+D$6*H114+E$6*I114+F$6*J114+G$6*K114+H$6*L114+I$6*M114)>(N114),1,0)","v":0}]
[null,210,"[D2-NL] Diele - Meeden 380 Black [DIR] [NL]_LTA_corner#05_#0","10T-DE-NL-00001V","[D2-NL] Diele - Meeden 380 White","10T-DE-NL-00002T",0,0,0.54046000000000005,0.37585000000000002,0.59453999999999996,0.46168999999999999,0,1415,{"$f":"IF((G115*ALBE+H115*ALDE+I115*AT+J115*BE+K115*DE+L115*FR+M115*NL)>(N115),1,0)","v":0},null,{"$f":"IF((C$6*G115+D$6*H115+E$6*I115+F$6*J115+G$6*K115+H$6*L115+I$6*M115)>(N115),1,0)","v":0}]
[null,211,"[D4-AT] Buers - Westtirol 421 weiss [OPP] [D4]_LTA_corner#20_#7","10T-AT-DE-000061","[AT-AT] Westtirol Transformer WTRHU41","14T-38220-WT041O",0,0,0.94213000000000002,-8.3669999999999994E-2,0,-0.32463999999999998,0,5072,{"$f":"IF((G116*ALBE+H116*ALDE+I116*AT+J116*BE+K116*DE+L116*FR+M116*NL)>(N116),1,0)","v":0},null,{"$f":"IF((C$6*G116+D$6*H116+E$6*I116+F$6*J116+G$6*K116+H$6*L116+I$6*M116)>(N116),1,0)","v":0}]
[null,212,"[AT-AT] Westtirol Transformer WTRHU41 [OPP]_LTA_corner#20_#0","14T-38220-WT041O","BASECASE","N/A",0,0,0.98363999999999996,-2.0789999999999999E-2,0.16470000000000001,-7.0000000000000007E-2,0,4404,{"$f":"IF((G117*ALBE+H117*ALDE+I117*AT+J117*BE+K117*DE+L117*FR+M117*NL)>(N117),1,0)","v":0},null,{"$f":"IF((C$6*G117+D$6*H117+E$6*I117+F$6*J117+G$6*K117+H$6*L117+I$6*M117)>(N117),1,0)","v":0}]
[null,213,"ALDE_export","N/A","BASECASE","N/A",0,1,0,0,0,0,0,0,{"$f":"IF((G118*ALBE+H118*ALDE+I118*AT+J118*BE+K118*DE+L118*FR+M118*NL)>(N118),1,0)","v":0},null,{"$f":"IF((C$6*G118+D$6*H118+E$6*I118+F$6*J118+G$6*K118+H$6*L118+I$6*M118)>(N118),1,0)","v":0}]
[null,214,"[BE-BE] PST_ZANDV_2 [N - S]_LTA_corner#13_#0","22T20161020---56","[NL-BE] Rilland - Zandvliet 380 White/30","10T-BE-NL-00004C",0,0,-0.31608999999999998,-0.81176999999999999,-0.28306999999999999,-0.40122000000000002,0,1974,{"$f":"IF((G119*ALBE+H119*ALDE+I119*AT+J119*BE+K119*DE+L119*FR+M119*NL)>(N119),1,0)","v":0},null,{"$f":"IF((C$6*G119+D$6*H119+E$6*I119+F$6*J119+G$6*K119+H$6*L119+I$6*M119)>(N119),1,0)","v":0}]
[null,215,"[BE-FR] Achene - Lonny 380.19 [DIR] [BE]_LTA_corner#02_#2","10T-BE-FR-000015","[BE-BE] Avelgem - Horta 380.102","22T20161020---1E",0,0,-0.44606000000000001,0.31411,-0.32256000000000001,-0.77351000000000003,0,2335,{"$f":"IF((G120*ALBE+H120*ALDE+I120*AT+J120*BE+K120*DE+L120*FR+M120*NL)>(N120),1,0)","v":0},null,{"$f":"IF((C$6*G120+D$6*H120+E$6*I120+F$6*J120+G$6*K120+H$6*L120+I$6*M120)>(N120),1,0)","v":0}]
[null,216,"[D2-NL] Diele - Meeden 380 Black [DIR] [D2]_LTA_corner#05_#0","10T-DE-NL-00001V","[D2-NL] Diele - Meeden 380 White ","10T-DE-NL-00002T",0,0,0.56469999999999998,0.29336000000000001,0.64337,0.42559999999999998,0,1699,{"$f":"IF((G121*ALBE+H121*ALDE+I121*AT+J121*BE+K121*DE+L121*FR+M121*NL)>(N121),1,0)","v":0},null,{"$f":"IF((C$6*G121+D$6*H121+E$6*I121+F$6*J121+G$6*K121+H$6*L121+I$6*M121)>(N121),1,0)","v":0}]
[null,217,"[D4-AT] Buers - Westtirol 421 weiss [OPP] [D4]_LTA_corner#17_#13","10T-AT-DE-000061","[AT-AT] Westtirol Transformer WTRHU41","14T-38220-WT041O",0,0,0.98512999999999995,0,9.7890000000000005E-2,-0.14119999999999999,0,4705,{"$f":"IF((G122*ALBE+H122*ALDE+I122*AT+J122*BE+K122*DE+L122*FR+M122*NL)>(N122),1,0)","v":0},null,{"$f":"IF((C$6*G122+D$6*H122+E$6*I122+F$6*J122+G$6*K122+H$6*L122+I$6*M122)>(N122),1,0)","v":0}]
[null,218,"[D2-NL] Diele - Meeden 380 Black [DIR] [D2]_LTA_corner#05_#2","10T-DE-NL-00001V","[D2-NL] Diele - Meeden 380 White ","10T-DE-NL-00002T",0,0,0.60565000000000002,0.30146000000000001,0.60565000000000002,0.41891,0,1228,{"$f":"IF((G123*ALBE+H123*ALDE+I123*AT+J123*BE+K123*DE+L123*FR+M123*NL)>(N123),1,0)","v":0},null,{"$f":"IF((C$6*G123+D$6*H123+E$6*I123+F$6*J123+G$6*K123+H$6*L123+I$6*M123)>(N123),1,0)","v":0}]
[null,219,"[D4-AT] Buers - Westtirol 421 weiss [OPP] [D4]_LTA_corner#20_#0","10T-AT-DE-000061","[AT-AT] Westtirol Transformer WTRHU41","14T-38220-WT041O",0,0,0.98484000000000005,-8.3860000000000004E-2,0.12499,-8.6209999999999995E-2,0,4554,{"$f":"IF((G124*ALBE+H124*ALDE+I124*AT+J124*BE+K124*DE+L124*FR+M124*NL)>(N124),1,0)","v":0},null,{"$f":"IF((C$6*G124+D$6*H124+E$6*I124+F$6*J124+G$6*K124+H$6*L124+I$6*M124)>(N124),1,0)","v":0}]
[null,220,"[BE-BE] PST_VANYK_2 [S - N]","22T-BE-PST--002U","[BE-FR] Achene - Lonny 380.19","10T-BE-FR-000015",0.57308000000000003,-2.4340000000000001E-2,5.3400000000000001E-3,0.32016,-6.9899999999999997E-3,4.5969999999999997E-2,1.9959999999999999E-2,1025,{"$f":"IF((G125*ALBE+H125*ALDE+I125*AT+J125*BE+K125*DE+L125*FR+M125*NL)>(N125),1,0)","v":0},null,{"$f":"IF((C$6*G125+D$6*H125+E$6*I125+F$6*J125+G$6*K125+H$6*L125+I$6*M125)>(N125),1,0)","v":0}]
[null,221,"[BE-FR] Achene - Lonny 380.19 [DIR] [BE]_LTA_corner#02_#18","10T-BE-FR-000015","[BE-BE] Avelgem - Horta 380.102","22T20161020---1E",0,0,-0.44882,0.34315000000000001,-0.32190000000000002,-0.75973000000000002,0,2364,{"$f":"IF((G126*ALBE+H126*ALDE+I126*AT+J126*BE+K126*DE+L126*FR+M126*NL)>(N126),1,0)","v":0},null,{"$f":"IF((C$6*G126+D$6*H126+E$6*I126+F$6*J126+G$6*K126+H$6*L126+I$6*M126)>(N126),1,0)","v":0}]
[null,222,"[BE-BE] PST_ZANDV_2 [N - S]_LTA_corner#13_#1","22T20161020---56","[NL-BE] Rilland - Zandvliet 380 White/30","10T-BE-NL-00004C",0,0,-0.39378999999999997,-0.70401999999999998,-0.31713000000000002,-0.49872,0,1864,{"$f":"IF((G127*ALBE+H127*ALDE+I127*AT+J127*BE+K127*DE+L127*FR+M127*NL)>(N127),1,0)","v":0},null,{"$f":"IF((C$6*G127+D$6*H127+E$6*I127+F$6*J127+G$6*K127+H$6*L127+I$6*M127)>(N127),1,0)","v":0}]
[null,223,"[D4-AT] Buers - Westtirol 421 weiss [OPP] [D4]_LTA_corner#17_#16","10T-AT-DE-000061","[AT-AT] Westtirol Transformer WTRHU41","14T-38220-WT041O",0,0,0.98509000000000002,0,0.13111,-0.1114,0,4566,{"$f":"IF((G128*ALBE+H128*ALDE+I128*AT+J128*BE+K128*DE+L128*FR+M128*NL)>(N128),1,0)","v":0},null,{"$f":"IF((C$6*G128+D$6*H128+E$6*I128+F$6*J128+G$6*K128+H$6*L128+I$6*M128)>(N128),1,0)","v":0}]
[null,224,"[BE-BE] PST_ZANDV_2 [N - S]_LTA_corner#09_#9","22T20161020---56","[NL-BE] Rilland - Zandvliet 380 White/30","10T-BE-NL-00004C",0,0,-0.42096,-0.59209999999999996,-0.34875,-0.59209999999999996,0,1515,{"$f":"IF((G129*ALBE+H129*ALDE+I129*AT+J129*BE+K129*DE+L129*FR+M129*NL)>(N129),1,0)","v":0},null,{"$f":"IF((C$6*G129+D$6*H129+E$6*I129+F$6*J129+G$6*K129+H$6*L129+I$6*M129)>(N129),1,0)","v":0}]
[null,225,"[BE-BE] PST_ZANDV_2 [N - S]_LTA_corner#09_#5","22T20161020---56","[NL-BE] Rilland - Zandvliet 380 White/30","10T-BE-NL-00004C",0,0,-0.41393999999999997,-0.59421000000000002,-0.34999000000000002,-0.59421000000000002,0,1479,{"$f":"IF((G130*ALBE+H130*ALDE+I130*AT+J130*BE+K130*DE+L130*FR+M130*NL)>(N130),1,0)","v":0},null,{"$f":"IF((C$6*G130+D$6*H130+E$6*I130+F$6*J130+G$6*K130+H$6*L130+I$6*M130)>(N130),1,0)","v":0}]
[null,226,"ALBE_export","N/A","BASECASE","N/A",1,0,0,0,0,0,0,0,{"$f":"IF((G131*ALBE+H131*ALDE+I131*AT+J131*BE+K131*DE+L131*FR+M131*NL)>(N131),1,0)","v":0},null,{"$f":"IF((C$6*G131+D$6*H131+E$6*I131+F$6*J131+G$6*K131+H$6*L131+I$6*M131)>(N131),1,0)","v":0}]
[null,227,"[NL-NL] Borssele - Rilland 380 Zwart [DIR]","49T000000000059S","[NL-NL] Borssele - Rilland 380 Grijs","49T000000000057W",-5.8500000000000002E-3,2.31E-3,-8.0999999999999996E-4,-1.49E-2,1.1100000000000001E-3,-6.2599999999999999E-3,0.22536999999999999,817,{"$f":"IF((G132*ALBE+H132*ALDE+I132*AT+J132*BE+K132*DE+L132*FR+M132*NL)>(N132),1,0)","v":0},null,{"$f":"IF((C$6*G132+D$6*H132+E$6*I132+F$6*J132+G$6*K132+H$6*L132+I$6*M132)>(N132),1,0)","v":0}]
[null,228,"[BE-BE] PST_ZANDV_2 [N - S]_LTA_corner#09_#1","22T20161020---56","[NL-BE] Rilland - Zandvliet 380 White/30","10T-BE-NL-00004C",0,0,-0.42107,-0.58986000000000005,-0.35615000000000002,-0.58986000000000005,0,1478,{"$f":"IF((G133*ALBE+H133*ALDE+I133*AT+J133*BE+K133*DE+L133*FR+M133*NL)>(N133),1,0)","v":0},null,{"$f":"IF((C$6*G133+D$6*H133+E$6*I133+F$6*J133+G$6*K133+H$6*L133+I$6*M133)>(N133),1,0)","v":0}]
[null,229,"[D2-NL] Diele - Meeden 380 Black [DIR] [NL]_LTA_corner#05_#2","10T-DE-NL-00001V","[D2-NL] Diele - Meeden 380 White","10T-DE-NL-00002T",0,0,0.57343999999999995,0.24532999999999999,0.63053000000000003,0.46196999999999999,0,1646,{"$f":"IF((G134*ALBE+H134*ALDE+I134*AT+J134*BE+K134*DE+L134*FR+M134*NL)>(N134),1,0)","v":0},null,{"$f":"IF((C$6*G134+D$6*H134+E$6*I134+F$6*J134+G$6*K134+H$6*L134+I$6*M134)>(N134),1,0)","v":0}]
[null,230,"[D4-AT] Buers - Westtirol 421 weiss [OPP] [D4]_LTA_corner#20_#17","10T-AT-DE-000061","[AT-AT] Westtirol Transformer WTRHU41","14T-38220-WT041O",0,0,0.97733000000000003,-5.1380000000000002E-2,0.15257999999999999,-0.13750000000000001,0,4520,{"$f":"IF((G135*ALBE+H135*ALDE+I135*AT+J135*BE+K135*DE+L135*FR+M135*NL)>(N135),1,0)","v":0},null,{"$f":"IF((C$6*G135+D$6*H135+E$6*I135+F$6*J135+G$6*K135+H$6*L135+I$6*M135)>(N135),1,0)","v":0}]
[null,231,"[D4-AT] Buers - Westtirol 421 weiss [OPP] [D4]_LTA_corner#20_#12","10T-AT-DE-000061","[AT-AT] Westtirol Transformer WTRHU41","14T-38220-WT041O",0,0,0.94194,-8.4040000000000004E-2,0,-0.32507999999999998,0,5072,{"$f":"IF((G136*ALBE+H136*ALDE+I136*AT+J136*BE+K136*DE+L136*FR+M136*NL)>(N136),1,0)","v":0},null,{"$f":"IF((C$6*G136+D$6*H136+E$6*I136+F$6*J136+G$6*K136+H$6*L136+I$6*M136)>(N136),1,0)","v":0}]
[null,232,"[D4-AT] Buers - Westtirol 421 weiss [OPP] [D4]_LTA_corner#20_#13","10T-AT-DE-000061","[AT-AT] Westtirol Transformer WTRHU41","14T-38220-WT041O",0,0,0.94194,-8.4099999999999994E-2,0,-0.32507999999999998,0,5072,{"$f":"IF((G137*ALBE+H137*ALDE+I137*AT+J137*BE+K137*DE+L137*FR+M137*NL)>(N137),1,0)","v":0},null,{"$f":"IF((C$6*G137+D$6*H137+E$6*I137+F$6*J137+G$6*K137+H$6*L137+I$6*M137)>(N137),1,0)","v":0}]
[null,233,"[BE-BE] PST_ZANDV_2 [N - S]_LTA_corner#13_#7","22T20161020---56","[NL-BE] Rilland - Zandvliet 380 White/30","10T-BE-NL-00004C",0,0,-0.35452,-0.71614999999999995,-0.3226,-0.50731999999999999,0,1674,{"$f":"IF((G138*ALBE+H138*ALDE+I138*AT+J138*BE+K138*DE+L138*FR+M138*NL)>(N138),1,0)","v":0},null,{"$f":"IF((C$6*G138+D$6*H138+E$6*I138+F$6*J138+G$6*K138+H$6*L138+I$6*M138)>(N138),1,0)","v":0}]
[null,234,"ALBE_import","N/A","BASECASE","N/A",-1,0,0,0,0,0,0,0,{"$f":"IF((G139*ALBE+H139*ALDE+I139*AT+J139*BE+K139*DE+L139*FR+M139*NL)>(N139),1,0)","v":0},null,{"$f":"IF((C$6*G139+D$6*H139+E$6*I139+F$6*J139+G$6*K139+H$6*L139+I$6*M139)>(N139),1,0)","v":0}]
[null,235,"[BE-BE] PST_ZANDV_2 [N - S]_LTA_corner#09_#6","22T20161020---56","[NL-BE] Rilland - Zandvliet 380 White/30","10T-BE-NL-00004C",0,0,-0.41637000000000002,-0.59257000000000004,-0.35264000000000001,-0.59257000000000004,0,1476,{"$f":"IF((G140*ALBE+H140*ALDE+I140*AT+J140*BE+K140*DE+L140*FR+M140*NL)>(N140),1,0)","v":0},null,{"$f":"IF((C$6*G140+D$6*H140+E$6*I140+F$6*J140+G$6*K140+H$6*L140+I$6*M140)>(N140),1,0)","v":0}]
[null,236,"[D2-D2] Altheim - Sittling 220 [OPP]","11TD2L000000004J","[D2-AT] Pleinting - St. Peter 258","10T-AT-DE-000037",3.4680000000000002E-2,3.6450000000000003E-2,-2.5690000000000001E-2,3.4349999999999999E-2,3.4290000000000001E-2,3.049E-2,3.5650000000000001E-2,314,{"$f":"IF((G141*ALBE+H141*ALDE+I141*AT+J141*BE+K141*DE+L141*FR+M141*NL)>(N141),1,0)","v":0},null,{"$f":"IF((C$6*G141+D$6*H141+E$6*I141+F$6*J141+G$6*K141+H$6*L141+I$6*M141)>(N141),1,0)","v":0}]
[null,237,"[BE-FR] Achene - Lonny 380.19 [DIR] [BE]_LTA_corner#02_#4","10T-BE-FR-000015","[BE-BE] Avelgem - Horta 380.102","22T20161020---1E",0,0,-0.43935999999999997,0.34494999999999998,-0.32358999999999999,-0.76371999999999995,0,2320,{"$f":"IF((G142*ALBE+H142*ALDE+I142*AT+J142*BE+K142*DE+L142*FR+M142*NL)>(N142),1,0)","v":0},null,{"$f":"IF((C$6*G142+D$6*H142+E$6*I142+F$6*J142+G$6*K142+H$6*L142+I$6*M142)>(N142),1,0)","v":0}]
[null,238,"[D2-NL] Diele - Meeden 380 Black [DIR] [D2]_LTA_corner#21_#0","10T-DE-NL-00001V","[D2-NL] Diele - Meeden 380 White ","10T-DE-NL-00002T",0,0,0.78417000000000003,0.23566000000000001,0.46024999999999999,0.34309000000000001,0,2505,{"$f":"IF((G143*ALBE+H143*ALDE+I143*AT+J143*BE+K143*DE+L143*FR+M143*NL)>(N143),1,0)","v":0},null,{"$f":"IF((C$6*G143+D$6*H143+E$6*I143+F$6*J143+G$6*K143+H$6*L143+I$6*M143)>(N143),1,0)","v":0}]
[null,239,"[D2-NL] Diele - Meeden 380 Black [DIR] [D2]_LTA_corner#05_#10","10T-DE-NL-00001V","[D2-NL] Diele - Meeden 380 White ","10T-DE-NL-00002T",0,0,0.60245000000000004,0.30695,0.60245000000000004,0.42414000000000002,0,1219,{"$f":"IF((G144*ALBE+H144*ALDE+I144*AT+J144*BE+K144*DE+L144*FR+M144*NL)>(N144),1,0)","v":0},null,{"$f":"IF((C$6*G144+D$6*H144+E$6*I144+F$6*J144+G$6*K144+H$6*L144+I$6*M144)>(N144),1,0)","v":0}]
[null,240,"[BE-FR] Achene - Lonny 380.19 [DIR] [BE]_LTA_corner#02_#5","10T-BE-FR-000015","[BE-BE] Avelgem - Horta 380.102","22T20161020---1E",0,0,-0.47383999999999998,0.16964000000000001,-0.35500999999999999,-0.78781999999999996,0,2171,{"$f":"IF((G145*ALBE+H145*ALDE+I145*AT+J145*BE+K145*DE+L145*FR+M145*NL)>(N145),1,0)","v":0},null,{"$f":"IF((C$6*G145+D$6*H145+E$6*I145+F$6*J145+G$6*K145+H$6*L145+I$6*M145)>(N145),1,0)","v":0}]
[null,241,"[BE-BE] PST_ZANDV_2 [N - S]_LTA_corner#13_#28","22T20161020---56","[NL-BE] Rilland - Zandvliet 380 White/30","10T-BE-NL-00004C",0,0,-0.37426999999999999,-0.71694999999999998,-0.29658000000000001,-0.50788,0,1887,{"$f":"IF((G146*ALBE+H146*ALDE+I146*AT+J146*BE+K146*DE+L146*FR+M146*NL)>(N146),1,0)","v":0},null,{"$f":"IF((C$6*G146+D$6*H146+E$6*I146+F$6*J146+G$6*K146+H$6*L146+I$6*M146)>(N146),1,0)","v":0}]
[null,242,"[BE-FR] Achene - Lonny 380.19 [DIR] [BE]_LTA_corner#02_#11","10T-BE-FR-000015","[BE-BE] Avelgem - Horta 380.102","22T20161020---1E",0,0,-0.44262000000000001,0.34364,-0.32734999999999997,-0.76080999999999999,0,2313,{"$f":"IF((G147*ALBE+H147*ALDE+I147*AT+J147*BE+K147*DE+L147*FR+M147*NL)>(N147),1,0)","v":0},null,{"$f":"IF((C$6*G147+D$6*H147+E$6*I147+F$6*J147+G$6*K147+H$6*L147+I$6*M147)>(N147),1,0)","v":0}]
[null,243,"[BE-FR] Achene - Lonny 380.19 [OPP] [BE]","10T-BE-FR-000015","[BE-BE] Avelgem - Horta 380.102","22T20161020---1E",-0.30628,-6.4439999999999997E-2,2.0740000000000001E-2,-0.30151,-2.8549999999999999E-2,0.15115000000000001,-0.16067000000000001,1951,{"$f":"IF((G148*ALBE+H148*ALDE+I148*AT+J148*BE+K148*DE+L148*FR+M148*NL)>(N148),1,0)","v":0},null,{"$f":"IF((C$6*G148+D$6*H148+E$6*I148+F$6*J148+G$6*K148+H$6*L148+I$6*M148)>(N148),1,0)","v":0}]
[null,244,"[D4-AT] Buers - Westtirol 421 weiss [OPP] [D4]_LTA_corner#20_#3","10T-AT-DE-000061","[AT-AT] Westtirol Transformer WTRHU41","14T-38220-WT041O",0,0,0.99356999999999995,-2.98E-2,6.6089999999999996E-2,-8.6980000000000002E-2,0,4751,{"$f":"IF((G149*ALBE+H149*ALDE+I149*AT+J149*BE+K149*DE+L149*FR+M149*NL)>(N149),1,0)","v":0},null,{"$f":"IF((C$6*G149+D$6*H149+E$6*I149+F$6*J149+G$6*K149+H$6*L149+I$6*M149)>(N149),1,0)","v":0}]
[null,245,"[BE-BE] PST_ZANDV_2 [N - S]_LTA_corner#13_#13","22T20161020---56","[NL-BE] Rilland - Zandvliet 380 White/30","10T-BE-NL-00004C",0,0,-0.40756999999999999,-0.64832000000000001,-0.35748000000000002,-0.53458000000000006,0,1589,{"$f":"IF((G150*ALBE+H150*ALDE+I150*AT+J150*BE+K150*DE+L150*FR+M150*NL)>(N150),1,0)","v":0},null,{"$f":"IF((C$6*G150+D$6*H150+E$6*I150+F$6*J150+G$6*K150+H$6*L150+I$6*M150)>(N150),1,0)","v":0}]
[null,246,"[D4-AT] Buers - Westtirol 421 weiss [OPP] [D4]_LTA_corner#20_#30","10T-AT-DE-000061","[AT-AT] Westtirol Transformer WTRHU41","14T-38220-WT041O",0,0,0.97326000000000001,-5.5620000000000003E-2,0.13469,-0.17759,0,4614,{"$f":"IF((G151*ALBE+H151*ALDE+I151*AT+J151*BE+K151*DE+L151*FR+M151*NL)>(N151),1,0)","v":0},null,{"$f":"IF((C$6*G151+D$6*H151+E$6*I151+F$6*J151+G$6*K151+H$6*L151+I$6*M151)>(N151),1,0)","v":0}]
[null,247,"[D4-AT] Buers - Westtirol 421 weiss [OPP] [D4]_LTA_corner#17_#3","10T-AT-DE-000061","[AT-AT] Westtirol Transformer WTRHU41","14T-38220-WT041O",0,0,0.99704000000000004,8.5900000000000004E-3,7.6359999999999997E-2,2.9099999999999998E-3,0,4601,{"$f":"IF((G152*ALBE+H152*ALDE+I152*AT+J152*BE+K152*DE+L152*FR+M152*NL)>(N152),1,0)","v":0},null,{"$f":"IF((C$6*G152+D$6*H152+E$6*I152+F$6*J152+G$6*K152+H$6*L152+I$6*M152)>(N152),1,0)","v":0}]
[null,248,"[D2-NL] Diele - Meeden 380 Black [DIR] [D2]_LTA_corner#05_#20","10T-DE-NL-00001V","[D2-NL] Diele - Meeden 380 White ","10T-DE-NL-00002T",0,0,0.56459000000000004,0.30558000000000002,0.65600000000000003,0.39689000000000002,0,1754,{"$f":"IF((G153*ALBE+H153*ALDE+I153*AT+J153*BE+K153*DE+L153*FR+M153*NL)>(N153),1,0)","v":0},null,{"$f":"IF((C$6*G153+D$6*H153+E$6*I153+F$6*J153+G$6*K153+H$6*L153+I$6*M153)>(N153),1,0)","v":0}]
[null,249,"[D4-AT] Buers - Westtirol 421 weiss [OPP] [D4]_LTA_corner#25_#0","10T-AT-DE-000061","[AT-AT] Westtirol Transformer WTRHU41","14T-38220-WT041O",0,0,0.94162999999999997,-8.4220000000000003E-2,-7.2999999999999996E-4,-0.32595000000000002,0,5076,{"$f":"IF((G154*ALBE+H154*ALDE+I154*AT+J154*BE+K154*DE+L154*FR+M154*NL)>(N154),1,0)","v":0},null,{"$f":"IF((C$6*G154+D$6*H154+E$6*I154+F$6*J154+G$6*K154+H$6*L154+I$6*M154)>(N154),1,0)","v":0}]
[null,250,"[AT-AT] Westtirol Transformer WTRHU41 [OPP]_LTA_corner#20_#13","14T-38220-WT041O","BASECASE","N/A",0,0,0.98787000000000003,-7.0300000000000001E-2,0.11933000000000001,-7.0300000000000001E-2,0,4557,{"$f":"IF((G155*ALBE+H155*ALDE+I155*AT+J155*BE+K155*DE+L155*FR+M155*NL)>(N155),1,0)","v":0},null,{"$f":"IF((C$6*G155+D$6*H155+E$6*I155+F$6*J155+G$6*K155+H$6*L155+I$6*M155)>(N155),1,0)","v":0}]
[null,251,"[D4-AT] Buers - Westtirol 421 weiss [OPP] [D4]_LTA_corner#17_#25","10T-AT-DE-000061","[AT-AT] Westtirol Transformer WTRHU41","14T-38220-WT041O",0,0,0.99750000000000005,0,6.0970000000000003E-2,-3.5619999999999999E-2,0,4697,{"$f":"IF((G156*ALBE+H156*ALDE+I156*AT+J156*BE+K156*DE+L156*FR+M156*NL)>(N156),1,0)","v":0},null,{"$f":"IF((C$6*G156+D$6*H156+E$6*I156+F$6*J156+G$6*K156+H$6*L156+I$6*M156)>(N156),1,0)","v":0}]
[null,252,"[D2-NL] Diele - Meeden 380 Black [DIR] [D2]_LTA_corner#05_#6","10T-DE-NL-00001V","[D2-NL] Diele - Meeden 380 White ","10T-DE-NL-00002T",0,0,-0.88038000000000005,0.1847,0.39399000000000001,0.18867,0,6896,{"$f":"IF((G157*ALBE+H157*ALDE+I157*AT+J157*BE+K157*DE+L157*FR+M157*NL)>(N157),1,0)","v":0},null,{"$f":"IF((C$6*G157+D$6*H157+E$6*I157+F$6*J157+G$6*K157+H$6*L157+I$6*M157)>(N157),1,0)","v":0}]
[null,253,"[AT-AT] Westtirol Transformer WTRHU41 [OPP]_LTA_corner#20_#14","14T-38220-WT041O","BASECASE","N/A",0,0,0.98894000000000004,-6.1620000000000001E-2,0.12002,-6.1620000000000001E-2,0,4545,{"$f":"IF((G158*ALBE+H158*ALDE+I158*AT+J158*BE+K158*DE+L158*FR+M158*NL)>(N158),1,0)","v":0},null,{"$f":"IF((C$6*G158+D$6*H158+E$6*I158+F$6*J158+G$6*K158+H$6*L158+I$6*M158)>(N158),1,0)","v":0}]
[null,254,"[BE-BE] PST_ZANDV_2 [N - S]_LTA_corner#13_#11","22T20161020---56","[NL-BE] Rilland - Zandvliet 380 White/30","10T-BE-NL-00004C",0,0,-0.40066000000000002,-0.67027999999999999,-0.35618,-0.51315999999999995,0,1631,{"$f":"IF((G159*ALBE+H159*ALDE+I159*AT+J159*BE+K159*DE+L159*FR+M159*NL)>(N159),1,0)","v":0},null,{"$f":"IF((C$6*G159+D$6*H159+E$6*I159+F$6*J159+G$6*K159+H$6*L159+I$6*M159)>(N159),1,0)","v":0}]
[null,255,"[D4-AT] Buers - Westtirol 421 weiss [OPP] [D4]_LTA_corner#17_#14","10T-AT-DE-000061","[AT-AT] Westtirol Transformer WTRHU41","14T-38220-WT041O",0,0,0.98509999999999998,0,0.12842999999999999,-0.11439000000000001,0,4578,{"$f":"IF((G160*ALBE+H160*ALDE+I160*AT+J160*BE+K160*DE+L160*FR+M160*NL)>(N160),1,0)","v":0},null,{"$f":"IF((C$6*G160+D$6*H160+E$6*I160+F$6*J160+G$6*K160+H$6*L160+I$6*M160)>(N160),1,0)","v":0}]
[null,256,"[D4-AT] Buers - Westtirol 421 weiss [OPP] [D4]_LTA_corner#17_#6","10T-AT-DE-000061","[AT-AT] Westtirol Transformer WTRHU41","14T-38220-WT041O",0,0,0.99612000000000001,0,8.7800000000000003E-2,-5.9800000000000001E-3,0,4569,{"$f":"IF((G161*ALBE+H161*ALDE+I161*AT+J161*BE+K161*DE+L161*FR+M161*NL)>(N161),1,0)","v":0},null,{"$f":"IF((C$6*G161+D$6*H161+E$6*I161+F$6*J161+G$6*K161+H$6*L161+I$6*M161)>(N161),1,0)","v":0}]
[null,257,"[D2-NL] Diele - Meeden 380 Black [DIR] [NL]_LTA_corner#01_#10","10T-DE-NL-00001V","[D2-NL] Diele - Meeden 380 White","10T-DE-NL-00002T",0,0,0.51987000000000005,0.41575000000000001,0.62719999999999998,0.40434999999999999,0,1683,{"$f":"IF((G162*ALBE+H162*ALDE+I162*AT+J162*BE+K162*DE+L162*FR+M162*NL)>(N162),1,0)","v":0},null,{"$f":"IF((C$6*G162+D$6*H162+E$6*I162+F$6*J162+G$6*K162+H$6*L162+I$6*M162)>(N162),1,0)","v":0}]
[null,258,"[D2-NL] Diele - Meeden 380 Black [DIR] [NL]_LTA_corner#01_#0","10T-DE-NL-00001V","[D2-NL] Diele - Meeden 380 White","10T-DE-NL-00002T",0,0,0.52407000000000004,0.40633999999999998,0.62860000000000005,0.40633999999999998,0,1658,{"$f":"IF((G163*ALBE+H163*ALDE+I163*AT+J163*BE+K163*DE+L163*FR+M163*NL)>(N163),1,0)","v":0},null,{"$f":"IF((C$6*G163+D$6*H163+E$6*I163+F$6*J163+G$6*K163+H$6*L163+I$6*M163)>(N163),1,0)","v":0}]
[null,259,"[D2-NL] Diele - Meeden 380 Black [DIR] [NL]_LTA_corner#01_#1","10T-DE-NL-00001V","[D2-NL] Diele - Meeden 380 White","10T-DE-NL-00002T",0,0,0.51978000000000002,0.44506000000000001,0.58804000000000001,0.43121999999999999,0,1406,{"$f":"IF((G164*ALBE+H164*ALDE+I164*AT+J164*BE+K164*DE+L164*FR+M164*NL)>(N164),1,0)","v":0},null,{"$f":"IF((C$6*G164+D$6*H164+E$6*I164+F$6*J164+G$6*K164+H$6*L164+I$6*M164)>(N164),1,0)","v":0}]
[null,260,"[D2-NL] Diele - Meeden 380 Black [DIR] [NL]_LTA_corner#01_#6","10T-DE-NL-00001V","[D2-NL] Diele - Meeden 380 White","10T-DE-NL-00002T",0,0,0.52185000000000004,0.43308999999999997,0.59375999999999995,0.43308999999999997,0,1418,{"$f":"IF((G165*ALBE+H165*ALDE+I165*AT+J165*BE+K165*DE+L165*FR+M165*NL)>(N165),1,0)","v":0},null,{"$f":"IF((C$6*G165+D$6*H165+E$6*I165+F$6*J165+G$6*K165+H$6*L165+I$6*M165)>(N165),1,0)","v":0}]
[null,261,"[D2-NL] Diele - Meeden 380 Black [DIR] [D2]_LTA_corner#05_#4","10T-DE-NL-00001V","[D2-NL] Diele - Meeden 380 White ","10T-DE-NL-00002T",0,0,0.60404999999999998,0.29897000000000001,0.60404999999999998,0.42526999999999998,0,1232,{"$f":"IF((G166*ALBE+H166*ALDE+I166*AT+J166*BE+K166*DE+L166*FR+M166*NL)>(N166),1,0)","v":0},null,{"$f":"IF((C$6*G166+D$6*H166+E$6*I166+F$6*J166+G$6*K166+H$6*L166+I$6*M166)>(N166),1,0)","v":0}]
[null,262,"[D4-AT] Buers - Westtirol 421 weiss [OPP] [D4]_LTA_corner#17_#18","10T-AT-DE-000061","[AT-AT] Westtirol Transformer WTRHU41","14T-38220-WT041O",0,0,0.99734999999999996,0,7.0919999999999997E-2,-1.6129999999999999E-2,0,4638,{"$f":"IF((G167*ALBE+H167*ALDE+I167*AT+J167*BE+K167*DE+L167*FR+M167*NL)>(N167),1,0)","v":0},null,{"$f":"IF((C$6*G167+D$6*H167+E$6*I167+F$6*J167+G$6*K167+H$6*L167+I$6*M167)>(N167),1,0)","v":0}]
[null,263,"[BE-BE] PST_ZANDV_2 [N - S]_LTA_corner#13_#8","22T20161020---56","[NL-BE] Rilland - Zandvliet 380 White/30","10T-BE-NL-00004C",0,0,-0.31383,-0.80672999999999995,-0.27572999999999998,-0.41793000000000002,0,1971,{"$f":"IF((G168*ALBE+H168*ALDE+I168*AT+J168*BE+K168*DE+L168*FR+M168*NL)>(N168),1,0)","v":0},null,{"$f":"IF((C$6*G168+D$6*H168+E$6*I168+F$6*J168+G$6*K168+H$6*L168+I$6*M168)>(N168),1,0)","v":0}]
[null,264,"[D4-AT] Buers - Westtirol 421 weiss [OPP] [D4]_LTA_corner#20_#8","10T-AT-DE-000061","[AT-AT] Westtirol Transformer WTRHU41","14T-38220-WT041O",0,0,0.94269999999999998,-8.3390000000000006E-2,0,-0.32306000000000001,0,5072,{"$f":"IF((G169*ALBE+H169*ALDE+I169*AT+J169*BE+K169*DE+L169*FR+M169*NL)>(N169),1,0)","v":0},null,{"$f":"IF((C$6*G169+D$6*H169+E$6*I169+F$6*J169+G$6*K169+H$6*L169+I$6*M169)>(N169),1,0)","v":0}]
[null,265,"[BE-FR] Achene - Lonny 380.19 [DIR] [BE]_LTA_corner#02_#9","10T-BE-FR-000015","[BE-BE] Avelgem - Horta 380.102","22T20161020---1E",0,0,-0.43369999999999997,0.38496000000000002,-0.31345000000000001,-0.75197000000000003,0,2368,{"$f":"IF((G170*ALBE+H170*ALDE+I170*AT+J170*BE+K170*DE+L170*FR+M170*NL)>(N170),1,0)","v":0},null,{"$f":"IF((C$6*G170+D$6*H170+E$6*I170+F$6*J170+G$6*K170+H$6*L170+I$6*M170)>(N170),1,0)","v":0}]
[null,266,"[D4-AT] Buers - Westtirol 421 weiss [OPP] [D4]_LTA_corner#17_#0","10T-AT-DE-000061","[AT-AT] Westtirol Transformer WTRHU41","14T-38220-WT041O",0,0,0.98799999999999999,2.5479999999999999E-2,0.12540000000000001,-8.6489999999999997E-2,0,4587,{"$f":"IF((G171*ALBE+H171*ALDE+I171*AT+J171*BE+K171*DE+L171*FR+M171*NL)>(N171),1,0)","v":0},null,{"$f":"IF((C$6*G171+D$6*H171+E$6*I171+F$6*J171+G$6*K171+H$6*L171+I$6*M171)>(N171),1,0)","v":0}]
[null,267,"[NL-D7] Maasbracht - Siersdorf 380 black [DIR] [D7]","10T-DE-NL-00006L","[BE-BE] Avelgem - Horta 380.102","22T20161020---1E",0.32053999999999999,-0.15518000000000001,-2.66E-3,0.30671999999999999,1.414E-2,3.9E-2,0.27052999999999999,939,{"$f":"IF((G172*ALBE+H172*ALDE+I172*AT+J172*BE+K172*DE+L172*FR+M172*NL)>(N172),1,0)","v":0},null,{"$f":"IF((C$6*G172+D$6*H172+E$6*I172+F$6*J172+G$6*K172+H$6*L172+I$6*M172)>(N172),1,0)","v":0}]
[null,268,"[D4-AT] Buers - Westtirol 421 weiss [OPP] [D4]_LTA_corner#20_#4","10T-AT-DE-000061","[AT-AT] Westtirol Transformer WTRHU41","14T-38220-WT041O",0,0,0.94245999999999996,-8.3699999999999997E-2,0,-0.32368000000000002,0,5072,{"$f":"IF((G173*ALBE+H173*ALDE+I173*AT+J173*BE+K173*DE+L173*FR+M173*NL)>(N173),1,0)","v":0},null,{"$f":"IF((C$6*G173+D$6*H173+E$6*I173+F$6*J173+G$6*K173+H$6*L173+I$6*M173)>(N173),1,0)","v":0}]
[null,269,"[D4-AT] Buers - Westtirol 421 weiss [OPP] [D4]_LTA_corner#17_#8","10T-AT-DE-000061","[AT-AT] Westtirol Transformer WTRHU41","14T-38220-WT041O",0,0,0.99534,0,9.5549999999999996E-2,-1.264E-2,0,4555,{"$f":"IF((G174*ALBE+H174*ALDE+I174*AT+J174*BE+K174*DE+L174*FR+M174*NL)>(N174),1,0)","v":0},null,{"$f":"IF((C$6*G174+D$6*H174+E$6*I174+F$6*J174+G$6*K174+H$6*L174+I$6*M174)>(N174),1,0)","v":0}]
[null,270,"[D2-AT] Y - St. Peter (- Altheim - Simbach) 233/230 [OPP] [D2]","10T-AT-DE-00001B","[D2-AT] Y - St. Peter (- Altheim - Simbach) 234/230","10T-AT-DE-000045",-3.696E-2,-3.8269999999999998E-2,2.47E-2,-3.6720000000000003E-2,-3.7589999999999998E-2,-3.3910000000000003E-2,-3.7539999999999997E-2,321,{"$f":"IF((G175*ALBE+H175*ALDE+I175*AT+J175*BE+K175*DE+L175*FR+M175*NL)>(N175),1,0)","v":0},null,{"$f":"IF((C$6*G175+D$6*H175+E$6*I175+F$6*J175+G$6*K175+H$6*L175+I$6*M175)>(N175),1,0)","v":0}]
[null,271,"[BE-BE] PST_ZANDV_2 [N - S]_LTA_corner#13_#17","22T20161020---56","[NL-BE] Rilland - Zandvliet 380 White/30","10T-BE-NL-00004C",0,0,-0.32168000000000002,-0.77024000000000004,-0.26101999999999997,-0.4849,0,1938,{"$f":"IF((G176*ALBE+H176*ALDE+I176*AT+J176*BE+K176*DE+L176*FR+M176*NL)>(N176),1,0)","v":0},null,{"$f":"IF((C$6*G176+D$6*H176+E$6*I176+F$6*J176+G$6*K176+H$6*L176+I$6*M176)>(N176),1,0)","v":0}]
[null,272,"[D2-NL] Diele - Meeden 380 Black [DIR] [NL]_LTA_corner#05_#5","10T-DE-NL-00001V","[D2-NL] Diele - Meeden 380 White","10T-DE-NL-00002T",0,0,0.57965999999999995,0.16009000000000001,0.66698000000000002,0.43989,0,1944,{"$f":"IF((G177*ALBE+H177*ALDE+I177*AT+J177*BE+K177*DE+L177*FR+M177*NL)>(N177),1,0)","v":0},null,{"$f":"IF((C$6*G177+D$6*H177+E$6*I177+F$6*J177+G$6*K177+H$6*L177+I$6*M177)>(N177),1,0)","v":0}]
[null,273,"[BE-BE] PST_ZANDV_2 [N - S]_LTA_corner#09_#0","22T20161020---56","[NL-BE] Rilland - Zandvliet 380 White/30","10T-BE-NL-00004C",0,0,-0.47133999999999998,-0.35353000000000001,-0.37924999999999998,-0.71345999999999998,0,1779,{"$f":"IF((G178*ALBE+H178*ALDE+I178*AT+J178*BE+K178*DE+L178*FR+M178*NL)>(N178),1,0)","v":0},null,{"$f":"IF((C$6*G178+D$6*H178+E$6*I178+F$6*J178+G$6*K178+H$6*L178+I$6*M178)>(N178),1,0)","v":0}]
[null,274,"[AT-AT] Westtirol Transformer WTRHU41 [OPP]_LTA_corner#17_#1","14T-38220-WT041O","BASECASE","N/A",0,0,0.98678999999999994,0,0.14602000000000001,-7.0220000000000005E-2,0,4468,{"$f":"IF((G179*ALBE+H179*ALDE+I179*AT+J179*BE+K179*DE+L179*FR+M179*NL)>(N179),1,0)","v":0},null,{"$f":"IF((C$6*G179+D$6*H179+E$6*I179+F$6*J179+G$6*K179+H$6*L179+I$6*M179)>(N179),1,0)","v":0}]
[null,275,"[D4-AT] Buers - Westtirol 421 weiss [OPP] [D4]_LTA_corner#20_#24","10T-AT-DE-000061","[AT-AT] Westtirol Transformer WTRHU41","14T-38220-WT041O",0,0,0.95816000000000001,-7.8450000000000006E-2,5.1619999999999999E-2,-0.27039999999999997,0,4920,{"$f":"IF((G180*ALBE+H180*ALDE+I180*AT+J180*BE+K180*DE+L180*FR+M180*NL)>(N180),1,0)","v":0},null,{"$f":"IF((C$6*G180+D$6*H180+E$6*I180+F$6*J180+G$6*K180+H$6*L180+I$6*M180)>(N180),1,0)","v":0}]
[null,276,"[AT-AT] Westtirol Transformer WTRHU41 [OPP]_LTA_corner#20_#4","14T-38220-WT041O","BASECASE","N/A",0,0,0.99222999999999995,-2.0969999999999999E-2,0.12042,-2.324E-2,0,4492,{"$f":"IF((G181*ALBE+H181*ALDE+I181*AT+J181*BE+K181*DE+L181*FR+M181*NL)>(N181),1,0)","v":0},null,{"$f":"IF((C$6*G181+D$6*H181+E$6*I181+F$6*J181+G$6*K181+H$6*L181+I$6*M181)>(N181),1,0)","v":0}]
[null,277,"[D2-NL] Diele - Meeden 380 Black [DIR] [NL]_LTA_corner#05_#26","10T-DE-NL-00001V","[D2-NL] Diele - Meeden 380 White","10T-DE-NL-00002T",0,0,0.58775999999999995,3.2960000000000003E-2,0.73312999999999995,0.34055999999999997,0,2429,{"$f":"IF((G182*ALBE+H182*ALDE+I182*AT+J182*BE+K182*DE+L182*FR+M182*NL)>(N182),1,0)","v":0},null,{"$f":"IF((C$6*G182+D$6*H182+E$6*I182+F$6*J182+G$6*K182+H$6*L182+I$6*M182)>(N182),1,0)","v":0}]
[null,278,"[D4-AT] Buers - Westtirol 421 weiss [OPP] [D4]_LTA_corner#20_#28","10T-AT-DE-000061","[AT-AT] Westtirol Transformer WTRHU41","14T-38220-WT041O",0,0,0.9748,-5.8880000000000002E-2,0.13358999999999999,-0.16866999999999999,0,4611,{"$f":"IF((G183*ALBE+H183*ALDE+I183*AT+J183*BE+K183*DE+L183*FR+M183*NL)>(N183),1,0)","v":0},null,{"$f":"IF((C$6*G183+D$6*H183+E$6*I183+F$6*J183+G$6*K183+H$6*L183+I$6*M183)>(N183),1,0)","v":0}]
[null,279,"[D4-AT] Buers - Westtirol 421 weiss [OPP] [D4]_LTA_corner#17_#5","10T-AT-DE-000061","[AT-AT] Westtirol Transformer WTRHU41","14T-38220-WT041O",0,0,0.99775999999999998,7.6400000000000001E-3,6.5720000000000001E-2,-9.4400000000000005E-3,0,4653,{"$f":"IF((G184*ALBE+H184*ALDE+I184*AT+J184*BE+K184*DE+L184*FR+M184*NL)>(N184),1,0)","v":0},null,{"$f":"IF((C$6*G184+D$6*H184+E$6*I184+F$6*J184+G$6*K184+H$6*L184+I$6*M184)>(N184),1,0)","v":0}]
[null,280,"[D4-AT] Buers - Westtirol 421 weiss [OPP] [D4]_LTA_corner#20_#9","10T-AT-DE-000061","[AT-AT] Westtirol Transformer WTRHU41","14T-38220-WT041O",0,0,0.98060000000000003,-2.9409999999999999E-2,0.17377999999999999,-8.584E-2,0,4391,{"$f":"IF((G185*ALBE+H185*ALDE+I185*AT+J185*BE+K185*DE+L185*FR+M185*NL)>(N185),1,0)","v":0},null,{"$f":"IF((C$6*G185+D$6*H185+E$6*I185+F$6*J185+G$6*K185+H$6*L185+I$6*M185)>(N185),1,0)","v":0}]
[null,281,"[D2-NL] Diele - Meeden 380 Black [DIR] [NL]_LTA_corner#05_#20","10T-DE-NL-00001V","[D2-NL] Diele - Meeden 380 White","10T-DE-NL-00002T",0,0,0.52592000000000005,0.41504000000000002,0.58618999999999999,0.45556000000000002,0,1381,{"$f":"IF((G186*ALBE+H186*ALDE+I186*AT+J186*BE+K186*DE+L186*FR+M186*NL)>(N186),1,0)","v":0},null,{"$f":"IF((C$6*G186+D$6*H186+E$6*I186+F$6*J186+G$6*K186+H$6*L186+I$6*M186)>(N186),1,0)","v":0}]
[null,282,"[AT-AT] Westtirol Transformer WTRHU41 [OPP]_LTA_corner#17_#0","14T-38220-WT041O","BASECASE","N/A",0,0,0.98980000000000001,2.9960000000000001E-2,0.12012,-7.0430000000000006E-2,0,4590,{"$f":"IF((G187*ALBE+H187*ALDE+I187*AT+J187*BE+K187*DE+L187*FR+M187*NL)>(N187),1,0)","v":0},null,{"$f":"IF((C$6*G187+D$6*H187+E$6*I187+F$6*J187+G$6*K187+H$6*L187+I$6*M187)>(N187),1,0)","v":0}]
[null,283,"[D4-AT] Buers - Westtirol 421 weiss [OPP] [D4]_LTA_corner#17_#20","10T-AT-DE-000061","[AT-AT] Westtirol Transformer WTRHU41","14T-38220-WT041O",0,0,0.98531000000000002,0,0.1474,-8.6249999999999993E-2,0,4483,{"$f":"IF((G188*ALBE+H188*ALDE+I188*AT+J188*BE+K188*DE+L188*FR+M188*NL)>(N188),1,0)","v":0},null,{"$f":"IF((C$6*G188+D$6*H188+E$6*I188+F$6*J188+G$6*K188+H$6*L188+I$6*M188)>(N188),1,0)","v":0}]
[null,284,"[D4-AT] Buers - Westtirol 421 weiss [OPP] [D4]_LTA_corner#17_#11","10T-AT-DE-000061","[AT-AT] Westtirol Transformer WTRHU41","14T-38220-WT041O",0,0,0.99668999999999996,0,8.1129999999999994E-2,-5.7200000000000003E-3,0,4590,{"$f":"IF((G189*ALBE+H189*ALDE+I189*AT+J189*BE+K189*DE+L189*FR+M189*NL)>(N189),1,0)","v":0},null,{"$f":"IF((C$6*G189+D$6*H189+E$6*I189+F$6*J189+G$6*K189+H$6*L189+I$6*M189)>(N189),1,0)","v":0}]
[null,285,"[D4-AT] Buers - Westtirol 421 weiss [OPP] [D4]_LTA_corner#20_#15","10T-AT-DE-000061","[AT-AT] Westtirol Transformer WTRHU41","14T-38220-WT041O",0,0,0.99099000000000004,-2.972E-2,0.12578,-3.5110000000000002E-2,0,4492,{"$f":"IF((G190*ALBE+H190*ALDE+I190*AT+J190*BE+K190*DE+L190*FR+M190*NL)>(N190),1,0)","v":0},null,{"$f":"IF((C$6*G190+D$6*H190+E$6*I190+F$6*J190+G$6*K190+H$6*L190+I$6*M190)>(N190),1,0)","v":0}]
[null,286,"[BE-FR] Achene - Lonny 380.19 [DIR] [BE]_LTA_corner#02_#6","10T-BE-FR-000015","[BE-BE] Avelgem - Horta 380.102","22T20161020---1E",0,0,-0.44416,0.32489000000000001,-0.3211,-0.77076,0,2341,{"$f":"IF((G191*ALBE+H191*ALDE+I191*AT+J191*BE+K191*DE+L191*FR+M191*NL)>(N191),1,0)","v":0},null,{"$f":"IF((C$6*G191+D$6*H191+E$6*I191+F$6*J191+G$6*K191+H$6*L191+I$6*M191)>(N191),1,0)","v":0}]
[null,287,"[BE-BE] PST_ZANDV_2 [N - S]_LTA_corner#13_#3","22T20161020---56","[NL-BE] Rilland - Zandvliet 380 White/30","10T-BE-NL-00004C",0,0,-0.36889,-0.70665,-0.33759,-0.50058999999999998,0,1658,{"$f":"IF((G192*ALBE+H192*ALDE+I192*AT+J192*BE+K192*DE+L192*FR+M192*NL)>(N192),1,0)","v":0},null,{"$f":"IF((C$6*G192+D$6*H192+E$6*I192+F$6*J192+G$6*K192+H$6*L192+I$6*M192)>(N192),1,0)","v":0}]
[null,288,"[AT-AT] Westtirol Transformer WTRHU41 [OPP]_LTA_corner#22_#1","14T-38220-WT041O","BASECASE","N/A",0,0,0.98775999999999997,-7.0849999999999996E-2,0.11987,-7.0290000000000005E-2,0,4556,{"$f":"IF((G193*ALBE+H193*ALDE+I193*AT+J193*BE+K193*DE+L193*FR+M193*NL)>(N193),1,0)","v":0},null,{"$f":"IF((C$6*G193+D$6*H193+E$6*I193+F$6*J193+G$6*K193+H$6*L193+I$6*M193)>(N193),1,0)","v":0}]
[null,289,"[D4-AT] Buers - Westtirol 421 weiss [OPP] [D4]_LTA_corner#20_#2","10T-AT-DE-000061","[AT-AT] Westtirol Transformer WTRHU41","14T-38220-WT041O",0,0,0.94208999999999998,-8.4169999999999995E-2,0,-0.32462999999999997,0,5072,{"$f":"IF((G194*ALBE+H194*ALDE+I194*AT+J194*BE+K194*DE+L194*FR+M194*NL)>(N194),1,0)","v":0},null,{"$f":"IF((C$6*G194+D$6*H194+E$6*I194+F$6*J194+G$6*K194+H$6*L194+I$6*M194)>(N194),1,0)","v":0}]
[null,290,"[D2-NL] Diele - Meeden 380 Black [DIR] [NL]_LTA_corner#01_#4","10T-DE-NL-00001V","[D2-NL] Diele - Meeden 380 White","10T-DE-NL-00002T",0,0,0.52498999999999996,0.43210999999999999,0.59240999999999999,0.43210999999999999,0,1394,{"$f":"IF((G195*ALBE+H195*ALDE+I195*AT+J195*BE+K195*DE+L195*FR+M195*NL)>(N195),1,0)","v":0},null,{"$f":"IF((C$6*G195+D$6*H195+E$6*I195+F$6*J195+G$6*K195+H$6*L195+I$6*M195)>(N195),1,0)","v":0}]
[null,291,"[D4-AT] Buers - Westtirol 421 weiss [OPP] [D4]_LTA_corner#17_#23","10T-AT-DE-000061","[AT-AT] Westtirol Transformer WTRHU41","14T-38220-WT041O",0,0,0.99748999999999999,0,6.6140000000000004E-2,-2.528E-2,0,4666,{"$f":"IF((G196*ALBE+H196*ALDE+I196*AT+J196*BE+K196*DE+L196*FR+M196*NL)>(N196),1,0)","v":0},null,{"$f":"IF((C$6*G196+D$6*H196+E$6*I196+F$6*J196+G$6*K196+H$6*L196+I$6*M196)>(N196),1,0)","v":0}]
[null,292,"[BE-BE] PST_ZANDV_2 [N - S]_LTA_corner#09_#8","22T20161020---56","[NL-BE] Rilland - Zandvliet 380 White/30","10T-BE-NL-00004C",0,0,-0.41760000000000003,-0.59433000000000002,-0.34519,-0.59433000000000002,0,1518,{"$f":"IF((G197*ALBE+H197*ALDE+I197*AT+J197*BE+K197*DE+L197*FR+M197*NL)>(N197),1,0)","v":0},null,{"$f":"IF((C$6*G197+D$6*H197+E$6*I197+F$6*J197+G$6*K197+H$6*L197+I$6*M197)>(N197),1,0)","v":0}]
[null,293,"[D2-NL] Diele - Meeden 380 Black [DIR] [D2]_LTA_corner#05_#1","10T-DE-NL-00001V","[D2-NL] Diele - Meeden 380 White ","10T-DE-NL-00002T",0,0,0.60480999999999996,0.29977999999999999,0.60480999999999996,0.42254999999999998,0,1231,{"$f":"IF((G198*ALBE+H198*ALDE+I198*AT+J198*BE+K198*DE+L198*FR+M198*NL)>(N198),1,0)","v":0},null,{"$f":"IF((C$6*G198+D$6*H198+E$6*I198+F$6*J198+G$6*K198+H$6*L198+I$6*M198)>(N198),1,0)","v":0}]
[null,294,"[D7-FR] Ensdorf - Vigy 2S [OPP] [D7]","10T-DE-FR-000068","[D7-FR] Ensdorf - Vigy 1N","10T-DE-FR-00005A",6.7269999999999996E-2,-5.9159999999999997E-2,1.975E-2,8.2869999999999999E-2,-1.244E-2,0.18440000000000001,1.5679999999999999E-2,773,{"$f":"IF((G199*ALBE+H199*ALDE+I199*AT+J199*BE+K199*DE+L199*FR+M199*NL)>(N199),1,0)","v":0},null,{"$f":"IF((C$6*G199+D$6*H199+E$6*I199+F$6*J199+G$6*K199+H$6*L199+I$6*M199)>(N199),1,0)","v":0}]
[null,295,"[AT-AT] Westtirol Transformer WTRHU41 [OPP]_LTA_corner#20_#23","14T-38220-WT041O","BASECASE","N/A",0,0,0.98775000000000002,-7.0569999999999994E-2,0.11994,-7.0569999999999994E-2,0,4555,{"$f":"IF((G200*ALBE+H200*ALDE+I200*AT+J200*BE+K200*DE+L200*FR+M200*NL)>(N200),1,0)","v":0},null,{"$f":"IF((C$6*G200+D$6*H200+E$6*I200+F$6*J200+G$6*K200+H$6*L200+I$6*M200)>(N200),1,0)","v":0}]
[null,296,"[BE-BE] PST_ZANDV_2 [N - S]_LTA_corner#09_#3","22T20161020---56","[NL-BE] Rilland - Zandvliet 380 White/30","10T-BE-NL-00004C",0,0,-0.41302,-0.59650000000000003,-0.34320000000000001,-0.59650000000000003,0,1509,{"$f":"IF((G201*ALBE+H201*ALDE+I201*AT+J201*BE+K201*DE+L201*FR+M201*NL)>(N201),1,0)","v":0},null,{"$f":"IF((C$6*G201+D$6*H201+E$6*I201+F$6*J201+G$6*K201+H$6*L201+I$6*M201)>(N201),1,0)","v":0}]
[null,297,"[BE-BE] PST_VANYK_2 [S - N]","22T-BE-PST--002U","[NL-BE] Maasbracht - Van Eyck 380 Black/27","10T-BE-NL-00002G",0.48592999999999997,-4.9079999999999999E-2,1.2330000000000001E-2,0.27166000000000001,-1.6559999999999998E-2,9.5579999999999998E-2,-1.3679999999999999E-2,1033,{"$f":"IF((G202*ALBE+H202*ALDE+I202*AT+J202*BE+K202*DE+L202*FR+M202*NL)>(N202),1,0)","v":0},null,{"$f":"IF((C$6*G202+D$6*H202+E$6*I202+F$6*J202+G$6*K202+H$6*L202+I$6*M202)>(N202),1,0)","v":0}]
[null,298,"[D2-NL] Diele - Meeden 380 Black [DIR] [D2]_LTA_corner#05_#13","10T-DE-NL-00001V","[D2-NL] Diele - Meeden 380 White ","10T-DE-NL-00002T",0,0,0.60206999999999999,0.30253000000000002,0.60206999999999999,0.42836000000000002,0,1226,{"$f":"IF((G203*ALBE+H203*ALDE+I203*AT+J203*BE+K203*DE+L203*FR+M203*NL)>(N203),1,0)","v":0},null,{"$f":"IF((C$6*G203+D$6*H203+E$6*I203+F$6*J203+G$6*K203+H$6*L203+I$6*M203)>(N203),1,0)","v":0}]
[null,299,"[D2-NL] Diele - Meeden 380 Black [DIR] [NL]_LTA_corner#01_#5","10T-DE-NL-00001V","[D2-NL] Diele - Meeden 380 White","10T-DE-NL-00002T",0,0,0.52203999999999995,0.43613000000000002,0.58911000000000002,0.43613000000000002,0,1384,{"$f":"IF((G204*ALBE+H204*ALDE+I204*AT+J204*BE+K204*DE+L204*FR+M204*NL)>(N204),1,0)","v":0},null,{"$f":"IF((C$6*G204+D$6*H204+E$6*I204+F$6*J204+G$6*K204+H$6*L204+I$6*M204)>(N204),1,0)","v":0}]
[null,300,"[D4-AT] Buers - Westtirol 421 weiss [OPP] [D4]_LTA_corner#20_#16","10T-AT-DE-000061","[AT-AT] Westtirol Transformer WTRHU41","14T-38220-WT041O",0,0,0.97424999999999995,-5.357E-2,0.14312,-0.16577,0,4576,{"$f":"IF((G205*ALBE+H205*ALDE+I205*AT+J205*BE+K205*DE+L205*FR+M205*NL)>(N205),1,0)","v":0},null,{"$f":"IF((C$6*G205+D$6*H205+E$6*I205+F$6*J205+G$6*K205+H$6*L205+I$6*M205)>(N205),1,0)","v":0}]
[null,301,"[AT-AT] Westtirol Transformer WTRHU41 [OPP]_LTA_corner#17_#2","14T-38220-WT041O","BASECASE","N/A",0,0,0.99360999999999999,0,9.8900000000000002E-2,-5.4440000000000002E-2,0,4604,{"$f":"IF((G206*ALBE+H206*ALDE+I206*AT+J206*BE+K206*DE+L206*FR+M206*NL)>(N206),1,0)","v":0},null,{"$f":"IF((C$6*G206+D$6*H206+E$6*I206+F$6*J206+G$6*K206+H$6*L206+I$6*M206)>(N206),1,0)","v":0}]
[null,302,"[D2-NL] Diele - Meeden 380 Black [DIR] [D2]_LTA_corner#05_#15","10T-DE-NL-00001V","[D2-NL] Diele - Meeden 380 White ","10T-DE-NL-00002T",0,0,0.60197000000000001,0.30487999999999998,0.60197000000000001,0.42698000000000003,0,1223,{"$f":"IF((G207*ALBE+H207*ALDE+I207*AT+J207*BE+K207*DE+L207*FR+M207*NL)>(N207),1,0)","v":0},null,{"$f":"IF((C$6*G207+D$6*H207+E$6*I207+F$6*J207+G$6*K207+H$6*L207+I$6*M207)>(N207),1,0)","v":0}]
[null,303,"[D4-AT] Buers - Westtirol 421 weiss [OPP] [D4]_LTA_corner#17_#9","10T-AT-DE-000061","[AT-AT] Westtirol Transformer WTRHU41","14T-38220-WT041O",0,0,0.99614999999999998,0,8.7480000000000002E-2,-5.9100000000000003E-3,0,4570,{"$f":"IF((G208*ALBE+H208*ALDE+I208*AT+J208*BE+K208*DE+L208*FR+M208*NL)>(N208),1,0)","v":0},null,{"$f":"IF((C$6*G208+D$6*H208+E$6*I208+F$6*J208+G$6*K208+H$6*L208+I$6*M208)>(N208),1,0)","v":0}]
[null,304,"[D2-NL] Diele - Meeden 380 Black [DIR] [NL]_LTA_corner#01_#9","10T-DE-NL-00001V","[D2-NL] Diele - Meeden 380 White","10T-DE-NL-00002T",0,0,0.52354000000000001,0.40464,0.63122,0.40464,0,1679,{"$f":"IF((G209*ALBE+H209*ALDE+I209*AT+J209*BE+K209*DE+L209*FR+M209*NL)>(N209),1,0)","v":0},null,{"$f":"IF((C$6*G209+D$6*H209+E$6*I209+F$6*J209+G$6*K209+H$6*L209+I$6*M209)>(N209),1,0)","v":0}]
[null,305,"[BE-BE] PST_ZANDV_2 [N - S]_LTA_corner#13_#5","22T20161020---56","[NL-BE] Rilland - Zandvliet 380 White/30","10T-BE-NL-00004C",0,0,-0.30918000000000001,-0.79810000000000003,-0.25779999999999997,-0.44830999999999999,0,1986,{"$f":"IF((G210*ALBE+H210*ALDE+I210*AT+J210*BE+K210*DE+L210*FR+M210*NL)>(N210),1,0)","v":0},null,{"$f":"IF((C$6*G210+D$6*H210+E$6*I210+F$6*J210+G$6*K210+H$6*L210+I$6*M210)>(N210),1,0)","v":0}]
["hour 3",306,"[D2-NL] Diele - Meeden 380 Black [DIR] [NL]_LTA_corner#05_#11","10T-DE-NL-00001V","[D2-NL] Diele - Meeden 380 White","10T-DE-NL-00002T",0,0,0.52439000000000002,0.43065999999999999,0.59228999999999998,0.43445,0,1399,{"$f":"IF((G211*ALBE+H211*ALDE+I211*AT+J211*BE+K211*DE+L211*FR+M211*NL)>(N211),1,0)","v":0},null,{"$f":"IF((C$6*G211+D$6*H211+E$6*I211+F$6*J211+G$6*K211+H$6*L211+I$6*M211)>(N211),1,0)","v":0}]
[null,307,"ALDE_import","N/A","BASECASE","N/A",0,-1,0,0,0,0,0,0,{"$f":"IF((G212*ALBE+H212*ALDE+I212*AT+J212*BE+K212*DE+L212*FR+M212*NL)>(N212),1,0)","v":0},null,{"$f":"IF((C$6*G212+D$6*H212+E$6*I212+F$6*J212+G$6*K212+H$6*L212+I$6*M212)>(N212),1,0)","v":0}]
[null,308,"[D4-AT] Buers - Westtirol 421 weiss [OPP] [D4]_LTA_corner#17_#20","10T-AT-DE-000061","[AT-AT] Westtirol Transformer WTRHU41","14T-38220-WT041O",0,0,0.98690999999999995,0,0.13619000000000001,-8.6410000000000001E-2,0,4521,{"$f":"IF((G213*ALBE+H213*ALDE+I213*AT+J213*BE+K213*DE+L213*FR+M213*NL)>(N213),1,0)","v":0},null,{"$f":"IF((C$6*G213+D$6*H213+E$6*I213+F$6*J213+G$6*K213+H$6*L213+I$6*M213)>(N213),1,0)","v":0}]
[null,309,"[BE-FR] Achene - Lonny 380.19 [DIR] [BE]_LTA_corner#02_#14","10T-BE-FR-000015","[BE-BE] Avelgem - Horta 380.102","22T20161020---1E",0,0,-0.44329000000000002,0.34009,-0.32249,-0.76409000000000005,0,2338,{"$f":"IF((G214*ALBE+H214*ALDE+I214*AT+J214*BE+K214*DE+L214*FR+M214*NL)>(N214),1,0)","v":0},null,{"$f":"IF((C$6*G214+D$6*H214+E$6*I214+F$6*J214+G$6*K214+H$6*L214+I$6*M214)>(N214),1,0)","v":0}]
[null,310,"[D2-NL] Diele - Meeden 380 Black [DIR] [D2]_LTA_corner#05_#3","10T-DE-NL-00001V","[D2-NL] Diele - Meeden 380 White ","10T-DE-NL-00002T",0,0,0.60072999999999999,0.31058000000000002,0.60072999999999999,0.42635000000000001,0,1213,{"$f":"IF((G215*ALBE+H215*ALDE+I215*AT+J215*BE+K215*DE+L215*FR+M215*NL)>(N215),1,0)","v":0},null,{"$f":"IF((C$6*G215+D$6*H215+E$6*I215+F$6*J215+G$6*K215+H$6*L215+I$6*M215)>(N215),1,0)","v":0}]
[null,311,"[D2-NL] Diele - Meeden 380 Black [DIR] [D2]_LTA_corner#01_#6","10T-DE-NL-00001V","[D2-NL] Diele - Meeden 380 White ","10T-DE-NL-00002T",0,0,-0.89644000000000001,0.17438000000000001,0.36820999999999998,0.17438000000000001,0,6796,{"$f":"IF((G216*ALBE+H216*ALDE+I216*AT+J216*BE+K216*DE+L216*FR+M216*NL)>(N216),1,0)","v":0},null,{"$f":"IF((C$6*G216+D$6*H216+E$6*I216+F$6*J216+G$6*K216+H$6*L216+I$6*M216)>(N216),1,0)","v":0}]
[null,312,"[BE-FR] Achene - Lonny 380.19 [DIR] [BE]_LTA_corner#02_#2","10T-BE-FR-000015","[BE-BE] Avelgem - Horta 380.102","22T20161020---1E",0,0,-0.44303999999999999,0.34431,-0.32167000000000001,-0.76268999999999998,0,2344,{"$f":"IF((G217*ALBE+H217*ALDE+I217*AT+J217*BE+K217*DE+L217*FR+M217*NL)>(N217),1,0)","v":0},null,{"$f":"IF((C$6*G217+D$6*H217+E$6*I217+F$6*J217+G$6*K217+H$6*L217+I$6*M217)>(N217),1,0)","v":0}]
[null,313,"[AT-AT] Westtirol Transformer WTRHU41 [OPP]_LTA_corner#17_#0","14T-38220-WT041O","BASECASE","N/A",0,0,0.99011000000000005,1.866E-2,0.12001000000000001,-7.0180000000000006E-2,0,4578,{"$f":"IF((G218*ALBE+H218*ALDE+I218*AT+J218*BE+K218*DE+L218*FR+M218*NL)>(N218),1,0)","v":0},null,{"$f":"IF((C$6*G218+D$6*H218+E$6*I218+F$6*J218+G$6*K218+H$6*L218+I$6*M218)>(N218),1,0)","v":0}]
[null,314,"[BE-BE] PST_ZANDV_2 [N - S]_LTA_corner#13_#32","22T20161020---56","[NL-BE] Rilland - Zandvliet 380 White/30","10T-BE-NL-00004C",0,0,-0.32900000000000001,-0.76193999999999995,-0.26983000000000001,-0.48825000000000002,0,1912,{"$f":"IF((G219*ALBE+H219*ALDE+I219*AT+J219*BE+K219*DE+L219*FR+M219*NL)>(N219),1,0)","v":0},null,{"$f":"IF((C$6*G219+D$6*H219+E$6*I219+F$6*J219+G$6*K219+H$6*L219+I$6*M219)>(N219),1,0)","v":0}]
[null,315,"[D4-AT] Buers - Westtirol 421 weiss [OPP] [D4]_LTA_corner#17_#4","10T-AT-DE-000061","[AT-AT] Westtirol Transformer WTRHU41","14T-38220-WT041O",0,0,0.99611000000000005,4.2999999999999999E-4,8.6709999999999995E-2,-1.558E-2,0,4588,{"$f":"IF((G220*ALBE+H220*ALDE+I220*AT+J220*BE+K220*DE+L220*FR+M220*NL)>(N220),1,0)","v":0},null,{"$f":"IF((C$6*G220+D$6*H220+E$6*I220+F$6*J220+G$6*K220+H$6*L220+I$6*M220)>(N220),1,0)","v":0}]
[null,316,"[D2-NL] Diele - Meeden 380 Black [DIR] [D2]_LTA_corner#05_#2","10T-DE-NL-00001V","[D2-NL] Diele - Meeden 380 White ","10T-DE-NL-00002T",0,0,0.56193000000000004,0.31280999999999998,0.64892000000000005,0.40655000000000002,0,1717,{"$f":"IF((G221*ALBE+H221*ALDE+I221*AT+J221*BE+K221*DE+L221*FR+M221*NL)>(N221),1,0)","v":0},null,{"$f":"IF((C$6*G221+D$6*H221+E$6*I221+F$6*J221+G$6*K221+H$6*L221+I$6*M221)>(N221),1,0)","v":0}]
[null,317,"[D4-AT] Buers - Westtirol 421 weiss [OPP] [D4]_LTA_corner#20_#3","10T-AT-DE-000061","[AT-AT] Westtirol Transformer WTRHU41","14T-38220-WT041O",0,0,0.98579000000000006,-7.17E-2,0.12504000000000001,-8.6309999999999998E-2,0,4557,{"$f":"IF((G222*ALBE+H222*ALDE+I222*AT+J222*BE+K222*DE+L222*FR+M222*NL)>(N222),1,0)","v":0},null,{"$f":"IF((C$6*G222+D$6*H222+E$6*I222+F$6*J222+G$6*K222+H$6*L222+I$6*M222)>(N222),1,0)","v":0}]
[null,318,"[D2-NL] Diele - Meeden 380 Black [DIR] [D2]_LTA_corner#05_#14","10T-DE-NL-00001V","[D2-NL] Diele - Meeden 380 White ","10T-DE-NL-00002T",0,0,1.848E-2,0.38627,0.76371,0.51692000000000005,0,5126,{"$f":"IF((G223*ALBE+H223*ALDE+I223*AT+J223*BE+K223*DE+L223*FR+M223*NL)>(N223),1,0)","v":0},null,{"$f":"IF((C$6*G223+D$6*H223+E$6*I223+F$6*J223+G$6*K223+H$6*L223+I$6*M223)>(N223),1,0)","v":0}]
[null,319,"[D4-AT] Buers - Westtirol 421 weiss [OPP] [D4]_LTA_corner#20_#18","10T-AT-DE-000061","[AT-AT] Westtirol Transformer WTRHU41","14T-38220-WT041O",0,0,0.96245000000000003,-6.9760000000000003E-2,3.4549999999999997E-2,-0.26005,0,4970,{"$f":"IF((G224*ALBE+H224*ALDE+I224*AT+J224*BE+K224*DE+L224*FR+M224*NL)>(N224),1,0)","v":0},null,{"$f":"IF((C$6*G224+D$6*H224+E$6*I224+F$6*J224+G$6*K224+H$6*L224+I$6*M224)>(N224),1,0)","v":0}]
[null,320,"[BE-BE] PST_ZANDV_2 [N - S]_LTA_corner#13_#9","22T20161020---56","[NL-BE] Rilland - Zandvliet 380 White/30","10T-BE-NL-00004C",0,0,-0.32163999999999998,-0.80364000000000002,-0.28759000000000001,-0.40988000000000002,0,1954,{"$f":"IF((G225*ALBE+H225*ALDE+I225*AT+J225*BE+K225*DE+L225*FR+M225*NL)>(N225),1,0)","v":0},null,{"$f":"IF((C$6*G225+D$6*H225+E$6*I225+F$6*J225+G$6*K225+H$6*L225+I$6*M225)>(N225),1,0)","v":0}]
[null,321,"ALBE_import","N/A","BASECASE","N/A",-1,0,0,0,0,0,0,0,{"$f":"IF((G226*ALBE+H226*ALDE+I226*AT+J226*BE+K226*DE+L226*FR+M226*NL)>(N226),1,0)","v":0},null,{"$f":"IF((C$6*G226+D$6*H226+E$6*I226+F$6*J226+G$6*K226+H$6*L226+I$6*M226)>(N226),1,0)","v":0}]
[null,322,"[D2-NL] Diele - Meeden 380 Black [DIR] [D2]_LTA_corner#05_#8","10T-DE-NL-00001V","[D2-NL] Diele - Meeden 380 White ","10T-DE-NL-00002T",0,0,0.60206000000000004,0.30653999999999998,0.60206000000000004,0.42553000000000002,0,1220,{"$f":"IF((G227*ALBE+H227*ALDE+I227*AT+J227*BE+K227*DE+L227*FR+M227*NL)>(N227),1,0)","v":0},null,{"$f":"IF((C$6*G227+D$6*H227+E$6*I227+F$6*J227+G$6*K227+H$6*L227+I$6*M227)>(N227),1,0)","v":0}]
[null,323,"[D2-NL] Diele - Meeden 380 Black [DIR] [D2]_LTA_corner#05_#7","10T-DE-NL-00001V","[D2-NL] Diele - Meeden 380 White ","10T-DE-NL-00002T",0,0,0.60168999999999995,0.30593999999999999,0.60168999999999995,0.42703000000000002,0,1221,{"$f":"IF((G228*ALBE+H228*ALDE+I228*AT+J228*BE+K228*DE+L228*FR+M228*NL)>(N228),1,0)","v":0},null,{"$f":"IF((C$6*G228+D$6*H228+E$6*I228+F$6*J228+G$6*K228+H$6*L228+I$6*M228)>(N228),1,0)","v":0}]
[null,324,"[BE-BE] PST_ZANDV_2 [N - S]_LTA_corner#09_#6","22T20161020---56","[NL-BE] Rilland - Zandvliet 380 White/30","10T-BE-NL-00004C",0,0,-0.41741,-0.59330000000000005,-0.34893999999999997,-0.59330000000000005,0,1499,{"$f":"IF((G229*ALBE+H229*ALDE+I229*AT+J229*BE+K229*DE+L229*FR+M229*NL)>(N229),1,0)","v":0},null,{"$f":"IF((C$6*G229+D$6*H229+E$6*I229+F$6*J229+G$6*K229+H$6*L229+I$6*M229)>(N229),1,0)","v":0}]
[null,325,"[D2-NL] Diele - Meeden 380 Black [DIR] [NL]_LTA_corner#05_#42","10T-DE-NL-00001V","[D2-NL] Diele - Meeden 380 White","10T-DE-NL-00002T",0,0,0.57316999999999996,0.25168000000000001,0.63163000000000002,0.45735999999999999,0,1645,{"$f":"IF((G230*ALBE+H230*ALDE+I230*AT+J230*BE+K230*DE+L230*FR+M230*NL)>(N230),1,0)","v":0},null,{"$f":"IF((C$6*G230+D$6*H230+E$6*I230+F$6*J230+G$6*K230+H$6*L230+I$6*M230)>(N230),1,0)","v":0}]
[null,326,"[D4-AT] Buers - Westtirol 421 weiss [OPP] [D4]_LTA_corner#17_#8","10T-AT-DE-000061","[AT-AT] Westtirol Transformer WTRHU41","14T-38220-WT041O",0,0,0.99653999999999998,0,7.9960000000000003E-2,-2.2790000000000001E-2,0,4620,{"$f":"IF((G231*ALBE+H231*ALDE+I231*AT+J231*BE+K231*DE+L231*FR+M231*NL)>(N231),1,0)","v":0},null,{"$f":"IF((C$6*G231+D$6*H231+E$6*I231+F$6*J231+G$6*K231+H$6*L231+I$6*M231)>(N231),1,0)","v":0}]
[null,327,"[BE-BE] PST_ZANDV_2 [N - S]_LTA_corner#09_#1","22T20161020---56","[NL-BE] Rilland - Zandvliet 380 White/30","10T-BE-NL-00004C",0,0,-0.41844999999999999,-0.59260999999999997,-0.35004000000000002,-0.59260999999999997,0,1498,{"$f":"IF((G232*ALBE+H232*ALDE+I232*AT+J232*BE+K232*DE+L232*FR+M232*NL)>(N232),1,0)","v":0},null,{"$f":"IF((C$6*G232+D$6*H232+E$6*I232+F$6*J232+G$6*K232+H$6*L232+I$6*M232)>(N232),1,0)","v":0}]
[null,328,"[D4-AT] Buers - Westtirol 421 weiss [OPP] [D4]_LTA_corner#17_#22","10T-AT-DE-000061","[AT-AT] Westtirol Transformer WTRHU41","14T-38220-WT041O",0,0,0.98680000000000001,0,0.12689,-0.10063,0,4569,{"$f":"IF((G233*ALBE+H233*ALDE+I233*AT+J233*BE+K233*DE+L233*FR+M233*NL)>(N233),1,0)","v":0},null,{"$f":"IF((C$6*G233+D$6*H233+E$6*I233+F$6*J233+G$6*K233+H$6*L233+I$6*M233)>(N233),1,0)","v":0}]
[null,329,"[D2-NL] Diele - Meeden 380 Black [DIR] [NL]_LTA_corner#05_#9","10T-DE-NL-00001V","[D2-NL] Diele - Meeden 380 White","10T-DE-NL-00002T",0,0,0.55910000000000004,0.32512000000000002,0.63592000000000004,0.42108000000000001,0,1637,{"$f":"IF((G234*ALBE+H234*ALDE+I234*AT+J234*BE+K234*DE+L234*FR+M234*NL)>(N234),1,0)","v":0},null,{"$f":"IF((C$6*G234+D$6*H234+E$6*I234+F$6*J234+G$6*K234+H$6*L234+I$6*M234)>(N234),1,0)","v":0}]
[null,330,"[D4-AT] Buers - Westtirol 421 weiss [OPP] [D4]_LTA_corner#20_#16","10T-AT-DE-000061","[AT-AT] Westtirol Transformer WTRHU41","14T-38220-WT041O",0,0,0.96767999999999998,-6.8769999999999998E-2,6.6900000000000001E-2,-0.23322999999999999,0,4864,{"$f":"IF((G235*ALBE+H235*ALDE+I235*AT+J235*BE+K235*DE+L235*FR+M235*NL)>(N235),1,0)","v":0},null,{"$f":"IF((C$6*G235+D$6*H235+E$6*I235+F$6*J235+G$6*K235+H$6*L235+I$6*M235)>(N235),1,0)","v":0}]
[null,331,"[AT-AT] Westtirol Transformer WTRHU41 [OPP]_LTA_corner#20_#4","14T-38220-WT041O","BASECASE","N/A",0,0,0.99411000000000005,-1.6289999999999999E-2,9.4270000000000007E-2,-5.0889999999999998E-2,0,4616,{"$f":"IF((G236*ALBE+H236*ALDE+I236*AT+J236*BE+K236*DE+L236*FR+M236*NL)>(N236),1,0)","v":0},null,{"$f":"IF((C$6*G236+D$6*H236+E$6*I236+F$6*J236+G$6*K236+H$6*L236+I$6*M236)>(N236),1,0)","v":0}]
[null,332,"[BE-FR] Achene - Lonny 380.19 [DIR] [BE]_LTA_corner#02_#18","10T-BE-FR-000015","[BE-BE] Avelgem - Horta 380.102","22T20161020---1E",0,0,-0.44821,0.31978000000000001,-0.32784999999999997,-0.76770000000000005,0,2319,{"$f":"IF((G237*ALBE+H237*ALDE+I237*AT+J237*BE+K237*DE+L237*FR+M237*NL)>(N237),1,0)","v":0},null,{"$f":"IF((C$6*G237+D$6*H237+E$6*I237+F$6*J237+G$6*K237+H$6*L237+I$6*M237)>(N237),1,0)","v":0}]
[null,333,"[D2-NL] Diele - Meeden 380 Black [DIR] [NL]_LTA_corner#05_#34","10T-DE-NL-00001V","[D2-NL] Diele - Meeden 380 White","10T-DE-NL-00002T",0,0,0.57050000000000001,0.25881999999999999,0.62873999999999997,0.46067999999999998,0,1632,{"$f":"IF((G238*ALBE+H238*ALDE+I238*AT+J238*BE+K238*DE+L238*FR+M238*NL)>(N238),1,0)","v":0},null,{"$f":"IF((C$6*G238+D$6*H238+E$6*I238+F$6*J238+G$6*K238+H$6*L238+I$6*M238)>(N238),1,0)","v":0}]
[null,334,"ALBE_export","N/A","BASECASE","N/A",1,0,0,0,0,0,0,0,{"$f":"IF((G239*ALBE+H239*ALDE+I239*AT+J239*BE+K239*DE+L239*FR+M239*NL)>(N239),1,0)","v":0},null,{"$f":"IF((C$6*G239+D$6*H239+E$6*I239+F$6*J239+G$6*K239+H$6*L239+I$6*M239)>(N239),1,0)","v":0}]
[null,335,"[BE-BE] PST_VANYK_2 [S - N]","22T-BE-PST--002U","[BE-FR] Achene - Lonny 380.19","10T-BE-FR-000015",0.57308000000000003,-2.4340000000000001E-2,5.3400000000000001E-3,0.32016,-6.9899999999999997E-3,4.6120000000000001E-2,2.1069999999999998E-2,995,{"$f":"IF((G240*ALBE+H240*ALDE+I240*AT+J240*BE+K240*DE+L240*FR+M240*NL)>(N240),1,0)","v":0},null,{"$f":"IF((C$6*G240+D$6*H240+E$6*I240+F$6*J240+G$6*K240+H$6*L240+I$6*M240)>(N240),1,0)","v":0}]
[null,336,"[D2-D2] Altheim - Sittling 220 [OPP]","11TD2L000000004J","[D2-AT] Pleinting - St. Peter 258","10T-AT-DE-000037",3.4680000000000002E-2,3.6450000000000003E-2,-2.5690000000000001E-2,3.4349999999999999E-2,3.4279999999999998E-2,3.0530000000000002E-2,3.5650000000000001E-2,308,{"$f":"IF((G241*ALBE+H241*ALDE+I241*AT+J241*BE+K241*DE+L241*FR+M241*NL)>(N241),1,0)","v":0},null,{"$f":"IF((C$6*G241+D$6*H241+E$6*I241+F$6*J241+G$6*K241+H$6*L241+I$6*M241)>(N241),1,0)","v":0}]
[null,337,"[D2-NL] Diele - Meeden 380 Black [DIR] [D2]_LTA_corner#21_#3","10T-DE-NL-00001V","[D2-NL] Diele - Meeden 380 White ","10T-DE-NL-00002T",0,0,0.68362000000000001,0.28154000000000001,0.54527999999999999,0.39506000000000002,0,1774,{"$f":"IF((G242*ALBE+H242*ALDE+I242*AT+J242*BE+K242*DE+L242*FR+M242*NL)>(N242),1,0)","v":0},null,{"$f":"IF((C$6*G242+D$6*H242+E$6*I242+F$6*J242+G$6*K242+H$6*L242+I$6*M242)>(N242),1,0)","v":0}]
[null,338,"[BE-BE] PST_ZANDV_2 [N - S]_LTA_corner#09_#3","22T20161020---56","[NL-BE] Rilland - Zandvliet 380 White/30","10T-BE-NL-00004C",0,0,-0.41702,-0.59275999999999995,-0.35124,-0.59275999999999995,0,1486,{"$f":"IF((G243*ALBE+H243*ALDE+I243*AT+J243*BE+K243*DE+L243*FR+M243*NL)>(N243),1,0)","v":0},null,{"$f":"IF((C$6*G243+D$6*H243+E$6*I243+F$6*J243+G$6*K243+H$6*L243+I$6*M243)>(N243),1,0)","v":0}]
[null,339,"[D4-AT] Buers - Westtirol 421 weiss [OPP] [D4]_LTA_corner#20_#33","10T-AT-DE-000061","[AT-AT] Westtirol Transformer WTRHU41","14T-38220-WT041O",0,0,0.98246,-2.9569999999999999E-2,0.16281000000000001,-8.6019999999999999E-2,0,4431,{"$f":"IF((G244*ALBE+H244*ALDE+I244*AT+J244*BE+K244*DE+L244*FR+M244*NL)>(N244),1,0)","v":0},null,{"$f":"IF((C$6*G244+D$6*H244+E$6*I244+F$6*J244+G$6*K244+H$6*L244+I$6*M244)>(N244),1,0)","v":0}]
[null,340,"[D4-AT] Buers - Westtirol 421 weiss [OPP] [D4]_LTA_corner#20_#45","10T-AT-DE-000061","[AT-AT] Westtirol Transformer WTRHU41","14T-38220-WT041O",0,0,0.98016999999999999,-4.632E-2,0.14607999999999999,-0.12562000000000001,0,4531,{"$f":"IF((G245*ALBE+H245*ALDE+I245*AT+J245*BE+K245*DE+L245*FR+M245*NL)>(N245),1,0)","v":0},null,{"$f":"IF((C$6*G245+D$6*H245+E$6*I245+F$6*J245+G$6*K245+H$6*L245+I$6*M245)>(N245),1,0)","v":0}]
[null,341,"[D4-AT] Buers - Westtirol 421 weiss [OPP] [D4]_LTA_corner#20_#36","10T-AT-DE-000061","[AT-AT] Westtirol Transformer WTRHU41","14T-38220-WT041O",0,0,0.97775999999999996,-4.863E-2,0.13938999999999999,-0.14896999999999999,0,4576,{"$f":"IF((G246*ALBE+H246*ALDE+I246*AT+J246*BE+K246*DE+L246*FR+M246*NL)>(N246),1,0)","v":0},null,{"$f":"IF((C$6*G246+D$6*H246+E$6*I246+F$6*J246+G$6*K246+H$6*L246+I$6*M246)>(N246),1,0)","v":0}]
[null,342,"[D2-NL] Diele - Meeden 380 Black [DIR] [D2]_LTA_corner#05_#0","10T-DE-NL-00001V","[D2-NL] Diele - Meeden 380 White ","10T-DE-NL-00002T",0,0,0.60043999999999997,0.30940000000000001,0.60043999999999997,0.42802000000000001,0,1215,{"$f":"IF((G247*ALBE+H247*ALDE+I247*AT+J247*BE+K247*DE+L247*FR+M247*NL)>(N247),1,0)","v":0},null,{"$f":"IF((C$6*G247+D$6*H247+E$6*I247+F$6*J247+G$6*K247+H$6*L247+I$6*M247)>(N247),1,0)","v":0}]
[null,343,"[D7-FR] Ensdorf - Vigy 2S [OPP] [D7]","10T-DE-FR-000068","[D7-D7] Ensdorf - Uchtelfangen Taubental N","11T0-0000-0604-N",6.7269999999999996E-2,-5.9159999999999997E-2,1.975E-2,8.2869999999999999E-2,-1.244E-2,0.18493999999999999,1.5810000000000001E-2,712,{"$f":"IF((G248*ALBE+H248*ALDE+I248*AT+J248*BE+K248*DE+L248*FR+M248*NL)>(N248),1,0)","v":0},null,{"$f":"IF((C$6*G248+D$6*H248+E$6*I248+F$6*J248+G$6*K248+H$6*L248+I$6*M248)>(N248),1,0)","v":0}]
[null,344,"[D2-NL] Diele - Meeden 380 Black [DIR] [NL]_LTA_corner#05_#29","10T-DE-NL-00001V","[D2-NL] Diele - Meeden 380 White","10T-DE-NL-00002T",0,0,0.53596999999999995,0.38533000000000001,0.59443999999999997,0.45923999999999998,0,1424,{"$f":"IF((G249*ALBE+H249*ALDE+I249*AT+J249*BE+K249*DE+L249*FR+M249*NL)>(N249),1,0)","v":0},null,{"$f":"IF((C$6*G249+D$6*H249+E$6*I249+F$6*J249+G$6*K249+H$6*L249+I$6*M249)>(N249),1,0)","v":0}]
[null,345,"[D4-AT] Buers - Westtirol 421 weiss [OPP] [D4]_LTA_corner#17_#18","10T-AT-DE-000061","[AT-AT] Westtirol Transformer WTRHU41","14T-38220-WT041O",0,0,0.98728000000000005,0,0.11229,-0.11253000000000001,0,4630,{"$f":"IF((G250*ALBE+H250*ALDE+I250*AT+J250*BE+K250*DE+L250*FR+M250*NL)>(N250),1,0)","v":0},null,{"$f":"IF((C$6*G250+D$6*H250+E$6*I250+F$6*J250+G$6*K250+H$6*L250+I$6*M250)>(N250),1,0)","v":0}]
[null,346,"[D2-NL] Diele - Meeden 380 Black [DIR] [NL]_LTA_corner#05_#19","10T-DE-NL-00001V","[D2-NL] Diele - Meeden 380 White","10T-DE-NL-00002T",0,0,0.52832999999999997,0.40833999999999998,0.58882000000000001,0.45543,0,1395,{"$f":"IF((G251*ALBE+H251*ALDE+I251*AT+J251*BE+K251*DE+L251*FR+M251*NL)>(N251),1,0)","v":0},null,{"$f":"IF((C$6*G251+D$6*H251+E$6*I251+F$6*J251+G$6*K251+H$6*L251+I$6*M251)>(N251),1,0)","v":0}]
[null,347,"[BE-BE] PST_ZANDV_2 [N - S]_LTA_corner#13_#30","22T20161020---56","[NL-BE] Rilland - Zandvliet 380 White/30","10T-BE-NL-00004C",0,0,-0.37486999999999998,-0.71497999999999995,-0.30041000000000001,-0.50797000000000003,0,1868,{"$f":"IF((G252*ALBE+H252*ALDE+I252*AT+J252*BE+K252*DE+L252*FR+M252*NL)>(N252),1,0)","v":0},null,{"$f":"IF((C$6*G252+D$6*H252+E$6*I252+F$6*J252+G$6*K252+H$6*L252+I$6*M252)>(N252),1,0)","v":0}]
[null,348,"[AT-AT] Westtirol Transformer WTRHU41 [OPP]_LTA_corner#20_#0","14T-38220-WT041O","BASECASE","N/A",0,0,0.99197000000000002,-2.1149999999999999E-2,0.12023,-3.3110000000000001E-2,0,4507,{"$f":"IF((G253*ALBE+H253*ALDE+I253*AT+J253*BE+K253*DE+L253*FR+M253*NL)>(N253),1,0)","v":0},null,{"$f":"IF((C$6*G253+D$6*H253+E$6*I253+F$6*J253+G$6*K253+H$6*L253+I$6*M253)>(N253),1,0)","v":0}]
[null,349,"[NL-NL] Borssele - Rilland 380 Zwart [DIR]","49T000000000059S","[NL-NL] Borssele - Rilland 380 Grijs","49T000000000057W",-5.8500000000000002E-3,2.31E-3,-8.0999999999999996E-4,-1.49E-2,1.1100000000000001E-3,-6.28E-3,0.24940000000000001,750,{"$f":"IF((G254*ALBE+H254*ALDE+I254*AT+J254*BE+K254*DE+L254*FR+M254*NL)>(N254),1,0)","v":0},null,{"$f":"IF((C$6*G254+D$6*H254+E$6*I254+F$6*J254+G$6*K254+H$6*L254+I$6*M254)>(N254),1,0)","v":0}]
[null,350,"[AT-AT] Westtirol Transformer WTRHU41 [OPP]_LTA_corner#20_#15","14T-38220-WT041O","BASECASE","N/A",0,0,0.98521000000000003,-2.1000000000000001E-2,0.15507000000000001,-6.9830000000000003E-2,0,4438,{"$f":"IF((G255*ALBE+H255*ALDE+I255*AT+J255*BE+K255*DE+L255*FR+M255*NL)>(N255),1,0)","v":0},null,{"$f":"IF((C$6*G255+D$6*H255+E$6*I255+F$6*J255+G$6*K255+H$6*L255+I$6*M255)>(N255),1,0)","v":0}]
[null,351,"[D2-NL] Diele - Meeden 380 Black [DIR] [NL]_LTA_corner#05_#13","10T-DE-NL-00001V","[D2-NL] Diele - Meeden 380 White","10T-DE-NL-00002T",0,0,0.52517999999999998,0.40400999999999998,0.62458000000000002,0.41335,0,1632,{"$f":"IF((G256*ALBE+H256*ALDE+I256*AT+J256*BE+K256*DE+L256*FR+M256*NL)>(N256),1,0)","v":0},null,{"$f":"IF((C$6*G256+D$6*H256+E$6*I256+F$6*J256+G$6*K256+H$6*L256+I$6*M256)>(N256),1,0)","v":0}]
[null,352,"[AT-AT] Strass - Thaur 273B [OPP]","14T-220-0-0273BO","[AT-AT] Strass - Thaur 274B","14T-220-0-0274BL",2.6329999999999999E-2,2.6179999999999998E-2,-8.1710000000000005E-2,2.64E-2,2.946E-2,2.6919999999999999E-2,2.5760000000000002E-2,603,{"$f":"IF((G257*ALBE+H257*ALDE+I257*AT+J257*BE+K257*DE+L257*FR+M257*NL)>(N257),1,0)","v":0},null,{"$f":"IF((C$6*G257+D$6*H257+E$6*I257+F$6*J257+G$6*K257+H$6*L257+I$6*M257)>(N257),1,0)","v":0}]
[null,353,"[D4-AT] Buers - Westtirol 421 weiss [OPP] [D4]_LTA_corner#17_#12","10T-AT-DE-000061","[AT-AT] Westtirol Transformer WTRHU41","14T-38220-WT041O",0,0,0.98824999999999996,1.2540000000000001E-2,0.12534999999999999,-8.6529999999999996E-2,0,4573,{"$f":"IF((G258*ALBE+H258*ALDE+I258*AT+J258*BE+K258*DE+L258*FR+M258*NL)>(N258),1,0)","v":0},null,{"$f":"IF((C$6*G258+D$6*H258+E$6*I258+F$6*J258+G$6*K258+H$6*L258+I$6*M258)>(N258),1,0)","v":0}]
[null,354,"[BE-BE] PST_ZANDV_2 [N - S]_LTA_corner#09_#7","22T20161020---56","[NL-BE] Rilland - Zandvliet 380 White/30","10T-BE-NL-00004C",0,0,-0.41600999999999999,-0.59396000000000004,-0.34836,-0.59396000000000004,0,1496,{"$f":"IF((G259*ALBE+H259*ALDE+I259*AT+J259*BE+K259*DE+L259*FR+M259*NL)>(N259),1,0)","v":0},null,{"$f":"IF((C$6*G259+D$6*H259+E$6*I259+F$6*J259+G$6*K259+H$6*L259+I$6*M259)>(N259),1,0)","v":0}]
[null,355,"[BE-BE] PST_ZANDV_2 [N - S]_LTA_corner#09_#2","22T20161020---56","[NL-BE] Rilland - Zandvliet 380 White/30","10T-BE-NL-00004C",0,0,-0.41854999999999998,-0.59186000000000005,-0.35244999999999999,-0.59186000000000005,0,1486,{"$f":"IF((G260*ALBE+H260*ALDE+I260*AT+J260*BE+K260*DE+L260*FR+M260*NL)>(N260),1,0)","v":0},null,{"$f":"IF((C$6*G260+D$6*H260+E$6*I260+F$6*J260+G$6*K260+H$6*L260+I$6*M260)>(N260),1,0)","v":0}]
[null,356,"[D2-NL] Diele - Meeden 380 Black [DIR] [NL]_LTA_corner#05_#0","10T-DE-NL-00001V","[D2-NL] Diele - Meeden 380 White","10T-DE-NL-00002T",0,0,0.58520000000000005,0.10674,0.71372999999999998,0.36978,0,2248,{"$f":"IF((G261*ALBE+H261*ALDE+I261*AT+J261*BE+K261*DE+L261*FR+M261*NL)>(N261),1,0)","v":0},null,{"$f":"IF((C$6*G261+D$6*H261+E$6*I261+F$6*J261+G$6*K261+H$6*L261+I$6*M261)>(N261),1,0)","v":0}]
[null,357,"[D2-NL] Diele - Meeden 380 Black [DIR] [NL]_LTA_corner#05_#25","10T-DE-NL-00001V","[D2-NL] Diele - Meeden 380 White","10T-DE-NL-00002T",0,0,0.54117999999999999,0.37333,0.59628000000000003,0.46065,0,1426,{"$f":"IF((G262*ALBE+H262*ALDE+I262*AT+J262*BE+K262*DE+L262*FR+M262*NL)>(N262),1,0)","v":0},null,{"$f":"IF((C$6*G262+D$6*H262+E$6*I262+F$6*J262+G$6*K262+H$6*L262+I$6*M262)>(N262),1,0)","v":0}]
[null,358,"[BE-FR] Achene - Lonny 380.19 [DIR] [BE]_LTA_corner#02_#5","10T-BE-FR-000015","[BE-BE] Avelgem - Horta 380.102","22T20161020---1E",0,0,-0.44191000000000003,0.35317999999999999,-0.32238,-0.75897999999999999,0,2340,{"$f":"IF((G263*ALBE+H263*ALDE+I263*AT+J263*BE+K263*DE+L263*FR+M263*NL)>(N263),1,0)","v":0},null,{"$f":"IF((C$6*G263+D$6*H263+E$6*I263+F$6*J263+G$6*K263+H$6*L263+I$6*M263)>(N263),1,0)","v":0}]
[null,359,"[BE-BE] PST_ZANDV_2 [N - S]_LTA_corner#13_#20","22T20161020---56","[NL-BE] Rilland - Zandvliet 380 White/30","10T-BE-NL-00004C",0,0,-0.37003000000000003,-0.70574999999999999,-0.33701999999999999,-0.50141000000000002,0,1663,{"$f":"IF((G264*ALBE+H264*ALDE+I264*AT+J264*BE+K264*DE+L264*FR+M264*NL)>(N264),1,0)","v":0},null,{"$f":"IF((C$6*G264+D$6*H264+E$6*I264+F$6*J264+G$6*K264+H$6*L264+I$6*M264)>(N264),1,0)","v":0}]
[null,360,"[BE-BE] PST_ZANDV_2 [N - S]_LTA_corner#13_#0","22T20161020---56","[NL-BE] Rilland - Zandvliet 380 White/30","10T-BE-NL-00004C",0,0,-0.39230999999999999,-0.70340000000000003,-0.31870999999999999,-0.49975000000000003,0,1848,{"$f":"IF((G265*ALBE+H265*ALDE+I265*AT+J265*BE+K265*DE+L265*FR+M265*NL)>(N265),1,0)","v":0},null,{"$f":"IF((C$6*G265+D$6*H265+E$6*I265+F$6*J265+G$6*K265+H$6*L265+I$6*M265)>(N265),1,0)","v":0}]
[null,361,"[BE-BE] PST_VANYK_2 [S - N]","22T-BE-PST--002U","[NL-BE] Maasbracht - Van Eyck 380 Black/27","10T-BE-NL-00002G",0.48592999999999997,-4.9079999999999999E-2,1.2330000000000001E-2,0.27167000000000002,-1.6559999999999998E-2,9.5860000000000001E-2,-1.214E-2,983,{"$f":"IF((G266*ALBE+H266*ALDE+I266*AT+J266*BE+K266*DE+L266*FR+M266*NL)>(N266),1,0)","v":0},null,{"$f":"IF((C$6*G266+D$6*H266+E$6*I266+F$6*J266+G$6*K266+H$6*L266+I$6*M266)>(N266),1,0)","v":0}]
[null,362,"[D4-AT] Buers - Westtirol 421 weiss [OPP] [D4]_LTA_corner#20_#11","10T-AT-DE-000061","[AT-AT] Westtirol Transformer WTRHU41","14T-38220-WT041O",0,0,0.99663999999999997,-1.2E-4,7.8039999999999998E-2,-2.4819999999999998E-2,0,4629,{"$f":"IF((G267*ALBE+H267*ALDE+I267*AT+J267*BE+K267*DE+L267*FR+M267*NL)>(N267),1,0)","v":0},null,{"$f":"IF((C$6*G267+D$6*H267+E$6*I267+F$6*J267+G$6*K267+H$6*L267+I$6*M267)>(N267),1,0)","v":0}]
[null,363,"ALDE_export","N/A","BASECASE","N/A",0,1,0,0,0,0,0,0,{"$f":"IF((G268*ALBE+H268*ALDE+I268*AT+J268*BE+K268*DE+L268*FR+M268*NL)>(N268),1,0)","v":0},null,{"$f":"IF((C$6*G268+D$6*H268+E$6*I268+F$6*J268+G$6*K268+H$6*L268+I$6*M268)>(N268),1,0)","v":0}]
[null,364,"[AT-AT] Westtirol Transformer WTRHU41 [OPP]_LTA_corner#20_#5","14T-38220-WT041O","BASECASE","N/A",0,0,0.98848000000000003,-6.0319999999999999E-2,0.11981,-7.0059999999999997E-2,0,4557,{"$f":"IF((G269*ALBE+H269*ALDE+I269*AT+J269*BE+K269*DE+L269*FR+M269*NL)>(N269),1,0)","v":0},null,{"$f":"IF((C$6*G269+D$6*H269+E$6*I269+F$6*J269+G$6*K269+H$6*L269+I$6*M269)>(N269),1,0)","v":0}]
[null,365,"[D4-AT] Buers - Westtirol 421 weiss [OPP] [D4]_LTA_corner#17_#0","10T-AT-DE-000061","[AT-AT] Westtirol Transformer WTRHU41","14T-38220-WT041O",0,0,0.99604000000000004,1.1E-4,8.745E-2,-1.6039999999999999E-2,0,4586,{"$f":"IF((G270*ALBE+H270*ALDE+I270*AT+J270*BE+K270*DE+L270*FR+M270*NL)>(N270),1,0)","v":0},null,{"$f":"IF((C$6*G270+D$6*H270+E$6*I270+F$6*J270+G$6*K270+H$6*L270+I$6*M270)>(N270),1,0)","v":0}]
[null,366,"[D2-NL] Diele - Meeden 380 Black [DIR] [D2]_LTA_corner#05_#4","10T-DE-NL-00001V","[D2-NL] Diele - Meeden 380 White ","10T-DE-NL-00002T",0,0,0.60052000000000005,0.308,0.60052000000000005,0.42881999999999998,0,1217,{"$f":"IF((G271*ALBE+H271*ALDE+I271*AT+J271*BE+K271*DE+L271*FR+M271*NL)>(N271),1,0)","v":0},null,{"$f":"IF((C$6*G271+D$6*H271+E$6*I271+F$6*J271+G$6*K271+H$6*L271+I$6*M271)>(N271),1,0)","v":0}]
[null,367,"[D4-AT] Buers - Westtirol 421 weiss [OPP] [D4]_LTA_corner#20_#14","10T-AT-DE-000061","[AT-AT] Westtirol Transformer WTRHU41","14T-38220-WT041O",0,0,0.97679000000000005,-5.0810000000000001E-2,0.13294,-0.16009999999999999,0,4607,{"$f":"IF((G272*ALBE+H272*ALDE+I272*AT+J272*BE+K272*DE+L272*FR+M272*NL)>(N272),1,0)","v":0},null,{"$f":"IF((C$6*G272+D$6*H272+E$6*I272+F$6*J272+G$6*K272+H$6*L272+I$6*M272)>(N272),1,0)","v":0}]
[null,368,"[BE-FR] Achene - Lonny 380.19 [DIR] [BE]_LTA_corner#02_#3","10T-BE-FR-000015","[BE-BE] Avelgem - Horta 380.102","22T20161020---1E",0,0,-0.44156000000000001,0.35010999999999998,-0.32121,-0.7611,0,2343,{"$f":"IF((G273*ALBE+H273*ALDE+I273*AT+J273*BE+K273*DE+L273*FR+M273*NL)>(N273),1,0)","v":0},null,{"$f":"IF((C$6*G273+D$6*H273+E$6*I273+F$6*J273+G$6*K273+H$6*L273+I$6*M273)>(N273),1,0)","v":0}]
[null,369,"[AT-AT] Westtirol Transformer WTRHU41 [OPP]_LTA_corner#20_#1","14T-38220-WT041O","BASECASE","N/A",0,0,0.99429000000000001,-2.1190000000000001E-2,7.7289999999999998E-2,-7.0470000000000005E-2,0,4696,{"$f":"IF((G274*ALBE+H274*ALDE+I274*AT+J274*BE+K274*DE+L274*FR+M274*NL)>(N274),1,0)","v":0},null,{"$f":"IF((C$6*G274+D$6*H274+E$6*I274+F$6*J274+G$6*K274+H$6*L274+I$6*M274)>(N274),1,0)","v":0}]
[null,370,"[D4-AT] Buers - Westtirol 421 weiss [OPP] [D4]_LTA_corner#20_#8","10T-AT-DE-000061","[AT-AT] Westtirol Transformer WTRHU41","14T-38220-WT041O",0,0,0.96187999999999996,-6.9940000000000002E-2,3.372E-2,-0.26223000000000002,0,4973,{"$f":"IF((G275*ALBE+H275*ALDE+I275*AT+J275*BE+K275*DE+L275*FR+M275*NL)>(N275),1,0)","v":0},null,{"$f":"IF((C$6*G275+D$6*H275+E$6*I275+F$6*J275+G$6*K275+H$6*L275+I$6*M275)>(N275),1,0)","v":0}]
[null,371,"[BE-FR] Achene - Lonny 380.19 [DIR] [BE]_LTA_corner#02_#17","10T-BE-FR-000015","[BE-BE] Avelgem - Horta 380.102","22T20161020---1E",0,0,-0.44280000000000003,0.34411999999999998,-0.32317000000000001,-0.76227999999999996,0,2335,{"$f":"IF((G276*ALBE+H276*ALDE+I276*AT+J276*BE+K276*DE+L276*FR+M276*NL)>(N276),1,0)","v":0},null,{"$f":"IF((C$6*G276+D$6*H276+E$6*I276+F$6*J276+G$6*K276+H$6*L276+I$6*M276)>(N276),1,0)","v":0}]
[null,372,"[BE-FR] Achene - Lonny 380.19 [DIR] [BE]_LTA_corner#02_#0","10T-BE-FR-000015","[BE-BE] Avelgem - Horta 380.102","22T20161020---1E",0,0,-0.44368000000000002,0.34405000000000002,-0.32239000000000001,-0.76212999999999997,0,2342,{"$f":"IF((G277*ALBE+H277*ALDE+I277*AT+J277*BE+K277*DE+L277*FR+M277*NL)>(N277),1,0)","v":0},null,{"$f":"IF((C$6*G277+D$6*H277+E$6*I277+F$6*J277+G$6*K277+H$6*L277+I$6*M277)>(N277),1,0)","v":0}]
[null,373,"[AT-AT] Westtirol Transformer WTRHU41 [OPP]_LTA_corner#17_#3","14T-38220-WT041O","BASECASE","N/A",0,0,0.98821000000000003,0,0.13614000000000001,-7.0040000000000005E-2,0,4501,{"$f":"IF((G278*ALBE+H278*ALDE+I278*AT+J278*BE+K278*DE+L278*FR+M278*NL)>(N278),1,0)","v":0},null,{"$f":"IF((C$6*G278+D$6*H278+E$6*I278+F$6*J278+G$6*K278+H$6*L278+I$6*M278)>(N278),1,0)","v":0}]
[null,374,"[NL-D7] Maasbracht - Siersdorf 380 black [DIR] [D7]","10T-DE-NL-00006L","[BE-BE] Avelgem - Horta 380.102","22T20161020---1E",0.32052999999999998,-0.15518999999999999,-2.66E-3,0.30671999999999999,1.414E-2,3.916E-2,0.26874999999999999,919,{"$f":"IF((G279*ALBE+H279*ALDE+I279*AT+J279*BE+K279*DE+L279*FR+M279*NL)>(N279),1,0)","v":0},null,{"$f":"IF((C$6*G279+D$6*H279+E$6*I279+F$6*J279+G$6*K279+H$6*L279+I$6*M279)>(N279),1,0)","v":0}]
[null,375,"[BE-BE] PST_ZANDV_2 [N - S]_LTA_corner#13_#18","22T20161020---56","[NL-BE] Rilland - Zandvliet 380 White/30","10T-BE-NL-00004C",0,0,-0.32118000000000002,-0.79632000000000003,-0.28200999999999998,-0.42799999999999999,0,1946,{"$f":"IF((G280*ALBE+H280*ALDE+I280*AT+J280*BE+K280*DE+L280*FR+M280*NL)>(N280),1,0)","v":0},null,{"$f":"IF((C$6*G280+D$6*H280+E$6*I280+F$6*J280+G$6*K280+H$6*L280+I$6*M280)>(N280),1,0)","v":0}]
[null,376,"[D4-AT] Buers - Westtirol 421 weiss [OPP] [D4]_LTA_corner#17_#15","10T-AT-DE-000061","[AT-AT] Westtirol Transformer WTRHU41","14T-38220-WT041O",0,0,0.99658999999999998,0,7.8509999999999996E-2,-2.5430000000000001E-2,0,4628,{"$f":"IF((G281*ALBE+H281*ALDE+I281*AT+J281*BE+K281*DE+L281*FR+M281*NL)>(N281),1,0)","v":0},null,{"$f":"IF((C$6*G281+D$6*H281+E$6*I281+F$6*J281+G$6*K281+H$6*L281+I$6*M281)>(N281),1,0)","v":0}]
[null,377,"[BE-BE] PST_ZANDV_2 [N - S]_LTA_corner#13_#11","22T20161020---56","[NL-BE] Rilland - Zandvliet 380 White/30","10T-BE-NL-00004C",0,0,-0.35721999999999998,-0.71425000000000005,-0.32362999999999997,-0.50744999999999996,0,1678,{"$f":"IF((G282*ALBE+H282*ALDE+I282*AT+J282*BE+K282*DE+L282*FR+M282*NL)>(N282),1,0)","v":0},null,{"$f":"IF((C$6*G282+D$6*H282+E$6*I282+F$6*J282+G$6*K282+H$6*L282+I$6*M282)>(N282),1,0)","v":0}]
[null,378,"[BE-BE] PST_ZANDV_2 [N - S]_LTA_corner#13_#8","22T20161020---56","[NL-BE] Rilland - Zandvliet 380 White/30","10T-BE-NL-00004C",0,0,-0.40518999999999999,-0.65290000000000004,-0.35543999999999998,-0.53217000000000003,0,1600,{"$f":"IF((G283*ALBE+H283*ALDE+I283*AT+J283*BE+K283*DE+L283*FR+M283*NL)>(N283),1,0)","v":0},null,{"$f":"IF((C$6*G283+D$6*H283+E$6*I283+F$6*J283+G$6*K283+H$6*L283+I$6*M283)>(N283),1,0)","v":0}]
[null,379,"[BE-BE] PST_ZANDV_2 [N - S]_LTA_corner#13_#3","22T20161020---56","[NL-BE] Rilland - Zandvliet 380 White/30","10T-BE-NL-00004C",0,0,-0.31791999999999998,-0.78712000000000004,-0.26679999999999998,-0.45627000000000001,0,1956,{"$f":"IF((G284*ALBE+H284*ALDE+I284*AT+J284*BE+K284*DE+L284*FR+M284*NL)>(N284),1,0)","v":0},null,{"$f":"IF((C$6*G284+D$6*H284+E$6*I284+F$6*J284+G$6*K284+H$6*L284+I$6*M284)>(N284),1,0)","v":0}]
[null,380,"[D2-NL] Diele - Meeden 380 Black [DIR] [D2]_LTA_corner#01_#0","10T-DE-NL-00001V","[D2-NL] Diele - Meeden 380 White ","10T-DE-NL-00002T",0,0,-0.89585000000000004,0.17602999999999999,0.36808999999999997,0.17602999999999999,0,6792,{"$f":"IF((G285*ALBE+H285*ALDE+I285*AT+J285*BE+K285*DE+L285*FR+M285*NL)>(N285),1,0)","v":0},null,{"$f":"IF((C$6*G285+D$6*H285+E$6*I285+F$6*J285+G$6*K285+H$6*L285+I$6*M285)>(N285),1,0)","v":0}]
[null,381,"[AT-AT] Westtirol Transformer WTRHU41 [OPP]_LTA_corner#17_#1","14T-38220-WT041O","BASECASE","N/A",0,0,0.99133000000000004,0,0.12015000000000001,-5.3249999999999999E-2,0,4533,{"$f":"IF((G286*ALBE+H286*ALDE+I286*AT+J286*BE+K286*DE+L286*FR+M286*NL)>(N286),1,0)","v":0},null,{"$f":"IF((C$6*G286+D$6*H286+E$6*I286+F$6*J286+G$6*K286+H$6*L286+I$6*M286)>(N286),1,0)","v":0}]
[null,382,"[D2-NL] Diele - Meeden 380 Black [DIR] [D2]_LTA_corner#01_#1","10T-DE-NL-00001V","[D2-NL] Diele - Meeden 380 White ","10T-DE-NL-00002T",0,0,-0.93232000000000004,0.14385000000000001,0.30475999999999998,0.13117000000000001,0,6563,{"$f":"IF((G287*ALBE+H287*ALDE+I287*AT+J287*BE+K287*DE+L287*FR+M287*NL)>(N287),1,0)","v":0},null,{"$f":"IF((C$6*G287+D$6*H287+E$6*I287+F$6*J287+G$6*K287+H$6*L287+I$6*M287)>(N287),1,0)","v":0}]
[null,383,"[BE-BE] PST_ZANDV_2 [N - S]_LTA_corner#13_#7","22T20161020---56","[NL-BE] Rilland - Zandvliet 380 White/30","10T-BE-NL-00004C",0,0,-0.39924999999999999,-0.67217000000000005,-0.35465999999999998,-0.51283000000000001,0,1635,{"$f":"IF((G288*ALBE+H288*ALDE+I288*AT+J288*BE+K288*DE+L288*FR+M288*NL)>(N288),1,0)","v":0},null,{"$f":"IF((C$6*G288+D$6*H288+E$6*I288+F$6*J288+G$6*K288+H$6*L288+I$6*M288)>(N288),1,0)","v":0}]
[null,384,"[BE-FR] Achene - Lonny 380.19 [OPP] [BE]","10T-BE-FR-000015","[BE-BE] Avelgem - Horta 380.102","22T20161020---1E",-0.30626999999999999,-6.4439999999999997E-2,2.0740000000000001E-2,-0.30151,-2.8539999999999999E-2,0.15157000000000001,-0.16059000000000001,1890,{"$f":"IF((G289*ALBE+H289*ALDE+I289*AT+J289*BE+K289*DE+L289*FR+M289*NL)>(N289),1,0)","v":0},null,{"$f":"IF((C$6*G289+D$6*H289+E$6*I289+F$6*J289+G$6*K289+H$6*L289+I$6*M289)>(N289),1,0)","v":0}]
[null,385,"[BE-BE] PST_ZANDV_2 [N - S]_LTA_corner#09_#4","22T20161020---56","[NL-BE] Rilland - Zandvliet 380 White/30","10T-BE-NL-00004C",0,0,-0.41626999999999997,-0.59326000000000001,-0.35043000000000002,-0.59326000000000001,0,1487,{"$f":"IF((G290*ALBE+H290*ALDE+I290*AT+J290*BE+K290*DE+L290*FR+M290*NL)>(N290),1,0)","v":0},null,{"$f":"IF((C$6*G290+D$6*H290+E$6*I290+F$6*J290+G$6*K290+H$6*L290+I$6*M290)>(N290),1,0)","v":0}]
[null,386,"[D2-NL] Diele - Meeden 380 Black [DIR] [D2]_LTA_corner#05_#24","10T-DE-NL-00001V","[D2-NL] Diele - Meeden 380 White ","10T-DE-NL-00002T",0,0,0.60246999999999995,0.3075,0.60246999999999995,0.42368,0,1218,{"$f":"IF((G291*ALBE+H291*ALDE+I291*AT+J291*BE+K291*DE+L291*FR+M291*NL)>(N291),1,0)","v":0},null,{"$f":"IF((C$6*G291+D$6*H291+E$6*I291+F$6*J291+G$6*K291+H$6*L291+I$6*M291)>(N291),1,0)","v":0}]
[null,387,"[D2-NL] Diele - Meeden 380 Black [DIR] [NL]_LTA_corner#05_#4","10T-DE-NL-00001V","[D2-NL] Diele - Meeden 380 White","10T-DE-NL-00002T",0,0,0.57591999999999999,0.19214000000000001,0.65974999999999995,0.44285999999999998,0,1880,{"$f":"IF((G292*ALBE+H292*ALDE+I292*AT+J292*BE+K292*DE+L292*FR+M292*NL)>(N292),1,0)","v":0},null,{"$f":"IF((C$6*G292+D$6*H292+E$6*I292+F$6*J292+G$6*K292+H$6*L292+I$6*M292)>(N292),1,0)","v":0}]
[null,388,"[BE-FR] Achene - Lonny 380.19 [DIR] [BE]_LTA_corner#02_#9","10T-BE-FR-000015","[BE-BE] Avelgem - Horta 380.102","22T20161020---1E",0,0,-0.44233,0.34431,-0.32262999999999997,-0.76268999999999998,0,2336,{"$f":"IF((G293*ALBE+H293*ALDE+I293*AT+J293*BE+K293*DE+L293*FR+M293*NL)>(N293),1,0)","v":0},null,{"$f":"IF((C$6*G293+D$6*H293+E$6*I293+F$6*J293+G$6*K293+H$6*L293+I$6*M293)>(N293),1,0)","v":0}]
[null,389,"[D2-AT] Y - St. Peter (- Altheim - Simbach) 233/230 [OPP] [D2]","10T-AT-DE-00001B","[D2-AT] Y - St. Peter (- Altheim - Simbach) 234/230","10T-AT-DE-000045",-3.696E-2,-3.8260000000000002E-2,2.47E-2,-3.6720000000000003E-2,-3.7580000000000002E-2,-3.3939999999999998E-2,-3.7539999999999997E-2,333,{"$f":"IF((G294*ALBE+H294*ALDE+I294*AT+J294*BE+K294*DE+L294*FR+M294*NL)>(N294),1,0)","v":0},null,{"$f":"IF((C$6*G294+D$6*H294+E$6*I294+F$6*J294+G$6*K294+H$6*L294+I$6*M294)>(N294),1,0)","v":0}]
[null,390,"[D2-NL] Diele - Meeden 380 Black [DIR] [D2]_LTA_corner#01_#7","10T-DE-NL-00001V","[D2-NL] Diele - Meeden 380 White ","10T-DE-NL-00002T",0,0,-0.88029000000000002,0.18726000000000001,0.39363999999999999,0.18726000000000001,0,6889,{"$f":"IF((G295*ALBE+H295*ALDE+I295*AT+J295*BE+K295*DE+L295*FR+M295*NL)>(N295),1,0)","v":0},null,{"$f":"IF((C$6*G295+D$6*H295+E$6*I295+F$6*J295+G$6*K295+H$6*L295+I$6*M295)>(N295),1,0)","v":0}]
[null,391,"[BE-BE] PST_ZANDV_2 [N - S]_LTA_corner#09_#0","22T20161020---56","[NL-BE] Rilland - Zandvliet 380 White/30","10T-BE-NL-00004C",0,0,-0.43386000000000002,-0.53678999999999999,-0.36020999999999997,-0.62758999999999998,0,1574,{"$f":"IF((G296*ALBE+H296*ALDE+I296*AT+J296*BE+K296*DE+L296*FR+M296*NL)>(N296),1,0)","v":0},null,{"$f":"IF((C$6*G296+D$6*H296+E$6*I296+F$6*J296+G$6*K296+H$6*L296+I$6*M296)>(N296),1,0)","v":0}]
["hour 4",392,"[D2-NL] Diele - Meeden 380 Black [DIR] [NL]_LTA_corner#05_#15","10T-DE-NL-00001V","[D2-NL] Diele - Meeden 380 White","10T-DE-NL-00002T",0,0,0.54132000000000002,0.37247999999999998,0.59675,0.46056999999999998,0,1429,{"$f":"IF((G297*ALBE+H297*ALDE+I297*AT+J297*BE+K297*DE+L297*FR+M297*NL)>(N297),1,0)","v":0},null,{"$f":"IF((C$6*G297+D$6*H297+E$6*I297+F$6*J297+G$6*K297+H$6*L297+I$6*M297)>(N297),1,0)","v":0}]
[null,393,"[D2-D2] Altheim - Sittling 220 [OPP]_LTA_corner#09_#12","11TD2L000000004J","[D2-AT] Pleinting - St. Peter 258","10T-AT-DE-000037",0,0,-0.99600999999999995,-2.0559999999999998E-2,-2.2249999999999999E-2,-8.3949999999999997E-2,0,4840,{"$f":"IF((G298*ALBE+H298*ALDE+I298*AT+J298*BE+K298*DE+L298*FR+M298*NL)>(N298),1,0)","v":0},null,{"$f":"IF((C$6*G298+D$6*H298+E$6*I298+F$6*J298+G$6*K298+H$6*L298+I$6*M298)>(N298),1,0)","v":0}]
[null,394,"[AT-AT] Westtirol Transformer WTRHU41 [OPP]_LTA_corner#17_#6","14T-38220-WT041O","BASECASE","N/A",0,0,0.99109000000000003,0,0.11276,-7.0830000000000004E-2,0,4581,{"$f":"IF((G299*ALBE+H299*ALDE+I299*AT+J299*BE+K299*DE+L299*FR+M299*NL)>(N299),1,0)","v":0},null,{"$f":"IF((C$6*G299+D$6*H299+E$6*I299+F$6*J299+G$6*K299+H$6*L299+I$6*M299)>(N299),1,0)","v":0}]
[null,395,"[D2-D2] Altheim - Sittling 220 [OPP]_LTA_corner#09_#25","11TD2L000000004J","[D2-AT] Pleinting - St. Peter 258","10T-AT-DE-000037",0,0,-0.99599000000000004,-2.111E-2,-2.273E-2,-8.3949999999999997E-2,0,4838,{"$f":"IF((G300*ALBE+H300*ALDE+I300*AT+J300*BE+K300*DE+L300*FR+M300*NL)>(N300),1,0)","v":0},null,{"$f":"IF((C$6*G300+D$6*H300+E$6*I300+F$6*J300+G$6*K300+H$6*L300+I$6*M300)>(N300),1,0)","v":0}]
[null,396,"[D2-NL] Diele - Meeden 380 Black [DIR] [D2]_LTA_corner#05_#20","10T-DE-NL-00001V","[D2-NL] Diele - Meeden 380 White ","10T-DE-NL-00002T",0,0,-7.0999999999999994E-2,0.38540000000000002,0.76312000000000002,0.51388,0,5552,{"$f":"IF((G301*ALBE+H301*ALDE+I301*AT+J301*BE+K301*DE+L301*FR+M301*NL)>(N301),1,0)","v":0},null,{"$f":"IF((C$6*G301+D$6*H301+E$6*I301+F$6*J301+G$6*K301+H$6*L301+I$6*M301)>(N301),1,0)","v":0}]
[null,397,"[NL-D7] Maasbracht - Siersdorf 380 black [DIR] [D7]","10T-DE-NL-00006L","[BE-BE] Avelgem - Horta 380.102","22T20161020---1E",0.32052999999999998,-0.15518999999999999,-2.66E-3,0.30671999999999999,1.414E-2,3.8989999999999997E-2,0.26874999999999999,878,{"$f":"IF((G302*ALBE+H302*ALDE+I302*AT+J302*BE+K302*DE+L302*FR+M302*NL)>(N302),1,0)","v":0},null,{"$f":"IF((C$6*G302+D$6*H302+E$6*I302+F$6*J302+G$6*K302+H$6*L302+I$6*M302)>(N302),1,0)","v":0}]
[null,398,"[D2-NL] Diele - Meeden 380 Black [DIR] [D2]_LTA_corner#05_#25","10T-DE-NL-00001V","[D2-NL] Diele - Meeden 380 White ","10T-DE-NL-00002T",0,0,0.55942000000000003,0.32530999999999999,0.63627999999999996,0.41996,0,1637,{"$f":"IF((G303*ALBE+H303*ALDE+I303*AT+J303*BE+K303*DE+L303*FR+M303*NL)>(N303),1,0)","v":0},null,{"$f":"IF((C$6*G303+D$6*H303+E$6*I303+F$6*J303+G$6*K303+H$6*L303+I$6*M303)>(N303),1,0)","v":0}]
[null,399,"[D2-NL] Diele - Meeden 380 Black [DIR] [NL]_LTA_corner#05_#26","10T-DE-NL-00001V","[D2-NL] Diele - Meeden 380 White","10T-DE-NL-00002T",0,0,0.52858000000000005,0.40737000000000001,0.58923999999999999,0.45546999999999999,0,1398,{"$f":"IF((G304*ALBE+H304*ALDE+I304*AT+J304*BE+K304*DE+L304*FR+M304*NL)>(N304),1,0)","v":0},null,{"$f":"IF((C$6*G304+D$6*H304+E$6*I304+F$6*J304+G$6*K304+H$6*L304+I$6*M304)>(N304),1,0)","v":0}]
[null,400,"[D2-NL] Diele - Meeden 380 Black [DIR] [D2]_LTA_corner#05_#23","10T-DE-NL-00001V","[D2-NL] Diele - Meeden 380 White ","10T-DE-NL-00002T",0,0,0.60148999999999997,0.3085,0.60148999999999997,0.42574000000000001,0,1217,{"$f":"IF((G305*ALBE+H305*ALDE+I305*AT+J305*BE+K305*DE+L305*FR+M305*NL)>(N305),1,0)","v":0},null,{"$f":"IF((C$6*G305+D$6*H305+E$6*I305+F$6*J305+G$6*K305+H$6*L305+I$6*M305)>(N305),1,0)","v":0}]
[null,401,"[D2-NL] Diele - Meeden 380 Black [DIR] [NL]_LTA_corner#05_#13","10T-DE-NL-00001V","[D2-NL] Diele - Meeden 380 White","10T-DE-NL-00002T",0,0,0.56979999999999997,0.26112999999999997,0.62870000000000004,0.46029999999999999,0,1633,{"$f":"IF((G306*ALBE+H306*ALDE+I306*AT+J306*BE+K306*DE+L306*FR+M306*NL)>(N306),1,0)","v":0},null,{"$f":"IF((C$6*G306+D$6*H306+E$6*I306+F$6*J306+G$6*K306+H$6*L306+I$6*M306)>(N306),1,0)","v":0}]
[null,402,"[BE-BE] PST_ZANDV_2 [N - S]_LTA_corner#13_#2","22T20161020---56","[NL-BE] Rilland - Zandvliet 380 White/30","10T-BE-NL-00004C",0,0,-0.40450999999999998,-0.65449999999999997,-0.35471999999999998,-0.53120000000000001,0,1604,{"$f":"IF((G307*ALBE+H307*ALDE+I307*AT+J307*BE+K307*DE+L307*FR+M307*NL)>(N307),1,0)","v":0},null,{"$f":"IF((C$6*G307+D$6*H307+E$6*I307+F$6*J307+G$6*K307+H$6*L307+I$6*M307)>(N307),1,0)","v":0}]
[null,403,"[D2-NL] Diele - Meeden 380 Black [DIR] [D2]_LTA_corner#05_#14","10T-DE-NL-00001V","[D2-NL] Diele - Meeden 380 White ","10T-DE-NL-00002T",0,0,0.56074999999999997,0.32607999999999998,0.61487000000000003,0.44851000000000002,0,1502,{"$f":"IF((G308*ALBE+H308*ALDE+I308*AT+J308*BE+K308*DE+L308*FR+M308*NL)>(N308),1,0)","v":0},null,{"$f":"IF((C$6*G308+D$6*H308+E$6*I308+F$6*J308+G$6*K308+H$6*L308+I$6*M308)>(N308),1,0)","v":0}]
[null,404,"ALBE_import","N/A","BASECASE","N/A",-1,0,0,0,0,0,0,0,{"$f":"IF((G309*ALBE+H309*ALDE+I309*AT+J309*BE+K309*DE+L309*FR+M309*NL)>(N309),1,0)","v":0},null,{"$f":"IF((C$6*G309+D$6*H309+E$6*I309+F$6*J309+G$6*K309+H$6*L309+I$6*M309)>(N309),1,0)","v":0}]
[null,405,"[D2-NL] Diele - Meeden 380 Black [DIR] [D2]_LTA_corner#01_#3","10T-DE-NL-00001V","[D2-NL] Diele - Meeden 380 White ","10T-DE-NL-00002T",0,0,-0.84026999999999996,0.21112,0.45255000000000001,0.21112,0,7093,{"$f":"IF((G310*ALBE+H310*ALDE+I310*AT+J310*BE+K310*DE+L310*FR+M310*NL)>(N310),1,0)","v":0},null,{"$f":"IF((C$6*G310+D$6*H310+E$6*I310+F$6*J310+G$6*K310+H$6*L310+I$6*M310)>(N310),1,0)","v":0}]
[null,406,"[BE-BE] PST_ZANDV_2 [N - S]_LTA_corner#09_#3","22T20161020---56","[NL-BE] Rilland - Zandvliet 380 White/30","10T-BE-NL-00004C",0,0,-0.41737000000000002,-0.59269000000000005,-0.35106999999999999,-0.59269000000000005,0,1488,{"$f":"IF((G311*ALBE+H311*ALDE+I311*AT+J311*BE+K311*DE+L311*FR+M311*NL)>(N311),1,0)","v":0},null,{"$f":"IF((C$6*G311+D$6*H311+E$6*I311+F$6*J311+G$6*K311+H$6*L311+I$6*M311)>(N311),1,0)","v":0}]
[null,407,"[AT-AT] Westtirol Transformer WTRHU41 [OPP]_LTA_corner#17_#9","14T-38220-WT041O","BASECASE","N/A",0,0,0.99102999999999997,0,0.11663999999999999,-6.5199999999999994E-2,0,4561,{"$f":"IF((G312*ALBE+H312*ALDE+I312*AT+J312*BE+K312*DE+L312*FR+M312*NL)>(N312),1,0)","v":0},null,{"$f":"IF((C$6*G312+D$6*H312+E$6*I312+F$6*J312+G$6*K312+H$6*L312+I$6*M312)>(N312),1,0)","v":0}]
[null,408,"[D2-NL] Diele - Meeden 380 Black [DIR] [D2]_LTA_corner#05_#12","10T-DE-NL-00001V","[D2-NL] Diele - Meeden 380 White ","10T-DE-NL-00002T",0,0,0.55783000000000005,0.29529,0.63446999999999998,0.44618000000000002,0,1683,{"$f":"IF((G313*ALBE+H313*ALDE+I313*AT+J313*BE+K313*DE+L313*FR+M313*NL)>(N313),1,0)","v":0},null,{"$f":"IF((C$6*G313+D$6*H313+E$6*I313+F$6*J313+G$6*K313+H$6*L313+I$6*M313)>(N313),1,0)","v":0}]
[null,409,"[AT-AT] Westtirol Transformer WTRHU41 [OPP]_LTA_corner#20_#4","14T-38220-WT041O","BASECASE","N/A",0,0,0.99309000000000003,-1.7610000000000001E-2,0.1013,-5.6579999999999998E-2,0,4602,{"$f":"IF((G314*ALBE+H314*ALDE+I314*AT+J314*BE+K314*DE+L314*FR+M314*NL)>(N314),1,0)","v":0},null,{"$f":"IF((C$6*G314+D$6*H314+E$6*I314+F$6*J314+G$6*K314+H$6*L314+I$6*M314)>(N314),1,0)","v":0}]
[null,410,"[D4-AT] Buers - Westtirol 421 weiss [OPP] [D4]_LTA_corner#20_#11","10T-AT-DE-000061","[AT-AT] Westtirol Transformer WTRHU41","14T-38220-WT041O",0,0,0.98587999999999998,-3.4520000000000002E-2,0.12709999999999999,-0.10339,0,4574,{"$f":"IF((G315*ALBE+H315*ALDE+I315*AT+J315*BE+K315*DE+L315*FR+M315*NL)>(N315),1,0)","v":0},null,{"$f":"IF((C$6*G315+D$6*H315+E$6*I315+F$6*J315+G$6*K315+H$6*L315+I$6*M315)>(N315),1,0)","v":0}]
[null,411,"[D4-AT] Buers - Westtirol 421 weiss [OPP] [D4]_LTA_corner#20_#42","10T-AT-DE-000061","[AT-AT] Westtirol Transformer WTRHU41","14T-38220-WT041O",0,0,0.98582000000000003,-3.8219999999999997E-2,0.10662000000000001,-0.12381,0,4663,{"$f":"IF((G316*ALBE+H316*ALDE+I316*AT+J316*BE+K316*DE+L316*FR+M316*NL)>(N316),1,0)","v":0},null,{"$f":"IF((C$6*G316+D$6*H316+E$6*I316+F$6*J316+G$6*K316+H$6*L316+I$6*M316)>(N316),1,0)","v":0}]
[null,412,"[AT-AT] Westtirol Transformer WTRHU41 [OPP]_LTA_corner#20_#3","14T-38220-WT041O","BASECASE","N/A",0,0,0.99321999999999999,-2.1170000000000001E-2,8.9580000000000007E-2,-7.0980000000000001E-2,0,4658,{"$f":"IF((G317*ALBE+H317*ALDE+I317*AT+J317*BE+K317*DE+L317*FR+M317*NL)>(N317),1,0)","v":0},null,{"$f":"IF((C$6*G317+D$6*H317+E$6*I317+F$6*J317+G$6*K317+H$6*L317+I$6*M317)>(N317),1,0)","v":0}]
[null,413,"[BE-FR] Achene - Lonny 380.19 [DIR] [BE]_LTA_corner#02_#0","10T-BE-FR-000015","[BE-BE] Avelgem - Horta 380.102","22T20161020---1E",0,0,-0.44231999999999999,0.34881000000000001,-0.32185999999999998,-0.76097999999999999,0,2342,{"$f":"IF((G318*ALBE+H318*ALDE+I318*AT+J318*BE+K318*DE+L318*FR+M318*NL)>(N318),1,0)","v":0},null,{"$f":"IF((C$6*G318+D$6*H318+E$6*I318+F$6*J318+G$6*K318+H$6*L318+I$6*M318)>(N318),1,0)","v":0}]
[null,414,"[BE-FR] Achene - Lonny 380.19 [DIR] [BE]_LTA_corner#02_#14","10T-BE-FR-000015","[BE-BE] Avelgem - Horta 380.102","22T20161020---1E",0,0,-0.44340000000000002,0.34458,-0.32219999999999999,-0.76212999999999997,0,2342,{"$f":"IF((G319*ALBE+H319*ALDE+I319*AT+J319*BE+K319*DE+L319*FR+M319*NL)>(N319),1,0)","v":0},null,{"$f":"IF((C$6*G319+D$6*H319+E$6*I319+F$6*J319+G$6*K319+H$6*L319+I$6*M319)>(N319),1,0)","v":0}]
[null,415,"[D2-NL] Diele - Meeden 380 Black [DIR] [D2]_LTA_corner#05_#24","10T-DE-NL-00001V","[D2-NL] Diele - Meeden 380 White ","10T-DE-NL-00002T",0,0,0.60187000000000002,0.30779000000000001,0.60187000000000002,0.42516999999999999,0,1218,{"$f":"IF((G320*ALBE+H320*ALDE+I320*AT+J320*BE+K320*DE+L320*FR+M320*NL)>(N320),1,0)","v":0},null,{"$f":"IF((C$6*G320+D$6*H320+E$6*I320+F$6*J320+G$6*K320+H$6*L320+I$6*M320)>(N320),1,0)","v":0}]
[null,416,"[BE-BE] PST_ZANDV_2 [N - S]_LTA_corner#13_#8","22T20161020---56","[NL-BE] Rilland - Zandvliet 380 White/30","10T-BE-NL-00004C",0,0,-0.39194000000000001,-0.70370999999999995,-0.31885000000000002,-0.4995,0,1846,{"$f":"IF((G321*ALBE+H321*ALDE+I321*AT+J321*BE+K321*DE+L321*FR+M321*NL)>(N321),1,0)","v":0},null,{"$f":"IF((C$6*G321+D$6*H321+E$6*I321+F$6*J321+G$6*K321+H$6*L321+I$6*M321)>(N321),1,0)","v":0}]
[null,417,"[D2-NL] Diele - Meeden 380 Black [DIR] [NL]_LTA_corner#05_#11","10T-DE-NL-00001V","[D2-NL] Diele - Meeden 380 White","10T-DE-NL-00002T",0,0,0.52461000000000002,0.42967,0.59258,0.43475999999999998,0,1401,{"$f":"IF((G322*ALBE+H322*ALDE+I322*AT+J322*BE+K322*DE+L322*FR+M322*NL)>(N322),1,0)","v":0},null,{"$f":"IF((C$6*G322+D$6*H322+E$6*I322+F$6*J322+G$6*K322+H$6*L322+I$6*M322)>(N322),1,0)","v":0}]
[null,418,"[BE-BE] PST_ZANDV_2 [N - S]_LTA_corner#13_#4","22T20161020---56","[NL-BE] Rilland - Zandvliet 380 White/30","10T-BE-NL-00004C",0,0,-0.39898,-0.67283000000000004,-0.3543,-0.51243000000000005,0,1638,{"$f":"IF((G323*ALBE+H323*ALDE+I323*AT+J323*BE+K323*DE+L323*FR+M323*NL)>(N323),1,0)","v":0},null,{"$f":"IF((C$6*G323+D$6*H323+E$6*I323+F$6*J323+G$6*K323+H$6*L323+I$6*M323)>(N323),1,0)","v":0}]
[null,419,"[BE-BE] PST_ZANDV_2 [N - S]_LTA_corner#09_#5","22T20161020---56","[NL-BE] Rilland - Zandvliet 380 White/30","10T-BE-NL-00004C",0,0,-0.41691,-0.59299999999999997,-0.35056999999999999,-0.59299999999999997,0,1489,{"$f":"IF((G324*ALBE+H324*ALDE+I324*AT+J324*BE+K324*DE+L324*FR+M324*NL)>(N324),1,0)","v":0},null,{"$f":"IF((C$6*G324+D$6*H324+E$6*I324+F$6*J324+G$6*K324+H$6*L324+I$6*M324)>(N324),1,0)","v":0}]
[null,420,"[D2-NL] Diele - Meeden 380 Black [DIR] [NL]_LTA_corner#05_#18","10T-DE-NL-00001V","[D2-NL] Diele - Meeden 380 White","10T-DE-NL-00002T",0,0,0.52559999999999996,0.40031,0.62134999999999996,0.42120999999999997,0,1617,{"$f":"IF((G325*ALBE+H325*ALDE+I325*AT+J325*BE+K325*DE+L325*FR+M325*NL)>(N325),1,0)","v":0},null,{"$f":"IF((C$6*G325+D$6*H325+E$6*I325+F$6*J325+G$6*K325+H$6*L325+I$6*M325)>(N325),1,0)","v":0}]
[null,421,"[AT-AT] Strass - Thaur 273B [OPP]","14T-220-0-0273BO","[AT-AT] Strass - Thaur 274B","14T-220-0-0274BL",2.6329999999999999E-2,2.6179999999999998E-2,-8.1710000000000005E-2,2.64E-2,2.946E-2,2.69E-2,2.5760000000000002E-2,551,{"$f":"IF((G326*ALBE+H326*ALDE+I326*AT+J326*BE+K326*DE+L326*FR+M326*NL)>(N326),1,0)","v":0},null,{"$f":"IF((C$6*G326+D$6*H326+E$6*I326+F$6*J326+G$6*K326+H$6*L326+I$6*M326)>(N326),1,0)","v":0}]
[null,422,"[BE-FR] Achene - Lonny 380.19 [DIR] [BE]_LTA_corner#02_#16","10T-BE-FR-000015","[BE-BE] Avelgem - Horta 380.102","22T20161020---1E",0,0,-0.44322,0.34444999999999998,-0.32329000000000002,-0.76183999999999996,0,2336,{"$f":"IF((G327*ALBE+H327*ALDE+I327*AT+J327*BE+K327*DE+L327*FR+M327*NL)>(N327),1,0)","v":0},null,{"$f":"IF((C$6*G327+D$6*H327+E$6*I327+F$6*J327+G$6*K327+H$6*L327+I$6*M327)>(N327),1,0)","v":0}]
[null,423,"[BE-BE] PST_VANYK_2 [S - N]","22T-BE-PST--002U","[NL-BE] Maasbracht - Van Eyck 380 Black/27","10T-BE-NL-00002G",0.48592999999999997,-4.9079999999999999E-2,1.2330000000000001E-2,0.27167000000000002,-1.6559999999999998E-2,9.5549999999999996E-2,-1.214E-2,964,{"$f":"IF((G328*ALBE+H328*ALDE+I328*AT+J328*BE+K328*DE+L328*FR+M328*NL)>(N328),1,0)","v":0},null,{"$f":"IF((C$6*G328+D$6*H328+E$6*I328+F$6*J328+G$6*K328+H$6*L328+I$6*M328)>(N328),1,0)","v":0}]
[null,424,"[BE-BE] PST_ZANDV_2 [N - S]_LTA_corner#13_#12","22T20161020---56","[NL-BE] Rilland - Zandvliet 380 White/30","10T-BE-NL-00004C",0,0,-0.35765000000000002,-0.71431999999999995,-0.32366,-0.50702999999999998,0,1680,{"$f":"IF((G329*ALBE+H329*ALDE+I329*AT+J329*BE+K329*DE+L329*FR+M329*NL)>(N329),1,0)","v":0},null,{"$f":"IF((C$6*G329+D$6*H329+E$6*I329+F$6*J329+G$6*K329+H$6*L329+I$6*M329)>(N329),1,0)","v":0}]
[null,425,"[D2-NL] Diele - Meeden 380 Black [DIR] [NL]_LTA_corner#05_#0","10T-DE-NL-00001V","[D2-NL] Diele - Meeden 380 White","10T-DE-NL-00002T",0,0,0.57225999999999999,0.25469999999999998,0.63146999999999998,0.45704,0,1645,{"$f":"IF((G330*ALBE+H330*ALDE+I330*AT+J330*BE+K330*DE+L330*FR+M330*NL)>(N330),1,0)","v":0},null,{"$f":"IF((C$6*G330+D$6*H330+E$6*I330+F$6*J330+G$6*K330+H$6*L330+I$6*M330)>(N330),1,0)","v":0}]
[null,426,"[BE-FR] Achene - Lonny 380.19 [DIR] [BE]_LTA_corner#02_#13","10T-BE-FR-000015","[BE-BE] Avelgem - Horta 380.102","22T20161020---1E",0,0,-0.44357999999999997,0.34155999999999997,-0.32279999999999998,-0.76312999999999998,0,2339,{"$f":"IF((G331*ALBE+H331*ALDE+I331*AT+J331*BE+K331*DE+L331*FR+M331*NL)>(N331),1,0)","v":0},null,{"$f":"IF((C$6*G331+D$6*H331+E$6*I331+F$6*J331+G$6*K331+H$6*L331+I$6*M331)>(N331),1,0)","v":0}]
[null,427,"[D2-D2] Altheim - Sittling 220 [OPP]_LTA_corner#09_#19","11TD2L000000004J","[D2-AT] Pleinting - St. Peter 258","10T-AT-DE-000037",0,0,-0.99607000000000001,-2.0879999999999999E-2,-2.188E-2,-8.3229999999999998E-2,0,4841,{"$f":"IF((G332*ALBE+H332*ALDE+I332*AT+J332*BE+K332*DE+L332*FR+M332*NL)>(N332),1,0)","v":0},null,{"$f":"IF((C$6*G332+D$6*H332+E$6*I332+F$6*J332+G$6*K332+H$6*L332+I$6*M332)>(N332),1,0)","v":0}]
[null,428,"[D2-D2] Altheim - Sittling 220 [OPP]_LTA_corner#09_#26","11TD2L000000004J","[D2-AT] Pleinting - St. Peter 258","10T-AT-DE-000037",0,0,-0.99587000000000003,-2.18E-2,-2.3789999999999999E-2,-8.4889999999999993E-2,0,4834,{"$f":"IF((G333*ALBE+H333*ALDE+I333*AT+J333*BE+K333*DE+L333*FR+M333*NL)>(N333),1,0)","v":0},null,{"$f":"IF((C$6*G333+D$6*H333+E$6*I333+F$6*J333+G$6*K333+H$6*L333+I$6*M333)>(N333),1,0)","v":0}]
[null,429,"[AT-AT] Westtirol Transformer WTRHU41 [OPP]_LTA_corner#17_#4","14T-38220-WT041O","BASECASE","N/A",0,0,0.99067000000000005,0,0.12007,-6.4449999999999993E-2,0,4548,{"$f":"IF((G334*ALBE+H334*ALDE+I334*AT+J334*BE+K334*DE+L334*FR+M334*NL)>(N334),1,0)","v":0},null,{"$f":"IF((C$6*G334+D$6*H334+E$6*I334+F$6*J334+G$6*K334+H$6*L334+I$6*M334)>(N334),1,0)","v":0}]
[null,430,"[D2-D2] Altheim - Sittling 220 [OPP]_LTA_corner#09_#0","11TD2L000000004J","[D2-AT] Pleinting - St. Peter 258","10T-AT-DE-000037",0,0,-0.99658000000000002,-1.7469999999999999E-2,-1.4999999999999999E-2,-7.9339999999999994E-2,0,4867,{"$f":"IF((G335*ALBE+H335*ALDE+I335*AT+J335*BE+K335*DE+L335*FR+M335*NL)>(N335),1,0)","v":0},null,{"$f":"IF((C$6*G335+D$6*H335+E$6*I335+F$6*J335+G$6*K335+H$6*L335+I$6*M335)>(N335),1,0)","v":0}]
[null,431,"[D2-NL] Diele - Meeden 380 Black [DIR] [NL]_LTA_corner#05_#41","10T-DE-NL-00001V","[D2-NL] Diele - Meeden 380 White","10T-DE-NL-00002T",0,0,0.57518999999999998,0.19666,0.65876000000000001,0.44330000000000003,0,1872,{"$f":"IF((G336*ALBE+H336*ALDE+I336*AT+J336*BE+K336*DE+L336*FR+M336*NL)>(N336),1,0)","v":0},null,{"$f":"IF((C$6*G336+D$6*H336+E$6*I336+F$6*J336+G$6*K336+H$6*L336+I$6*M336)>(N336),1,0)","v":0}]
[null,432,"[D2-NL] Diele - Meeden 380 Black [DIR] [NL]_LTA_corner#05_#7","10T-DE-NL-00001V","[D2-NL] Diele - Meeden 380 White","10T-DE-NL-00002T",0,0,0.52510000000000001,0.40400000000000003,0.62448999999999999,0.41360999999999998,0,1632,{"$f":"IF((G337*ALBE+H337*ALDE+I337*AT+J337*BE+K337*DE+L337*FR+M337*NL)>(N337),1,0)","v":0},null,{"$f":"IF((C$6*G337+D$6*H337+E$6*I337+F$6*J337+G$6*K337+H$6*L337+I$6*M337)>(N337),1,0)","v":0}]
[null,433,"[BE-BE] PST_ZANDV_2 [N - S]_LTA_corner#09_#6","22T20161020---56","[NL-BE] Rilland - Zandvliet 380 White/30","10T-BE-NL-00004C",0,0,-0.41824,-0.59260000000000002,-0.35032999999999997,-0.59260000000000002,0,1495,{"$f":"IF((G338*ALBE+H338*ALDE+I338*AT+J338*BE+K338*DE+L338*FR+M338*NL)>(N338),1,0)","v":0},null,{"$f":"IF((C$6*G338+D$6*H338+E$6*I338+F$6*J338+G$6*K338+H$6*L338+I$6*M338)>(N338),1,0)","v":0}]
[null,434,"[D2-NL] Diele - Meeden 380 Black [DIR] [D2]_LTA_corner#01_#2","10T-DE-NL-00001V","[D2-NL] Diele - Meeden 380 White ","10T-DE-NL-00002T",0,0,-0.83701000000000003,0.22628000000000001,0.44385000000000002,0.22628000000000001,0,7012,{"$f":"IF((G339*ALBE+H339*ALDE+I339*AT+J339*BE+K339*DE+L339*FR+M339*NL)>(N339),1,0)","v":0},null,{"$f":"IF((C$6*G339+D$6*H339+E$6*I339+F$6*J339+G$6*K339+H$6*L339+I$6*M339)>(N339),1,0)","v":0}]
[null,435,"[BE-FR] Achene - Lonny 380.19 [DIR] [BE]_LTA_corner#02_#2","10T-BE-FR-000015","[BE-BE] Avelgem - Horta 380.102","22T20161020---1E",0,0,-0.44385999999999998,0.34439999999999998,-0.32272000000000001,-0.76171999999999995,0,2341,{"$f":"IF((G340*ALBE+H340*ALDE+I340*AT+J340*BE+K340*DE+L340*FR+M340*NL)>(N340),1,0)","v":0},null,{"$f":"IF((C$6*G340+D$6*H340+E$6*I340+F$6*J340+G$6*K340+H$6*L340+I$6*M340)>(N340),1,0)","v":0}]
[null,436,"[D2-NL] Diele - Meeden 380 Black [DIR] [D2]_LTA_corner#21_#0","10T-DE-NL-00001V","[D2-NL] Diele - Meeden 380 White ","10T-DE-NL-00002T",0,0,0.64027999999999996,0.29627999999999999,0.57598000000000005,0.41293000000000002,0,1478,{"$f":"IF((G341*ALBE+H341*ALDE+I341*AT+J341*BE+K341*DE+L341*FR+M341*NL)>(N341),1,0)","v":0},null,{"$f":"IF((C$6*G341+D$6*H341+E$6*I341+F$6*J341+G$6*K341+H$6*L341+I$6*M341)>(N341),1,0)","v":0}]
[null,437,"[D2-D2] Altheim - Sittling 220 [OPP]_LTA_corner#09_#1","11TD2L000000004J","[D2-AT] Pleinting - St. Peter 258","10T-AT-DE-000037",0,0,-0.99599000000000004,-2.1669999999999998E-2,-2.2239999999999999E-2,-8.3949999999999997E-2,0,4840,{"$f":"IF((G342*ALBE+H342*ALDE+I342*AT+J342*BE+K342*DE+L342*FR+M342*NL)>(N342),1,0)","v":0},null,{"$f":"IF((C$6*G342+D$6*H342+E$6*I342+F$6*J342+G$6*K342+H$6*L342+I$6*M342)>(N342),1,0)","v":0}]
[null,438,"ALBE_export","N/A","BASECASE","N/A",1,0,0,0,0,0,0,0,{"$f":"IF((G343*ALBE+H343*ALDE+I343*AT+J343*BE+K343*DE+L343*FR+M343*NL)>(N343),1,0)","v":0},null,{"$f":"IF((C$6*G343+D$6*H343+E$6*I343+F$6*J343+G$6*K343+H$6*L343+I$6*M343)>(N343),1,0)","v":0}]
[null,439,"[D2-NL] Diele - Meeden 380 Black [DIR] [NL]_LTA_corner#05_#14","10T-DE-NL-00001V","[D2-NL] Diele - Meeden 380 White","10T-DE-NL-00002T",0,0,0.54640999999999995,0.31774000000000002,0.62148000000000003,0.46284999999999998,0,1636,{"$f":"IF((G344*ALBE+H344*ALDE+I344*AT+J344*BE+K344*DE+L344*FR+M344*NL)>(N344),1,0)","v":0},null,{"$f":"IF((C$6*G344+D$6*H344+E$6*I344+F$6*J344+G$6*K344+H$6*L344+I$6*M344)>(N344),1,0)","v":0}]
[null,440,"[D2-NL] Diele - Meeden 380 Black [DIR] [D2]_LTA_corner#01_#6","10T-DE-NL-00001V","[D2-NL] Diele - Meeden 380 White ","10T-DE-NL-00002T",0,0,-0.91300000000000003,0.161,0.33851999999999999,0.161,0,6676,{"$f":"IF((G345*ALBE+H345*ALDE+I345*AT+J345*BE+K345*DE+L345*FR+M345*NL)>(N345),1,0)","v":0},null,{"$f":"IF((C$6*G345+D$6*H345+E$6*I345+F$6*J345+G$6*K345+H$6*L345+I$6*M345)>(N345),1,0)","v":0}]
[null,441,"[D2-NL] Diele - Meeden 380 Black [DIR] [D2]_LTA_corner#05_#16","10T-DE-NL-00001V","[D2-NL] Diele - Meeden 380 White ","10T-DE-NL-00002T",0,0,0.60063999999999995,0.30893999999999999,0.60063999999999995,0.42781000000000002,0,1216,{"$f":"IF((G346*ALBE+H346*ALDE+I346*AT+J346*BE+K346*DE+L346*FR+M346*NL)>(N346),1,0)","v":0},null,{"$f":"IF((C$6*G346+D$6*H346+E$6*I346+F$6*J346+G$6*K346+H$6*L346+I$6*M346)>(N346),1,0)","v":0}]
[null,442,"[D7-FR] Ensdorf - Vigy 2S [OPP] [D7]","10T-DE-FR-000068","[D7-D7] Ensdorf - Uchtelfangen Taubental N","11T0-0000-0604-N",6.7269999999999996E-2,-5.9150000000000001E-2,1.975E-2,8.2869999999999999E-2,-1.244E-2,0.18410000000000001,1.5810000000000001E-2,732,{"$f":"IF((G347*ALBE+H347*ALDE+I347*AT+J347*BE+K347*DE+L347*FR+M347*NL)>(N347),1,0)","v":0},null,{"$f":"IF((C$6*G347+D$6*H347+E$6*I347+F$6*J347+G$6*K347+H$6*L347+I$6*M347)>(N347),1,0)","v":0}]
[null,443,"[AT-AT] Westtirol Transformer WTRHU41 [OPP]_LTA_corner#17_#8","14T-38220-WT041O","BASECASE","N/A",0,0,0.99112,0,0.1149,-6.6879999999999995E-2,0,4569,{"$f":"IF((G348*ALBE+H348*ALDE+I348*AT+J348*BE+K348*DE+L348*FR+M348*NL)>(N348),1,0)","v":0},null,{"$f":"IF((C$6*G348+D$6*H348+E$6*I348+F$6*J348+G$6*K348+H$6*L348+I$6*M348)>(N348),1,0)","v":0}]
[null,444,"[D2-NL] Diele - Meeden 380 Black [DIR] [D2]_LTA_corner#01_#0","10T-DE-NL-00001V","[D2-NL] Diele - Meeden 380 White ","10T-DE-NL-00002T",0,0,-0.99763999999999997,1.8749999999999999E-2,5.7099999999999998E-2,-3.3140000000000003E-2,0,5279,{"$f":"IF((G349*ALBE+H349*ALDE+I349*AT+J349*BE+K349*DE+L349*FR+M349*NL)>(N349),1,0)","v":0},null,{"$f":"IF((C$6*G349+D$6*H349+E$6*I349+F$6*J349+G$6*K349+H$6*L349+I$6*M349)>(N349),1,0)","v":0}]
[null,445,"[D4-AT] Buers - Westtirol 421 weiss [OPP] [D4]_LTA_corner#20_#40","10T-AT-DE-000061","[AT-AT] Westtirol Transformer WTRHU41","14T-38220-WT041O",0,0,0.98570999999999998,-3.8339999999999999E-2,0.11280999999999999,-0.11905,0,4638,{"$f":"IF((G350*ALBE+H350*ALDE+I350*AT+J350*BE+K350*DE+L350*FR+M350*NL)>(N350),1,0)","v":0},null,{"$f":"IF((C$6*G350+D$6*H350+E$6*I350+F$6*J350+G$6*K350+H$6*L350+I$6*M350)>(N350),1,0)","v":0}]
[null,446,"[D4-AT] Buers - Westtirol 421 weiss [OPP] [D4]_LTA_corner#20_#28","10T-AT-DE-000061","[AT-AT] Westtirol Transformer WTRHU41","14T-38220-WT041O",0,0,0.98623000000000005,-3.3739999999999999E-2,0.13034999999999999,-9.6009999999999998E-2,0,4554,{"$f":"IF((G351*ALBE+H351*ALDE+I351*AT+J351*BE+K351*DE+L351*FR+M351*NL)>(N351),1,0)","v":0},null,{"$f":"IF((C$6*G351+D$6*H351+E$6*I351+F$6*J351+G$6*K351+H$6*L351+I$6*M351)>(N351),1,0)","v":0}]
[null,447,"[AT-AT] Westtirol Transformer WTRHU41 [OPP]_LTA_corner#20_#22","14T-38220-WT041O","BASECASE","N/A",0,0,0.99258999999999997,-1.559E-2,0.10868999999999999,-5.2139999999999999E-2,0,4571,{"$f":"IF((G352*ALBE+H352*ALDE+I352*AT+J352*BE+K352*DE+L352*FR+M352*NL)>(N352),1,0)","v":0},null,{"$f":"IF((C$6*G352+D$6*H352+E$6*I352+F$6*J352+G$6*K352+H$6*L352+I$6*M352)>(N352),1,0)","v":0}]
[null,448,"[AT-AT] Westtirol Transformer WTRHU41 [OPP]_LTA_corner#20_#2","14T-38220-WT041O","BASECASE","N/A",0,0,0.98753999999999997,-2.1049999999999999E-2,0.11969,-9.9970000000000003E-2,0,4594,{"$f":"IF((G353*ALBE+H353*ALDE+I353*AT+J353*BE+K353*DE+L353*FR+M353*NL)>(N353),1,0)","v":0},null,{"$f":"IF((C$6*G353+D$6*H353+E$6*I353+F$6*J353+G$6*K353+H$6*L353+I$6*M353)>(N353),1,0)","v":0}]
[null,449,"[BE-FR] Achene - Lonny 380.19 [DIR] [BE]_LTA_corner#02_#5","10T-BE-FR-000015","[BE-BE] Avelgem - Horta 380.102","22T20161020---1E",0,0,-0.44713000000000003,0.32706000000000002,-0.32665,-0.76576999999999995,0,2325,{"$f":"IF((G354*ALBE+H354*ALDE+I354*AT+J354*BE+K354*DE+L354*FR+M354*NL)>(N354),1,0)","v":0},null,{"$f":"IF((C$6*G354+D$6*H354+E$6*I354+F$6*J354+G$6*K354+H$6*L354+I$6*M354)>(N354),1,0)","v":0}]
[null,450,"[BE-BE] PST_ZANDV_2 [N - S]_LTA_corner#13_#32","22T20161020---56","[NL-BE] Rilland - Zandvliet 380 White/30","10T-BE-NL-00004C",0,0,-0.33072000000000001,-0.76034999999999997,-0.27184000000000003,-0.48847000000000002,0,1907,{"$f":"IF((G355*ALBE+H355*ALDE+I355*AT+J355*BE+K355*DE+L355*FR+M355*NL)>(N355),1,0)","v":0},null,{"$f":"IF((C$6*G355+D$6*H355+E$6*I355+F$6*J355+G$6*K355+H$6*L355+I$6*M355)>(N355),1,0)","v":0}]
[null,451,"[AT-AT] Westtirol Transformer WTRHU41 [OPP]_LTA_corner#17_#0","14T-38220-WT041O","BASECASE","N/A",0,0,0.99021999999999999,6.9699999999999996E-3,0.12002,-7.077E-2,0,4565,{"$f":"IF((G356*ALBE+H356*ALDE+I356*AT+J356*BE+K356*DE+L356*FR+M356*NL)>(N356),1,0)","v":0},null,{"$f":"IF((C$6*G356+D$6*H356+E$6*I356+F$6*J356+G$6*K356+H$6*L356+I$6*M356)>(N356),1,0)","v":0}]
[null,452,"[BE-BE] PST_ZANDV_2 [N - S]_LTA_corner#13_#30","22T20161020---56","[NL-BE] Rilland - Zandvliet 380 White/30","10T-BE-NL-00004C",0,0,-0.37490000000000001,-0.71504000000000001,-0.30097000000000002,-0.50753999999999999,0,1866,{"$f":"IF((G357*ALBE+H357*ALDE+I357*AT+J357*BE+K357*DE+L357*FR+M357*NL)>(N357),1,0)","v":0},null,{"$f":"IF((C$6*G357+D$6*H357+E$6*I357+F$6*J357+G$6*K357+H$6*L357+I$6*M357)>(N357),1,0)","v":0}]
[null,453,"[D2-NL] Diele - Meeden 380 Black [DIR] [D2]_LTA_corner#01_#4","10T-DE-NL-00001V","[D2-NL] Diele - Meeden 380 White ","10T-DE-NL-00002T",0,0,-0.91547000000000001,0.15342,0.33888000000000001,0.15342,0,6694,{"$f":"IF((G358*ALBE+H358*ALDE+I358*AT+J358*BE+K358*DE+L358*FR+M358*NL)>(N358),1,0)","v":0},null,{"$f":"IF((C$6*G358+D$6*H358+E$6*I358+F$6*J358+G$6*K358+H$6*L358+I$6*M358)>(N358),1,0)","v":0}]
[null,454,"[BE-BE] PST_ZANDV_2 [N - S]_LTA_corner#13_#0","22T20161020---56","[NL-BE] Rilland - Zandvliet 380 White/30","10T-BE-NL-00004C",0,0,-0.37015999999999999,-0.70601000000000003,-0.33674999999999999,-0.50112999999999996,0,1666,{"$f":"IF((G359*ALBE+H359*ALDE+I359*AT+J359*BE+K359*DE+L359*FR+M359*NL)>(N359),1,0)","v":0},null,{"$f":"IF((C$6*G359+D$6*H359+E$6*I359+F$6*J359+G$6*K359+H$6*L359+I$6*M359)>(N359),1,0)","v":0}]
[null,455,"[D4-AT] Buers - Westtirol 421 weiss [OPP] [D4]_LTA_corner#20_#5","10T-AT-DE-000061","[AT-AT] Westtirol Transformer WTRHU41","14T-38220-WT041O",0,0,0.98594000000000004,-3.4099999999999998E-2,0.12859999999999999,-0.10108,0,4566,{"$f":"IF((G360*ALBE+H360*ALDE+I360*AT+J360*BE+K360*DE+L360*FR+M360*NL)>(N360),1,0)","v":0},null,{"$f":"IF((C$6*G360+D$6*H360+E$6*I360+F$6*J360+G$6*K360+H$6*L360+I$6*M360)>(N360),1,0)","v":0}]
[null,456,"[BE-BE] PST_VANYK_2 [S - N]","22T-BE-PST--002U","[BE-FR] Achene - Lonny 380.19","10T-BE-FR-000015",0.57308000000000003,-2.4340000000000001E-2,5.3400000000000001E-3,0.32016,-6.9899999999999997E-3,4.5969999999999997E-2,2.1069999999999998E-2,995,{"$f":"IF((G361*ALBE+H361*ALDE+I361*AT+J361*BE+K361*DE+L361*FR+M361*NL)>(N361),1,0)","v":0},null,{"$f":"IF((C$6*G361+D$6*H361+E$6*I361+F$6*J361+G$6*K361+H$6*L361+I$6*M361)>(N361),1,0)","v":0}]
[null,457,"[BE-BE] PST_ZANDV_2 [N - S]_LTA_corner#09_#9","22T20161020---56","[NL-BE] Rilland - Zandvliet 380 White/30","10T-BE-NL-00004C",0,0,-0.41676000000000002,-0.59341999999999995,-0.34932000000000002,-0.59341999999999995,0,1494,{"$f":"IF((G362*ALBE+H362*ALDE+I362*AT+J362*BE+K362*DE+L362*FR+M362*NL)>(N362),1,0)","v":0},null,{"$f":"IF((C$6*G362+D$6*H362+E$6*I362+F$6*J362+G$6*K362+H$6*L362+I$6*M362)>(N362),1,0)","v":0}]
[null,458,"[D2-NL] Diele - Meeden 380 Black [DIR] [NL]_LTA_corner#05_#1","10T-DE-NL-00001V","[D2-NL] Diele - Meeden 380 White","10T-DE-NL-00002T",0,0,0.58447000000000005,0.11486,0.71113999999999999,0.37347000000000002,0,2228,{"$f":"IF((G363*ALBE+H363*ALDE+I363*AT+J363*BE+K363*DE+L363*FR+M363*NL)>(N363),1,0)","v":0},null,{"$f":"IF((C$6*G363+D$6*H363+E$6*I363+F$6*J363+G$6*K363+H$6*L363+I$6*M363)>(N363),1,0)","v":0}]
[null,459,"[D2-NL] Diele - Meeden 380 Black [DIR] [D2]_LTA_corner#05_#11","10T-DE-NL-00001V","[D2-NL] Diele - Meeden 380 White ","10T-DE-NL-00002T",0,0,0.54583000000000004,0.31740000000000002,0.62082000000000004,0.46467000000000003,0,1636,{"$f":"IF((G364*ALBE+H364*ALDE+I364*AT+J364*BE+K364*DE+L364*FR+M364*NL)>(N364),1,0)","v":0},null,{"$f":"IF((C$6*G364+D$6*H364+E$6*I364+F$6*J364+G$6*K364+H$6*L364+I$6*M364)>(N364),1,0)","v":0}]
[null,460,"[BE-BE] PST_ZANDV_2 [N - S]_LTA_corner#13_#24","22T20161020---56","[NL-BE] Rilland - Zandvliet 380 White/30","10T-BE-NL-00004C",0,0,-0.32022,-0.78446000000000005,-0.26909,-0.45789999999999997,0,1949,{"$f":"IF((G365*ALBE+H365*ALDE+I365*AT+J365*BE+K365*DE+L365*FR+M365*NL)>(N365),1,0)","v":0},null,{"$f":"IF((C$6*G365+D$6*H365+E$6*I365+F$6*J365+G$6*K365+H$6*L365+I$6*M365)>(N365),1,0)","v":0}]
[null,461,"[BE-FR] Achene - Lonny 380.19 [DIR] [BE]_LTA_corner#02_#11","10T-BE-FR-000015","[BE-BE] Avelgem - Horta 380.102","22T20161020---1E",0,0,-0.44338,0.34261000000000003,-0.32263999999999998,-0.76285000000000003,0,2339,{"$f":"IF((G366*ALBE+H366*ALDE+I366*AT+J366*BE+K366*DE+L366*FR+M366*NL)>(N366),1,0)","v":0},null,{"$f":"IF((C$6*G366+D$6*H366+E$6*I366+F$6*J366+G$6*K366+H$6*L366+I$6*M366)>(N366),1,0)","v":0}]
[null,462,"[D2-NL] Diele - Meeden 380 Black [DIR] [D2]_LTA_corner#05_#3","10T-DE-NL-00001V","[D2-NL] Diele - Meeden 380 White ","10T-DE-NL-00002T",0,0,0.56164999999999998,0.31302000000000002,0.64832999999999996,0.40772000000000003,0,1715,{"$f":"IF((G367*ALBE+H367*ALDE+I367*AT+J367*BE+K367*DE+L367*FR+M367*NL)>(N367),1,0)","v":0},null,{"$f":"IF((C$6*G367+D$6*H367+E$6*I367+F$6*J367+G$6*K367+H$6*L367+I$6*M367)>(N367),1,0)","v":0}]
[null,463,"[AT-AT] Westtirol Transformer WTRHU41 [OPP]_LTA_corner#20_#0","14T-38220-WT041O","BASECASE","N/A",0,0,0.98904999999999998,-4.9099999999999998E-2,0.11988,-7.0680000000000007E-2,0,4559,{"$f":"IF((G368*ALBE+H368*ALDE+I368*AT+J368*BE+K368*DE+L368*FR+M368*NL)>(N368),1,0)","v":0},null,{"$f":"IF((C$6*G368+D$6*H368+E$6*I368+F$6*J368+G$6*K368+H$6*L368+I$6*M368)>(N368),1,0)","v":0}]
[null,464,"[BE-FR] Achene - Lonny 380.19 [OPP] [BE]","10T-BE-FR-000015","[BE-BE] Avelgem - Horta 380.102","22T20161020---1E",-0.30626999999999999,-6.4439999999999997E-2,2.0740000000000001E-2,-0.30151,-2.8539999999999999E-2,0.15109,-0.16059000000000001,1888,{"$f":"IF((G369*ALBE+H369*ALDE+I369*AT+J369*BE+K369*DE+L369*FR+M369*NL)>(N369),1,0)","v":0},null,{"$f":"IF((C$6*G369+D$6*H369+E$6*I369+F$6*J369+G$6*K369+H$6*L369+I$6*M369)>(N369),1,0)","v":0}]
[null,465,"[BE-BE] PST_ZANDV_2 [N - S]_LTA_corner#13_#13","22T20161020---56","[NL-BE] Rilland - Zandvliet 380 White/30","10T-BE-NL-00004C",0,0,-0.32291999999999998,-0.80178000000000005,-0.28848000000000001,-0.41188999999999998,0,1950,{"$f":"IF((G370*ALBE+H370*ALDE+I370*AT+J370*BE+K370*DE+L370*FR+M370*NL)>(N370),1,0)","v":0},null,{"$f":"IF((C$6*G370+D$6*H370+E$6*I370+F$6*J370+G$6*K370+H$6*L370+I$6*M370)>(N370),1,0)","v":0}]
[null,466,"[D2-NL] Diele - Meeden 380 Black [DIR] [D2]_LTA_corner#05_#27","10T-DE-NL-00001V","[D2-NL] Diele - Meeden 380 White ","10T-DE-NL-00002T",0,0,0.60140000000000005,0.30684,0.60140000000000005,0.42720000000000002,0,1219,{"$f":"IF((G371*ALBE+H371*ALDE+I371*AT+J371*BE+K371*DE+L371*FR+M371*NL)>(N371),1,0)","v":0},null,{"$f":"IF((C$6*G371+D$6*H371+E$6*I371+F$6*J371+G$6*K371+H$6*L371+I$6*M371)>(N371),1,0)","v":0}]
[null,467,"[NL-NL] Borssele - Rilland 380 Zwart [DIR]","49T000000000059S","[NL-NL] Borssele - Rilland 380 Grijs","49T000000000057W",-5.8500000000000002E-3,2.31E-3,-8.0999999999999996E-4,-1.49E-2,1.1100000000000001E-3,-6.2599999999999999E-3,0.24940000000000001,746,{"$f":"IF((G372*ALBE+H372*ALDE+I372*AT+J372*BE+K372*DE+L372*FR+M372*NL)>(N372),1,0)","v":0},null,{"$f":"IF((C$6*G372+D$6*H372+E$6*I372+F$6*J372+G$6*K372+H$6*L372+I$6*M372)>(N372),1,0)","v":0}]
[null,468,"[AT-AT] Westtirol Transformer WTRHU41 [OPP]_LTA_corner#17_#2","14T-38220-WT041O","BASECASE","N/A",0,0,0.98973,0,0.11996,-7.7789999999999998E-2,0,4565,{"$f":"IF((G373*ALBE+H373*ALDE+I373*AT+J373*BE+K373*DE+L373*FR+M373*NL)>(N373),1,0)","v":0},null,{"$f":"IF((C$6*G373+D$6*H373+E$6*I373+F$6*J373+G$6*K373+H$6*L373+I$6*M373)>(N373),1,0)","v":0}]
[null,469,"[D2-D2] Altheim - Sittling 220 [OPP]_LTA_corner#09_#30","11TD2L000000004J","[D2-AT] Pleinting - St. Peter 258","10T-AT-DE-000037",0,0,-0.99583999999999995,-2.2009999999999998E-2,-2.4029999999999999E-2,-8.5080000000000003E-2,0,4833,{"$f":"IF((G374*ALBE+H374*ALDE+I374*AT+J374*BE+K374*DE+L374*FR+M374*NL)>(N374),1,0)","v":0},null,{"$f":"IF((C$6*G374+D$6*H374+E$6*I374+F$6*J374+G$6*K374+H$6*L374+I$6*M374)>(N374),1,0)","v":0}]
[null,470,"[BE-FR] Achene - Lonny 380.19 [DIR] [BE]_LTA_corner#02_#6","10T-BE-FR-000015","[BE-BE] Avelgem - Horta 380.102","22T20161020---1E",0,0,-0.44257999999999997,0.35103000000000001,-0.32271,-0.75944999999999996,0,2340,{"$f":"IF((G375*ALBE+H375*ALDE+I375*AT+J375*BE+K375*DE+L375*FR+M375*NL)>(N375),1,0)","v":0},null,{"$f":"IF((C$6*G375+D$6*H375+E$6*I375+F$6*J375+G$6*K375+H$6*L375+I$6*M375)>(N375),1,0)","v":0}]
[null,471,"[D2-NL] Diele - Meeden 380 Black [DIR] [D2]_LTA_corner#05_#15","10T-DE-NL-00001V","[D2-NL] Diele - Meeden 380 White ","10T-DE-NL-00002T",0,0,0.60068999999999995,0.30808999999999997,0.60068999999999995,0.42829,0,1217,{"$f":"IF((G376*ALBE+H376*ALDE+I376*AT+J376*BE+K376*DE+L376*FR+M376*NL)>(N376),1,0)","v":0},null,{"$f":"IF((C$6*G376+D$6*H376+E$6*I376+F$6*J376+G$6*K376+H$6*L376+I$6*M376)>(N376),1,0)","v":0}]
[null,472,"[D2-NL] Diele - Meeden 380 Black [DIR] [D2]_LTA_corner#05_#7","10T-DE-NL-00001V","[D2-NL] Diele - Meeden 380 White ","10T-DE-NL-00002T",0,0,0.60082000000000002,0.30965999999999999,0.60082000000000002,0.42677999999999999,0,1215,{"$f":"IF((G377*ALBE+H377*ALDE+I377*AT+J377*BE+K377*DE+L377*FR+M377*NL)>(N377),1,0)","v":0},null,{"$f":"IF((C$6*G377+D$6*H377+E$6*I377+F$6*J377+G$6*K377+H$6*L377+I$6*M377)>(N377),1,0)","v":0}]
[null,473,"[AT-AT] Westtirol Transformer WTRHU41 [OPP]_LTA_corner#20_#1","14T-38220-WT041O","BASECASE","N/A",0,0,0.98668,-2.103E-2,0.14507,-7.0510000000000003E-2,0,4474,{"$f":"IF((G378*ALBE+H378*ALDE+I378*AT+J378*BE+K378*DE+L378*FR+M378*NL)>(N378),1,0)","v":0},null,{"$f":"IF((C$6*G378+D$6*H378+E$6*I378+F$6*J378+G$6*K378+H$6*L378+I$6*M378)>(N378),1,0)","v":0}]
[null,474,"[BE-BE] PST_ZANDV_2 [N - S]_LTA_corner#13_#23","22T20161020---56","[NL-BE] Rilland - Zandvliet 380 White/30","10T-BE-NL-00004C",0,0,-0.32316,-0.79359000000000002,-0.28356999999999999,-0.43054999999999999,0,1940,{"$f":"IF((G379*ALBE+H379*ALDE+I379*AT+J379*BE+K379*DE+L379*FR+M379*NL)>(N379),1,0)","v":0},null,{"$f":"IF((C$6*G379+D$6*H379+E$6*I379+F$6*J379+G$6*K379+H$6*L379+I$6*M379)>(N379),1,0)","v":0}]
[null,475,"[D2-AT] Y - St. Peter (- Altheim - Simbach) 233/230 [OPP] [D2]","10T-AT-DE-00001B","[D2-AT] Y - St. Peter (- Altheim - Simbach) 234/230","10T-AT-DE-000045",-3.696E-2,-3.8260000000000002E-2,2.47E-2,-3.6720000000000003E-2,-3.7580000000000002E-2,-3.39E-2,-3.7539999999999997E-2,345,{"$f":"IF((G380*ALBE+H380*ALDE+I380*AT+J380*BE+K380*DE+L380*FR+M380*NL)>(N380),1,0)","v":0},null,{"$f":"IF((C$6*G380+D$6*H380+E$6*I380+F$6*J380+G$6*K380+H$6*L380+I$6*M380)>(N380),1,0)","v":0}]
[null,476,"[AT-AT] Westtirol Transformer WTRHU41 [OPP]_LTA_corner#20_#16","14T-38220-WT041O","BASECASE","N/A",0,0,0.99153999999999998,-2.1139999999999999E-2,0.12018,-4.4330000000000001E-2,0,4523,{"$f":"IF((G381*ALBE+H381*ALDE+I381*AT+J381*BE+K381*DE+L381*FR+M381*NL)>(N381),1,0)","v":0},null,{"$f":"IF((C$6*G381+D$6*H381+E$6*I381+F$6*J381+G$6*K381+H$6*L381+I$6*M381)>(N381),1,0)","v":0}]
[null,477,"[BE-BE] PST_ZANDV_2 [N - S]_LTA_corner#09_#4","22T20161020---56","[NL-BE] Rilland - Zandvliet 380 White/30","10T-BE-NL-00004C",0,0,-0.41830000000000001,-0.59214,-0.3518,-0.59214,0,1488,{"$f":"IF((G382*ALBE+H382*ALDE+I382*AT+J382*BE+K382*DE+L382*FR+M382*NL)>(N382),1,0)","v":0},null,{"$f":"IF((C$6*G382+D$6*H382+E$6*I382+F$6*J382+G$6*K382+H$6*L382+I$6*M382)>(N382),1,0)","v":0}]
[null,478,"[AT-AT] Westtirol Transformer WTRHU41 [OPP]_LTA_corner#17_#1","14T-38220-WT041O","BASECASE","N/A",0,0,0.98950000000000005,0,0.12606000000000001,-7.0720000000000005E-2,0,4536,{"$f":"IF((G383*ALBE+H383*ALDE+I383*AT+J383*BE+K383*DE+L383*FR+M383*NL)>(N383),1,0)","v":0},null,{"$f":"IF((C$6*G383+D$6*H383+E$6*I383+F$6*J383+G$6*K383+H$6*L383+I$6*M383)>(N383),1,0)","v":0}]
[null,479,"ALDE_import","N/A","BASECASE","N/A",0,-1,0,0,0,0,0,0,{"$f":"IF((G384*ALBE+H384*ALDE+I384*AT+J384*BE+K384*DE+L384*FR+M384*NL)>(N384),1,0)","v":0},null,{"$f":"IF((C$6*G384+D$6*H384+E$6*I384+F$6*J384+G$6*K384+H$6*L384+I$6*M384)>(N384),1,0)","v":0}]
[null,480,"[D2-NL] Diele - Meeden 380 Black [DIR] [NL]_LTA_corner#05_#5","10T-DE-NL-00001V","[D2-NL] Diele - Meeden 380 White","10T-DE-NL-00002T",0,0,0.55889,0.32500000000000001,0.63568000000000002,0.42181999999999997,0,1637,{"$f":"IF((G385*ALBE+H385*ALDE+I385*AT+J385*BE+K385*DE+L385*FR+M385*NL)>(N385),1,0)","v":0},null,{"$f":"IF((C$6*G385+D$6*H385+E$6*I385+F$6*J385+G$6*K385+H$6*L385+I$6*M385)>(N385),1,0)","v":0}]
[null,481,"[BE-FR] Achene - Lonny 380.19 [DIR] [BE]_LTA_corner#02_#4","10T-BE-FR-000015","[BE-BE] Avelgem - Horta 380.102","22T20161020---1E",0,0,-0.44289000000000001,0.34458,-0.32290000000000002,-0.76214000000000004,0,2337,{"$f":"IF((G386*ALBE+H386*ALDE+I386*AT+J386*BE+K386*DE+L386*FR+M386*NL)>(N386),1,0)","v":0},null,{"$f":"IF((C$6*G386+D$6*H386+E$6*I386+F$6*J386+G$6*K386+H$6*L386+I$6*M386)>(N386),1,0)","v":0}]
[null,482,"[BE-BE] PST_ZANDV_2 [N - S]_LTA_corner#09_#0","22T20161020---56","[NL-BE] Rilland - Zandvliet 380 White/30","10T-BE-NL-00004C",0,0,-0.42797000000000002,-0.55859000000000003,-0.35680000000000001,-0.61443000000000003,0,1543,{"$f":"IF((G387*ALBE+H387*ALDE+I387*AT+J387*BE+K387*DE+L387*FR+M387*NL)>(N387),1,0)","v":0},null,{"$f":"IF((C$6*G387+D$6*H387+E$6*I387+F$6*J387+G$6*K387+H$6*L387+I$6*M387)>(N387),1,0)","v":0}]
[null,483,"ALDE_export","N/A","BASECASE","N/A",0,1,0,0,0,0,0,0,{"$f":"IF((G388*ALBE+H388*ALDE+I388*AT+J388*BE+K388*DE+L388*FR+M388*NL)>(N388),1,0)","v":0},null,{"$f":"IF((C$6*G388+D$6*H388+E$6*I388+F$6*J388+G$6*K388+H$6*L388+I$6*M388)>(N388),1,0)","v":0}]
[null,484,"[D2-D2] Altheim - Sittling 220 [OPP]_LTA_corner#09_#4","11TD2L000000004J","[D2-AT] Pleinting - St. Peter 258","10T-AT-DE-000037",0,0,-0.99556,-2.393E-2,-2.6429999999999999E-2,-8.7169999999999997E-2,0,4825,{"$f":"IF((G389*ALBE+H389*ALDE+I389*AT+J389*BE+K389*DE+L389*FR+M389*NL)>(N389),1,0)","v":0},null,{"$f":"IF((C$6*G389+D$6*H389+E$6*I389+F$6*J389+G$6*K389+H$6*L389+I$6*M389)>(N389),1,0)","v":0}]
["hour 5",830,"[D2-D2] Altheim - Sittling 220 [OPP]","11TD2L000000004J","[D2-AT] Pleinting - St. Peter 258","10T-AT-DE-000037",3.4680000000000002E-2,3.6450000000000003E-2,-2.5690000000000001E-2,3.4349999999999999E-2,3.4279999999999998E-2,3.0460000000000001E-2,3.569E-2,303,{"$f":"IF((G390*ALBE+H390*ALDE+I390*AT+J390*BE+K390*DE+L390*FR+M390*NL)>(N390),1,0)","v":0},null,{"$f":"IF((C$6*G390+D$6*H390+E$6*I390+F$6*J390+G$6*K390+H$6*L390+I$6*M390)>(N390),1,0)","v":0}]
[null,831,"[BE-FR] Achene - Lonny 380.19 [DIR] [BE]_LTA_corner#02_#14","10T-BE-FR-000015","[BE-BE] Avelgem - Horta 380.102","22T20161020---1E",0,0,-0.43664999999999998,0.35576999999999998,-0.31886999999999999,-0.76229000000000002,0,2339,{"$f":"IF((G391*ALBE+H391*ALDE+I391*AT+J391*BE+K391*DE+L391*FR+M391*NL)>(N391),1,0)","v":0},null,{"$f":"IF((C$6*G391+D$6*H391+E$6*I391+F$6*J391+G$6*K391+H$6*L391+I$6*M391)>(N391),1,0)","v":0}]
[null,832,"[D2-NL] Diele - Meeden 380 Black [DIR] [D2]_LTA_corner#01_#6","10T-DE-NL-00001V","[D2-NL] Diele - Meeden 380 White ","10T-DE-NL-00002T",0,0,-0.86007,0.20638000000000001,0.41844999999999999,0.20638000000000001,0,6955,{"$f":"IF((G392*ALBE+H392*ALDE+I392*AT+J392*BE+K392*DE+L392*FR+M392*NL)>(N392),1,0)","v":0},null,{"$f":"IF((C$6*G392+D$6*H392+E$6*I392+F$6*J392+G$6*K392+H$6*L392+I$6*M392)>(N392),1,0)","v":0}]
[null,833,"[D2-NL] Diele - Meeden 380 Black [DIR] [D2]_LTA_corner#05_#23","10T-DE-NL-00001V","[D2-NL] Diele - Meeden 380 White ","10T-DE-NL-00002T",0,0,0.60126000000000002,0.30685000000000001,0.60126000000000002,0.42757000000000001,0,1219,{"$f":"IF((G393*ALBE+H393*ALDE+I393*AT+J393*BE+K393*DE+L393*FR+M393*NL)>(N393),1,0)","v":0},null,{"$f":"IF((C$6*G393+D$6*H393+E$6*I393+F$6*J393+G$6*K393+H$6*L393+I$6*M393)>(N393),1,0)","v":0}]
[null,834,"[D4-AT] Buers - Westtirol 421 weiss [OPP] [D4]_LTA_corner#20_#1","10T-AT-DE-000061","[AT-AT] Westtirol Transformer WTRHU41","14T-38220-WT041O",0,0,0.98346999999999996,-4.4760000000000001E-2,9.3859999999999999E-2,-0.14824000000000001,0,4726,{"$f":"IF((G394*ALBE+H394*ALDE+I394*AT+J394*BE+K394*DE+L394*FR+M394*NL)>(N394),1,0)","v":0},null,{"$f":"IF((C$6*G394+D$6*H394+E$6*I394+F$6*J394+G$6*K394+H$6*L394+I$6*M394)>(N394),1,0)","v":0}]
[null,835,"[BE-BE] PST_ZANDV_2 [N - S]_LTA_corner#13_#32","22T20161020---56","[NL-BE] Rilland - Zandvliet 380 White/30","10T-BE-NL-00004C",0,0,-0.31070999999999999,-0.80632000000000004,-0.26805000000000001,-0.42598000000000003,0,1984,{"$f":"IF((G395*ALBE+H395*ALDE+I395*AT+J395*BE+K395*DE+L395*FR+M395*NL)>(N395),1,0)","v":0},null,{"$f":"IF((C$6*G395+D$6*H395+E$6*I395+F$6*J395+G$6*K395+H$6*L395+I$6*M395)>(N395),1,0)","v":0}]
[null,836,"[D2-NL] Diele - Meeden 380 Black [DIR] [D2]_LTA_corner#01_#0","10T-DE-NL-00001V","[D2-NL] Diele - Meeden 380 White ","10T-DE-NL-00002T",0,0,-0.98051999999999995,7.6960000000000001E-2,0.17554,4.2860000000000002E-2,0,5964,{"$f":"IF((G396*ALBE+H396*ALDE+I396*AT+J396*BE+K396*DE+L396*FR+M396*NL)>(N396),1,0)","v":0},null,{"$f":"IF((C$6*G396+D$6*H396+E$6*I396+F$6*J396+G$6*K396+H$6*L396+I$6*M396)>(N396),1,0)","v":0}]
[null,837,"[D4-AT] Buers - Westtirol 421 weiss [OPP] [D4]_LTA_corner#20_#22","10T-AT-DE-000061","[AT-AT] Westtirol Transformer WTRHU41","14T-38220-WT041O",0,0,0.99187000000000003,-1.8579999999999999E-2,0.11054,-6.019E-2,0,4576,{"$f":"IF((G397*ALBE+H397*ALDE+I397*AT+J397*BE+K397*DE+L397*FR+M397*NL)>(N397),1,0)","v":0},null,{"$f":"IF((C$6*G397+D$6*H397+E$6*I397+F$6*J397+G$6*K397+H$6*L397+I$6*M397)>(N397),1,0)","v":0}]
[null,838,"[D2-NL] Diele - Meeden 380 Black [DIR] [NL]_LTA_corner#05_#31","10T-DE-NL-00001V","[D2-NL] Diele - Meeden 380 White","10T-DE-NL-00002T",0,0,0.57057999999999998,0.25735000000000002,0.62948000000000004,0.46039000000000002,0,1638,{"$f":"IF((G398*ALBE+H398*ALDE+I398*AT+J398*BE+K398*DE+L398*FR+M398*NL)>(N398),1,0)","v":0},null,{"$f":"IF((C$6*G398+D$6*H398+E$6*I398+F$6*J398+G$6*K398+H$6*L398+I$6*M398)>(N398),1,0)","v":0}]
[null,839,"[BE-BE] PST_ZANDV_2 [N - S]_LTA_corner#09_#9","22T20161020---56","[NL-BE] Rilland - Zandvliet 380 White/30","10T-BE-NL-00004C",0,0,-0.41005999999999998,-0.59863999999999995,-0.33926000000000001,-0.59863999999999995,0,1516,{"$f":"IF((G399*ALBE+H399*ALDE+I399*AT+J399*BE+K399*DE+L399*FR+M399*NL)>(N399),1,0)","v":0},null,{"$f":"IF((C$6*G399+D$6*H399+E$6*I399+F$6*J399+G$6*K399+H$6*L399+I$6*M399)>(N399),1,0)","v":0}]
[null,840,"[AT-AT] Westtirol Transformer WTRHU41 [OPP]_LTA_corner#17_#0","14T-38220-WT041O","BASECASE","N/A",0,0,0.99012999999999995,1.559E-2,0.1196,-7.1429999999999993E-2,0,4577,{"$f":"IF((G400*ALBE+H400*ALDE+I400*AT+J400*BE+K400*DE+L400*FR+M400*NL)>(N400),1,0)","v":0},null,{"$f":"IF((C$6*G400+D$6*H400+E$6*I400+F$6*J400+G$6*K400+H$6*L400+I$6*M400)>(N400),1,0)","v":0}]
[null,841,"ALDE_export","N/A","BASECASE","N/A",0,1,0,0,0,0,0,0,{"$f":"IF((G401*ALBE+H401*ALDE+I401*AT+J401*BE+K401*DE+L401*FR+M401*NL)>(N401),1,0)","v":0},null,{"$f":"IF((C$6*G401+D$6*H401+E$6*I401+F$6*J401+G$6*K401+H$6*L401+I$6*M401)>(N401),1,0)","v":0}]
[null,842,"[BE-BE] PST_ZANDV_2 [N - S]_LTA_corner#09_#2","22T20161020---56","[NL-BE] Rilland - Zandvliet 380 White/30","10T-BE-NL-00004C",0,0,-0.41108,-0.59867000000000004,-0.33792,-0.59867000000000004,0,1527,{"$f":"IF((G402*ALBE+H402*ALDE+I402*AT+J402*BE+K402*DE+L402*FR+M402*NL)>(N402),1,0)","v":0},null,{"$f":"IF((C$6*G402+D$6*H402+E$6*I402+F$6*J402+G$6*K402+H$6*L402+I$6*M402)>(N402),1,0)","v":0}]
[null,843,"[D2-NL] Diele - Meeden 380 Black [DIR] [NL]_LTA_corner#05_#6","10T-DE-NL-00001V","[D2-NL] Diele - Meeden 380 White","10T-DE-NL-00002T",0,0,0.52708999999999995,0.41183999999999998,0.58706000000000003,0.45598,0,1385,{"$f":"IF((G403*ALBE+H403*ALDE+I403*AT+J403*BE+K403*DE+L403*FR+M403*NL)>(N403),1,0)","v":0},null,{"$f":"IF((C$6*G403+D$6*H403+E$6*I403+F$6*J403+G$6*K403+H$6*L403+I$6*M403)>(N403),1,0)","v":0}]
[null,844,"[D2-NL] Diele - Meeden 380 Black [DIR] [NL]_LTA_corner#05_#2","10T-DE-NL-00001V","[D2-NL] Diele - Meeden 380 White","10T-DE-NL-00002T",0,0,0.52341000000000004,0.40711999999999998,0.62653999999999999,0.40956999999999999,0,1648,{"$f":"IF((G404*ALBE+H404*ALDE+I404*AT+J404*BE+K404*DE+L404*FR+M404*NL)>(N404),1,0)","v":0},null,{"$f":"IF((C$6*G404+D$6*H404+E$6*I404+F$6*J404+G$6*K404+H$6*L404+I$6*M404)>(N404),1,0)","v":0}]
[null,845,"[BE-BE] PST_ZANDV_2 [N - S]_LTA_corner#09_#8","22T20161020---56","[NL-BE] Rilland - Zandvliet 380 White/30","10T-BE-NL-00004C",0,0,-0.41075,-0.59819,-0.34001999999999999,-0.59819,0,1515,{"$f":"IF((G405*ALBE+H405*ALDE+I405*AT+J405*BE+K405*DE+L405*FR+M405*NL)>(N405),1,0)","v":0},null,{"$f":"IF((C$6*G405+D$6*H405+E$6*I405+F$6*J405+G$6*K405+H$6*L405+I$6*M405)>(N405),1,0)","v":0}]
[null,846,"[D2-NL] Diele - Meeden 380 Black [DIR] [NL]_LTA_corner#01_#0","10T-DE-NL-00001V","[D2-NL] Diele - Meeden 380 White","10T-DE-NL-00002T",0,0,0.52283000000000002,0.43492999999999998,0.59018999999999999,0.43492999999999998,0,1388,{"$f":"IF((G406*ALBE+H406*ALDE+I406*AT+J406*BE+K406*DE+L406*FR+M406*NL)>(N406),1,0)","v":0},null,{"$f":"IF((C$6*G406+D$6*H406+E$6*I406+F$6*J406+G$6*K406+H$6*L406+I$6*M406)>(N406),1,0)","v":0}]
[null,847,"[AT-AT] Westtirol Transformer WTRHU41 [OPP]_LTA_corner#17_#7","14T-38220-WT041O","BASECASE","N/A",0,0,0.99209999999999998,0,0.10854,-6.293E-2,0,4584,{"$f":"IF((G407*ALBE+H407*ALDE+I407*AT+J407*BE+K407*DE+L407*FR+M407*NL)>(N407),1,0)","v":0},null,{"$f":"IF((C$6*G407+D$6*H407+E$6*I407+F$6*J407+G$6*K407+H$6*L407+I$6*M407)>(N407),1,0)","v":0}]
[null,848,"[D2-NL] Diele - Meeden 380 Black [DIR] [D2]_LTA_corner#21_#2","10T-DE-NL-00001V","[D2-NL] Diele - Meeden 380 White ","10T-DE-NL-00002T",0,0,0.69937000000000005,0.27349000000000001,0.53447999999999996,0.38783000000000001,0,1883,{"$f":"IF((G408*ALBE+H408*ALDE+I408*AT+J408*BE+K408*DE+L408*FR+M408*NL)>(N408),1,0)","v":0},null,{"$f":"IF((C$6*G408+D$6*H408+E$6*I408+F$6*J408+G$6*K408+H$6*L408+I$6*M408)>(N408),1,0)","v":0}]
[null,849,"[BE-FR] Achene - Lonny 380.19 [DIR] [BE]_LTA_corner#02_#3","10T-BE-FR-000015","[BE-BE] Avelgem - Horta 380.102","22T20161020---1E",0,0,-0.43247000000000002,0.38678000000000001,-0.31125000000000003,-0.75265000000000004,0,2375,{"$f":"IF((G409*ALBE+H409*ALDE+I409*AT+J409*BE+K409*DE+L409*FR+M409*NL)>(N409),1,0)","v":0},null,{"$f":"IF((C$6*G409+D$6*H409+E$6*I409+F$6*J409+G$6*K409+H$6*L409+I$6*M409)>(N409),1,0)","v":0}]
[null,850,"[BE-FR] Achene - Lonny 380.19 [DIR] [BE]_LTA_corner#02_#1","10T-BE-FR-000015","[BE-BE] Avelgem - Horta 380.102","22T20161020---1E",0,0,-0.44066,0.35576000000000002,-0.31337999999999999,-0.76226000000000005,0,2382,{"$f":"IF((G410*ALBE+H410*ALDE+I410*AT+J410*BE+K410*DE+L410*FR+M410*NL)>(N410),1,0)","v":0},null,{"$f":"IF((C$6*G410+D$6*H410+E$6*I410+F$6*J410+G$6*K410+H$6*L410+I$6*M410)>(N410),1,0)","v":0}]
[null,851,"[D2-NL] Diele - Meeden 380 Black [DIR] [NL]_LTA_corner#05_#19","10T-DE-NL-00001V","[D2-NL] Diele - Meeden 380 White","10T-DE-NL-00002T",0,0,0.57633000000000001,0.187,0.66185000000000005,0.44139,0,1897,{"$f":"IF((G411*ALBE+H411*ALDE+I411*AT+J411*BE+K411*DE+L411*FR+M411*NL)>(N411),1,0)","v":0},null,{"$f":"IF((C$6*G411+D$6*H411+E$6*I411+F$6*J411+G$6*K411+H$6*L411+I$6*M411)>(N411),1,0)","v":0}]
[null,852,"[AT-AT] Westtirol Transformer WTRHU41 [OPP]_LTA_corner#20_#1","14T-38220-WT041O","BASECASE","N/A",0,0,0.99400999999999995,-2.1669999999999998E-2,7.9589999999999994E-2,-7.1709999999999996E-2,0,4690,{"$f":"IF((G412*ALBE+H412*ALDE+I412*AT+J412*BE+K412*DE+L412*FR+M412*NL)>(N412),1,0)","v":0},null,{"$f":"IF((C$6*G412+D$6*H412+E$6*I412+F$6*J412+G$6*K412+H$6*L412+I$6*M412)>(N412),1,0)","v":0}]
[null,853,"[BE-BE] PST_VANYK_2 [S - N]","22T-BE-PST--002U","[BE-FR] Achene - Lonny 380.19","10T-BE-FR-000015",0.57308000000000003,-2.4340000000000001E-2,5.3400000000000001E-3,0.32016,-6.9899999999999997E-3,4.5900000000000003E-2,1.1599999999999999E-2,875,{"$f":"IF((G413*ALBE+H413*ALDE+I413*AT+J413*BE+K413*DE+L413*FR+M413*NL)>(N413),1,0)","v":0},null,{"$f":"IF((C$6*G413+D$6*H413+E$6*I413+F$6*J413+G$6*K413+H$6*L413+I$6*M413)>(N413),1,0)","v":0}]
[null,854,"[AT-AT] Westtirol Transformer WTRHU41 [OPP]_LTA_corner#17_#2","14T-38220-WT041O","BASECASE","N/A",0,0,0.99207000000000001,0,0.10335,-7.1569999999999995E-2,0,4612,{"$f":"IF((G414*ALBE+H414*ALDE+I414*AT+J414*BE+K414*DE+L414*FR+M414*NL)>(N414),1,0)","v":0},null,{"$f":"IF((C$6*G414+D$6*H414+E$6*I414+F$6*J414+G$6*K414+H$6*L414+I$6*M414)>(N414),1,0)","v":0}]
[null,855,"[D2-NL] Diele - Meeden 380 Black [DIR] [NL]_LTA_corner#05_#20","10T-DE-NL-00001V","[D2-NL] Diele - Meeden 380 White","10T-DE-NL-00002T",0,0,0.57308000000000003,0.25086000000000003,0.63219000000000003,0.45713999999999999,0,1650,{"$f":"IF((G415*ALBE+H415*ALDE+I415*AT+J415*BE+K415*DE+L415*FR+M415*NL)>(N415),1,0)","v":0},null,{"$f":"IF((C$6*G415+D$6*H415+E$6*I415+F$6*J415+G$6*K415+H$6*L415+I$6*M415)>(N415),1,0)","v":0}]
[null,856,"[BE-BE] PST_ZANDV_2 [N - S]_LTA_corner#09_#0","22T20161020---56","[NL-BE] Rilland - Zandvliet 380 White/30","10T-BE-NL-00004C",0,0,-0.41210000000000002,-0.59743999999999997,-0.34103,-0.59743999999999997,0,1516,{"$f":"IF((G416*ALBE+H416*ALDE+I416*AT+J416*BE+K416*DE+L416*FR+M416*NL)>(N416),1,0)","v":0},null,{"$f":"IF((C$6*G416+D$6*H416+E$6*I416+F$6*J416+G$6*K416+H$6*L416+I$6*M416)>(N416),1,0)","v":0}]
[null,857,"[BE-BE] PST_ZANDV_2 [N - S]_LTA_corner#13_#1","22T20161020---56","[NL-BE] Rilland - Zandvliet 380 White/30","10T-BE-NL-00004C",0,0,-0.36375000000000002,-0.72851999999999995,-0.28491,-0.50573000000000001,0,1918,{"$f":"IF((G417*ALBE+H417*ALDE+I417*AT+J417*BE+K417*DE+L417*FR+M417*NL)>(N417),1,0)","v":0},null,{"$f":"IF((C$6*G417+D$6*H417+E$6*I417+F$6*J417+G$6*K417+H$6*L417+I$6*M417)>(N417),1,0)","v":0}]
[null,858,"ALBE_import","N/A","BASECASE","N/A",-1,0,0,0,0,0,0,0,{"$f":"IF((G418*ALBE+H418*ALDE+I418*AT+J418*BE+K418*DE+L418*FR+M418*NL)>(N418),1,0)","v":0},null,{"$f":"IF((C$6*G418+D$6*H418+E$6*I418+F$6*J418+G$6*K418+H$6*L418+I$6*M418)>(N418),1,0)","v":0}]
[null,859,"[NL-NL] Borssele - Rilland 380 Zwart [DIR]","49T000000000059S","[NL-NL] Borssele - Rilland 380 Grijs","49T000000000057W",-5.8500000000000002E-3,2.31E-3,-8.0999999999999996E-4,-1.49E-2,1.1100000000000001E-3,-6.2500000000000003E-3,0.1399,607,{"$f":"IF((G419*ALBE+H419*ALDE+I419*AT+J419*BE+K419*DE+L419*FR+M419*NL)>(N419),1,0)","v":0},null,{"$f":"IF((C$6*G419+D$6*H419+E$6*I419+F$6*J419+G$6*K419+H$6*L419+I$6*M419)>(N419),1,0)","v":0}]
[null,860,"[AT-AT] Westtirol Transformer WTRHU41 [OPP]_LTA_corner#20_#23","14T-38220-WT041O","BASECASE","N/A",0,0,0.99333000000000005,-1.404E-2,0.10462,-4.632E-2,0,4577,{"$f":"IF((G420*ALBE+H420*ALDE+I420*AT+J420*BE+K420*DE+L420*FR+M420*NL)>(N420),1,0)","v":0},null,{"$f":"IF((C$6*G420+D$6*H420+E$6*I420+F$6*J420+G$6*K420+H$6*L420+I$6*M420)>(N420),1,0)","v":0}]
[null,861,"[BE-BE] PST_ZANDV_2 [N - S]_LTA_corner#13_#26","22T20161020---56","[NL-BE] Rilland - Zandvliet 380 White/30","10T-BE-NL-00004C",0,0,-0.35914000000000001,-0.71928999999999998,-0.32299,-0.49931999999999999,0,1708,{"$f":"IF((G421*ALBE+H421*ALDE+I421*AT+J421*BE+K421*DE+L421*FR+M421*NL)>(N421),1,0)","v":0},null,{"$f":"IF((C$6*G421+D$6*H421+E$6*I421+F$6*J421+G$6*K421+H$6*L421+I$6*M421)>(N421),1,0)","v":0}]
[null,862,"ALDE_import","N/A","BASECASE","N/A",0,-1,0,0,0,0,0,0,{"$f":"IF((G422*ALBE+H422*ALDE+I422*AT+J422*BE+K422*DE+L422*FR+M422*NL)>(N422),1,0)","v":0},null,{"$f":"IF((C$6*G422+D$6*H422+E$6*I422+F$6*J422+G$6*K422+H$6*L422+I$6*M422)>(N422),1,0)","v":0}]
[null,863,"[D4-AT] Buers - Westtirol 421 weiss [OPP] [D4]_LTA_corner#20_#37","10T-AT-DE-000061","[AT-AT] Westtirol Transformer WTRHU41","14T-38220-WT041O",0,0,0.98509999999999998,-3.7190000000000001E-2,0.13269,-0.10292999999999999,0,4554,{"$f":"IF((G423*ALBE+H423*ALDE+I423*AT+J423*BE+K423*DE+L423*FR+M423*NL)>(N423),1,0)","v":0},null,{"$f":"IF((C$6*G423+D$6*H423+E$6*I423+F$6*J423+G$6*K423+H$6*L423+I$6*M423)>(N423),1,0)","v":0}]
[null,864,"[AT-AT] Westtirol Transformer WTRHU41 [OPP]_LTA_corner#20_#0","14T-38220-WT041O","BASECASE","N/A",0,0,0.99382999999999999,-1.7010000000000001E-2,9.5829999999999999E-2,-5.3170000000000002E-2,0,4615,{"$f":"IF((G424*ALBE+H424*ALDE+I424*AT+J424*BE+K424*DE+L424*FR+M424*NL)>(N424),1,0)","v":0},null,{"$f":"IF((C$6*G424+D$6*H424+E$6*I424+F$6*J424+G$6*K424+H$6*L424+I$6*M424)>(N424),1,0)","v":0}]
[null,865,"[BE-FR] Achene - Lonny 380.19 [DIR] [BE]_LTA_corner#02_#12","10T-BE-FR-000015","[BE-BE] Avelgem - Horta 380.102","22T20161020---1E",0,0,-0.44257000000000002,0.33072000000000001,-0.31872,-0.77017999999999998,0,2350,{"$f":"IF((G425*ALBE+H425*ALDE+I425*AT+J425*BE+K425*DE+L425*FR+M425*NL)>(N425),1,0)","v":0},null,{"$f":"IF((C$6*G425+D$6*H425+E$6*I425+F$6*J425+G$6*K425+H$6*L425+I$6*M425)>(N425),1,0)","v":0}]
[null,866,"[D2-NL] Diele - Meeden 380 Black [DIR] [NL]_LTA_corner#01_#1","10T-DE-NL-00001V","[D2-NL] Diele - Meeden 380 White","10T-DE-NL-00002T",0,0,0.52222000000000002,0.43734000000000001,0.58987000000000001,0.43367,0,1394,{"$f":"IF((G426*ALBE+H426*ALDE+I426*AT+J426*BE+K426*DE+L426*FR+M426*NL)>(N426),1,0)","v":0},null,{"$f":"IF((C$6*G426+D$6*H426+E$6*I426+F$6*J426+G$6*K426+H$6*L426+I$6*M426)>(N426),1,0)","v":0}]
[null,867,"[D2-NL] Diele - Meeden 380 Black [DIR] [NL]_LTA_corner#05_#32","10T-DE-NL-00001V","[D2-NL] Diele - Meeden 380 White","10T-DE-NL-00002T",0,0,0.54124000000000005,0.37269000000000002,0.59657000000000004,0.46072000000000002,0,1429,{"$f":"IF((G427*ALBE+H427*ALDE+I427*AT+J427*BE+K427*DE+L427*FR+M427*NL)>(N427),1,0)","v":0},null,{"$f":"IF((C$6*G427+D$6*H427+E$6*I427+F$6*J427+G$6*K427+H$6*L427+I$6*M427)>(N427),1,0)","v":0}]
[null,868,"[BE-FR] Achene - Lonny 380.19 [DIR] [BE]_LTA_corner#02_#11","10T-BE-FR-000015","[BE-BE] Avelgem - Horta 380.102","22T20161020---1E",0,0,-0.46428000000000003,0.22517000000000001,-0.34268999999999999,-0.78505000000000003,0,2243,{"$f":"IF((G428*ALBE+H428*ALDE+I428*AT+J428*BE+K428*DE+L428*FR+M428*NL)>(N428),1,0)","v":0},null,{"$f":"IF((C$6*G428+D$6*H428+E$6*I428+F$6*J428+G$6*K428+H$6*L428+I$6*M428)>(N428),1,0)","v":0}]
[null,869,"[D2-NL] Diele - Meeden 380 Black [DIR] [NL]_LTA_corner#05_#40","10T-DE-NL-00001V","[D2-NL] Diele - Meeden 380 White","10T-DE-NL-00002T",0,0,0.53319000000000005,0.39201999999999998,0.59250000000000003,0.45931,0,1417,{"$f":"IF((G429*ALBE+H429*ALDE+I429*AT+J429*BE+K429*DE+L429*FR+M429*NL)>(N429),1,0)","v":0},null,{"$f":"IF((C$6*G429+D$6*H429+E$6*I429+F$6*J429+G$6*K429+H$6*L429+I$6*M429)>(N429),1,0)","v":0}]
[null,870,"[D2-NL] Diele - Meeden 380 Black [DIR] [D2]_LTA_corner#05_#25","10T-DE-NL-00001V","[D2-NL] Diele - Meeden 380 White ","10T-DE-NL-00002T",0,0,0.60372999999999999,0.30452000000000001,0.60372999999999999,0.42225000000000001,0,1223,{"$f":"IF((G430*ALBE+H430*ALDE+I430*AT+J430*BE+K430*DE+L430*FR+M430*NL)>(N430),1,0)","v":0},null,{"$f":"IF((C$6*G430+D$6*H430+E$6*I430+F$6*J430+G$6*K430+H$6*L430+I$6*M430)>(N430),1,0)","v":0}]
[null,871,"[D2-NL] Diele - Meeden 380 Black [DIR] [D2]_LTA_corner#05_#24","10T-DE-NL-00001V","[D2-NL] Diele - Meeden 380 White ","10T-DE-NL-00002T",0,0,0.60275000000000001,0.30264999999999997,0.60275000000000001,0.42636000000000002,0,1226,{"$f":"IF((G431*ALBE+H431*ALDE+I431*AT+J431*BE+K431*DE+L431*FR+M431*NL)>(N431),1,0)","v":0},null,{"$f":"IF((C$6*G431+D$6*H431+E$6*I431+F$6*J431+G$6*K431+H$6*L431+I$6*M431)>(N431),1,0)","v":0}]
[null,872,"[BE-FR] Achene - Lonny 380.19 [DIR] [BE]_LTA_corner#02_#8","10T-BE-FR-000015","[BE-BE] Avelgem - Horta 380.102","22T20161020---1E",0,0,-0.44108000000000003,0.33861999999999998,-0.31755,-0.76807999999999998,0,2354,{"$f":"IF((G432*ALBE+H432*ALDE+I432*AT+J432*BE+K432*DE+L432*FR+M432*NL)>(N432),1,0)","v":0},null,{"$f":"IF((C$6*G432+D$6*H432+E$6*I432+F$6*J432+G$6*K432+H$6*L432+I$6*M432)>(N432),1,0)","v":0}]
[null,873,"[BE-BE] PST_ZANDV_2 [N - S]_LTA_corner#13_#8","22T20161020---56","[NL-BE] Rilland - Zandvliet 380 White/30","10T-BE-NL-00004C",0,0,-0.32130999999999998,-0.7702,-0.25977,-0.48587000000000002,0,1941,{"$f":"IF((G433*ALBE+H433*ALDE+I433*AT+J433*BE+K433*DE+L433*FR+M433*NL)>(N433),1,0)","v":0},null,{"$f":"IF((C$6*G433+D$6*H433+E$6*I433+F$6*J433+G$6*K433+H$6*L433+I$6*M433)>(N433),1,0)","v":0}]
[null,874,"[AT-AT] Westtirol Transformer WTRHU41 [OPP]_LTA_corner#20_#7","14T-38220-WT041O","BASECASE","N/A",0,0,0.98655999999999999,-2.1499999999999998E-2,0.11917,-0.10974,0,4607,{"$f":"IF((G434*ALBE+H434*ALDE+I434*AT+J434*BE+K434*DE+L434*FR+M434*NL)>(N434),1,0)","v":0},null,{"$f":"IF((C$6*G434+D$6*H434+E$6*I434+F$6*J434+G$6*K434+H$6*L434+I$6*M434)>(N434),1,0)","v":0}]
[null,875,"[BE-BE] PST_ZANDV_2 [N - S]_LTA_corner#13_#36","22T20161020---56","[NL-BE] Rilland - Zandvliet 380 White/30","10T-BE-NL-00004C",0,0,-0.39634000000000003,-0.66407000000000005,-0.34221000000000001,-0.53366999999999998,0,1642,{"$f":"IF((G435*ALBE+H435*ALDE+I435*AT+J435*BE+K435*DE+L435*FR+M435*NL)>(N435),1,0)","v":0},null,{"$f":"IF((C$6*G435+D$6*H435+E$6*I435+F$6*J435+G$6*K435+H$6*L435+I$6*M435)>(N435),1,0)","v":0}]
[null,876,"[D2-NL] Diele - Meeden 380 Black [DIR] [D2]_LTA_corner#05_#10","10T-DE-NL-00001V","[D2-NL] Diele - Meeden 380 White ","10T-DE-NL-00002T",0,0,0.54595000000000005,0.31456000000000001,0.62190999999999996,0.46499000000000001,0,1646,{"$f":"IF((G436*ALBE+H436*ALDE+I436*AT+J436*BE+K436*DE+L436*FR+M436*NL)>(N436),1,0)","v":0},null,{"$f":"IF((C$6*G436+D$6*H436+E$6*I436+F$6*J436+G$6*K436+H$6*L436+I$6*M436)>(N436),1,0)","v":0}]
[null,877,"[BE-BE] PST_ZANDV_2 [N - S]_LTA_corner#09_#3","22T20161020---56","[NL-BE] Rilland - Zandvliet 380 White/30","10T-BE-NL-00004C",0,0,-0.40993000000000002,-0.59916000000000003,-0.33759,-0.59916000000000003,0,1524,{"$f":"IF((G437*ALBE+H437*ALDE+I437*AT+J437*BE+K437*DE+L437*FR+M437*NL)>(N437),1,0)","v":0},null,{"$f":"IF((C$6*G437+D$6*H437+E$6*I437+F$6*J437+G$6*K437+H$6*L437+I$6*M437)>(N437),1,0)","v":0}]
[null,878,"[NL-D7] Maasbracht - Siersdorf 380 black [DIR] [D7]","10T-DE-NL-00006L","[BE-BE] Avelgem - Horta 380.102","22T20161020---1E",0.32052999999999998,-0.15518999999999999,-2.66E-3,0.30671999999999999,1.414E-2,3.8899999999999997E-2,0.27344000000000002,850,{"$f":"IF((G438*ALBE+H438*ALDE+I438*AT+J438*BE+K438*DE+L438*FR+M438*NL)>(N438),1,0)","v":0},null,{"$f":"IF((C$6*G438+D$6*H438+E$6*I438+F$6*J438+G$6*K438+H$6*L438+I$6*M438)>(N438),1,0)","v":0}]
[null,879,"[D4-AT] Buers - Westtirol 421 weiss [OPP] [D4]_LTA_corner#20_#14","10T-AT-DE-000061","[AT-AT] Westtirol Transformer WTRHU41","14T-38220-WT041O",0,0,0.98909000000000002,-3.049E-2,0.12485,-7.2059999999999999E-2,0,4544,{"$f":"IF((G439*ALBE+H439*ALDE+I439*AT+J439*BE+K439*DE+L439*FR+M439*NL)>(N439),1,0)","v":0},null,{"$f":"IF((C$6*G439+D$6*H439+E$6*I439+F$6*J439+G$6*K439+H$6*L439+I$6*M439)>(N439),1,0)","v":0}]
[null,880,"ALBE_export","N/A","BASECASE","N/A",1,0,0,0,0,0,0,0,{"$f":"IF((G440*ALBE+H440*ALDE+I440*AT+J440*BE+K440*DE+L440*FR+M440*NL)>(N440),1,0)","v":0},null,{"$f":"IF((C$6*G440+D$6*H440+E$6*I440+F$6*J440+G$6*K440+H$6*L440+I$6*M440)>(N440),1,0)","v":0}]
[null,881,"[D7-FR] Ensdorf - Vigy 2S [OPP] [D7]","10T-DE-FR-000068","[D7-FR] Ensdorf - Vigy 1N","10T-DE-FR-00005A",6.7269999999999996E-2,-5.9150000000000001E-2,1.975E-2,8.2869999999999999E-2,-1.244E-2,0.18382999999999999,1.3259999999999999E-2,709,{"$f":"IF((G441*ALBE+H441*ALDE+I441*AT+J441*BE+K441*DE+L441*FR+M441*NL)>(N441),1,0)","v":0},null,{"$f":"IF((C$6*G441+D$6*H441+E$6*I441+F$6*J441+G$6*K441+H$6*L441+I$6*M441)>(N441),1,0)","v":0}]
[null,882,"[D2-NL] Diele - Meeden 380 Black [DIR] [D2]_LTA_corner#01_#7","10T-DE-NL-00001V","[D2-NL] Diele - Meeden 380 White ","10T-DE-NL-00002T",0,0,-0.90512000000000004,0.16674,0.35376999999999997,0.16674,0,6741,{"$f":"IF((G442*ALBE+H442*ALDE+I442*AT+J442*BE+K442*DE+L442*FR+M442*NL)>(N442),1,0)","v":0},null,{"$f":"IF((C$6*G442+D$6*H442+E$6*I442+F$6*J442+G$6*K442+H$6*L442+I$6*M442)>(N442),1,0)","v":0}]
[null,883,"[AT-AT] Westtirol Transformer WTRHU41 [OPP]_LTA_corner#17_#3","14T-38220-WT041O","BASECASE","N/A",0,0,0.98900999999999994,0,0.11946,-8.7129999999999999E-2,0,4578,{"$f":"IF((G443*ALBE+H443*ALDE+I443*AT+J443*BE+K443*DE+L443*FR+M443*NL)>(N443),1,0)","v":0},null,{"$f":"IF((C$6*G443+D$6*H443+E$6*I443+F$6*J443+G$6*K443+H$6*L443+I$6*M443)>(N443),1,0)","v":0}]
[null,884,"[D4-AT] Buers - Westtirol 421 weiss [OPP] [D4]_LTA_corner#20_#34","10T-AT-DE-000061","[AT-AT] Westtirol Transformer WTRHU41","14T-38220-WT041O",0,0,0.98468999999999995,-3.7519999999999998E-2,0.12962000000000001,-0.11036,0,4573,{"$f":"IF((G444*ALBE+H444*ALDE+I444*AT+J444*BE+K444*DE+L444*FR+M444*NL)>(N444),1,0)","v":0},null,{"$f":"IF((C$6*G444+D$6*H444+E$6*I444+F$6*J444+G$6*K444+H$6*L444+I$6*M444)>(N444),1,0)","v":0}]
[null,885,"[BE-BE] PST_ZANDV_2 [N - S]_LTA_corner#13_#10","22T20161020---56","[NL-BE] Rilland - Zandvliet 380 White/30","10T-BE-NL-00004C",0,0,-0.32444000000000001,-0.79620000000000002,-0.28228999999999999,-0.42558000000000001,0,1962,{"$f":"IF((G445*ALBE+H445*ALDE+I445*AT+J445*BE+K445*DE+L445*FR+M445*NL)>(N445),1,0)","v":0},null,{"$f":"IF((C$6*G445+D$6*H445+E$6*I445+F$6*J445+G$6*K445+H$6*L445+I$6*M445)>(N445),1,0)","v":0}]
[null,886,"[D2-NL] Diele - Meeden 380 Black [DIR] [NL]_LTA_corner#01_#7","10T-DE-NL-00001V","[D2-NL] Diele - Meeden 380 White","10T-DE-NL-00002T",0,0,0.52356999999999998,0.43389,0.59106000000000003,0.43389,0,1391,{"$f":"IF((G446*ALBE+H446*ALDE+I446*AT+J446*BE+K446*DE+L446*FR+M446*NL)>(N446),1,0)","v":0},null,{"$f":"IF((C$6*G446+D$6*H446+E$6*I446+F$6*J446+G$6*K446+H$6*L446+I$6*M446)>(N446),1,0)","v":0}]
[null,887,"[D2-NL] Diele - Meeden 380 Black [DIR] [D2]_LTA_corner#05_#22","10T-DE-NL-00001V","[D2-NL] Diele - Meeden 380 White ","10T-DE-NL-00002T",0,0,0.60133999999999999,0.30515999999999999,0.60133999999999999,0.42853999999999998,0,1222,{"$f":"IF((G447*ALBE+H447*ALDE+I447*AT+J447*BE+K447*DE+L447*FR+M447*NL)>(N447),1,0)","v":0},null,{"$f":"IF((C$6*G447+D$6*H447+E$6*I447+F$6*J447+G$6*K447+H$6*L447+I$6*M447)>(N447),1,0)","v":0}]
[null,888,"[BE-BE] PST_ZANDV_2 [N - S]_LTA_corner#13_#4","22T20161020---56","[NL-BE] Rilland - Zandvliet 380 White/30","10T-BE-NL-00004C",0,0,-0.38212000000000002,-0.71682000000000001,-0.30419000000000002,-0.49761,0,1898,{"$f":"IF((G448*ALBE+H448*ALDE+I448*AT+J448*BE+K448*DE+L448*FR+M448*NL)>(N448),1,0)","v":0},null,{"$f":"IF((C$6*G448+D$6*H448+E$6*I448+F$6*J448+G$6*K448+H$6*L448+I$6*M448)>(N448),1,0)","v":0}]
[null,889,"[AT-AT] Westtirol Transformer WTRHU41 [OPP]_LTA_corner#17_#4","14T-38220-WT041O","BASECASE","N/A",0,0,0.98853000000000002,0,0.13309000000000001,-7.1319999999999995E-2,0,4513,{"$f":"IF((G449*ALBE+H449*ALDE+I449*AT+J449*BE+K449*DE+L449*FR+M449*NL)>(N449),1,0)","v":0},null,{"$f":"IF((C$6*G449+D$6*H449+E$6*I449+F$6*J449+G$6*K449+H$6*L449+I$6*M449)>(N449),1,0)","v":0}]
[null,890,"[D2-NL] Diele - Meeden 380 Black [DIR] [D2]_LTA_corner#01_#3","10T-DE-NL-00001V","[D2-NL] Diele - Meeden 380 White ","10T-DE-NL-00002T",0,0,-0.90863000000000005,0.15994,0.35104999999999997,0.15994,0,6742,{"$f":"IF((G450*ALBE+H450*ALDE+I450*AT+J450*BE+K450*DE+L450*FR+M450*NL)>(N450),1,0)","v":0},null,{"$f":"IF((C$6*G450+D$6*H450+E$6*I450+F$6*J450+G$6*K450+H$6*L450+I$6*M450)>(N450),1,0)","v":0}]
[null,891,"[BE-BE] PST_ZANDV_2 [N - S]_LTA_corner#09_#4","22T20161020---56","[NL-BE] Rilland - Zandvliet 380 White/30","10T-BE-NL-00004C",0,0,-0.43047999999999997,-0.53293999999999997,-0.35106999999999999,-0.63829000000000002,0,1615,{"$f":"IF((G451*ALBE+H451*ALDE+I451*AT+J451*BE+K451*DE+L451*FR+M451*NL)>(N451),1,0)","v":0},null,{"$f":"IF((C$6*G451+D$6*H451+E$6*I451+F$6*J451+G$6*K451+H$6*L451+I$6*M451)>(N451),1,0)","v":0}]
[null,892,"[D4-AT] Buers - Westtirol 421 weiss [OPP] [D4]_LTA_corner#20_#0","10T-AT-DE-000061","[AT-AT] Westtirol Transformer WTRHU41","14T-38220-WT041O",0,0,0.98724000000000001,-4.6820000000000001E-2,0.12461,-8.7400000000000005E-2,0,4563,{"$f":"IF((G452*ALBE+H452*ALDE+I452*AT+J452*BE+K452*DE+L452*FR+M452*NL)>(N452),1,0)","v":0},null,{"$f":"IF((C$6*G452+D$6*H452+E$6*I452+F$6*J452+G$6*K452+H$6*L452+I$6*M452)>(N452),1,0)","v":0}]
[null,893,"[D2-NL] Diele - Meeden 380 Black [DIR] [D2]_LTA_corner#05_#0","10T-DE-NL-00001V","[D2-NL] Diele - Meeden 380 White ","10T-DE-NL-00002T",0,0,0.56272,0.30951000000000001,0.65127000000000002,0.40422999999999998,0,1731,{"$f":"IF((G453*ALBE+H453*ALDE+I453*AT+J453*BE+K453*DE+L453*FR+M453*NL)>(N453),1,0)","v":0},null,{"$f":"IF((C$6*G453+D$6*H453+E$6*I453+F$6*J453+G$6*K453+H$6*L453+I$6*M453)>(N453),1,0)","v":0}]
[null,894,"[BE-BE] PST_ZANDV_2 [N - S]_LTA_corner#13_#2","22T20161020---56","[NL-BE] Rilland - Zandvliet 380 White/30","10T-BE-NL-00004C",0,0,-0.30997000000000002,-0.79491000000000001,-0.25624999999999998,-0.45428000000000002,0,1985,{"$f":"IF((G454*ALBE+H454*ALDE+I454*AT+J454*BE+K454*DE+L454*FR+M454*NL)>(N454),1,0)","v":0},null,{"$f":"IF((C$6*G454+D$6*H454+E$6*I454+F$6*J454+G$6*K454+H$6*L454+I$6*M454)>(N454),1,0)","v":0}]
[null,895,"[BE-BE] PST_ZANDV_2 [N - S]_LTA_corner#09_#1","22T20161020---56","[NL-BE] Rilland - Zandvliet 380 White/30","10T-BE-NL-00004C",0,0,-0.41203000000000001,-0.59806000000000004,-0.33893000000000001,-0.59806000000000004,0,1526,{"$f":"IF((G455*ALBE+H455*ALDE+I455*AT+J455*BE+K455*DE+L455*FR+M455*NL)>(N455),1,0)","v":0},null,{"$f":"IF((C$6*G455+D$6*H455+E$6*I455+F$6*J455+G$6*K455+H$6*L455+I$6*M455)>(N455),1,0)","v":0}]
[null,896,"[D2-AT] Y - St. Peter (- Altheim - Simbach) 233/230 [OPP] [D2]","10T-AT-DE-00001B","[D2-AT] Y - St. Peter (- Altheim - Simbach) 234/230","10T-AT-DE-000045",-3.696E-2,-3.8260000000000002E-2,2.47E-2,-3.6720000000000003E-2,-3.7580000000000002E-2,-3.3890000000000003E-2,-3.7569999999999999E-2,333,{"$f":"IF((G456*ALBE+H456*ALDE+I456*AT+J456*BE+K456*DE+L456*FR+M456*NL)>(N456),1,0)","v":0},null,{"$f":"IF((C$6*G456+D$6*H456+E$6*I456+F$6*J456+G$6*K456+H$6*L456+I$6*M456)>(N456),1,0)","v":0}]
[null,897,"[D2-NL] Diele - Meeden 380 Black [DIR] [D2]_LTA_corner#01_#4","10T-DE-NL-00001V","[D2-NL] Diele - Meeden 380 White ","10T-DE-NL-00002T",0,0,-0.90700999999999998,0.16475999999999999,0.35077999999999998,0.16475999999999999,0,6731,{"$f":"IF((G457*ALBE+H457*ALDE+I457*AT+J457*BE+K457*DE+L457*FR+M457*NL)>(N457),1,0)","v":0},null,{"$f":"IF((C$6*G457+D$6*H457+E$6*I457+F$6*J457+G$6*K457+H$6*L457+I$6*M457)>(N457),1,0)","v":0}]
[null,898,"[BE-FR] Achene - Lonny 380.19 [DIR] [BE]_LTA_corner#02_#21","10T-BE-FR-000015","[BE-BE] Avelgem - Horta 380.102","22T20161020---1E",0,0,-0.43931999999999999,0.35469000000000001,-0.32195000000000001,-0.75995999999999997,0,2333,{"$f":"IF((G458*ALBE+H458*ALDE+I458*AT+J458*BE+K458*DE+L458*FR+M458*NL)>(N458),1,0)","v":0},null,{"$f":"IF((C$6*G458+D$6*H458+E$6*I458+F$6*J458+G$6*K458+H$6*L458+I$6*M458)>(N458),1,0)","v":0}]
[null,899,"[AT-AT] Westtirol Transformer WTRHU41 [OPP]_LTA_corner#17_#6","14T-38220-WT041O","BASECASE","N/A",0,0,0.99114999999999998,0,0.11971999999999999,-5.7299999999999997E-2,0,4540,{"$f":"IF((G459*ALBE+H459*ALDE+I459*AT+J459*BE+K459*DE+L459*FR+M459*NL)>(N459),1,0)","v":0},null,{"$f":"IF((C$6*G459+D$6*H459+E$6*I459+F$6*J459+G$6*K459+H$6*L459+I$6*M459)>(N459),1,0)","v":0}]
[null,900,"[AT-AT] Westtirol Transformer WTRHU41 [OPP]_LTA_corner#20_#9","14T-38220-WT041O","BASECASE","N/A",0,0,0.98551,-2.1479999999999999E-2,0.15246999999999999,-7.1099999999999997E-2,0,4449,{"$f":"IF((G460*ALBE+H460*ALDE+I460*AT+J460*BE+K460*DE+L460*FR+M460*NL)>(N460),1,0)","v":0},null,{"$f":"IF((C$6*G460+D$6*H460+E$6*I460+F$6*J460+G$6*K460+H$6*L460+I$6*M460)>(N460),1,0)","v":0}]
[null,901,"[D2-NL] Diele - Meeden 380 Black [DIR] [NL]_LTA_corner#01_#2","10T-DE-NL-00001V","[D2-NL] Diele - Meeden 380 White","10T-DE-NL-00002T",0,0,0.52317000000000002,0.42202000000000001,0.60834999999999995,0.42202000000000001,0,1517,{"$f":"IF((G461*ALBE+H461*ALDE+I461*AT+J461*BE+K461*DE+L461*FR+M461*NL)>(N461),1,0)","v":0},null,{"$f":"IF((C$6*G461+D$6*H461+E$6*I461+F$6*J461+G$6*K461+H$6*L461+I$6*M461)>(N461),1,0)","v":0}]
[null,902,"[BE-BE] PST_VANYK_2 [S - N]","22T-BE-PST--002U","[NL-BE] Maasbracht - Van Eyck 380 Black/27","10T-BE-NL-00002G",0.48592999999999997,-4.9079999999999999E-2,1.2330000000000001E-2,0.27167000000000002,-1.6559999999999998E-2,9.5409999999999995E-2,-2.427E-2,950,{"$f":"IF((G462*ALBE+H462*ALDE+I462*AT+J462*BE+K462*DE+L462*FR+M462*NL)>(N462),1,0)","v":0},null,{"$f":"IF((C$6*G462+D$6*H462+E$6*I462+F$6*J462+G$6*K462+H$6*L462+I$6*M462)>(N462),1,0)","v":0}]
[null,903,"[AT-AT] Strass - Thaur 273B [OPP]","14T-220-0-0273BO","[AT-AT] Strass - Thaur 274B","14T-220-0-0274BL",2.6329999999999999E-2,2.6179999999999998E-2,-8.1710000000000005E-2,2.64E-2,2.946E-2,2.69E-2,2.5749999999999999E-2,574,{"$f":"IF((G463*ALBE+H463*ALDE+I463*AT+J463*BE+K463*DE+L463*FR+M463*NL)>(N463),1,0)","v":0},null,{"$f":"IF((C$6*G463+D$6*H463+E$6*I463+F$6*J463+G$6*K463+H$6*L463+I$6*M463)>(N463),1,0)","v":0}]
[null,904,"[AT-AT] Westtirol Transformer WTRHU41 [OPP]_LTA_corner#17_#9","14T-38220-WT041O","BASECASE","N/A",0,0,0.99199000000000004,0,0.11192000000000001,-5.8529999999999999E-2,0,4568,{"$f":"IF((G464*ALBE+H464*ALDE+I464*AT+J464*BE+K464*DE+L464*FR+M464*NL)>(N464),1,0)","v":0},null,{"$f":"IF((C$6*G464+D$6*H464+E$6*I464+F$6*J464+G$6*K464+H$6*L464+I$6*M464)>(N464),1,0)","v":0}]
[null,905,"[D4-AT] Buers - Westtirol 421 weiss [OPP] [D4]_LTA_corner#20_#41","10T-AT-DE-000061","[AT-AT] Westtirol Transformer WTRHU41","14T-38220-WT041O",0,0,0.98467000000000005,-3.7940000000000002E-2,0.12717999999999999,-0.11316,0,4584,{"$f":"IF((G465*ALBE+H465*ALDE+I465*AT+J465*BE+K465*DE+L465*FR+M465*NL)>(N465),1,0)","v":0},null,{"$f":"IF((C$6*G465+D$6*H465+E$6*I465+F$6*J465+G$6*K465+H$6*L465+I$6*M465)>(N465),1,0)","v":0}]
[null,906,"[BE-BE] PST_ZANDV_2 [N - S]_LTA_corner#13_#27","22T20161020---56","[NL-BE] Rilland - Zandvliet 380 White/30","10T-BE-NL-00004C",0,0,-0.34566000000000002,-0.72787999999999997,-0.30887999999999999,-0.50529000000000002,0,1723,{"$f":"IF((G466*ALBE+H466*ALDE+I466*AT+J466*BE+K466*DE+L466*FR+M466*NL)>(N466),1,0)","v":0},null,{"$f":"IF((C$6*G466+D$6*H466+E$6*I466+F$6*J466+G$6*K466+H$6*L466+I$6*M466)>(N466),1,0)","v":0}]
[null,907,"[AT-AT] Westtirol Transformer WTRHU41 [OPP]_LTA_corner#20_#5","14T-38220-WT041O","BASECASE","N/A",0,0,0.99187999999999998,-2.162E-2,0.11981,-3.671E-2,0,4514,{"$f":"IF((G467*ALBE+H467*ALDE+I467*AT+J467*BE+K467*DE+L467*FR+M467*NL)>(N467),1,0)","v":0},null,{"$f":"IF((C$6*G467+D$6*H467+E$6*I467+F$6*J467+G$6*K467+H$6*L467+I$6*M467)>(N467),1,0)","v":0}]
[null,908,"[D2-NL] Diele - Meeden 380 Black [DIR] [NL]_LTA_corner#05_#0","10T-DE-NL-00001V","[D2-NL] Diele - Meeden 380 White","10T-DE-NL-00002T",0,0,0.58606999999999998,9.1490000000000002E-2,0.71753,0.36512,0,2284,{"$f":"IF((G468*ALBE+H468*ALDE+I468*AT+J468*BE+K468*DE+L468*FR+M468*NL)>(N468),1,0)","v":0},null,{"$f":"IF((C$6*G468+D$6*H468+E$6*I468+F$6*J468+G$6*K468+H$6*L468+I$6*M468)>(N468),1,0)","v":0}]
[null,909,"[D2-D7] Y - Meppen (- Doerpen/West - Niederlangen) Emsland O weiss EOWS [DIR] [D2]","11T-D2-D7-00001H","[D2-D7] Doerpen/West - Hanekenfaehr Emsland W blau EWBL","11T-D2-D7-00002F",1.0710000000000001E-2,-1.1480000000000001E-2,-3.2699999999999999E-3,1.2959999999999999E-2,-1.3469999999999999E-2,1.7000000000000001E-4,6.7500000000000004E-2,413,{"$f":"IF((G469*ALBE+H469*ALDE+I469*AT+J469*BE+K469*DE+L469*FR+M469*NL)>(N469),1,0)","v":0},null,{"$f":"IF((C$6*G469+D$6*H469+E$6*I469+F$6*J469+G$6*K469+H$6*L469+I$6*M469)>(N469),1,0)","v":0}]
[null,910,"[BE-FR] Achene - Lonny 380.19 [DIR] [BE]_LTA_corner#02_#0","10T-BE-FR-000015","[BE-BE] Avelgem - Horta 380.102","22T20161020---1E",0,0,-0.43119000000000002,0.41649000000000003,-0.31518000000000002,-0.73572000000000004,0,2360,{"$f":"IF((G470*ALBE+H470*ALDE+I470*AT+J470*BE+K470*DE+L470*FR+M470*NL)>(N470),1,0)","v":0},null,{"$f":"IF((C$6*G470+D$6*H470+E$6*I470+F$6*J470+G$6*K470+H$6*L470+I$6*M470)>(N470),1,0)","v":0}]
[null,911,"[D2-NL] Diele - Meeden 380 Black [DIR] [D2]_LTA_corner#01_#2","10T-DE-NL-00001V","[D2-NL] Diele - Meeden 380 White ","10T-DE-NL-00002T",0,0,-0.86153999999999997,0.19669,0.42470999999999998,0.19669,0,7009,{"$f":"IF((G471*ALBE+H471*ALDE+I471*AT+J471*BE+K471*DE+L471*FR+M471*NL)>(N471),1,0)","v":0},null,{"$f":"IF((C$6*G471+D$6*H471+E$6*I471+F$6*J471+G$6*K471+H$6*L471+I$6*M471)>(N471),1,0)","v":0}]
[null,912,"[BE-BE] PST_ZANDV_2 [N - S]_LTA_corner#13_#0","22T20161020---56","[NL-BE] Rilland - Zandvliet 380 White/30","10T-BE-NL-00004C",0,0,-0.30959999999999999,-0.81528999999999996,-0.27189999999999998,-0.40684999999999999,0,1997,{"$f":"IF((G472*ALBE+H472*ALDE+I472*AT+J472*BE+K472*DE+L472*FR+M472*NL)>(N472),1,0)","v":0},null,{"$f":"IF((C$6*G472+D$6*H472+E$6*I472+F$6*J472+G$6*K472+H$6*L472+I$6*M472)>(N472),1,0)","v":0}]
[null,913,"[D2-NL] Diele - Meeden 380 Black [DIR] [D2]_LTA_corner#05_#26","10T-DE-NL-00001V","[D2-NL] Diele - Meeden 380 White ","10T-DE-NL-00002T",0,0,0.60160999999999998,0.30830000000000002,0.60160999999999998,0.42554999999999998,0,1217,{"$f":"IF((G473*ALBE+H473*ALDE+I473*AT+J473*BE+K473*DE+L473*FR+M473*NL)>(N473),1,0)","v":0},null,{"$f":"IF((C$6*G473+D$6*H473+E$6*I473+F$6*J473+G$6*K473+H$6*L473+I$6*M473)>(N473),1,0)","v":0}]
[null,914,"[BE-BE] PST_ZANDV_2 [N - S]_LTA_corner#13_#19","22T20161020---56","[NL-BE] Rilland - Zandvliet 380 White/30","10T-BE-NL-00004C",0,0,-0.38747999999999999,-0.68815000000000004,-0.33855000000000002,-0.51156000000000001,0,1690,{"$f":"IF((G474*ALBE+H474*ALDE+I474*AT+J474*BE+K474*DE+L474*FR+M474*NL)>(N474),1,0)","v":0},null,{"$f":"IF((C$6*G474+D$6*H474+E$6*I474+F$6*J474+G$6*K474+H$6*L474+I$6*M474)>(N474),1,0)","v":0}]
[null,915,"[BE-FR] Achene - Lonny 380.19 [OPP] [BE]","10T-BE-FR-000015","[BE-BE] Avelgem - Horta 380.102","22T20161020---1E",-0.30626999999999999,-6.4439999999999997E-2,2.0740000000000001E-2,-0.30151,-2.8539999999999999E-2,0.15087,-0.15756000000000001,1940,{"$f":"IF((G475*ALBE+H475*ALDE+I475*AT+J475*BE+K475*DE+L475*FR+M475*NL)>(N475),1,0)","v":0},null,{"$f":"IF((C$6*G475+D$6*H475+E$6*I475+F$6*J475+G$6*K475+H$6*L475+I$6*M475)>(N475),1,0)","v":0}]
[null,916,"[AT-AT] Westtirol Transformer WTRHU41 [OPP]_LTA_corner#20_#10","14T-38220-WT041O","BASECASE","N/A",0,0,0.98855999999999999,-5.8319999999999997E-2,0.11941,-7.1319999999999995E-2,0,4560,{"$f":"IF((G476*ALBE+H476*ALDE+I476*AT+J476*BE+K476*DE+L476*FR+M476*NL)>(N476),1,0)","v":0},null,{"$f":"IF((C$6*G476+D$6*H476+E$6*I476+F$6*J476+G$6*K476+H$6*L476+I$6*M476)>(N476),1,0)","v":0}]
[null,917,"[D4-AT] Buers - Westtirol 421 weiss [OPP] [D4]_LTA_corner#20_#42","10T-AT-DE-000061","[AT-AT] Westtirol Transformer WTRHU41","14T-38220-WT041O",0,0,0.98389000000000004,-4.4179999999999997E-2,0.10499,-0.13782,0,4681,{"$f":"IF((G477*ALBE+H477*ALDE+I477*AT+J477*BE+K477*DE+L477*FR+M477*NL)>(N477),1,0)","v":0},null,{"$f":"IF((C$6*G477+D$6*H477+E$6*I477+F$6*J477+G$6*K477+H$6*L477+I$6*M477)>(N477),1,0)","v":0}]
["hour 6",102,"ALBE_import","N/A","BASECASE","N/A",-1,0,0,0,0,0,0,0,{"$f":"IF((G478*ALBE+H478*ALDE+I478*AT+J478*BE+K478*DE+L478*FR+M478*NL)>(N478),1,0)","v":0},null,{"$f":"IF((C$6*G478+D$6*H478+E$6*I478+F$6*J478+G$6*K478+H$6*L478+I$6*M478)>(N478),1,0)","v":0}]
[null,103,"[D2-NL] Diele - Meeden 380 Black [DIR] [D2]_LTA_corner#05_#10","10T-DE-NL-00001V","[D2-NL] Diele - Meeden 380 White ","10T-DE-NL-00002T",0,0,0.53924000000000005,0.35721000000000003,0.59899999999999998,0.47205000000000003,0,1479,{"$f":"IF((G479*ALBE+H479*ALDE+I479*AT+J479*BE+K479*DE+L479*FR+M479*NL)>(N479),1,0)","v":0},null,{"$f":"IF((C$6*G479+D$6*H479+E$6*I479+F$6*J479+G$6*K479+H$6*L479+I$6*M479)>(N479),1,0)","v":0}]
[null,104,"[D2-NL] Diele - Meeden 380 Black [DIR] [NL]_LTA_corner#05_#40","10T-DE-NL-00001V","[D2-NL] Diele - Meeden 380 White","10T-DE-NL-00002T",0,0,0.56264999999999998,0.27742,0.62873999999999997,0.45950999999999997,0,1649,{"$f":"IF((G480*ALBE+H480*ALDE+I480*AT+J480*BE+K480*DE+L480*FR+M480*NL)>(N480),1,0)","v":0},null,{"$f":"IF((C$6*G480+D$6*H480+E$6*I480+F$6*J480+G$6*K480+H$6*L480+I$6*M480)>(N480),1,0)","v":0}]
[null,105,"[D2-NL] Diele - Meeden 380 Black [DIR] [NL]_LTA_corner#05_#46","10T-DE-NL-00001V","[D2-NL] Diele - Meeden 380 White","10T-DE-NL-00002T",0,0,0.52908999999999995,0.36468,0.61153000000000002,0.46162999999999998,0,1599,{"$f":"IF((G481*ALBE+H481*ALDE+I481*AT+J481*BE+K481*DE+L481*FR+M481*NL)>(N481),1,0)","v":0},null,{"$f":"IF((C$6*G481+D$6*H481+E$6*I481+F$6*J481+G$6*K481+H$6*L481+I$6*M481)>(N481),1,0)","v":0}]
[null,106,"[D2-NL] Diele - Meeden 380 Black [DIR] [D2]_LTA_corner#05_#24","10T-DE-NL-00001V","[D2-NL] Diele - Meeden 380 White ","10T-DE-NL-00002T",0,0,0.58352000000000004,0.34919,0.58352000000000004,0.44394,0,1148,{"$f":"IF((G482*ALBE+H482*ALDE+I482*AT+J482*BE+K482*DE+L482*FR+M482*NL)>(N482),1,0)","v":0},null,{"$f":"IF((C$6*G482+D$6*H482+E$6*I482+F$6*J482+G$6*K482+H$6*L482+I$6*M482)>(N482),1,0)","v":0}]
[null,107,"[D2-NL] Diele - Meeden 380 Black [DIR] [NL]_LTA_corner#05_#3","10T-DE-NL-00001V","[D2-NL] Diele - Meeden 380 White","10T-DE-NL-00002T",0,0,0.53044999999999998,0.40571000000000002,0.57998000000000005,0.46653,0,1334,{"$f":"IF((G483*ALBE+H483*ALDE+I483*AT+J483*BE+K483*DE+L483*FR+M483*NL)>(N483),1,0)","v":0},null,{"$f":"IF((C$6*G483+D$6*H483+E$6*I483+F$6*J483+G$6*K483+H$6*L483+I$6*M483)>(N483),1,0)","v":0}]
[null,108,"[D2-AT] Y - St. Peter (- Altheim - Simbach) 233/230 [OPP] [D2]_LTA_corner#21_#11","10T-AT-DE-00001B","[D2-AT] Y - St. Peter (- Altheim - Simbach) 234/230","10T-AT-DE-000045",0,0,0.95562999999999998,0.12174,0.18967999999999999,0.18967999999999999,0,4087,{"$f":"IF((G484*ALBE+H484*ALDE+I484*AT+J484*BE+K484*DE+L484*FR+M484*NL)>(N484),1,0)","v":0},null,{"$f":"IF((C$6*G484+D$6*H484+E$6*I484+F$6*J484+G$6*K484+H$6*L484+I$6*M484)>(N484),1,0)","v":0}]
[null,109,"[D2-AT] Y - St. Peter (- Altheim - Simbach) 233/230 [OPP] [D2]_LTA_corner#21_#7","10T-AT-DE-00001B","[D2-AT] Y - St. Peter (- Altheim - Simbach) 234/230","10T-AT-DE-000045",0,0,0.96150000000000002,0.11498999999999999,0.17649999999999999,0.17649999999999999,0,4150,{"$f":"IF((G485*ALBE+H485*ALDE+I485*AT+J485*BE+K485*DE+L485*FR+M485*NL)>(N485),1,0)","v":0},null,{"$f":"IF((C$6*G485+D$6*H485+E$6*I485+F$6*J485+G$6*K485+H$6*L485+I$6*M485)>(N485),1,0)","v":0}]
[null,110,"ALDE_import","N/A","BASECASE","N/A",0,-1,0,0,0,0,0,0,{"$f":"IF((G486*ALBE+H486*ALDE+I486*AT+J486*BE+K486*DE+L486*FR+M486*NL)>(N486),1,0)","v":0},null,{"$f":"IF((C$6*G486+D$6*H486+E$6*I486+F$6*J486+G$6*K486+H$6*L486+I$6*M486)>(N486),1,0)","v":0}]
[null,111,"[D2-AT] Pleinting - St. Peter 258 [DIR] [AT]","10T-AT-DE-000037","[D2-D2] Pirach - Pleinting 257","11TD2L000000201H",5.5030000000000003E-2,5.6009999999999997E-2,-3.576E-2,5.4870000000000002E-2,5.5759999999999997E-2,5.2830000000000002E-2,5.5100000000000003E-2,497,{"$f":"IF((G487*ALBE+H487*ALDE+I487*AT+J487*BE+K487*DE+L487*FR+M487*NL)>(N487),1,0)","v":0},null,{"$f":"IF((C$6*G487+D$6*H487+E$6*I487+F$6*J487+G$6*K487+H$6*L487+I$6*M487)>(N487),1,0)","v":0}]
[null,112,"[AT-AT] Westtirol Transformer WTRHU41 [OPP]_LTA_corner#20_#2","14T-38220-WT041O","BASECASE","N/A",0,0,0.98640000000000005,-7.4929999999999997E-2,0.12567,-7.4929999999999997E-2,0,4541,{"$f":"IF((G488*ALBE+H488*ALDE+I488*AT+J488*BE+K488*DE+L488*FR+M488*NL)>(N488),1,0)","v":0},null,{"$f":"IF((C$6*G488+D$6*H488+E$6*I488+F$6*J488+G$6*K488+H$6*L488+I$6*M488)>(N488),1,0)","v":0}]
[null,113,"[BE-BE] PST_ZANDV_2 [N - S]_LTA_corner#13_#12","22T20161020---56","[NL-BE] Rilland - Zandvliet 380 White/30","10T-BE-NL-00004C",0,0,-0.32290999999999997,-0.78498000000000001,-0.27055000000000001,-0.45423999999999998,0,1959,{"$f":"IF((G489*ALBE+H489*ALDE+I489*AT+J489*BE+K489*DE+L489*FR+M489*NL)>(N489),1,0)","v":0},null,{"$f":"IF((C$6*G489+D$6*H489+E$6*I489+F$6*J489+G$6*K489+H$6*L489+I$6*M489)>(N489),1,0)","v":0}]
[null,114,"[D7-FR] Ensdorf - Vigy 2S [OPP] [D7]_LTA_corner#30_#3","10T-DE-FR-000068","[D7-D7] Ensdorf - Uchtelfangen Taubental N","11T0-0000-0604-N",0,0,6.3310000000000005E-2,0.39539000000000002,-0.10159,0.91068000000000005,0,3421,{"$f":"IF((G490*ALBE+H490*ALDE+I490*AT+J490*BE+K490*DE+L490*FR+M490*NL)>(N490),1,0)","v":0},null,{"$f":"IF((C$6*G490+D$6*H490+E$6*I490+F$6*J490+G$6*K490+H$6*L490+I$6*M490)>(N490),1,0)","v":0}]
[null,115,"[D2-NL] Diele - Meeden 380 Black [DIR] [NL]_LTA_corner#05_#11","10T-DE-NL-00001V","[D2-NL] Diele - Meeden 380 White","10T-DE-NL-00002T",0,0,0.53654999999999997,0.39071,0.58443000000000001,0.46679999999999999,0,1352,{"$f":"IF((G491*ALBE+H491*ALDE+I491*AT+J491*BE+K491*DE+L491*FR+M491*NL)>(N491),1,0)","v":0},null,{"$f":"IF((C$6*G491+D$6*H491+E$6*I491+F$6*J491+G$6*K491+H$6*L491+I$6*M491)>(N491),1,0)","v":0}]
[null,116,"[BE-BE] PST_ZANDV_2 [N - S]_LTA_corner#13_#30","22T20161020---56","[NL-BE] Rilland - Zandvliet 380 White/30","10T-BE-NL-00004C",0,0,-0.32211000000000001,-0.76778999999999997,-0.25881999999999999,-0.48964999999999997,0,1941,{"$f":"IF((G492*ALBE+H492*ALDE+I492*AT+J492*BE+K492*DE+L492*FR+M492*NL)>(N492),1,0)","v":0},null,{"$f":"IF((C$6*G492+D$6*H492+E$6*I492+F$6*J492+G$6*K492+H$6*L492+I$6*M492)>(N492),1,0)","v":0}]
[null,117,"[AT-AT] Westtirol Transformer WTRHU41 [OPP]_LTA_corner#20_#7","14T-38220-WT041O","BASECASE","N/A",0,0,0.98241000000000001,-4.0660000000000002E-2,0.12681000000000001,-0.13092000000000001,0,4603,{"$f":"IF((G493*ALBE+H493*ALDE+I493*AT+J493*BE+K493*DE+L493*FR+M493*NL)>(N493),1,0)","v":0},null,{"$f":"IF((C$6*G493+D$6*H493+E$6*I493+F$6*J493+G$6*K493+H$6*L493+I$6*M493)>(N493),1,0)","v":0}]
[null,118,"[D2-NL] Diele - Meeden 380 Black [DIR] [NL]_LTA_corner#05_#14","10T-DE-NL-00001V","[D2-NL] Diele - Meeden 380 White","10T-DE-NL-00002T",0,0,0.56174000000000002,0.30384,0.61207,0.46636,0,1515,{"$f":"IF((G494*ALBE+H494*ALDE+I494*AT+J494*BE+K494*DE+L494*FR+M494*NL)>(N494),1,0)","v":0},null,{"$f":"IF((C$6*G494+D$6*H494+E$6*I494+F$6*J494+G$6*K494+H$6*L494+I$6*M494)>(N494),1,0)","v":0}]
[null,119,"[AT-AT] Westtirol Transformer WTRHU41 [OPP]_LTA_corner#20_#12","14T-38220-WT041O","BASECASE","N/A",0,0,0.98336999999999997,-2.5350000000000001E-2,0.11541999999999999,-0.13794000000000001,0,4647,{"$f":"IF((G495*ALBE+H495*ALDE+I495*AT+J495*BE+K495*DE+L495*FR+M495*NL)>(N495),1,0)","v":0},null,{"$f":"IF((C$6*G495+D$6*H495+E$6*I495+F$6*J495+G$6*K495+H$6*L495+I$6*M495)>(N495),1,0)","v":0}]
[null,120,"[D2-AT] Y - St. Peter (- Altheim - Simbach) 233/230 [OPP] [D2]_LTA_corner#30_#12","10T-AT-DE-00001B","[D2-AT] Y - St. Peter (- Altheim - Simbach) 234/230","10T-AT-DE-000045",0,0,0.99917,0,-1.3729999999999999E-2,3.8280000000000002E-2,0,5035,{"$f":"IF((G496*ALBE+H496*ALDE+I496*AT+J496*BE+K496*DE+L496*FR+M496*NL)>(N496),1,0)","v":0},null,{"$f":"IF((C$6*G496+D$6*H496+E$6*I496+F$6*J496+G$6*K496+H$6*L496+I$6*M496)>(N496),1,0)","v":0}]
[null,121,"[D2-AT] Y - St. Peter (- Altheim - Simbach) 233/230 [OPP] [D2]_LTA_corner#21_#12","10T-AT-DE-00001B","[D2-AT] Y - St. Peter (- Altheim - Simbach) 234/230","10T-AT-DE-000045",0,0,0.95230000000000004,0.12928000000000001,0.19545000000000001,0.19545000000000001,0,4051,{"$f":"IF((G497*ALBE+H497*ALDE+I497*AT+J497*BE+K497*DE+L497*FR+M497*NL)>(N497),1,0)","v":0},null,{"$f":"IF((C$6*G497+D$6*H497+E$6*I497+F$6*J497+G$6*K497+H$6*L497+I$6*M497)>(N497),1,0)","v":0}]
[null,122,"[D2-AT] Y - St. Peter (- Altheim - Simbach) 233/230 [OPP] [D2]_LTA_corner#32_#12","10T-AT-DE-00001B","[D2-AT] Y - St. Peter (- Altheim - Simbach) 234/230","10T-AT-DE-000045",0,0,0.99878999999999996,-1.1900000000000001E-3,-2.9479999999999999E-2,3.9399999999999998E-2,0,5158,{"$f":"IF((G498*ALBE+H498*ALDE+I498*AT+J498*BE+K498*DE+L498*FR+M498*NL)>(N498),1,0)","v":0},null,{"$f":"IF((C$6*G498+D$6*H498+E$6*I498+F$6*J498+G$6*K498+H$6*L498+I$6*M498)>(N498),1,0)","v":0}]
[null,123,"[D4-AT] Buers - Westtirol 421 weiss [OPP] [D4]_LTA_corner#20_#19","10T-AT-DE-000061","[AT-AT] Westtirol Transformer WTRHU41","14T-38220-WT041O",0,0,0.97916999999999998,-5.9470000000000002E-2,8.7179999999999994E-2,-0.17346,0,4766,{"$f":"IF((G499*ALBE+H499*ALDE+I499*AT+J499*BE+K499*DE+L499*FR+M499*NL)>(N499),1,0)","v":0},null,{"$f":"IF((C$6*G499+D$6*H499+E$6*I499+F$6*J499+G$6*K499+H$6*L499+I$6*M499)>(N499),1,0)","v":0}]
[null,124,"[AT-AT] Westtirol Transformer WTRHU41 [OPP]_LTA_corner#17_#0","14T-38220-WT041O","BASECASE","N/A",0,0,0.99406000000000005,0,7.8409999999999994E-2,-7.5509999999999994E-2,0,4696,{"$f":"IF((G500*ALBE+H500*ALDE+I500*AT+J500*BE+K500*DE+L500*FR+M500*NL)>(N500),1,0)","v":0},null,{"$f":"IF((C$6*G500+D$6*H500+E$6*I500+F$6*J500+G$6*K500+H$6*L500+I$6*M500)>(N500),1,0)","v":0}]
[null,125,"[BE-BE] PST_ZANDV_2 [N - S]_LTA_corner#13_#10","22T20161020---56","[NL-BE] Rilland - Zandvliet 380 White/30","10T-BE-NL-00004C",0,0,-0.31469000000000003,-0.79608000000000001,-0.26491999999999999,-0.44389000000000001,0,1979,{"$f":"IF((G501*ALBE+H501*ALDE+I501*AT+J501*BE+K501*DE+L501*FR+M501*NL)>(N501),1,0)","v":0},null,{"$f":"IF((C$6*G501+D$6*H501+E$6*I501+F$6*J501+G$6*K501+H$6*L501+I$6*M501)>(N501),1,0)","v":0}]
[null,126,"[D2-NL] Diele - Meeden 380 Black [DIR] [NL]_LTA_corner#05_#2","10T-DE-NL-00001V","[D2-NL] Diele - Meeden 380 White","10T-DE-NL-00002T",0,0,0.56894999999999996,0.25430000000000003,0.65529999999999999,0.42686000000000002,0,1804,{"$f":"IF((G502*ALBE+H502*ALDE+I502*AT+J502*BE+K502*DE+L502*FR+M502*NL)>(N502),1,0)","v":0},null,{"$f":"IF((C$6*G502+D$6*H502+E$6*I502+F$6*J502+G$6*K502+H$6*L502+I$6*M502)>(N502),1,0)","v":0}]
[null,127,"[AT-AT] Westtirol Transformer WTRHU41 [OPP]_LTA_corner#20_#0","14T-38220-WT041O","BASECASE","N/A",0,0,0.98226999999999998,-2.5319999999999999E-2,0.17008999999999999,-7.4620000000000006E-2,0,4391,{"$f":"IF((G503*ALBE+H503*ALDE+I503*AT+J503*BE+K503*DE+L503*FR+M503*NL)>(N503),1,0)","v":0},null,{"$f":"IF((C$6*G503+D$6*H503+E$6*I503+F$6*J503+G$6*K503+H$6*L503+I$6*M503)>(N503),1,0)","v":0}]
[null,128,"ALDE_export","N/A","BASECASE","N/A",0,1,0,0,0,0,0,0,{"$f":"IF((G504*ALBE+H504*ALDE+I504*AT+J504*BE+K504*DE+L504*FR+M504*NL)>(N504),1,0)","v":0},null,{"$f":"IF((C$6*G504+D$6*H504+E$6*I504+F$6*J504+G$6*K504+H$6*L504+I$6*M504)>(N504),1,0)","v":0}]
[null,129,"[D7-FR] Ensdorf - Vigy 2S [OPP] [D7]_LTA_corner#30_#0","10T-DE-FR-000068","[D7-D7] Ensdorf - Uchtelfangen Taubental N","11T0-0000-0604-N",0,0,6.046E-2,0.38856000000000002,-0.10706,0.91317999999999999,0,3463,{"$f":"IF((G505*ALBE+H505*ALDE+I505*AT+J505*BE+K505*DE+L505*FR+M505*NL)>(N505),1,0)","v":0},null,{"$f":"IF((C$6*G505+D$6*H505+E$6*I505+F$6*J505+G$6*K505+H$6*L505+I$6*M505)>(N505),1,0)","v":0}]
[null,130,"[D7-FR] Ensdorf - Vigy 2S [OPP] [D7]_LTA_corner#30_#13","10T-DE-FR-000068","[D7-D7] Ensdorf - Uchtelfangen Taubental N","11T0-0000-0604-N",0,0,7.2410000000000002E-2,0.39033000000000001,-9.2200000000000004E-2,0.91317999999999999,0,3407,{"$f":"IF((G506*ALBE+H506*ALDE+I506*AT+J506*BE+K506*DE+L506*FR+M506*NL)>(N506),1,0)","v":0},null,{"$f":"IF((C$6*G506+D$6*H506+E$6*I506+F$6*J506+G$6*K506+H$6*L506+I$6*M506)>(N506),1,0)","v":0}]
[null,131,"[D4-AT] Buers - Westtirol 421 weiss [OPP] [D4]_LTA_corner#20_#9","10T-AT-DE-000061","[AT-AT] Westtirol Transformer WTRHU41","14T-38220-WT041O",0,0,0.98858999999999997,-3.015E-2,0.12823999999999999,-7.3020000000000002E-2,0,4534,{"$f":"IF((G507*ALBE+H507*ALDE+I507*AT+J507*BE+K507*DE+L507*FR+M507*NL)>(N507),1,0)","v":0},null,{"$f":"IF((C$6*G507+D$6*H507+E$6*I507+F$6*J507+G$6*K507+H$6*L507+I$6*M507)>(N507),1,0)","v":0}]
[null,132,"[AT-AT] Westtirol Transformer WTRHU41 [OPP]_LTA_corner#17_#1","14T-38220-WT041O","BASECASE","N/A",0,0,0.98699999999999999,0,0.11584,-0.11144,0,4617,{"$f":"IF((G508*ALBE+H508*ALDE+I508*AT+J508*BE+K508*DE+L508*FR+M508*NL)>(N508),1,0)","v":0},null,{"$f":"IF((C$6*G508+D$6*H508+E$6*I508+F$6*J508+G$6*K508+H$6*L508+I$6*M508)>(N508),1,0)","v":0}]
[null,133,"[BE-BE] PST_VANYK_2 [S - N]","22T-BE-PST--002U","[BE-FR] Achene - Lonny 380.19","10T-BE-FR-000015",0.57308000000000003,-2.4340000000000001E-2,5.3400000000000001E-3,0.32016,-6.9899999999999997E-3,4.5960000000000001E-2,5.1799999999999997E-3,875,{"$f":"IF((G509*ALBE+H509*ALDE+I509*AT+J509*BE+K509*DE+L509*FR+M509*NL)>(N509),1,0)","v":0},null,{"$f":"IF((C$6*G509+D$6*H509+E$6*I509+F$6*J509+G$6*K509+H$6*L509+I$6*M509)>(N509),1,0)","v":0}]
[null,134,"[D2-AT] Y - St. Peter (- Altheim - Simbach) 233/230 [OPP] [D2]_LTA_corner#23_#9","10T-AT-DE-00001B","[D2-AT] Y - St. Peter (- Altheim - Simbach) 234/230","10T-AT-DE-000045",0,0,0.98594000000000004,6.4119999999999996E-2,9.4549999999999995E-2,0.12195,0,4573,{"$f":"IF((G510*ALBE+H510*ALDE+I510*AT+J510*BE+K510*DE+L510*FR+M510*NL)>(N510),1,0)","v":0},null,{"$f":"IF((C$6*G510+D$6*H510+E$6*I510+F$6*J510+G$6*K510+H$6*L510+I$6*M510)>(N510),1,0)","v":0}]
[null,135,"[D4-AT] Buers - Westtirol 421 weiss [OPP] [D4]_LTA_corner#20_#25","10T-AT-DE-000061","[AT-AT] Westtirol Transformer WTRHU41","14T-38220-WT041O",0,0,0.98196000000000006,-5.2729999999999999E-2,0.12134,-0.1351,0,4624,{"$f":"IF((G511*ALBE+H511*ALDE+I511*AT+J511*BE+K511*DE+L511*FR+M511*NL)>(N511),1,0)","v":0},null,{"$f":"IF((C$6*G511+D$6*H511+E$6*I511+F$6*J511+G$6*K511+H$6*L511+I$6*M511)>(N511),1,0)","v":0}]
[null,136,"[D7-FR] Ensdorf - Vigy 2S [OPP] [D7]_LTA_corner#30_#8","10T-DE-FR-000068","[D7-D7] Ensdorf - Uchtelfangen Taubental N","11T0-0000-0604-N",0,0,7.2590000000000002E-2,0.39267000000000002,-9.0920000000000001E-2,0.91229000000000005,0,3393,{"$f":"IF((G512*ALBE+H512*ALDE+I512*AT+J512*BE+K512*DE+L512*FR+M512*NL)>(N512),1,0)","v":0},null,{"$f":"IF((C$6*G512+D$6*H512+E$6*I512+F$6*J512+G$6*K512+H$6*L512+I$6*M512)>(N512),1,0)","v":0}]
[null,137,"[D2-AT] Y - St. Peter (- Altheim - Simbach) 233/230 [OPP] [D2]_LTA_corner#32_#1","10T-AT-DE-00001B","[D2-AT] Y - St. Peter (- Altheim - Simbach) 234/230","10T-AT-DE-000045",0,0,0.97821999999999998,-0.10611,-0.16192000000000001,-7.485E-2,0,5966,{"$f":"IF((G513*ALBE+H513*ALDE+I513*AT+J513*BE+K513*DE+L513*FR+M513*NL)>(N513),1,0)","v":0},null,{"$f":"IF((C$6*G513+D$6*H513+E$6*I513+F$6*J513+G$6*K513+H$6*L513+I$6*M513)>(N513),1,0)","v":0}]
[null,138,"[D2-NL] Diele - Meeden 380 Black [DIR] [D2]_LTA_corner#05_#25","10T-DE-NL-00001V","[D2-NL] Diele - Meeden 380 White ","10T-DE-NL-00002T",0,0,0.58367999999999998,0.34849999999999998,0.58367999999999998,0.44406000000000001,0,1149,{"$f":"IF((G514*ALBE+H514*ALDE+I514*AT+J514*BE+K514*DE+L514*FR+M514*NL)>(N514),1,0)","v":0},null,{"$f":"IF((C$6*G514+D$6*H514+E$6*I514+F$6*J514+G$6*K514+H$6*L514+I$6*M514)>(N514),1,0)","v":0}]
[null,139,"[AT-AT] Westtirol Transformer WTRHU41 [OPP]_LTA_corner#17_#2","14T-38220-WT041O","BASECASE","N/A",0,0,0.98624000000000001,0,0.14735999999999999,-7.492E-2,0,4469,{"$f":"IF((G515*ALBE+H515*ALDE+I515*AT+J515*BE+K515*DE+L515*FR+M515*NL)>(N515),1,0)","v":0},null,{"$f":"IF((C$6*G515+D$6*H515+E$6*I515+F$6*J515+G$6*K515+H$6*L515+I$6*M515)>(N515),1,0)","v":0}]
[null,140,"[D2-D7] Y - Meppen (- Doerpen/West - Niederlangen) Emsland O weiss EOWS [DIR] [D2]","11T-D2-D7-00001H","[D2-D7] Doerpen/West - Hanekenfaehr Emsland W blau EWBL","11T-D2-D7-00002F",1.0710000000000001E-2,-1.1480000000000001E-2,-3.2699999999999999E-3,1.2959999999999999E-2,-1.3469999999999999E-2,1.8000000000000001E-4,9.3740000000000004E-2,407,{"$f":"IF((G516*ALBE+H516*ALDE+I516*AT+J516*BE+K516*DE+L516*FR+M516*NL)>(N516),1,0)","v":0},null,{"$f":"IF((C$6*G516+D$6*H516+E$6*I516+F$6*J516+G$6*K516+H$6*L516+I$6*M516)>(N516),1,0)","v":0}]
[null,141,"[D7-FR] Ensdorf - Vigy 2S [OPP] [D7]_LTA_corner#30_#11","10T-DE-FR-000068","[D7-D7] Ensdorf - Uchtelfangen Taubental N","11T0-0000-0604-N",0,0,6.3890000000000002E-2,0.39523000000000003,-0.10094,0.91078000000000003,0,3419,{"$f":"IF((G517*ALBE+H517*ALDE+I517*AT+J517*BE+K517*DE+L517*FR+M517*NL)>(N517),1,0)","v":0},null,{"$f":"IF((C$6*G517+D$6*H517+E$6*I517+F$6*J517+G$6*K517+H$6*L517+I$6*M517)>(N517),1,0)","v":0}]
[null,142,"[D4-AT] Buers - Westtirol 421 weiss [OPP] [D4]_LTA_corner#20_#29","10T-AT-DE-000061","[AT-AT] Westtirol Transformer WTRHU41","14T-38220-WT041O",0,0,0.97899999999999998,-5.8000000000000003E-2,7.4490000000000001E-2,-0.18068000000000001,0,4812,{"$f":"IF((G518*ALBE+H518*ALDE+I518*AT+J518*BE+K518*DE+L518*FR+M518*NL)>(N518),1,0)","v":0},null,{"$f":"IF((C$6*G518+D$6*H518+E$6*I518+F$6*J518+G$6*K518+H$6*L518+I$6*M518)>(N518),1,0)","v":0}]
[null,143,"[BE-FR] Achene - Lonny 380.19 [DIR] [BE]","10T-BE-FR-000015","[BE-BE] Avelgem - Horta 380.102","22T20161020---1E",0.30626999999999999,6.4439999999999997E-2,-2.0740000000000001E-2,0.30151,2.8539999999999999E-2,-0.15096000000000001,0.14349000000000001,958,{"$f":"IF((G519*ALBE+H519*ALDE+I519*AT+J519*BE+K519*DE+L519*FR+M519*NL)>(N519),1,0)","v":0},null,{"$f":"IF((C$6*G519+D$6*H519+E$6*I519+F$6*J519+G$6*K519+H$6*L519+I$6*M519)>(N519),1,0)","v":0}]
[null,144,"[D2-AT] Y - St. Peter (- Altheim - Simbach) 233/230 [OPP] [D2]_LTA_corner#21_#10","10T-AT-DE-00001B","[D2-AT] Y - St. Peter (- Altheim - Simbach) 234/230","10T-AT-DE-000045",0,0,0.95503000000000005,0.12670999999999999,0.18956000000000001,0.18956000000000001,0,4079,{"$f":"IF((G520*ALBE+H520*ALDE+I520*AT+J520*BE+K520*DE+L520*FR+M520*NL)>(N520),1,0)","v":0},null,{"$f":"IF((C$6*G520+D$6*H520+E$6*I520+F$6*J520+G$6*K520+H$6*L520+I$6*M520)>(N520),1,0)","v":0}]
[null,145,"[D4-AT] Buers - Westtirol 421 weiss [OPP] [D4]_LTA_corner#20_#21","10T-AT-DE-000061","[AT-AT] Westtirol Transformer WTRHU41","14T-38220-WT041O",0,0,0.98209999999999997,-4.8550000000000003E-2,0.12648000000000001,-0.13086999999999999,0,4603,{"$f":"IF((G521*ALBE+H521*ALDE+I521*AT+J521*BE+K521*DE+L521*FR+M521*NL)>(N521),1,0)","v":0},null,{"$f":"IF((C$6*G521+D$6*H521+E$6*I521+F$6*J521+G$6*K521+H$6*L521+I$6*M521)>(N521),1,0)","v":0}]
[null,146,"[BE-BE] PST_ZANDV_2 [N - S]_LTA_corner#13_#8","22T20161020---56","[NL-BE] Rilland - Zandvliet 380 White/30","10T-BE-NL-00004C",0,0,-0.34310000000000002,-0.74031000000000002,-0.29376000000000002,-0.49792999999999998,0,1813,{"$f":"IF((G522*ALBE+H522*ALDE+I522*AT+J522*BE+K522*DE+L522*FR+M522*NL)>(N522),1,0)","v":0},null,{"$f":"IF((C$6*G522+D$6*H522+E$6*I522+F$6*J522+G$6*K522+H$6*L522+I$6*M522)>(N522),1,0)","v":0}]
[null,147,"[D7-FR] Ensdorf - Vigy 2S [OPP] [D7]_LTA_corner#30_#23","10T-DE-FR-000068","[D7-D7] Ensdorf - Uchtelfangen Taubental N","11T0-0000-0604-N",0,0,7.2279999999999997E-2,0.39199000000000001,-9.1450000000000004E-2,0.91254999999999997,0,3397,{"$f":"IF((G523*ALBE+H523*ALDE+I523*AT+J523*BE+K523*DE+L523*FR+M523*NL)>(N523),1,0)","v":0},null,{"$f":"IF((C$6*G523+D$6*H523+E$6*I523+F$6*J523+G$6*K523+H$6*L523+I$6*M523)>(N523),1,0)","v":0}]
[null,148,"[D2-AT] Y - St. Peter (- Altheim - Simbach) 233/230 [OPP] [D2]_LTA_corner#23_#1","10T-AT-DE-00001B","[D2-AT] Y - St. Peter (- Altheim - Simbach) 234/230","10T-AT-DE-000045",0,0,0.99880000000000002,9.5300000000000003E-3,0,4.7989999999999998E-2,0,4949,{"$f":"IF((G524*ALBE+H524*ALDE+I524*AT+J524*BE+K524*DE+L524*FR+M524*NL)>(N524),1,0)","v":0},null,{"$f":"IF((C$6*G524+D$6*H524+E$6*I524+F$6*J524+G$6*K524+H$6*L524+I$6*M524)>(N524),1,0)","v":0}]
[null,149,"[AT-AT] Westtirol Transformer WTRHU41 [OPP]_LTA_corner#20_#5","14T-38220-WT041O","BASECASE","N/A",0,0,0.98680999999999996,-8.0430000000000001E-2,0.11519,-8.0430000000000001E-2,0,4581,{"$f":"IF((G525*ALBE+H525*ALDE+I525*AT+J525*BE+K525*DE+L525*FR+M525*NL)>(N525),1,0)","v":0},null,{"$f":"IF((C$6*G525+D$6*H525+E$6*I525+F$6*J525+G$6*K525+H$6*L525+I$6*M525)>(N525),1,0)","v":0}]
[null,150,"[AT-AT] Westtirol Transformer WTRHU41 [OPP]_LTA_corner#20_#21","14T-38220-WT041O","BASECASE","N/A",0,0,0.99236000000000002,-4.8750000000000002E-2,0.1023,-4.8750000000000002E-2,0,4588,{"$f":"IF((G526*ALBE+H526*ALDE+I526*AT+J526*BE+K526*DE+L526*FR+M526*NL)>(N526),1,0)","v":0},null,{"$f":"IF((C$6*G526+D$6*H526+E$6*I526+F$6*J526+G$6*K526+H$6*L526+I$6*M526)>(N526),1,0)","v":0}]
[null,151,"[AT-AT] Westtirol Transformer WTRHU41 [OPP]_LTA_corner#17_#6","14T-38220-WT041O","BASECASE","N/A",0,0,0.99541999999999997,0,9.1439999999999994E-2,-2.7900000000000001E-2,0,4591,{"$f":"IF((G527*ALBE+H527*ALDE+I527*AT+J527*BE+K527*DE+L527*FR+M527*NL)>(N527),1,0)","v":0},null,{"$f":"IF((C$6*G527+D$6*H527+E$6*I527+F$6*J527+G$6*K527+H$6*L527+I$6*M527)>(N527),1,0)","v":0}]
[null,152,"[D2-NL] Diele - Meeden 380 Black [DIR] [D2]_LTA_corner#05_#11","10T-DE-NL-00001V","[D2-NL] Diele - Meeden 380 White ","10T-DE-NL-00002T",0,0,0.58382000000000001,0.34871999999999997,0.58382000000000001,0.44352000000000003,0,1149,{"$f":"IF((G528*ALBE+H528*ALDE+I528*AT+J528*BE+K528*DE+L528*FR+M528*NL)>(N528),1,0)","v":0},null,{"$f":"IF((C$6*G528+D$6*H528+E$6*I528+F$6*J528+G$6*K528+H$6*L528+I$6*M528)>(N528),1,0)","v":0}]
[null,153,"[D2-AT] Y - St. Peter (- Altheim - Simbach) 233/230 [OPP] [D2]_LTA_corner#30_#19","10T-AT-DE-00001B","[D2-AT] Y - St. Peter (- Altheim - Simbach) 234/230","10T-AT-DE-000045",0,0,0.99877000000000005,0,-2.7910000000000001E-2,4.0910000000000002E-2,0,5148,{"$f":"IF((G529*ALBE+H529*ALDE+I529*AT+J529*BE+K529*DE+L529*FR+M529*NL)>(N529),1,0)","v":0},null,{"$f":"IF((C$6*G529+D$6*H529+E$6*I529+F$6*J529+G$6*K529+H$6*L529+I$6*M529)>(N529),1,0)","v":0}]
[null,154,"[D7-FR] Ensdorf - Vigy 2S [OPP] [D7]_LTA_corner#30_#19","10T-DE-FR-000068","[D7-D7] Ensdorf - Uchtelfangen Taubental N","11T0-0000-0604-N",0,0,7.1720000000000006E-2,0.39212000000000002,-9.1840000000000005E-2,0.91251000000000004,0,3397,{"$f":"IF((G530*ALBE+H530*ALDE+I530*AT+J530*BE+K530*DE+L530*FR+M530*NL)>(N530),1,0)","v":0},null,{"$f":"IF((C$6*G530+D$6*H530+E$6*I530+F$6*J530+G$6*K530+H$6*L530+I$6*M530)>(N530),1,0)","v":0}]
[null,155,"[D2-AT] Y - St. Peter (- Altheim - Simbach) 233/230 [OPP] [D2]_LTA_corner#30_#14","10T-AT-DE-00001B","[D2-AT] Y - St. Peter (- Altheim - Simbach) 234/230","10T-AT-DE-000045",0,0,0.99895,0,-2.6259999999999999E-2,3.7510000000000002E-2,0,5126,{"$f":"IF((G531*ALBE+H531*ALDE+I531*AT+J531*BE+K531*DE+L531*FR+M531*NL)>(N531),1,0)","v":0},null,{"$f":"IF((C$6*G531+D$6*H531+E$6*I531+F$6*J531+G$6*K531+H$6*L531+I$6*M531)>(N531),1,0)","v":0}]
[null,156,"[D2-AT] Y - St. Peter (- Altheim - Simbach) 233/230 [OPP] [D2]_LTA_corner#23_#14","10T-AT-DE-00001B","[D2-AT] Y - St. Peter (- Altheim - Simbach) 234/230","10T-AT-DE-000045",0,0,0.99824000000000002,6.3E-3,0,5.8979999999999998E-2,0,4983,{"$f":"IF((G532*ALBE+H532*ALDE+I532*AT+J532*BE+K532*DE+L532*FR+M532*NL)>(N532),1,0)","v":0},null,{"$f":"IF((C$6*G532+D$6*H532+E$6*I532+F$6*J532+G$6*K532+H$6*L532+I$6*M532)>(N532),1,0)","v":0}]
[null,157,"[AT-AT] Westtirol Transformer WTRHU41 [OPP]_LTA_corner#17_#7","14T-38220-WT041O","BASECASE","N/A",0,0,0.99229000000000001,0,0.11645999999999999,-4.2430000000000002E-2,0,4531,{"$f":"IF((G533*ALBE+H533*ALDE+I533*AT+J533*BE+K533*DE+L533*FR+M533*NL)>(N533),1,0)","v":0},null,{"$f":"IF((C$6*G533+D$6*H533+E$6*I533+F$6*J533+G$6*K533+H$6*L533+I$6*M533)>(N533),1,0)","v":0}]
[null,158,"[D2-NL] Diele - Meeden 380 Black [DIR] [NL]_LTA_corner#05_#33","10T-DE-NL-00001V","[D2-NL] Diele - Meeden 380 White","10T-DE-NL-00002T",0,0,0.55961000000000005,0.30890000000000001,0.60977999999999999,0.46859000000000001,0,1505,{"$f":"IF((G534*ALBE+H534*ALDE+I534*AT+J534*BE+K534*DE+L534*FR+M534*NL)>(N534),1,0)","v":0},null,{"$f":"IF((C$6*G534+D$6*H534+E$6*I534+F$6*J534+G$6*K534+H$6*L534+I$6*M534)>(N534),1,0)","v":0}]
[null,159,"[D4-AT] Buers - Westtirol 421 weiss [OPP] [D4]_LTA_corner#20_#11","10T-AT-DE-000061","[AT-AT] Westtirol Transformer WTRHU41","14T-38220-WT041O",0,0,0.98458999999999997,-3.5810000000000002E-2,0.14374000000000001,-9.2939999999999995E-2,0,4505,{"$f":"IF((G535*ALBE+H535*ALDE+I535*AT+J535*BE+K535*DE+L535*FR+M535*NL)>(N535),1,0)","v":0},null,{"$f":"IF((C$6*G535+D$6*H535+E$6*I535+F$6*J535+G$6*K535+H$6*L535+I$6*M535)>(N535),1,0)","v":0}]
[null,160,"[D2-NL] Diele - Meeden 380 Black [DIR] [NL]_LTA_corner#05_#0","10T-DE-NL-00001V","[D2-NL] Diele - Meeden 380 White","10T-DE-NL-00002T",0,0,0.52544999999999997,0.42148000000000002,0.57469000000000003,0.46475,0,1304,{"$f":"IF((G536*ALBE+H536*ALDE+I536*AT+J536*BE+K536*DE+L536*FR+M536*NL)>(N536),1,0)","v":0},null,{"$f":"IF((C$6*G536+D$6*H536+E$6*I536+F$6*J536+G$6*K536+H$6*L536+I$6*M536)>(N536),1,0)","v":0}]
[null,161,"[D2-AT] Y - St. Peter (- Altheim - Simbach) 233/230 [OPP] [D2]_LTA_corner#23_#23","10T-AT-DE-00001B","[D2-AT] Y - St. Peter (- Altheim - Simbach) 234/230","10T-AT-DE-000045",0,0,0.99753000000000003,1.504E-2,1.2800000000000001E-3,6.8570000000000006E-2,0,4993,{"$f":"IF((G537*ALBE+H537*ALDE+I537*AT+J537*BE+K537*DE+L537*FR+M537*NL)>(N537),1,0)","v":0},null,{"$f":"IF((C$6*G537+D$6*H537+E$6*I537+F$6*J537+G$6*K537+H$6*L537+I$6*M537)>(N537),1,0)","v":0}]
[null,162,"[BE-BE] PST_ZANDV_2 [N - S]_LTA_corner#13_#1","22T20161020---56","[NL-BE] Rilland - Zandvliet 380 White/30","10T-BE-NL-00004C",0,0,-0.33521000000000001,-0.74502000000000002,-0.28544999999999998,-0.50109999999999999,0,1822,{"$f":"IF((G538*ALBE+H538*ALDE+I538*AT+J538*BE+K538*DE+L538*FR+M538*NL)>(N538),1,0)","v":0},null,{"$f":"IF((C$6*G538+D$6*H538+E$6*I538+F$6*J538+G$6*K538+H$6*L538+I$6*M538)>(N538),1,0)","v":0}]
[null,163,"[AT-AT] Westtirol Transformer WTRHU41 [OPP]_LTA_corner#22_#5","14T-38220-WT041O","BASECASE","N/A",0,0,0.98663999999999996,-8.6709999999999995E-2,0.1158,-7.4950000000000003E-2,0,4598,{"$f":"IF((G539*ALBE+H539*ALDE+I539*AT+J539*BE+K539*DE+L539*FR+M539*NL)>(N539),1,0)","v":0},null,{"$f":"IF((C$6*G539+D$6*H539+E$6*I539+F$6*J539+G$6*K539+H$6*L539+I$6*M539)>(N539),1,0)","v":0}]
[null,164,"[AT-AT] Westtirol Transformer WTRHU41 [OPP]_LTA_corner#20_#26","14T-38220-WT041O","BASECASE","N/A",0,0,0.99270999999999998,-2.172E-2,0.11651,-2.172E-2,0,4503,{"$f":"IF((G540*ALBE+H540*ALDE+I540*AT+J540*BE+K540*DE+L540*FR+M540*NL)>(N540),1,0)","v":0},null,{"$f":"IF((C$6*G540+D$6*H540+E$6*I540+F$6*J540+G$6*K540+H$6*L540+I$6*M540)>(N540),1,0)","v":0}]
[null,165,"[D2-AT] Y - St. Peter (- Altheim - Simbach) 233/230 [OPP] [D2]_LTA_corner#23_#27","10T-AT-DE-00001B","[D2-AT] Y - St. Peter (- Altheim - Simbach) 234/230","10T-AT-DE-000045",0,0,0.99802999999999997,2.1350000000000001E-2,0,5.8970000000000002E-2,0,4966,{"$f":"IF((G541*ALBE+H541*ALDE+I541*AT+J541*BE+K541*DE+L541*FR+M541*NL)>(N541),1,0)","v":0},null,{"$f":"IF((C$6*G541+D$6*H541+E$6*I541+F$6*J541+G$6*K541+H$6*L541+I$6*M541)>(N541),1,0)","v":0}]
[null,166,"[D2-AT] Y - St. Peter (- Altheim - Simbach) 233/230 [OPP] [D2]_LTA_corner#23_#20","10T-AT-DE-00001B","[D2-AT] Y - St. Peter (- Altheim - Simbach) 234/230","10T-AT-DE-000045",0,0,0.99765999999999999,1.9570000000000001E-2,0,6.5439999999999998E-2,0,4986,{"$f":"IF((G542*ALBE+H542*ALDE+I542*AT+J542*BE+K542*DE+L542*FR+M542*NL)>(N542),1,0)","v":0},null,{"$f":"IF((C$6*G542+D$6*H542+E$6*I542+F$6*J542+G$6*K542+H$6*L542+I$6*M542)>(N542),1,0)","v":0}]
[null,167,"[AT-AT] Westtirol Transformer WTRHU41 [OPP]_LTA_corner#20_#17","14T-38220-WT041O","BASECASE","N/A",0,0,0.99165999999999999,-2.5559999999999999E-2,0.12367,-2.5559999999999999E-2,0,4485,{"$f":"IF((G543*ALBE+H543*ALDE+I543*AT+J543*BE+K543*DE+L543*FR+M543*NL)>(N543),1,0)","v":0},null,{"$f":"IF((C$6*G543+D$6*H543+E$6*I543+F$6*J543+G$6*K543+H$6*L543+I$6*M543)>(N543),1,0)","v":0}]
[null,168,"[D2-NL] Diele - Meeden 380 Black [DIR] [D2]_LTA_corner#05_#1","10T-DE-NL-00001V","[D2-NL] Diele - Meeden 380 White ","10T-DE-NL-00002T",0,0,-0.46065,0.38962000000000002,0.67032000000000003,0.43204999999999999,0,6728,{"$f":"IF((G544*ALBE+H544*ALDE+I544*AT+J544*BE+K544*DE+L544*FR+M544*NL)>(N544),1,0)","v":0},null,{"$f":"IF((C$6*G544+D$6*H544+E$6*I544+F$6*J544+G$6*K544+H$6*L544+I$6*M544)>(N544),1,0)","v":0}]
[null,169,"[BE-FR] Achene - Lonny 380.19 [OPP] [BE]","10T-BE-FR-000015","[BE-BE] Avelgem - Horta 380.102","22T20161020---1E",-0.30626999999999999,-6.4439999999999997E-2,2.0740000000000001E-2,-0.30151,-2.8539999999999999E-2,0.15096000000000001,-0.14349000000000001,1879,{"$f":"IF((G545*ALBE+H545*ALDE+I545*AT+J545*BE+K545*DE+L545*FR+M545*NL)>(N545),1,0)","v":0},null,{"$f":"IF((C$6*G545+D$6*H545+E$6*I545+F$6*J545+G$6*K545+H$6*L545+I$6*M545)>(N545),1,0)","v":0}]
[null,170,"[BE-BE] PST_ZANDV_2 [N - S]_LTA_corner#13_#0","22T20161020---56","[NL-BE] Rilland - Zandvliet 380 White/30","10T-BE-NL-00004C",0,0,-0.37509999999999999,-0.67362999999999995,-0.30458000000000002,-0.55923999999999996,0,1713,{"$f":"IF((G546*ALBE+H546*ALDE+I546*AT+J546*BE+K546*DE+L546*FR+M546*NL)>(N546),1,0)","v":0},null,{"$f":"IF((C$6*G546+D$6*H546+E$6*I546+F$6*J546+G$6*K546+H$6*L546+I$6*M546)>(N546),1,0)","v":0}]
[null,171,"[AT-AT] Westtirol Transformer WTRHU41 [OPP]_LTA_corner#17_#3","14T-38220-WT041O","BASECASE","N/A",0,0,0.98972000000000004,3.6080000000000001E-2,0.11616,-7.5190000000000007E-2,0,4616,{"$f":"IF((G547*ALBE+H547*ALDE+I547*AT+J547*BE+K547*DE+L547*FR+M547*NL)>(N547),1,0)","v":0},null,{"$f":"IF((C$6*G547+D$6*H547+E$6*I547+F$6*J547+G$6*K547+H$6*L547+I$6*M547)>(N547),1,0)","v":0}]
[null,172,"[D2-NL] Diele - Meeden 380 Black [DIR] [D2]_LTA_corner#05_#26","10T-DE-NL-00001V","[D2-NL] Diele - Meeden 380 White ","10T-DE-NL-00002T",0,0,0.58372999999999997,0.34854000000000002,0.58372999999999997,0.44388,0,1149,{"$f":"IF((G548*ALBE+H548*ALDE+I548*AT+J548*BE+K548*DE+L548*FR+M548*NL)>(N548),1,0)","v":0},null,{"$f":"IF((C$6*G548+D$6*H548+E$6*I548+F$6*J548+G$6*K548+H$6*L548+I$6*M548)>(N548),1,0)","v":0}]
[null,173,"[BE-BE] PST_ZANDV_2 [N - S]_LTA_corner#13_#3","22T20161020---56","[NL-BE] Rilland - Zandvliet 380 White/30","10T-BE-NL-00004C",0,0,-0.35625000000000001,-0.73889000000000005,-0.28310000000000002,-0.49697999999999998,0,1921,{"$f":"IF((G549*ALBE+H549*ALDE+I549*AT+J549*BE+K549*DE+L549*FR+M549*NL)>(N549),1,0)","v":0},null,{"$f":"IF((C$6*G549+D$6*H549+E$6*I549+F$6*J549+G$6*K549+H$6*L549+I$6*M549)>(N549),1,0)","v":0}]
[null,174,"[BE-BE] PST_ZANDV_2 [N - S]_LTA_corner#13_#6","22T20161020---56","[NL-BE] Rilland - Zandvliet 380 White/30","10T-BE-NL-00004C",0,0,-0.36275000000000002,-0.71345000000000003,-0.30259999999999998,-0.51753000000000005,0,1789,{"$f":"IF((G550*ALBE+H550*ALDE+I550*AT+J550*BE+K550*DE+L550*FR+M550*NL)>(N550),1,0)","v":0},null,{"$f":"IF((C$6*G550+D$6*H550+E$6*I550+F$6*J550+G$6*K550+H$6*L550+I$6*M550)>(N550),1,0)","v":0}]
[null,175,"[BE-BE] PST_ZANDV_2 [N - S]_LTA_corner#13_#23","22T20161020---56","[NL-BE] Rilland - Zandvliet 380 White/30","10T-BE-NL-00004C",0,0,-0.31522,-0.78308,-0.25657000000000002,-0.47073999999999999,0,1968,{"$f":"IF((G551*ALBE+H551*ALDE+I551*AT+J551*BE+K551*DE+L551*FR+M551*NL)>(N551),1,0)","v":0},null,{"$f":"IF((C$6*G551+D$6*H551+E$6*I551+F$6*J551+G$6*K551+H$6*L551+I$6*M551)>(N551),1,0)","v":0}]
[null,176,"[D2-AT] Y - St. Peter (- Altheim - Simbach) 233/230 [OPP] [D2]_LTA_corner#23_#6","10T-AT-DE-00001B","[D2-AT] Y - St. Peter (- Altheim - Simbach) 234/230","10T-AT-DE-000045",0,0,0.99848999999999999,7.4099999999999999E-3,0,5.4350000000000002E-2,0,4969,{"$f":"IF((G552*ALBE+H552*ALDE+I552*AT+J552*BE+K552*DE+L552*FR+M552*NL)>(N552),1,0)","v":0},null,{"$f":"IF((C$6*G552+D$6*H552+E$6*I552+F$6*J552+G$6*K552+H$6*L552+I$6*M552)>(N552),1,0)","v":0}]
[null,177,"[D2-AT] Y - St. Peter (- Altheim - Simbach) 233/230 [OPP] [D2]_LTA_corner#23_#12","10T-AT-DE-00001B","[D2-AT] Y - St. Peter (- Altheim - Simbach) 234/230","10T-AT-DE-000045",0,0,0.99794000000000005,2.249E-2,1.2800000000000001E-3,6.0010000000000001E-2,0,4961,{"$f":"IF((G553*ALBE+H553*ALDE+I553*AT+J553*BE+K553*DE+L553*FR+M553*NL)>(N553),1,0)","v":0},null,{"$f":"IF((C$6*G553+D$6*H553+E$6*I553+F$6*J553+G$6*K553+H$6*L553+I$6*M553)>(N553),1,0)","v":0}]
[null,178,"[BE-BE] PST_ZANDV_2 [N - S]_LTA_corner#13_#28","22T20161020---56","[NL-BE] Rilland - Zandvliet 380 White/30","10T-BE-NL-00004C",0,0,-0.34542,-0.74531999999999998,-0.27183000000000002,-0.50129999999999997,0,1932,{"$f":"IF((G554*ALBE+H554*ALDE+I554*AT+J554*BE+K554*DE+L554*FR+M554*NL)>(N554),1,0)","v":0},null,{"$f":"IF((C$6*G554+D$6*H554+E$6*I554+F$6*J554+G$6*K554+H$6*L554+I$6*M554)>(N554),1,0)","v":0}]
[null,179,"[AT-AT] Westtirol Transformer WTRHU41 [OPP]_LTA_corner#20_#22","14T-38220-WT041O","BASECASE","N/A",0,0,0.99604000000000004,-6.5599999999999999E-3,8.6679999999999993E-2,-1.8880000000000001E-2,0,4594,{"$f":"IF((G555*ALBE+H555*ALDE+I555*AT+J555*BE+K555*DE+L555*FR+M555*NL)>(N555),1,0)","v":0},null,{"$f":"IF((C$6*G555+D$6*H555+E$6*I555+F$6*J555+G$6*K555+H$6*L555+I$6*M555)>(N555),1,0)","v":0}]
[null,180,"[D2-AT] Y - St. Peter (- Altheim - Simbach) 233/230 [OPP] [D2]_LTA_corner#30_#10","10T-AT-DE-00001B","[D2-AT] Y - St. Peter (- Altheim - Simbach) 234/230","10T-AT-DE-000045",0,0,0.99888999999999994,0,-1.0999999999999999E-2,4.5870000000000001E-2,0,5036,{"$f":"IF((G556*ALBE+H556*ALDE+I556*AT+J556*BE+K556*DE+L556*FR+M556*NL)>(N556),1,0)","v":0},null,{"$f":"IF((C$6*G556+D$6*H556+E$6*I556+F$6*J556+G$6*K556+H$6*L556+I$6*M556)>(N556),1,0)","v":0}]
[null,181,"[D2-NL] Diele - Meeden 380 Black [DIR] [NL]_LTA_corner#05_#1","10T-DE-NL-00001V","[D2-NL] Diele - Meeden 380 White","10T-DE-NL-00002T",0,0,0.52246999999999999,0.43804999999999999,0.57676000000000005,0.44997999999999999,0,1304,{"$f":"IF((G557*ALBE+H557*ALDE+I557*AT+J557*BE+K557*DE+L557*FR+M557*NL)>(N557),1,0)","v":0},null,{"$f":"IF((C$6*G557+D$6*H557+E$6*I557+F$6*J557+G$6*K557+H$6*L557+I$6*M557)>(N557),1,0)","v":0}]
[null,182,"[D2-AT] Y - St. Peter (- Altheim - Simbach) 233/230 [OPP] [D2]_LTA_corner#21_#9","10T-AT-DE-00001B","[D2-AT] Y - St. Peter (- Altheim - Simbach) 234/230","10T-AT-DE-000045",0,0,0.95765,0.11922000000000001,0.18532000000000001,0.18532000000000001,0,4108,{"$f":"IF((G558*ALBE+H558*ALDE+I558*AT+J558*BE+K558*DE+L558*FR+M558*NL)>(N558),1,0)","v":0},null,{"$f":"IF((C$6*G558+D$6*H558+E$6*I558+F$6*J558+G$6*K558+H$6*L558+I$6*M558)>(N558),1,0)","v":0}]
[null,183,"[D2-AT] Y - St. Peter (- Altheim - Simbach) 233/230 [OPP] [D2]_LTA_corner#30_#9","10T-AT-DE-00001B","[D2-AT] Y - St. Peter (- Altheim - Simbach) 234/230","10T-AT-DE-000045",0,0,0.99863999999999997,0,-9.5200000000000007E-3,5.1200000000000002E-2,0,5040,{"$f":"IF((G559*ALBE+H559*ALDE+I559*AT+J559*BE+K559*DE+L559*FR+M559*NL)>(N559),1,0)","v":0},null,{"$f":"IF((C$6*G559+D$6*H559+E$6*I559+F$6*J559+G$6*K559+H$6*L559+I$6*M559)>(N559),1,0)","v":0}]
[null,184,"[BE-BE] PST_VANYK_2 [S - N]","22T-BE-PST--002U","[NL-BE] Maasbracht - Van Eyck 380 Black/27","10T-BE-NL-00002G",0.48592999999999997,-4.9079999999999999E-2,1.2330000000000001E-2,0.27167000000000002,-1.6559999999999998E-2,9.5479999999999995E-2,-2.9399999999999999E-2,932,{"$f":"IF((G560*ALBE+H560*ALDE+I560*AT+J560*BE+K560*DE+L560*FR+M560*NL)>(N560),1,0)","v":0},null,{"$f":"IF((C$6*G560+D$6*H560+E$6*I560+F$6*J560+G$6*K560+H$6*L560+I$6*M560)>(N560),1,0)","v":0}]
[null,185,"[AT-AT] Westtirol Transformer WTRHU41 [OPP]_LTA_corner#22_#12","14T-38220-WT041O","BASECASE","N/A",0,0,0.99270999999999998,-2.5590000000000002E-2,0.11651,-1.7440000000000001E-2,0,4515,{"$f":"IF((G561*ALBE+H561*ALDE+I561*AT+J561*BE+K561*DE+L561*FR+M561*NL)>(N561),1,0)","v":0},null,{"$f":"IF((C$6*G561+D$6*H561+E$6*I561+F$6*J561+G$6*K561+H$6*L561+I$6*M561)>(N561),1,0)","v":0}]
[null,186,"[AT-AT] Westtirol Transformer WTRHU41 [OPP]_LTA_corner#20_#9","14T-38220-WT041O","BASECASE","N/A",0,0,0.99553999999999998,-2.5659999999999999E-2,5.015E-2,-7.5630000000000003E-2,0,4785,{"$f":"IF((G562*ALBE+H562*ALDE+I562*AT+J562*BE+K562*DE+L562*FR+M562*NL)>(N562),1,0)","v":0},null,{"$f":"IF((C$6*G562+D$6*H562+E$6*I562+F$6*J562+G$6*K562+H$6*L562+I$6*M562)>(N562),1,0)","v":0}]
[null,187,"[AT-AT] Westtirol Transformer WTRHU41 [OPP]_LTA_corner#20_#1","14T-38220-WT041O","BASECASE","N/A",0,0,0.98887000000000003,-7.5120000000000006E-2,0.10415000000000001,-7.5120000000000006E-2,0,4612,{"$f":"IF((G563*ALBE+H563*ALDE+I563*AT+J563*BE+K563*DE+L563*FR+M563*NL)>(N563),1,0)","v":0},null,{"$f":"IF((C$6*G563+D$6*H563+E$6*I563+F$6*J563+G$6*K563+H$6*L563+I$6*M563)>(N563),1,0)","v":0}]
[null,188,"[D2-AT] Y - St. Peter (- Altheim - Simbach) 233/230 [OPP] [D2]_LTA_corner#23_#26","10T-AT-DE-00001B","[D2-AT] Y - St. Peter (- Altheim - Simbach) 234/230","10T-AT-DE-000045",0,0,0.99761,1.504E-2,0,6.7390000000000005E-2,0,4997,{"$f":"IF((G564*ALBE+H564*ALDE+I564*AT+J564*BE+K564*DE+L564*FR+M564*NL)>(N564),1,0)","v":0},null,{"$f":"IF((C$6*G564+D$6*H564+E$6*I564+F$6*J564+G$6*K564+H$6*L564+I$6*M564)>(N564),1,0)","v":0}]
[null,189,"[D2-D2] Altheim - Sittling 220 [OPP]","11TD2L000000004J","[D2-AT] Pleinting - St. Peter 258","10T-AT-DE-000037",3.4680000000000002E-2,3.6450000000000003E-2,-2.5690000000000001E-2,3.4349999999999999E-2,3.4279999999999998E-2,3.049E-2,3.5869999999999999E-2,322,{"$f":"IF((G565*ALBE+H565*ALDE+I565*AT+J565*BE+K565*DE+L565*FR+M565*NL)>(N565),1,0)","v":0},null,{"$f":"IF((C$6*G565+D$6*H565+E$6*I565+F$6*J565+G$6*K565+H$6*L565+I$6*M565)>(N565),1,0)","v":0}]
[null,190,"[D4-AT] Buers - Westtirol 421 weiss [OPP] [D4]_LTA_corner#20_#26","10T-AT-DE-000061","[AT-AT] Westtirol Transformer WTRHU41","14T-38220-WT041O",0,0,0.98280000000000001,-4.8340000000000001E-2,0.13178000000000001,-0.12003999999999999,0,4575,{"$f":"IF((G566*ALBE+H566*ALDE+I566*AT+J566*BE+K566*DE+L566*FR+M566*NL)>(N566),1,0)","v":0},null,{"$f":"IF((C$6*G566+D$6*H566+E$6*I566+F$6*J566+G$6*K566+H$6*L566+I$6*M566)>(N566),1,0)","v":0}]
[null,191,"ALBE_export","N/A","BASECASE","N/A",1,0,0,0,0,0,0,0,{"$f":"IF((G567*ALBE+H567*ALDE+I567*AT+J567*BE+K567*DE+L567*FR+M567*NL)>(N567),1,0)","v":0},null,{"$f":"IF((C$6*G567+D$6*H567+E$6*I567+F$6*J567+G$6*K567+H$6*L567+I$6*M567)>(N567),1,0)","v":0}]
[null,192,"[D2-NL] Diele - Meeden 380 Black [DIR] [D2]_LTA_corner#05_#2","10T-DE-NL-00001V","[D2-NL] Diele - Meeden 380 White ","10T-DE-NL-00002T",0,0,0.55159000000000002,0.35448000000000002,0.62014000000000002,0.43073,0,1540,{"$f":"IF((G568*ALBE+H568*ALDE+I568*AT+J568*BE+K568*DE+L568*FR+M568*NL)>(N568),1,0)","v":0},null,{"$f":"IF((C$6*G568+D$6*H568+E$6*I568+F$6*J568+G$6*K568+H$6*L568+I$6*M568)>(N568),1,0)","v":0}]
[null,193,"[BE-BE] PST_ZANDV_2 [N - S]_LTA_corner#13_#14","22T20161020---56","[NL-BE] Rilland - Zandvliet 380 White/30","10T-BE-NL-00004C",0,0,-0.35752,-0.72594999999999998,-0.30024000000000001,-0.50500999999999996,0,1814,{"$f":"IF((G569*ALBE+H569*ALDE+I569*AT+J569*BE+K569*DE+L569*FR+M569*NL)>(N569),1,0)","v":0},null,{"$f":"IF((C$6*G569+D$6*H569+E$6*I569+F$6*J569+G$6*K569+H$6*L569+I$6*M569)>(N569),1,0)","v":0}]
[null,194,"[D2-AT] Y - St. Peter (- Altheim - Simbach) 233/230 [OPP] [D2]_LTA_corner#30_#11","10T-AT-DE-00001B","[D2-AT] Y - St. Peter (- Altheim - Simbach) 234/230","10T-AT-DE-000045",0,0,0.99856,0,-1.9040000000000001E-2,5.0169999999999999E-2,0,5108,{"$f":"IF((G570*ALBE+H570*ALDE+I570*AT+J570*BE+K570*DE+L570*FR+M570*NL)>(N570),1,0)","v":0},null,{"$f":"IF((C$6*G570+D$6*H570+E$6*I570+F$6*J570+G$6*K570+H$6*L570+I$6*M570)>(N570),1,0)","v":0}]
[null,195,"[D2-AT] Y - St. Peter (- Altheim - Simbach) 233/230 [OPP] [D2]_LTA_corner#30_#18","10T-AT-DE-00001B","[D2-AT] Y - St. Peter (- Altheim - Simbach) 234/230","10T-AT-DE-000045",0,0,0.99868999999999997,0,-2.716E-2,4.3409999999999997E-2,0,5150,{"$f":"IF((G571*ALBE+H571*ALDE+I571*AT+J571*BE+K571*DE+L571*FR+M571*NL)>(N571),1,0)","v":0},null,{"$f":"IF((C$6*G571+D$6*H571+E$6*I571+F$6*J571+G$6*K571+H$6*L571+I$6*M571)>(N571),1,0)","v":0}]
[null,196,"[D2-AT] Y - St. Peter (- Altheim - Simbach) 233/230 [OPP] [D2]_LTA_corner#21_#13","10T-AT-DE-00001B","[D2-AT] Y - St. Peter (- Altheim - Simbach) 234/230","10T-AT-DE-000045",0,0,0.95155999999999996,0.12881000000000001,0.19739999999999999,0.19739999999999999,0,4044,{"$f":"IF((G572*ALBE+H572*ALDE+I572*AT+J572*BE+K572*DE+L572*FR+M572*NL)>(N572),1,0)","v":0},null,{"$f":"IF((C$6*G572+D$6*H572+E$6*I572+F$6*J572+G$6*K572+H$6*L572+I$6*M572)>(N572),1,0)","v":0}]
[null,197,"[BE-BE] PST_ZANDV_2 [N - S]_LTA_corner#13_#25","22T20161020---56","[NL-BE] Rilland - Zandvliet 380 White/30","10T-BE-NL-00004C",0,0,-0.31517000000000001,-0.79069,-0.26273000000000002,-0.45435999999999999,0,1971,{"$f":"IF((G573*ALBE+H573*ALDE+I573*AT+J573*BE+K573*DE+L573*FR+M573*NL)>(N573),1,0)","v":0},null,{"$f":"IF((C$6*G573+D$6*H573+E$6*I573+F$6*J573+G$6*K573+H$6*L573+I$6*M573)>(N573),1,0)","v":0}]
[null,198,"[D2-AT] Y - St. Peter (- Altheim - Simbach) 233/230 [OPP] [D2]_LTA_corner#23_#0","10T-AT-DE-00001B","[D2-AT] Y - St. Peter (- Altheim - Simbach) 234/230","10T-AT-DE-000045",0,0,0.99873999999999996,1.057E-2,1.6100000000000001E-3,4.8930000000000001E-2,0,4942,{"$f":"IF((G574*ALBE+H574*ALDE+I574*AT+J574*BE+K574*DE+L574*FR+M574*NL)>(N574),1,0)","v":0},null,{"$f":"IF((C$6*G574+D$6*H574+E$6*I574+F$6*J574+G$6*K574+H$6*L574+I$6*M574)>(N574),1,0)","v":0}]
[null,199,"[AT-AT] Westtirol Transformer WTRHU41 [OPP]_LTA_corner#20_#6","14T-38220-WT041O","BASECASE","N/A",0,0,0.98650000000000004,-8.0979999999999996E-2,0.11702,-8.0979999999999996E-2,0,4575,{"$f":"IF((G575*ALBE+H575*ALDE+I575*AT+J575*BE+K575*DE+L575*FR+M575*NL)>(N575),1,0)","v":0},null,{"$f":"IF((C$6*G575+D$6*H575+E$6*I575+F$6*J575+G$6*K575+H$6*L575+I$6*M575)>(N575),1,0)","v":0}]
[null,200,"[D2-NL] Diele - Meeden 380 Black [DIR] [D2]_LTA_corner#05_#15","10T-DE-NL-00001V","[D2-NL] Diele - Meeden 380 White ","10T-DE-NL-00002T",0,0,0.58348999999999995,0.34878999999999999,0.58348999999999995,0.44431999999999999,0,1149,{"$f":"IF((G576*ALBE+H576*ALDE+I576*AT+J576*BE+K576*DE+L576*FR+M576*NL)>(N576),1,0)","v":0},null,{"$f":"IF((C$6*G576+D$6*H576+E$6*I576+F$6*J576+G$6*K576+H$6*L576+I$6*M576)>(N576),1,0)","v":0}]
[null,201,"[D2-NL] Diele - Meeden 380 Black [DIR] [NL]_LTA_corner#05_#24","10T-DE-NL-00001V","[D2-NL] Diele - Meeden 380 White","10T-DE-NL-00002T",0,0,0.52422999999999997,0.41935,0.59614999999999996,0.44036999999999998,0,1443,{"$f":"IF((G577*ALBE+H577*ALDE+I577*AT+J577*BE+K577*DE+L577*FR+M577*NL)>(N577),1,0)","v":0},null,{"$f":"IF((C$6*G577+D$6*H577+E$6*I577+F$6*J577+G$6*K577+H$6*L577+I$6*M577)>(N577),1,0)","v":0}]
[null,202,"[D7-FR] Ensdorf - Vigy 2S [OPP] [D7]_LTA_corner#30_#4","10T-DE-FR-000068","[D7-D7] Ensdorf - Uchtelfangen Taubental N","11T0-0000-0604-N",0,0,6.7379999999999995E-2,0.39224999999999999,-9.5699999999999993E-2,0.91237999999999997,0,3404,{"$f":"IF((G578*ALBE+H578*ALDE+I578*AT+J578*BE+K578*DE+L578*FR+M578*NL)>(N578),1,0)","v":0},null,{"$f":"IF((C$6*G578+D$6*H578+E$6*I578+F$6*J578+G$6*K578+H$6*L578+I$6*M578)>(N578),1,0)","v":0}]
[null,203,"[AT-AT] Westtirol Transformer WTRHU41 [OPP]_LTA_corner#20_#27","14T-38220-WT041O","BASECASE","N/A",0,0,0.99411000000000005,-1.8360000000000001E-2,0.10519000000000001,-1.8360000000000001E-2,0,4535,{"$f":"IF((G579*ALBE+H579*ALDE+I579*AT+J579*BE+K579*DE+L579*FR+M579*NL)>(N579),1,0)","v":0},null,{"$f":"IF((C$6*G579+D$6*H579+E$6*I579+F$6*J579+G$6*K579+H$6*L579+I$6*M579)>(N579),1,0)","v":0}]
[null,204,"[D2-AT] Y - St. Peter (- Altheim - Simbach) 233/230 [OPP] [D2]_LTA_corner#21_#8","10T-AT-DE-00001B","[D2-AT] Y - St. Peter (- Altheim - Simbach) 234/230","10T-AT-DE-000045",0,0,0.95884999999999998,0.11991,0.18196999999999999,0.18196999999999999,0,4120,{"$f":"IF((G580*ALBE+H580*ALDE+I580*AT+J580*BE+K580*DE+L580*FR+M580*NL)>(N580),1,0)","v":0},null,{"$f":"IF((C$6*G580+D$6*H580+E$6*I580+F$6*J580+G$6*K580+H$6*L580+I$6*M580)>(N580),1,0)","v":0}]
[null,205,"[NL-D7] Maasbracht - Siersdorf 380 black [DIR] [D7]","10T-DE-NL-00006L","[BE-BE] Avelgem - Horta 380.102","22T20161020---1E",0.32052999999999998,-0.15518999999999999,-2.66E-3,0.30671999999999999,1.414E-2,3.8899999999999997E-2,0.23949000000000001,969,{"$f":"IF((G581*ALBE+H581*ALDE+I581*AT+J581*BE+K581*DE+L581*FR+M581*NL)>(N581),1,0)","v":0},null,{"$f":"IF((C$6*G581+D$6*H581+E$6*I581+F$6*J581+G$6*K581+H$6*L581+I$6*M581)>(N581),1,0)","v":0}]
["hour 7",1391,"[D2-D2] Altheim - Sittling 220 [OPP]_LTA_corner#04_#4","11TD2L000000004J","[D2-AT] Pleinting - St. Peter 258","10T-AT-DE-000037",0,0,-0.99780999999999997,-1.1990000000000001E-2,0,-6.5110000000000001E-2,0,4916,{"$f":"IF((G582*ALBE+H582*ALDE+I582*AT+J582*BE+K582*DE+L582*FR+M582*NL)>(N582),1,0)","v":0},null,{"$f":"IF((C$6*G582+D$6*H582+E$6*I582+F$6*J582+G$6*K582+H$6*L582+I$6*M582)>(N582),1,0)","v":0}]
[null,1392,"[BE-BE] PST_ZANDV_2 [N - S]_LTA_corner#13_#0","22T20161020---56","[NL-BE] Rilland - Zandvliet 380 White/30","10T-BE-NL-00004C",0,0,-0.38512999999999997,-0.70743,-0.31572,-0.50153999999999999,0,1835,{"$f":"IF((G583*ALBE+H583*ALDE+I583*AT+J583*BE+K583*DE+L583*FR+M583*NL)>(N583),1,0)","v":0},null,{"$f":"IF((C$6*G583+D$6*H583+E$6*I583+F$6*J583+G$6*K583+H$6*L583+I$6*M583)>(N583),1,0)","v":0}]
[null,1393,"[AT-AT] Westtirol Transformer WTRHU41 [OPP]_LTA_corner#20_#2","14T-38220-WT041O","BASECASE","N/A",0,0,0.99245000000000005,-1.8720000000000001E-2,9.987E-2,-6.8720000000000003E-2,0,4622,{"$f":"IF((G584*ALBE+H584*ALDE+I584*AT+J584*BE+K584*DE+L584*FR+M584*NL)>(N584),1,0)","v":0},null,{"$f":"IF((C$6*G584+D$6*H584+E$6*I584+F$6*J584+G$6*K584+H$6*L584+I$6*M584)>(N584),1,0)","v":0}]
[null,1394,"[D2-AT] Pleinting - St. Peter 258 [DIR] [AT]_LTA_corner#01_#9","10T-AT-DE-000037","[D2-D2] Pirach - Pleinting 257","11TD2L000000201H",0,0,-0.99982000000000004,0,0,-1.8929999999999999E-2,0,4850,{"$f":"IF((G585*ALBE+H585*ALDE+I585*AT+J585*BE+K585*DE+L585*FR+M585*NL)>(N585),1,0)","v":0},null,{"$f":"IF((C$6*G585+D$6*H585+E$6*I585+F$6*J585+G$6*K585+H$6*L585+I$6*M585)>(N585),1,0)","v":0}]
[null,1395,"[D2-AT] Pleinting - St. Peter 258 [DIR] [AT]_LTA_corner#04_#19","10T-AT-DE-000037","[D2-D2] Pirach - Pleinting 257","11TD2L000000201H",0,0,-0.99985999999999997,-2.16E-3,0,-1.687E-2,0,4848,{"$f":"IF((G586*ALBE+H586*ALDE+I586*AT+J586*BE+K586*DE+L586*FR+M586*NL)>(N586),1,0)","v":0},null,{"$f":"IF((C$6*G586+D$6*H586+E$6*I586+F$6*J586+G$6*K586+H$6*L586+I$6*M586)>(N586),1,0)","v":0}]
[null,1396,"[NL-NL] Borssele - Rilland 380 Zwart [DIR]","49T000000000059S","[NL-NL] Borssele - Rilland 380 Grijs","49T000000000057W",-5.8500000000000002E-3,2.31E-3,-8.0999999999999996E-4,-1.49E-2,1.2600000000000001E-3,-6.2500000000000003E-3,0.18867,572,{"$f":"IF((G587*ALBE+H587*ALDE+I587*AT+J587*BE+K587*DE+L587*FR+M587*NL)>(N587),1,0)","v":0},null,{"$f":"IF((C$6*G587+D$6*H587+E$6*I587+F$6*J587+G$6*K587+H$6*L587+I$6*M587)>(N587),1,0)","v":0}]
[null,1397,"[D2-D2] Altheim - Sittling 220 [OPP]_LTA_corner#09_#2","11TD2L000000004J","[D2-AT] Pleinting - St. Peter 258","10T-AT-DE-000037",0,0,-0.99104000000000003,-4.0280000000000003E-2,-6.1769999999999999E-2,-0.11133999999999999,0,4687,{"$f":"IF((G588*ALBE+H588*ALDE+I588*AT+J588*BE+K588*DE+L588*FR+M588*NL)>(N588),1,0)","v":0},null,{"$f":"IF((C$6*G588+D$6*H588+E$6*I588+F$6*J588+G$6*K588+H$6*L588+I$6*M588)>(N588),1,0)","v":0}]
[null,1398,"ALDE_import","N/A","BASECASE","N/A",0,-1,0,0,0,0,0,0,{"$f":"IF((G589*ALBE+H589*ALDE+I589*AT+J589*BE+K589*DE+L589*FR+M589*NL)>(N589),1,0)","v":0},null,{"$f":"IF((C$6*G589+D$6*H589+E$6*I589+F$6*J589+G$6*K589+H$6*L589+I$6*M589)>(N589),1,0)","v":0}]
[null,1399,"[BE-BE] PST_ZANDV_2 [N - S]_LTA_corner#13_#16","22T20161020---56","[NL-BE] Rilland - Zandvliet 380 White/30","10T-BE-NL-00004C",0,0,-0.34053,-0.75875999999999999,-0.28547,-0.47627000000000003,0,1898,{"$f":"IF((G590*ALBE+H590*ALDE+I590*AT+J590*BE+K590*DE+L590*FR+M590*NL)>(N590),1,0)","v":0},null,{"$f":"IF((C$6*G590+D$6*H590+E$6*I590+F$6*J590+G$6*K590+H$6*L590+I$6*M590)>(N590),1,0)","v":0}]
[null,1400,"[BE-BE] PST_ZANDV_2 [N - S]_LTA_corner#13_#11","22T20161020---56","[NL-BE] Rilland - Zandvliet 380 White/30","10T-BE-NL-00004C",0,0,-0.40622999999999998,-0.62927999999999995,-0.33883999999999997,-0.56935999999999998,0,1595,{"$f":"IF((G591*ALBE+H591*ALDE+I591*AT+J591*BE+K591*DE+L591*FR+M591*NL)>(N591),1,0)","v":0},null,{"$f":"IF((C$6*G591+D$6*H591+E$6*I591+F$6*J591+G$6*K591+H$6*L591+I$6*M591)>(N591),1,0)","v":0}]
[null,1401,"[AT-AT] Westtirol Transformer WTRHU41 [OPP]_LTA_corner#20_#21","14T-38220-WT041O","BASECASE","N/A",0,0,0.98575999999999997,-1.8589999999999999E-2,0.13322000000000001,-0.10093000000000001,0,4550,{"$f":"IF((G592*ALBE+H592*ALDE+I592*AT+J592*BE+K592*DE+L592*FR+M592*NL)>(N592),1,0)","v":0},null,{"$f":"IF((C$6*G592+D$6*H592+E$6*I592+F$6*J592+G$6*K592+H$6*L592+I$6*M592)>(N592),1,0)","v":0}]
[null,1402,"[AT-AT] Westtirol Transformer WTRHU41 [OPP]_LTA_corner#20_#19","14T-38220-WT041O","BASECASE","N/A",0,0,0.98563999999999996,-2.393E-2,0.1396,-9.1980000000000006E-2,0,4518,{"$f":"IF((G593*ALBE+H593*ALDE+I593*AT+J593*BE+K593*DE+L593*FR+M593*NL)>(N593),1,0)","v":0},null,{"$f":"IF((C$6*G593+D$6*H593+E$6*I593+F$6*J593+G$6*K593+H$6*L593+I$6*M593)>(N593),1,0)","v":0}]
[null,1403,"[AT-AT] Westtirol Transformer WTRHU41 [OPP]_LTA_corner#20_#8","14T-38220-WT041O","BASECASE","N/A",0,0,0.99006000000000005,-1.8679999999999999E-2,0.13381000000000001,-3.9070000000000001E-2,0,4470,{"$f":"IF((G594*ALBE+H594*ALDE+I594*AT+J594*BE+K594*DE+L594*FR+M594*NL)>(N594),1,0)","v":0},null,{"$f":"IF((C$6*G594+D$6*H594+E$6*I594+F$6*J594+G$6*K594+H$6*L594+I$6*M594)>(N594),1,0)","v":0}]
[null,1404,"ALBE_export","N/A","BASECASE","N/A",1,0,0,0,0,0,0,0,{"$f":"IF((G595*ALBE+H595*ALDE+I595*AT+J595*BE+K595*DE+L595*FR+M595*NL)>(N595),1,0)","v":0},null,{"$f":"IF((C$6*G595+D$6*H595+E$6*I595+F$6*J595+G$6*K595+H$6*L595+I$6*M595)>(N595),1,0)","v":0}]
[null,1405,"[D2-AT] Pleinting - St. Peter 258 [DIR] [AT]_LTA_corner#09_#5","10T-AT-DE-000037","[D2-D2] Pirach - Pleinting 257","11TD2L000000201H",0,0,-0.99983,-5.9999999999999995E-4,-9.1800000000000007E-3,-1.5730000000000001E-2,0,4805,{"$f":"IF((G596*ALBE+H596*ALDE+I596*AT+J596*BE+K596*DE+L596*FR+M596*NL)>(N596),1,0)","v":0},null,{"$f":"IF((C$6*G596+D$6*H596+E$6*I596+F$6*J596+G$6*K596+H$6*L596+I$6*M596)>(N596),1,0)","v":0}]
[null,1406,"[D2-D2] Altheim - Sittling 220 [OPP]_LTA_corner#04_#6","11TD2L000000004J","[D2-AT] Pleinting - St. Peter 258","10T-AT-DE-000037",0,0,-0.99711000000000005,-2.145E-2,0,-7.2819999999999996E-2,0,4927,{"$f":"IF((G597*ALBE+H597*ALDE+I597*AT+J597*BE+K597*DE+L597*FR+M597*NL)>(N597),1,0)","v":0},null,{"$f":"IF((C$6*G597+D$6*H597+E$6*I597+F$6*J597+G$6*K597+H$6*L597+I$6*M597)>(N597),1,0)","v":0}]
[null,1407,"[D2-AT] Y - St. Peter (- Altheim - Simbach) 233/230 [OPP] [D2]_LTA_corner#30_#0","10T-AT-DE-00001B","[D2-AT] Y - St. Peter (- Altheim - Simbach) 234/230","10T-AT-DE-000045",0,0,0.99851000000000001,8.8999999999999999E-3,-9.5300000000000003E-3,5.3039999999999997E-2,0,5036,{"$f":"IF((G598*ALBE+H598*ALDE+I598*AT+J598*BE+K598*DE+L598*FR+M598*NL)>(N598),1,0)","v":0},null,{"$f":"IF((C$6*G598+D$6*H598+E$6*I598+F$6*J598+G$6*K598+H$6*L598+I$6*M598)>(N598),1,0)","v":0}]
[null,1408,"[D2-D2] Altheim - Sittling 220 [OPP]_LTA_corner#04_#0","11TD2L000000004J","[D2-AT] Pleinting - St. Peter 258","10T-AT-DE-000037",0,0,-0.99733000000000005,-5.4900000000000001E-3,0,-7.2840000000000002E-2,0,4925,{"$f":"IF((G599*ALBE+H599*ALDE+I599*AT+J599*BE+K599*DE+L599*FR+M599*NL)>(N599),1,0)","v":0},null,{"$f":"IF((C$6*G599+D$6*H599+E$6*I599+F$6*J599+G$6*K599+H$6*L599+I$6*M599)>(N599),1,0)","v":0}]
[null,1409,"[D2-AT] Pleinting - St. Peter 258 [DIR] [AT]_LTA_corner#02_#1","10T-AT-DE-000037","[D2-D2] Pirach - Pleinting 257","11TD2L000000201H",0,0,-0.99983,0,-7.7999999999999996E-3,-1.67E-2,0,4812,{"$f":"IF((G600*ALBE+H600*ALDE+I600*AT+J600*BE+K600*DE+L600*FR+M600*NL)>(N600),1,0)","v":0},null,{"$f":"IF((C$6*G600+D$6*H600+E$6*I600+F$6*J600+G$6*K600+H$6*L600+I$6*M600)>(N600),1,0)","v":0}]
[null,1410,"[D2-AT] Pleinting - St. Peter 258 [DIR] [AT]_LTA_corner#01_#10","10T-AT-DE-000037","[D2-D2] Pirach - Pleinting 257","11TD2L000000201H",0,0,-0.99973000000000001,3.7000000000000002E-3,0,-2.2769999999999999E-2,0,4861,{"$f":"IF((G601*ALBE+H601*ALDE+I601*AT+J601*BE+K601*DE+L601*FR+M601*NL)>(N601),1,0)","v":0},null,{"$f":"IF((C$6*G601+D$6*H601+E$6*I601+F$6*J601+G$6*K601+H$6*L601+I$6*M601)>(N601),1,0)","v":0}]
[null,1411,"[D2-AT] Y - St. Peter (- Altheim - Simbach) 233/230 [OPP] [D2]_LTA_corner#23_#1","10T-AT-DE-00001B","[D2-AT] Y - St. Peter (- Altheim - Simbach) 234/230","10T-AT-DE-000045",0,0,0.99765000000000004,1.6969999999999999E-2,1.1050000000000001E-2,6.5379999999999994E-2,0,4932,{"$f":"IF((G602*ALBE+H602*ALDE+I602*AT+J602*BE+K602*DE+L602*FR+M602*NL)>(N602),1,0)","v":0},null,{"$f":"IF((C$6*G602+D$6*H602+E$6*I602+F$6*J602+G$6*K602+H$6*L602+I$6*M602)>(N602),1,0)","v":0}]
[null,1412,"[BE-FR] Achene - Lonny 380.19 [DIR] [BE]_LTA_corner#02_#16","10T-BE-FR-000015","[BE-BE] Avelgem - Horta 380.102","22T20161020---1E",0,0,-0.45083000000000001,0.32401000000000002,-0.32401000000000002,-0.76602000000000003,0,2351,{"$f":"IF((G603*ALBE+H603*ALDE+I603*AT+J603*BE+K603*DE+L603*FR+M603*NL)>(N603),1,0)","v":0},null,{"$f":"IF((C$6*G603+D$6*H603+E$6*I603+F$6*J603+G$6*K603+H$6*L603+I$6*M603)>(N603),1,0)","v":0}]
[null,1413,"[BE-BE] PST_ZANDV_2 [N - S]_LTA_corner#13_#2","22T20161020---56","[NL-BE] Rilland - Zandvliet 380 White/30","10T-BE-NL-00004C",0,0,-0.34139999999999998,-0.77127000000000001,-0.29742000000000002,-0.44735999999999998,0,1900,{"$f":"IF((G604*ALBE+H604*ALDE+I604*AT+J604*BE+K604*DE+L604*FR+M604*NL)>(N604),1,0)","v":0},null,{"$f":"IF((C$6*G604+D$6*H604+E$6*I604+F$6*J604+G$6*K604+H$6*L604+I$6*M604)>(N604),1,0)","v":0}]
[null,1414,"[D2-D2] Altheim - Sittling 220 [OPP]_LTA_corner#09_#19","11TD2L000000004J","[D2-AT] Pleinting - St. Peter 258","10T-AT-DE-000037",0,0,-0.99692000000000003,-2.002E-2,-1.9369999999999998E-2,-7.3359999999999995E-2,0,4840,{"$f":"IF((G605*ALBE+H605*ALDE+I605*AT+J605*BE+K605*DE+L605*FR+M605*NL)>(N605),1,0)","v":0},null,{"$f":"IF((C$6*G605+D$6*H605+E$6*I605+F$6*J605+G$6*K605+H$6*L605+I$6*M605)>(N605),1,0)","v":0}]
[null,1415,"[D2-NL] Diele - Meeden 380 Black [DIR] [D2]","10T-DE-NL-00001V","[D2-NL] Diele - Meeden 380 White ","10T-DE-NL-00002T",-7.7280000000000001E-2,-4.0379999999999999E-2,-1.2019999999999999E-2,-7.9490000000000005E-2,1.108E-2,-4.4249999999999998E-2,-0.12856999999999999,490,{"$f":"IF((G606*ALBE+H606*ALDE+I606*AT+J606*BE+K606*DE+L606*FR+M606*NL)>(N606),1,0)","v":0},null,{"$f":"IF((C$6*G606+D$6*H606+E$6*I606+F$6*J606+G$6*K606+H$6*L606+I$6*M606)>(N606),1,0)","v":0}]
[null,1416,"[D2-AT] Pleinting - St. Peter 258 [DIR] [AT]_LTA_corner#04_#18","10T-AT-DE-000037","[D2-D2] Pirach - Pleinting 257","11TD2L000000201H",0,0,-0.99972000000000005,-7.7799999999999996E-3,0,-2.2169999999999999E-2,0,4856,{"$f":"IF((G607*ALBE+H607*ALDE+I607*AT+J607*BE+K607*DE+L607*FR+M607*NL)>(N607),1,0)","v":0},null,{"$f":"IF((C$6*G607+D$6*H607+E$6*I607+F$6*J607+G$6*K607+H$6*L607+I$6*M607)>(N607),1,0)","v":0}]
[null,1417,"[D2-AT] Pleinting - St. Peter 258 [DIR] [AT]_LTA_corner#04_#0","10T-AT-DE-000037","[D2-D2] Pirach - Pleinting 257","11TD2L000000201H",0,0,-0.99983,-3.0799999999999998E-3,5.3899999999999998E-3,-1.712E-2,0,4885,{"$f":"IF((G608*ALBE+H608*ALDE+I608*AT+J608*BE+K608*DE+L608*FR+M608*NL)>(N608),1,0)","v":0},null,{"$f":"IF((C$6*G608+D$6*H608+E$6*I608+F$6*J608+G$6*K608+H$6*L608+I$6*M608)>(N608),1,0)","v":0}]
[null,1418,"[AT-AT] Westtirol Transformer WTRHU41 [OPP]_LTA_corner#17_#5","14T-38220-WT041O","BASECASE","N/A",0,0,0.99231999999999998,0,0.11564000000000001,-4.3869999999999999E-2,0,4536,{"$f":"IF((G609*ALBE+H609*ALDE+I609*AT+J609*BE+K609*DE+L609*FR+M609*NL)>(N609),1,0)","v":0},null,{"$f":"IF((C$6*G609+D$6*H609+E$6*I609+F$6*J609+G$6*K609+H$6*L609+I$6*M609)>(N609),1,0)","v":0}]
[null,1419,"[D2-D2] Altheim - Sittling 220 [OPP]_LTA_corner#01_#4","11TD2L000000004J","[D2-AT] Pleinting - St. Peter 258","10T-AT-DE-000037",0,0,-0.99709000000000003,0,5.1189999999999999E-2,-5.6460000000000003E-2,0,5250,{"$f":"IF((G610*ALBE+H610*ALDE+I610*AT+J610*BE+K610*DE+L610*FR+M610*NL)>(N610),1,0)","v":0},null,{"$f":"IF((C$6*G610+D$6*H610+E$6*I610+F$6*J610+G$6*K610+H$6*L610+I$6*M610)>(N610),1,0)","v":0}]
[null,1420,"[NL-D7] Maasbracht - Siersdorf 380 black [DIR] [D7]","10T-DE-NL-00006L","[BE-BE] Avelgem - Horta 380.102","22T20161020---1E",0.32052999999999998,-0.15518999999999999,-2.6700000000000001E-3,0.30670999999999998,1.4489999999999999E-2,3.8870000000000002E-2,0.29387999999999997,1088,{"$f":"IF((G611*ALBE+H611*ALDE+I611*AT+J611*BE+K611*DE+L611*FR+M611*NL)>(N611),1,0)","v":0},null,{"$f":"IF((C$6*G611+D$6*H611+E$6*I611+F$6*J611+G$6*K611+H$6*L611+I$6*M611)>(N611),1,0)","v":0}]
[null,1421,"[D2-AT] Y - St. Peter (- Altheim - Simbach) 233/230 [OPP] [D2]_LTA_corner#30_#16","10T-AT-DE-00001B","[D2-AT] Y - St. Peter (- Altheim - Simbach) 234/230","10T-AT-DE-000045",0,0,0.99812000000000001,1.2670000000000001E-2,-1.6000000000000001E-3,6.0019999999999997E-2,0,4991,{"$f":"IF((G612*ALBE+H612*ALDE+I612*AT+J612*BE+K612*DE+L612*FR+M612*NL)>(N612),1,0)","v":0},null,{"$f":"IF((C$6*G612+D$6*H612+E$6*I612+F$6*J612+G$6*K612+H$6*L612+I$6*M612)>(N612),1,0)","v":0}]
[null,1422,"[BE-FR] Achene - Lonny 380.19 [DIR] [BE]_LTA_corner#02_#0","10T-BE-FR-000015","[BE-BE] Avelgem - Horta 380.102","22T20161020---1E",0,0,-0.45319999999999999,0.31347999999999998,-0.32364999999999999,-0.76915,0,2357,{"$f":"IF((G613*ALBE+H613*ALDE+I613*AT+J613*BE+K613*DE+L613*FR+M613*NL)>(N613),1,0)","v":0},null,{"$f":"IF((C$6*G613+D$6*H613+E$6*I613+F$6*J613+G$6*K613+H$6*L613+I$6*M613)>(N613),1,0)","v":0}]
[null,1423,"[D2-AT] Y - St. Peter (- Altheim - Simbach) 233/230 [OPP] [D2]_LTA_corner#23_#5","10T-AT-DE-00001B","[D2-AT] Y - St. Peter (- Altheim - Simbach) 234/230","10T-AT-DE-000045",0,0,0.99817,1.2019999999999999E-2,0,5.9290000000000002E-2,0,4978,{"$f":"IF((G614*ALBE+H614*ALDE+I614*AT+J614*BE+K614*DE+L614*FR+M614*NL)>(N614),1,0)","v":0},null,{"$f":"IF((C$6*G614+D$6*H614+E$6*I614+F$6*J614+G$6*K614+H$6*L614+I$6*M614)>(N614),1,0)","v":0}]
[null,1424,"[BE-FR] Achene - Lonny 380.19 [DIR] [BE]_LTA_corner#02_#4","10T-BE-FR-000015","[BE-BE] Avelgem - Horta 380.102","22T20161020---1E",0,0,-0.45258999999999999,0.31658999999999998,-0.32312999999999997,-0.76844999999999997,0,2359,{"$f":"IF((G615*ALBE+H615*ALDE+I615*AT+J615*BE+K615*DE+L615*FR+M615*NL)>(N615),1,0)","v":0},null,{"$f":"IF((C$6*G615+D$6*H615+E$6*I615+F$6*J615+G$6*K615+H$6*L615+I$6*M615)>(N615),1,0)","v":0}]
[null,1425,"[AT-AT] Westtirol Transformer WTRHU41 [OPP]_LTA_corner#20_#7","14T-38220-WT041O","BASECASE","N/A",0,0,0.98743999999999998,-4.9759999999999999E-2,0.13345000000000001,-6.837E-2,0,4510,{"$f":"IF((G616*ALBE+H616*ALDE+I616*AT+J616*BE+K616*DE+L616*FR+M616*NL)>(N616),1,0)","v":0},null,{"$f":"IF((C$6*G616+D$6*H616+E$6*I616+F$6*J616+G$6*K616+H$6*L616+I$6*M616)>(N616),1,0)","v":0}]
[null,1426,"[D2-D2] Altheim - Sittling 220 [OPP]_LTA_corner#01_#0","11TD2L000000004J","[D2-AT] Pleinting - St. Peter 258","10T-AT-DE-000037",0,0,-0.97255999999999998,6.1469999999999997E-2,0.21919,4.7960000000000003E-2,0,6199,{"$f":"IF((G617*ALBE+H617*ALDE+I617*AT+J617*BE+K617*DE+L617*FR+M617*NL)>(N617),1,0)","v":0},null,{"$f":"IF((C$6*G617+D$6*H617+E$6*I617+F$6*J617+G$6*K617+H$6*L617+I$6*M617)>(N617),1,0)","v":0}]
[null,1427,"[D2-AT] Pleinting - St. Peter 258 [DIR] [AT]_LTA_corner#04_#7","10T-AT-DE-000037","[D2-D2] Pirach - Pleinting 257","11TD2L000000201H",0,0,-0.99951000000000001,-3.0799999999999998E-3,1.7469999999999999E-2,-2.5950000000000001E-2,0,4981,{"$f":"IF((G618*ALBE+H618*ALDE+I618*AT+J618*BE+K618*DE+L618*FR+M618*NL)>(N618),1,0)","v":0},null,{"$f":"IF((C$6*G618+D$6*H618+E$6*I618+F$6*J618+G$6*K618+H$6*L618+I$6*M618)>(N618),1,0)","v":0}]
[null,1428,"[AT-AT] Westtirol Transformer WTRHU41 [OPP]_LTA_corner#17_#2","14T-38220-WT041O","BASECASE","N/A",0,0,0.98858000000000001,1.2789999999999999E-2,0.13361000000000001,-6.8449999999999997E-2,0,4523,{"$f":"IF((G619*ALBE+H619*ALDE+I619*AT+J619*BE+K619*DE+L619*FR+M619*NL)>(N619),1,0)","v":0},null,{"$f":"IF((C$6*G619+D$6*H619+E$6*I619+F$6*J619+G$6*K619+H$6*L619+I$6*M619)>(N619),1,0)","v":0}]
[null,1429,"[BE-BE] PST_ZANDV_2 [N - S]_LTA_corner#13_#18","22T20161020---56","[NL-BE] Rilland - Zandvliet 380 White/30","10T-BE-NL-00004C",0,0,-0.38925999999999999,-0.68825999999999998,-0.33850000000000002,-0.51009000000000004,0,1701,{"$f":"IF((G620*ALBE+H620*ALDE+I620*AT+J620*BE+K620*DE+L620*FR+M620*NL)>(N620),1,0)","v":0},null,{"$f":"IF((C$6*G620+D$6*H620+E$6*I620+F$6*J620+G$6*K620+H$6*L620+I$6*M620)>(N620),1,0)","v":0}]
[null,1430,"[BE-FR] Achene - Lonny 380.19 [DIR] [BE]_LTA_corner#02_#3","10T-BE-FR-000015","[BE-BE] Avelgem - Horta 380.102","22T20161020---1E",0,0,-0.44877,0.35442000000000001,-0.32313999999999998,-0.75404000000000004,0,2363,{"$f":"IF((G621*ALBE+H621*ALDE+I621*AT+J621*BE+K621*DE+L621*FR+M621*NL)>(N621),1,0)","v":0},null,{"$f":"IF((C$6*G621+D$6*H621+E$6*I621+F$6*J621+G$6*K621+H$6*L621+I$6*M621)>(N621),1,0)","v":0}]
[null,1431,"[D2-AT] Pleinting - St. Peter 258 [DIR] [AT]_LTA_corner#01_#4","10T-AT-DE-000037","[D2-D2] Pirach - Pleinting 257","11TD2L000000201H",0,0,-0.99978,0,5.3899999999999998E-3,-2.0060000000000001E-2,0,4889,{"$f":"IF((G622*ALBE+H622*ALDE+I622*AT+J622*BE+K622*DE+L622*FR+M622*NL)>(N622),1,0)","v":0},null,{"$f":"IF((C$6*G622+D$6*H622+E$6*I622+F$6*J622+G$6*K622+H$6*L622+I$6*M622)>(N622),1,0)","v":0}]
[null,1432,"[D2-AT] Pleinting - St. Peter 258 [DIR] [AT]_LTA_corner#01_#8","10T-AT-DE-000037","[D2-D2] Pirach - Pleinting 257","11TD2L000000201H",0,0,-0.99975000000000003,3.5599999999999998E-3,0,-2.2169999999999999E-2,0,4860,{"$f":"IF((G623*ALBE+H623*ALDE+I623*AT+J623*BE+K623*DE+L623*FR+M623*NL)>(N623),1,0)","v":0},null,{"$f":"IF((C$6*G623+D$6*H623+E$6*I623+F$6*J623+G$6*K623+H$6*L623+I$6*M623)>(N623),1,0)","v":0}]
[null,1433,"[BE-BE] PST_ZANDV_2 [N - S]_LTA_corner#13_#14","22T20161020---56","[NL-BE] Rilland - Zandvliet 380 White/30","10T-BE-NL-00004C",0,0,-0.34661999999999998,-0.74358999999999997,-0.28627000000000002,-0.49493999999999999,0,1874,{"$f":"IF((G624*ALBE+H624*ALDE+I624*AT+J624*BE+K624*DE+L624*FR+M624*NL)>(N624),1,0)","v":0},null,{"$f":"IF((C$6*G624+D$6*H624+E$6*I624+F$6*J624+G$6*K624+H$6*L624+I$6*M624)>(N624),1,0)","v":0}]
[null,1434,"[BE-BE] PST_ZANDV_2 [N - S]_LTA_corner#13_#26","22T20161020---56","[NL-BE] Rilland - Zandvliet 380 White/30","10T-BE-NL-00004C",0,0,-0.37092000000000003,-0.70894999999999997,-0.32738,-0.50261,0,1718,{"$f":"IF((G625*ALBE+H625*ALDE+I625*AT+J625*BE+K625*DE+L625*FR+M625*NL)>(N625),1,0)","v":0},null,{"$f":"IF((C$6*G625+D$6*H625+E$6*I625+F$6*J625+G$6*K625+H$6*L625+I$6*M625)>(N625),1,0)","v":0}]
[null,1435,"[D2-AT] Y - St. Peter (- Altheim - Simbach) 233/230 [OPP] [D2]_LTA_corner#30_#15","10T-AT-DE-00001B","[D2-AT] Y - St. Peter (- Altheim - Simbach) 234/230","10T-AT-DE-000045",0,0,0.99819000000000002,1.4080000000000001E-2,-1.6000000000000001E-3,5.8409999999999997E-2,0,4985,{"$f":"IF((G626*ALBE+H626*ALDE+I626*AT+J626*BE+K626*DE+L626*FR+M626*NL)>(N626),1,0)","v":0},null,{"$f":"IF((C$6*G626+D$6*H626+E$6*I626+F$6*J626+G$6*K626+H$6*L626+I$6*M626)>(N626),1,0)","v":0}]
[null,1436,"[AT-AT] Westtirol Transformer WTRHU41 [OPP]_LTA_corner#20_#16","14T-38220-WT041O","BASECASE","N/A",0,0,0.99289000000000005,-1.7399999999999999E-2,0.10091,-6.0639999999999999E-2,0,4608,{"$f":"IF((G627*ALBE+H627*ALDE+I627*AT+J627*BE+K627*DE+L627*FR+M627*NL)>(N627),1,0)","v":0},null,{"$f":"IF((C$6*G627+D$6*H627+E$6*I627+F$6*J627+G$6*K627+H$6*L627+I$6*M627)>(N627),1,0)","v":0}]
[null,1437,"[D2-AT] Pleinting - St. Peter 258 [DIR] [AT]_LTA_corner#01_#0","10T-AT-DE-000037","[D2-D2] Pirach - Pleinting 257","11TD2L000000201H",0,0,-0.99963000000000002,6.4700000000000001E-3,5.3899999999999998E-3,-2.5950000000000001E-2,0,4906,{"$f":"IF((G628*ALBE+H628*ALDE+I628*AT+J628*BE+K628*DE+L628*FR+M628*NL)>(N628),1,0)","v":0},null,{"$f":"IF((C$6*G628+D$6*H628+E$6*I628+F$6*J628+G$6*K628+H$6*L628+I$6*M628)>(N628),1,0)","v":0}]
[null,1438,"[BE-FR] Achene - Lonny 380.19 [DIR] [BE]_LTA_corner#02_#2","10T-BE-FR-000015","[BE-BE] Avelgem - Horta 380.102","22T20161020---1E",0,0,-0.4526,0.32400000000000001,-0.32157000000000002,-0.76600000000000001,0,2371,{"$f":"IF((G629*ALBE+H629*ALDE+I629*AT+J629*BE+K629*DE+L629*FR+M629*NL)>(N629),1,0)","v":0},null,{"$f":"IF((C$6*G629+D$6*H629+E$6*I629+F$6*J629+G$6*K629+H$6*L629+I$6*M629)>(N629),1,0)","v":0}]
[null,1439,"[D2-AT] Y - St. Peter (- Altheim - Simbach) 233/230 [OPP] [D2]_LTA_corner#30_#10","10T-AT-DE-00001B","[D2-AT] Y - St. Peter (- Altheim - Simbach) 234/230","10T-AT-DE-000045",0,0,0.99822999999999995,1.1169999999999999E-2,-1.6000000000000001E-3,5.8409999999999997E-2,0,4989,{"$f":"IF((G630*ALBE+H630*ALDE+I630*AT+J630*BE+K630*DE+L630*FR+M630*NL)>(N630),1,0)","v":0},null,{"$f":"IF((C$6*G630+D$6*H630+E$6*I630+F$6*J630+G$6*K630+H$6*L630+I$6*M630)>(N630),1,0)","v":0}]
[null,1440,"[D2-AT] Y - St. Peter (- Altheim - Simbach) 233/230 [OPP] [D2]_LTA_corner#30_#3","10T-AT-DE-00001B","[D2-AT] Y - St. Peter (- Altheim - Simbach) 234/230","10T-AT-DE-000045",0,0,0.99833000000000005,1.2030000000000001E-2,-1.3600000000000001E-3,5.6460000000000003E-2,0,4980,{"$f":"IF((G631*ALBE+H631*ALDE+I631*AT+J631*BE+K631*DE+L631*FR+M631*NL)>(N631),1,0)","v":0},null,{"$f":"IF((C$6*G631+D$6*H631+E$6*I631+F$6*J631+G$6*K631+H$6*L631+I$6*M631)>(N631),1,0)","v":0}]
[null,1441,"[BE-BE] PST_ZANDV_2 [N - S]_LTA_corner#13_#19","22T20161020---56","[NL-BE] Rilland - Zandvliet 380 White/30","10T-BE-NL-00004C",0,0,-0.34134999999999999,-0.76602999999999999,-0.29403000000000001,-0.45850999999999997,0,1894,{"$f":"IF((G632*ALBE+H632*ALDE+I632*AT+J632*BE+K632*DE+L632*FR+M632*NL)>(N632),1,0)","v":0},null,{"$f":"IF((C$6*G632+D$6*H632+E$6*I632+F$6*J632+G$6*K632+H$6*L632+I$6*M632)>(N632),1,0)","v":0}]
[null,1442,"[AT-AT] Westtirol Transformer WTRHU41 [OPP]_LTA_corner#17_#1","14T-38220-WT041O","BASECASE","N/A",0,0,0.98770999999999998,0,0.13349,-8.1339999999999996E-2,0,4524,{"$f":"IF((G633*ALBE+H633*ALDE+I633*AT+J633*BE+K633*DE+L633*FR+M633*NL)>(N633),1,0)","v":0},null,{"$f":"IF((C$6*G633+D$6*H633+E$6*I633+F$6*J633+G$6*K633+H$6*L633+I$6*M633)>(N633),1,0)","v":0}]
[null,1443,"[D2-AT] Pleinting - St. Peter 258 [DIR] [AT]_LTA_corner#02_#5","10T-AT-DE-000037","[D2-D2] Pirach - Pleinting 257","11TD2L000000201H",0,0,-0.99980999999999998,0,-8.6400000000000001E-3,-1.7680000000000001E-2,0,4810,{"$f":"IF((G634*ALBE+H634*ALDE+I634*AT+J634*BE+K634*DE+L634*FR+M634*NL)>(N634),1,0)","v":0},null,{"$f":"IF((C$6*G634+D$6*H634+E$6*I634+F$6*J634+G$6*K634+H$6*L634+I$6*M634)>(N634),1,0)","v":0}]
[null,1444,"NL_import","N/A","BASECASE","N/A",0,0,0,0,0,0,-1,5750,{"$f":"IF((G635*ALBE+H635*ALDE+I635*AT+J635*BE+K635*DE+L635*FR+M635*NL)>(N635),1,0)","v":0},null,{"$f":"IF((C$6*G635+D$6*H635+E$6*I635+F$6*J635+G$6*K635+H$6*L635+I$6*M635)>(N635),1,0)","v":0}]
[null,1445,"[D2-AT] Pleinting - St. Peter 258 [DIR] [AT]_LTA_corner#04_#17","10T-AT-DE-000037","[D2-D2] Pirach - Pleinting 257","11TD2L000000201H",0,0,-0.99970999999999999,-8.2699999999999996E-3,0,-2.2769999999999999E-2,0,4857,{"$f":"IF((G636*ALBE+H636*ALDE+I636*AT+J636*BE+K636*DE+L636*FR+M636*NL)>(N636),1,0)","v":0},null,{"$f":"IF((C$6*G636+D$6*H636+E$6*I636+F$6*J636+G$6*K636+H$6*L636+I$6*M636)>(N636),1,0)","v":0}]
[null,1446,"[D2-D2] Altheim - Sittling 220 [OPP]_LTA_corner#04_#2","11TD2L000000004J","[D2-AT] Pleinting - St. Peter 258","10T-AT-DE-000037",0,0,-0.99582000000000004,-1.9179999999999999E-2,0,-8.9270000000000002E-2,0,4947,{"$f":"IF((G637*ALBE+H637*ALDE+I637*AT+J637*BE+K637*DE+L637*FR+M637*NL)>(N637),1,0)","v":0},null,{"$f":"IF((C$6*G637+D$6*H637+E$6*I637+F$6*J637+G$6*K637+H$6*L637+I$6*M637)>(N637),1,0)","v":0}]
[null,1447,"[BE-FR] Achene - Lonny 380.19 [DIR] [BE]_LTA_corner#02_#1","10T-BE-FR-000015","[BE-BE] Avelgem - Horta 380.102","22T20161020---1E",0,0,-0.46177000000000001,0.27539000000000002,-0.33345000000000002,-0.77442999999999995,0,2316,{"$f":"IF((G638*ALBE+H638*ALDE+I638*AT+J638*BE+K638*DE+L638*FR+M638*NL)>(N638),1,0)","v":0},null,{"$f":"IF((C$6*G638+D$6*H638+E$6*I638+F$6*J638+G$6*K638+H$6*L638+I$6*M638)>(N638),1,0)","v":0}]
[null,1448,"[BE-FR] Achene - Lonny 380.19 [OPP] [BE]","10T-BE-FR-000015","[BE-BE] Avelgem - Horta 380.102","22T20161020---1E",-0.30625999999999998,-6.4430000000000001E-2,2.0750000000000001E-2,-0.30148999999999998,-3.261E-2,0.15079000000000001,-0.16705,1884,{"$f":"IF((G639*ALBE+H639*ALDE+I639*AT+J639*BE+K639*DE+L639*FR+M639*NL)>(N639),1,0)","v":0},null,{"$f":"IF((C$6*G639+D$6*H639+E$6*I639+F$6*J639+G$6*K639+H$6*L639+I$6*M639)>(N639),1,0)","v":0}]
[null,1449,"[AT-AT] Westtirol Transformer WTRHU41 [OPP]_LTA_corner#20_#1","14T-38220-WT041O","BASECASE","N/A",0,0,0.98436999999999997,-1.857E-2,0.16134000000000001,-6.8159999999999998E-2,0,4414,{"$f":"IF((G640*ALBE+H640*ALDE+I640*AT+J640*BE+K640*DE+L640*FR+M640*NL)>(N640),1,0)","v":0},null,{"$f":"IF((C$6*G640+D$6*H640+E$6*I640+F$6*J640+G$6*K640+H$6*L640+I$6*M640)>(N640),1,0)","v":0}]
[null,1450,"[D2-AT] Y - St. Peter (- Altheim - Simbach) 233/230 [OPP] [D2]_LTA_corner#23_#2","10T-AT-DE-00001B","[D2-AT] Y - St. Peter (- Altheim - Simbach) 234/230","10T-AT-DE-000045",0,0,0.99807999999999997,1.3220000000000001E-2,0,6.0580000000000002E-2,0,4980,{"$f":"IF((G641*ALBE+H641*ALDE+I641*AT+J641*BE+K641*DE+L641*FR+M641*NL)>(N641),1,0)","v":0},null,{"$f":"IF((C$6*G641+D$6*H641+E$6*I641+F$6*J641+G$6*K641+H$6*L641+I$6*M641)>(N641),1,0)","v":0}]
[null,1451,"[D2-AT] Y - St. Peter (- Altheim - Simbach) 233/230 [OPP] [D2]_LTA_corner#30_#1","10T-AT-DE-00001B","[D2-AT] Y - St. Peter (- Altheim - Simbach) 234/230","10T-AT-DE-000045",0,0,0.99821000000000004,1.268E-2,-3.5500000000000002E-3,5.8409999999999997E-2,0,5001,{"$f":"IF((G642*ALBE+H642*ALDE+I642*AT+J642*BE+K642*DE+L642*FR+M642*NL)>(N642),1,0)","v":0},null,{"$f":"IF((C$6*G642+D$6*H642+E$6*I642+F$6*J642+G$6*K642+H$6*L642+I$6*M642)>(N642),1,0)","v":0}]
[null,1452,"[D2-D2] Altheim - Sittling 220 [OPP]_LTA_corner#01_#6","11TD2L000000004J","[D2-AT] Pleinting - St. Peter 258","10T-AT-DE-000037",0,0,-0.99755000000000005,0,5.5199999999999999E-2,-4.2889999999999998E-2,0,5259,{"$f":"IF((G643*ALBE+H643*ALDE+I643*AT+J643*BE+K643*DE+L643*FR+M643*NL)>(N643),1,0)","v":0},null,{"$f":"IF((C$6*G643+D$6*H643+E$6*I643+F$6*J643+G$6*K643+H$6*L643+I$6*M643)>(N643),1,0)","v":0}]
[null,1453,"[D2-AT] Y - St. Peter (- Altheim - Simbach) 233/230 [OPP] [D2]_LTA_corner#23_#0","10T-AT-DE-00001B","[D2-AT] Y - St. Peter (- Altheim - Simbach) 234/230","10T-AT-DE-000045",0,0,0.99814000000000003,1.434E-2,0,5.9290000000000002E-2,0,4975,{"$f":"IF((G644*ALBE+H644*ALDE+I644*AT+J644*BE+K644*DE+L644*FR+M644*NL)>(N644),1,0)","v":0},null,{"$f":"IF((C$6*G644+D$6*H644+E$6*I644+F$6*J644+G$6*K644+H$6*L644+I$6*M644)>(N644),1,0)","v":0}]
[null,1454,"[BE-BE] PST_VANYK_2 [S - N]","22T-BE-PST--002U","[NL-BE] Maasbracht - Van Eyck 380 Black/27","10T-BE-NL-00002G",0.48593999999999998,-4.9070000000000003E-2,1.234E-2,0.27167000000000002,-1.9019999999999999E-2,9.5380000000000006E-2,-1.9349999999999999E-2,890,{"$f":"IF((G645*ALBE+H645*ALDE+I645*AT+J645*BE+K645*DE+L645*FR+M645*NL)>(N645),1,0)","v":0},null,{"$f":"IF((C$6*G645+D$6*H645+E$6*I645+F$6*J645+G$6*K645+H$6*L645+I$6*M645)>(N645),1,0)","v":0}]
[null,1455,"[D2-AT] Pleinting - St. Peter 258 [DIR] [AT]_LTA_corner#09_#1","10T-AT-DE-000037","[D2-D2] Pirach - Pleinting 257","11TD2L000000201H",0,0,-0.99980999999999998,-8.5999999999999998E-4,-1.074E-2,-1.644E-2,0,4799,{"$f":"IF((G646*ALBE+H646*ALDE+I646*AT+J646*BE+K646*DE+L646*FR+M646*NL)>(N646),1,0)","v":0},null,{"$f":"IF((C$6*G646+D$6*H646+E$6*I646+F$6*J646+G$6*K646+H$6*L646+I$6*M646)>(N646),1,0)","v":0}]
[null,1456,"[D2-AT] Pleinting - St. Peter 258 [DIR] [AT]_LTA_corner#04_#2","10T-AT-DE-000037","[D2-D2] Pirach - Pleinting 257","11TD2L000000201H",0,0,-0.99956999999999996,-1.243E-2,5.3899999999999998E-3,-2.5950000000000001E-2,0,4900,{"$f":"IF((G647*ALBE+H647*ALDE+I647*AT+J647*BE+K647*DE+L647*FR+M647*NL)>(N647),1,0)","v":0},null,{"$f":"IF((C$6*G647+D$6*H647+E$6*I647+F$6*J647+G$6*K647+H$6*L647+I$6*M647)>(N647),1,0)","v":0}]
[null,1457,"[D2-D2] Altheim - Sittling 220 [OPP]_LTA_corner#09_#0","11TD2L000000004J","[D2-AT] Pleinting - St. Peter 258","10T-AT-DE-000037",0,0,-0.99421000000000004,-2.6440000000000002E-2,-1.6799999999999999E-2,-0.10277,0,4887,{"$f":"IF((G648*ALBE+H648*ALDE+I648*AT+J648*BE+K648*DE+L648*FR+M648*NL)>(N648),1,0)","v":0},null,{"$f":"IF((C$6*G648+D$6*H648+E$6*I648+F$6*J648+G$6*K648+H$6*L648+I$6*M648)>(N648),1,0)","v":0}]
[null,1458,"[D2-D2] Altheim - Sittling 220 [OPP]_LTA_corner#01_#3","11TD2L000000004J","[D2-AT] Pleinting - St. Peter 258","10T-AT-DE-000037",0,0,-0.99785999999999997,0,1.881E-2,-6.2670000000000003E-2,0,5041,{"$f":"IF((G649*ALBE+H649*ALDE+I649*AT+J649*BE+K649*DE+L649*FR+M649*NL)>(N649),1,0)","v":0},null,{"$f":"IF((C$6*G649+D$6*H649+E$6*I649+F$6*J649+G$6*K649+H$6*L649+I$6*M649)>(N649),1,0)","v":0}]
[null,1459,"[AT-AT] Westtirol Transformer WTRHU41 [OPP]_LTA_corner#17_#3","14T-38220-WT041O","BASECASE","N/A",0,0,0.99036000000000002,0,0.12032,-6.8580000000000002E-2,0,4553,{"$f":"IF((G650*ALBE+H650*ALDE+I650*AT+J650*BE+K650*DE+L650*FR+M650*NL)>(N650),1,0)","v":0},null,{"$f":"IF((C$6*G650+D$6*H650+E$6*I650+F$6*J650+G$6*K650+H$6*L650+I$6*M650)>(N650),1,0)","v":0}]
[null,1460,"[D2-D2] Altheim - Sittling 220 [OPP]_LTA_corner#09_#9","11TD2L000000004J","[D2-AT] Pleinting - St. Peter 258","10T-AT-DE-000037",0,0,-0.99629000000000001,-9.5700000000000004E-3,-1.9349999999999999E-2,-8.3269999999999997E-2,0,4852,{"$f":"IF((G651*ALBE+H651*ALDE+I651*AT+J651*BE+K651*DE+L651*FR+M651*NL)>(N651),1,0)","v":0},null,{"$f":"IF((C$6*G651+D$6*H651+E$6*I651+F$6*J651+G$6*K651+H$6*L651+I$6*M651)>(N651),1,0)","v":0}]
[null,1461,"[BE-BE] PST_VANYK_2 [S - N]","22T-BE-PST--002U","[NL-BE] Rilland - Zandvliet 380 Grey/29","10T-BE-NL-00003E",0.47621999999999998,-4.292E-2,1.14E-2,0.24861,-1.7670000000000002E-2,8.6599999999999996E-2,-3.6200000000000003E-2,905,{"$f":"IF((G652*ALBE+H652*ALDE+I652*AT+J652*BE+K652*DE+L652*FR+M652*NL)>(N652),1,0)","v":0},null,{"$f":"IF((C$6*G652+D$6*H652+E$6*I652+F$6*J652+G$6*K652+H$6*L652+I$6*M652)>(N652),1,0)","v":0}]
[null,1462,"[BE-BE] PST_VANYK_2 [S - N]","22T-BE-PST--002U","[BE-FR] Achene - Lonny 380.19","10T-BE-FR-000015",0.57308000000000003,-2.4340000000000001E-2,5.3400000000000001E-3,0.32016,-8.0400000000000003E-3,4.5940000000000002E-2,1.7010000000000001E-2,814,{"$f":"IF((G653*ALBE+H653*ALDE+I653*AT+J653*BE+K653*DE+L653*FR+M653*NL)>(N653),1,0)","v":0},null,{"$f":"IF((C$6*G653+D$6*H653+E$6*I653+F$6*J653+G$6*K653+H$6*L653+I$6*M653)>(N653),1,0)","v":0}]
[null,1463,"[D7-FR] Ensdorf - Vigy 2S [OPP] [D7]","10T-DE-FR-000068","[D7-D7] Ensdorf - Uchtelfangen Taubental N","11T0-0000-0604-N",6.7280000000000006E-2,-5.9150000000000001E-2,1.976E-2,8.2879999999999995E-2,-1.481E-2,0.18343999999999999,1.7989999999999999E-2,720,{"$f":"IF((G654*ALBE+H654*ALDE+I654*AT+J654*BE+K654*DE+L654*FR+M654*NL)>(N654),1,0)","v":0},null,{"$f":"IF((C$6*G654+D$6*H654+E$6*I654+F$6*J654+G$6*K654+H$6*L654+I$6*M654)>(N654),1,0)","v":0}]
[null,1464,"ALBE_import","N/A","BASECASE","N/A",-1,0,0,0,0,0,0,0,{"$f":"IF((G655*ALBE+H655*ALDE+I655*AT+J655*BE+K655*DE+L655*FR+M655*NL)>(N655),1,0)","v":0},null,{"$f":"IF((C$6*G655+D$6*H655+E$6*I655+F$6*J655+G$6*K655+H$6*L655+I$6*M655)>(N655),1,0)","v":0}]
[null,1465,"[BE-BE] PST_ZANDV_2 [S - N]","22T20161020---56","[NL-BE] Rilland - Zandvliet 380 White/30","10T-BE-NL-00004C",9.3829999999999997E-2,-2.2630000000000001E-2,1.2019999999999999E-2,0.20551,-1.9189999999999999E-2,8.7400000000000005E-2,-0.20030000000000001,1721,{"$f":"IF((G656*ALBE+H656*ALDE+I656*AT+J656*BE+K656*DE+L656*FR+M656*NL)>(N656),1,0)","v":0},null,{"$f":"IF((C$6*G656+D$6*H656+E$6*I656+F$6*J656+G$6*K656+H$6*L656+I$6*M656)>(N656),1,0)","v":0}]
[null,1466,"[BE-BE] PST_ZANDV_2 [N - S]_LTA_corner#13_#13","22T20161020---56","[NL-BE] Rilland - Zandvliet 380 White/30","10T-BE-NL-00004C",0,0,-0.39501999999999998,-0.67323999999999995,-0.34075,-0.52402000000000004,0,1672,{"$f":"IF((G657*ALBE+H657*ALDE+I657*AT+J657*BE+K657*DE+L657*FR+M657*NL)>(N657),1,0)","v":0},null,{"$f":"IF((C$6*G657+D$6*H657+E$6*I657+F$6*J657+G$6*K657+H$6*L657+I$6*M657)>(N657),1,0)","v":0}]
[null,1467,"[D2-D2] Altheim - Sittling 220 [OPP]_LTA_corner#09_#1","11TD2L000000004J","[D2-AT] Pleinting - St. Peter 258","10T-AT-DE-000037",0,0,-0.99587000000000003,-3.0530000000000002E-2,-1.9349999999999999E-2,-8.3229999999999998E-2,0,4853,{"$f":"IF((G658*ALBE+H658*ALDE+I658*AT+J658*BE+K658*DE+L658*FR+M658*NL)>(N658),1,0)","v":0},null,{"$f":"IF((C$6*G658+D$6*H658+E$6*I658+F$6*J658+G$6*K658+H$6*L658+I$6*M658)>(N658),1,0)","v":0}]
[null,1468,"[AT-AT] Westtirol Transformer WTRHU41 [OPP]_LTA_corner#17_#0","14T-38220-WT041O","BASECASE","N/A",0,0,0.98712,0,0.14463999999999999,-6.8349999999999994E-2,0,4470,{"$f":"IF((G659*ALBE+H659*ALDE+I659*AT+J659*BE+K659*DE+L659*FR+M659*NL)>(N659),1,0)","v":0},null,{"$f":"IF((C$6*G659+D$6*H659+E$6*I659+F$6*J659+G$6*K659+H$6*L659+I$6*M659)>(N659),1,0)","v":0}]
[null,1469,"[BE-BE] PST_ZANDV_2 [N - S]_LTA_corner#13_#20","22T20161020---56","[NL-BE] Rilland - Zandvliet 380 White/30","10T-BE-NL-00004C",0,0,-0.36279,-0.71433999999999997,-0.31879999999999997,-0.50643000000000005,0,1727,{"$f":"IF((G660*ALBE+H660*ALDE+I660*AT+J660*BE+K660*DE+L660*FR+M660*NL)>(N660),1,0)","v":0},null,{"$f":"IF((C$6*G660+D$6*H660+E$6*I660+F$6*J660+G$6*K660+H$6*L660+I$6*M660)>(N660),1,0)","v":0}]
[null,1470,"ALDE_export","N/A","BASECASE","N/A",0,1,0,0,0,0,0,0,{"$f":"IF((G661*ALBE+H661*ALDE+I661*AT+J661*BE+K661*DE+L661*FR+M661*NL)>(N661),1,0)","v":0},null,{"$f":"IF((C$6*G661+D$6*H661+E$6*I661+F$6*J661+G$6*K661+H$6*L661+I$6*M661)>(N661),1,0)","v":0}]
[null,1471,"[BE-FR] Achene - Lonny 380.19 [DIR] [BE]_LTA_corner#02_#10","10T-BE-FR-000015","[BE-BE] Avelgem - Horta 380.102","22T20161020---1E",0,0,-0.44882,0.33962999999999999,-0.32034000000000001,-0.76195999999999997,0,2371,{"$f":"IF((G662*ALBE+H662*ALDE+I662*AT+J662*BE+K662*DE+L662*FR+M662*NL)>(N662),1,0)","v":0},null,{"$f":"IF((C$6*G662+D$6*H662+E$6*I662+F$6*J662+G$6*K662+H$6*L662+I$6*M662)>(N662),1,0)","v":0}]
[null,1472,"[D2-AT] Pleinting - St. Peter 258 [DIR] [AT]_LTA_corner#01_#11","10T-AT-DE-000037","[D2-D2] Pirach - Pleinting 257","11TD2L000000201H",0,0,-0.99963999999999997,0,0,-2.681E-2,0,4862,{"$f":"IF((G663*ALBE+H663*ALDE+I663*AT+J663*BE+K663*DE+L663*FR+M663*NL)>(N663),1,0)","v":0},null,{"$f":"IF((C$6*G663+D$6*H663+E$6*I663+F$6*J663+G$6*K663+H$6*L663+I$6*M663)>(N663),1,0)","v":0}]
[null,1473,"[BE-BE] PST_ZANDV_2 [N - S]_LTA_corner#13_#1","22T20161020---56","[NL-BE] Rilland - Zandvliet 380 White/30","10T-BE-NL-00004C",0,0,-0.34816999999999998,-0.76251999999999998,-0.30197000000000002,-0.45404,0,1886,{"$f":"IF((G664*ALBE+H664*ALDE+I664*AT+J664*BE+K664*DE+L664*FR+M664*NL)>(N664),1,0)","v":0},null,{"$f":"IF((C$6*G664+D$6*H664+E$6*I664+F$6*J664+G$6*K664+H$6*L664+I$6*M664)>(N664),1,0)","v":0}]
[null,1474,"[D2-D2] Altheim - Sittling 220 [OPP]_LTA_corner#09_#6","11TD2L000000004J","[D2-AT] Pleinting - St. Peter 258","10T-AT-DE-000037",0,0,-0.99724000000000002,-1.6379999999999999E-2,-1.4019999999999999E-2,-7.1040000000000006E-2,0,4861,{"$f":"IF((G665*ALBE+H665*ALDE+I665*AT+J665*BE+K665*DE+L665*FR+M665*NL)>(N665),1,0)","v":0},null,{"$f":"IF((C$6*G665+D$6*H665+E$6*I665+F$6*J665+G$6*K665+H$6*L665+I$6*M665)>(N665),1,0)","v":0}]
[null,1475,"[D2-AT] Pleinting - St. Peter 258 [DIR] [AT]_LTA_corner#01_#6","10T-AT-DE-000037","[D2-D2] Pirach - Pleinting 257","11TD2L000000201H",0,0,-0.99948000000000004,0,4.5700000000000003E-3,-3.2070000000000001E-2,0,4901,{"$f":"IF((G666*ALBE+H666*ALDE+I666*AT+J666*BE+K666*DE+L666*FR+M666*NL)>(N666),1,0)","v":0},null,{"$f":"IF((C$6*G666+D$6*H666+E$6*I666+F$6*J666+G$6*K666+H$6*L666+I$6*M666)>(N666),1,0)","v":0}]
[null,1476,"[D2-AT] Y - St. Peter (- Altheim - Simbach) 233/230 [OPP] [D2]_LTA_corner#23_#3","10T-AT-DE-00001B","[D2-AT] Y - St. Peter (- Altheim - Simbach) 234/230","10T-AT-DE-000045",0,0,0.99826000000000004,1.2619999999999999E-2,0,5.7579999999999999E-2,0,4973,{"$f":"IF((G667*ALBE+H667*ALDE+I667*AT+J667*BE+K667*DE+L667*FR+M667*NL)>(N667),1,0)","v":0},null,{"$f":"IF((C$6*G667+D$6*H667+E$6*I667+F$6*J667+G$6*K667+H$6*L667+I$6*M667)>(N667),1,0)","v":0}]
[null,1477,"[BE-FR] Achene - Lonny 380.19 [DIR] [BE]_LTA_corner#02_#18","10T-BE-FR-000015","[BE-BE] Avelgem - Horta 380.102","22T20161020---1E",0,0,-0.45197999999999999,0.32356000000000001,-0.32535999999999998,-0.76495999999999997,0,2349,{"$f":"IF((G668*ALBE+H668*ALDE+I668*AT+J668*BE+K668*DE+L668*FR+M668*NL)>(N668),1,0)","v":0},null,{"$f":"IF((C$6*G668+D$6*H668+E$6*I668+F$6*J668+G$6*K668+H$6*L668+I$6*M668)>(N668),1,0)","v":0}]
[null,1478,"[AT-AT] Westtirol Transformer WTRHU41 [OPP]_LTA_corner#20_#0","14T-38220-WT041O","BASECASE","N/A",0,0,0.99412,-7.7200000000000003E-3,0.10421999999999999,-2.8299999999999999E-2,0,4552,{"$f":"IF((G669*ALBE+H669*ALDE+I669*AT+J669*BE+K669*DE+L669*FR+M669*NL)>(N669),1,0)","v":0},null,{"$f":"IF((C$6*G669+D$6*H669+E$6*I669+F$6*J669+G$6*K669+H$6*L669+I$6*M669)>(N669),1,0)","v":0}]
[null,1479,"[BE-FR] Avelgem - Avelin 380.80 [OPP] [BE]","10T-BE-FR-000031","[BE-FR] Avelgem - Mastaing 380.79","10T-BE-FR-10004U",-0.11168,-4.521E-2,1.5630000000000002E-2,-0.18883,-2.4140000000000002E-2,0.13175999999999999,-0.13539999999999999,1491,{"$f":"IF((G670*ALBE+H670*ALDE+I670*AT+J670*BE+K670*DE+L670*FR+M670*NL)>(N670),1,0)","v":0},null,{"$f":"IF((C$6*G670+D$6*H670+E$6*I670+F$6*J670+G$6*K670+H$6*L670+I$6*M670)>(N670),1,0)","v":0}]
[null,1480,"[AT-AT] Westtirol Transformer WTRHU41 [OPP]_LTA_corner#17_#7","14T-38220-WT041O","BASECASE","N/A",0,0,0.98938999999999999,0,0.13372000000000001,-5.6849999999999998E-2,0,4493,{"$f":"IF((G671*ALBE+H671*ALDE+I671*AT+J671*BE+K671*DE+L671*FR+M671*NL)>(N671),1,0)","v":0},null,{"$f":"IF((C$6*G671+D$6*H671+E$6*I671+F$6*J671+G$6*K671+H$6*L671+I$6*M671)>(N671),1,0)","v":0}]
["hour 8",1033,"[D2-AT] Pleinting - St. Peter 258 [DIR] [AT]_LTA_corner#01_#13","10T-AT-DE-000037","[D2-D2] Pirach - Pleinting 257","11TD2L000000201H",0,0,-0.99607000000000001,8.5650000000000004E-2,0,-2.256E-2,0,4943,{"$f":"IF((G672*ALBE+H672*ALDE+I672*AT+J672*BE+K672*DE+L672*FR+M672*NL)>(N672),1,0)","v":0},null,{"$f":"IF((C$6*G672+D$6*H672+E$6*I672+F$6*J672+G$6*K672+H$6*L672+I$6*M672)>(N672),1,0)","v":0}]
[null,1034,"[D2-AT] Pleinting - St. Peter 258 [DIR] [AT]_LTA_corner#01_#5","10T-AT-DE-000037","[D2-D2] Pirach - Pleinting 257","11TD2L000000201H",0,0,-0.99509999999999998,9.4259999999999997E-2,8.43E-3,-2.853E-2,0,5016,{"$f":"IF((G673*ALBE+H673*ALDE+I673*AT+J673*BE+K673*DE+L673*FR+M673*NL)>(N673),1,0)","v":0},null,{"$f":"IF((C$6*G673+D$6*H673+E$6*I673+F$6*J673+G$6*K673+H$6*L673+I$6*M673)>(N673),1,0)","v":0}]
[null,1035,"[D2-AT] Pleinting - St. Peter 258 [DIR] [AT]_LTA_corner#14_#4","10T-AT-DE-000037","[D2-D2] Pirach - Pleinting 257","11TD2L000000201H",0,0,-0.99787000000000003,0,-1.2619999999999999E-2,6.3990000000000005E-2,0,4979,{"$f":"IF((G674*ALBE+H674*ALDE+I674*AT+J674*BE+K674*DE+L674*FR+M674*NL)>(N674),1,0)","v":0},null,{"$f":"IF((C$6*G674+D$6*H674+E$6*I674+F$6*J674+G$6*K674+H$6*L674+I$6*M674)>(N674),1,0)","v":0}]
[null,1036,"[D2-AT] Pleinting - St. Peter 258 [DIR] [D2]_LTA_corner#01_#0","10T-AT-DE-000037","[D2-AT] Y - St. Peter (- Altheim - Simbach) 234/230","10T-AT-DE-000045",0,0,-0.99370000000000003,0,0.11208,0,0,5564,{"$f":"IF((G675*ALBE+H675*ALDE+I675*AT+J675*BE+K675*DE+L675*FR+M675*NL)>(N675),1,0)","v":0},null,{"$f":"IF((C$6*G675+D$6*H675+E$6*I675+F$6*J675+G$6*K675+H$6*L675+I$6*M675)>(N675),1,0)","v":0}]
[null,1037,"[D2-AT] Y - St. Peter (- Altheim - Simbach) 234/230 [OPP] [D2]_LTA_corner#23_#13","10T-AT-DE-000045","[D2-AT] Pirach - St. Peter 256","10T-AT-DE-000029",0,0,0.99726000000000004,2.2540000000000001E-2,0,7.0529999999999995E-2,0,4996,{"$f":"IF((G676*ALBE+H676*ALDE+I676*AT+J676*BE+K676*DE+L676*FR+M676*NL)>(N676),1,0)","v":0},null,{"$f":"IF((C$6*G676+D$6*H676+E$6*I676+F$6*J676+G$6*K676+H$6*L676+I$6*M676)>(N676),1,0)","v":0}]
[null,1038,"[D2-AT] Pleinting - St. Peter 258 [DIR] [D2]_LTA_corner#06_#1","10T-AT-DE-000037","[D2-AT] Y - St. Peter (- Altheim - Simbach) 234/230","10T-AT-DE-000045",0,0,-0.99853999999999998,-4.0869999999999997E-2,7.5900000000000004E-3,-3.4470000000000001E-2,0,4942,{"$f":"IF((G677*ALBE+H677*ALDE+I677*AT+J677*BE+K677*DE+L677*FR+M677*NL)>(N677),1,0)","v":0},null,{"$f":"IF((C$6*G677+D$6*H677+E$6*I677+F$6*J677+G$6*K677+H$6*L677+I$6*M677)>(N677),1,0)","v":0}]
[null,1039,"[D2-AT] Y - St. Peter (- Altheim - Simbach) 234/230 [OPP] [D2]_LTA_corner#32_#2","10T-AT-DE-000045","[D2-AT] Pirach - St. Peter 256","10T-AT-DE-000029",0,0,0.97092999999999996,-9.1060000000000002E-2,-0.20438000000000001,-8.5059999999999997E-2,0,6183,{"$f":"IF((G678*ALBE+H678*ALDE+I678*AT+J678*BE+K678*DE+L678*FR+M678*NL)>(N678),1,0)","v":0},null,{"$f":"IF((C$6*G678+D$6*H678+E$6*I678+F$6*J678+G$6*K678+H$6*L678+I$6*M678)>(N678),1,0)","v":0}]
[null,1040,"[D2-AT] Pleinting - St. Peter 258 [DIR] [AT]_LTA_corner#11_#11","10T-AT-DE-000037","[D2-D2] Pirach - Pleinting 257","11TD2L000000201H",0,0,-0.99680999999999997,0,-7.868E-2,-1.3610000000000001E-2,0,4630,{"$f":"IF((G679*ALBE+H679*ALDE+I679*AT+J679*BE+K679*DE+L679*FR+M679*NL)>(N679),1,0)","v":0},null,{"$f":"IF((C$6*G679+D$6*H679+E$6*I679+F$6*J679+G$6*K679+H$6*L679+I$6*M679)>(N679),1,0)","v":0}]
[null,1041,"[BE-BE] PST_ZANDV_2 [N - S]_LTA_corner#13_#3","22T20161020---56","[NL-BE] Rilland - Zandvliet 380 White/30","10T-BE-NL-00004C",0,0,-0.36747000000000002,-0.71199000000000001,-0.32778000000000002,-0.50058999999999998,0,1708,{"$f":"IF((G680*ALBE+H680*ALDE+I680*AT+J680*BE+K680*DE+L680*FR+M680*NL)>(N680),1,0)","v":0},null,{"$f":"IF((C$6*G680+D$6*H680+E$6*I680+F$6*J680+G$6*K680+H$6*L680+I$6*M680)>(N680),1,0)","v":0}]
[null,1042,"[D2-AT] Y - St. Peter (- Altheim - Simbach) 234/230 [OPP] [D2]_LTA_corner#32_#0","10T-AT-DE-000045","[D2-AT] Pirach - St. Peter 256","10T-AT-DE-000029",0,0,0.99841999999999997,-1.013E-2,-4.5100000000000001E-3,5.5160000000000001E-2,0,5038,{"$f":"IF((G681*ALBE+H681*ALDE+I681*AT+J681*BE+K681*DE+L681*FR+M681*NL)>(N681),1,0)","v":0},null,{"$f":"IF((C$6*G681+D$6*H681+E$6*I681+F$6*J681+G$6*K681+H$6*L681+I$6*M681)>(N681),1,0)","v":0}]
[null,1043,"[D2-NL] Diele - Meeden 380 Black [DIR] [NL]_LTA_corner#05_#18","10T-DE-NL-00001V","[D2-NL] Diele - Meeden 380 White","10T-DE-NL-00002T",0,0,0.55627000000000004,0.27839999999999998,0.65985000000000005,0.42148000000000002,0,1867,{"$f":"IF((G682*ALBE+H682*ALDE+I682*AT+J682*BE+K682*DE+L682*FR+M682*NL)>(N682),1,0)","v":0},null,{"$f":"IF((C$6*G682+D$6*H682+E$6*I682+F$6*J682+G$6*K682+H$6*L682+I$6*M682)>(N682),1,0)","v":0}]
[null,1044,"[D2-AT] Pleinting - St. Peter 258 [DIR] [AT]_LTA_corner#13_#11","10T-AT-DE-000037","[D2-D2] Pirach - Pleinting 257","11TD2L000000201H",0,0,-0.997,-7.5179999999999997E-2,-1.32E-2,-1.32E-2,0,4923,{"$f":"IF((G683*ALBE+H683*ALDE+I683*AT+J683*BE+K683*DE+L683*FR+M683*NL)>(N683),1,0)","v":0},null,{"$f":"IF((C$6*G683+D$6*H683+E$6*I683+F$6*J683+G$6*K683+H$6*L683+I$6*M683)>(N683),1,0)","v":0}]
[null,1045,"[D2-AT] Pleinting - St. Peter 258 [DIR] [D2]_LTA_corner#01_#14","10T-AT-DE-000037","[D2-AT] Y - St. Peter (- Altheim - Simbach) 234/230","10T-AT-DE-000045",0,0,-0.99892999999999998,2.3640000000000001E-2,0,-3.986E-2,0,4908,{"$f":"IF((G684*ALBE+H684*ALDE+I684*AT+J684*BE+K684*DE+L684*FR+M684*NL)>(N684),1,0)","v":0},null,{"$f":"IF((C$6*G684+D$6*H684+E$6*I684+F$6*J684+G$6*K684+H$6*L684+I$6*M684)>(N684),1,0)","v":0}]
[null,1046,"[D2-AT] Pleinting - St. Peter 258 [DIR] [D2]_LTA_corner#09_#17","10T-AT-DE-000037","[D2-AT] Y - St. Peter (- Altheim - Simbach) 234/230","10T-AT-DE-000045",0,0,-0.97377999999999998,-8.7959999999999997E-2,-0.14832999999999999,-0.14832999999999999,0,4285,{"$f":"IF((G685*ALBE+H685*ALDE+I685*AT+J685*BE+K685*DE+L685*FR+M685*NL)>(N685),1,0)","v":0},null,{"$f":"IF((C$6*G685+D$6*H685+E$6*I685+F$6*J685+G$6*K685+H$6*L685+I$6*M685)>(N685),1,0)","v":0}]
[null,1047,"[NL-NL] Borssele - Rilland 380 Zwart [DIR]","49T000000000059S","[NL-NL] Borssele - Rilland 380 Grijs","49T000000000057W",-5.2100000000000002E-3,2.2599999999999999E-3,-7.3999999999999999E-4,-1.359E-2,1.25E-3,-5.6699999999999997E-3,0.14008000000000001,507,{"$f":"IF((G686*ALBE+H686*ALDE+I686*AT+J686*BE+K686*DE+L686*FR+M686*NL)>(N686),1,0)","v":0},null,{"$f":"IF((C$6*G686+D$6*H686+E$6*I686+F$6*J686+G$6*K686+H$6*L686+I$6*M686)>(N686),1,0)","v":0}]
[null,1048,"[D2-AT] Pleinting - St. Peter 258 [DIR] [AT]_LTA_corner#13_#12","10T-AT-DE-000037","[D2-D2] Pirach - Pleinting 257","11TD2L000000201H",0,0,-0.99751999999999996,-5.7669999999999999E-2,-2.86E-2,-2.86E-2,0,4803,{"$f":"IF((G687*ALBE+H687*ALDE+I687*AT+J687*BE+K687*DE+L687*FR+M687*NL)>(N687),1,0)","v":0},null,{"$f":"IF((C$6*G687+D$6*H687+E$6*I687+F$6*J687+G$6*K687+H$6*L687+I$6*M687)>(N687),1,0)","v":0}]
[null,1049,"[D2-AT] Pleinting - St. Peter 258 [DIR] [AT]_LTA_corner#04_#16","10T-AT-DE-000037","[D2-D2] Pirach - Pleinting 257","11TD2L000000201H",0,0,-0.99648999999999999,-5.9209999999999999E-2,0,-5.9209999999999999E-2,0,4908,{"$f":"IF((G688*ALBE+H688*ALDE+I688*AT+J688*BE+K688*DE+L688*FR+M688*NL)>(N688),1,0)","v":0},null,{"$f":"IF((C$6*G688+D$6*H688+E$6*I688+F$6*J688+G$6*K688+H$6*L688+I$6*M688)>(N688),1,0)","v":0}]
[null,1050,"[D2-AT] Y - St. Peter (- Altheim - Simbach) 234/230 [OPP] [D2]_LTA_corner#23_#10","10T-AT-DE-000045","[D2-AT] Pirach - St. Peter 256","10T-AT-DE-000029",0,0,0.99777000000000005,3.3439999999999998E-2,0,5.774E-2,0,4948,{"$f":"IF((G689*ALBE+H689*ALDE+I689*AT+J689*BE+K689*DE+L689*FR+M689*NL)>(N689),1,0)","v":0},null,{"$f":"IF((C$6*G689+D$6*H689+E$6*I689+F$6*J689+G$6*K689+H$6*L689+I$6*M689)>(N689),1,0)","v":0}]
[null,1051,"[D2-AT] Y - St. Peter (- Altheim - Simbach) 234/230 [OPP] [D2]_LTA_corner#30_#7","10T-AT-DE-000045","[D2-AT] Pirach - St. Peter 256","10T-AT-DE-000029",0,0,0.99787000000000003,1.214E-2,-3.2550000000000003E-2,5.5129999999999998E-2,0,5209,{"$f":"IF((G690*ALBE+H690*ALDE+I690*AT+J690*BE+K690*DE+L690*FR+M690*NL)>(N690),1,0)","v":0},null,{"$f":"IF((C$6*G690+D$6*H690+E$6*I690+F$6*J690+G$6*K690+H$6*L690+I$6*M690)>(N690),1,0)","v":0}]
[null,1052,"[D2-AT] Pleinting - St. Peter 258 [DIR] [AT]_LTA_corner#06_#7","10T-AT-DE-000037","[D2-D2] Pirach - Pleinting 257","11TD2L000000201H",0,0,-0.99763000000000002,-6.8750000000000006E-2,0,0,0,4978,{"$f":"IF((G691*ALBE+H691*ALDE+I691*AT+J691*BE+K691*DE+L691*FR+M691*NL)>(N691),1,0)","v":0},null,{"$f":"IF((C$6*G691+D$6*H691+E$6*I691+F$6*J691+G$6*K691+H$6*L691+I$6*M691)>(N691),1,0)","v":0}]
[null,1053,"[D2-AT] Y - St. Peter (- Altheim - Simbach) 234/230 [OPP] [D2]_LTA_corner#28_#9","10T-AT-DE-000045","[D2-AT] Pirach - St. Peter 256","10T-AT-DE-000029",0,0,0.99982000000000004,-5.9999999999999995E-4,0,1.9220000000000001E-2,0,4878,{"$f":"IF((G692*ALBE+H692*ALDE+I692*AT+J692*BE+K692*DE+L692*FR+M692*NL)>(N692),1,0)","v":0},null,{"$f":"IF((C$6*G692+D$6*H692+E$6*I692+F$6*J692+G$6*K692+H$6*L692+I$6*M692)>(N692),1,0)","v":0}]
[null,1054,"[BE-BE] PST_VANYK_2 [S - N]","22T-BE-PST--002U","[NL-BE] Maasbracht - Van Eyck 380 Black/27","10T-BE-NL-00002G",0.48548999999999998,-5.0979999999999998E-2,1.255E-2,0.27083000000000002,-2.0820000000000002E-2,9.4619999999999996E-2,-2.5350000000000001E-2,1021,{"$f":"IF((G693*ALBE+H693*ALDE+I693*AT+J693*BE+K693*DE+L693*FR+M693*NL)>(N693),1,0)","v":0},null,{"$f":"IF((C$6*G693+D$6*H693+E$6*I693+F$6*J693+G$6*K693+H$6*L693+I$6*M693)>(N693),1,0)","v":0}]
[null,1055,"[D2-AT] Pleinting - St. Peter 258 [DIR] [AT]_LTA_corner#07_#0","10T-AT-DE-000037","[D2-D2] Pirach - Pleinting 257","11TD2L000000201H",0,0,-0.99773999999999996,0,8.4499999999999992E-3,6.6650000000000001E-2,0,5052,{"$f":"IF((G694*ALBE+H694*ALDE+I694*AT+J694*BE+K694*DE+L694*FR+M694*NL)>(N694),1,0)","v":0},null,{"$f":"IF((C$6*G694+D$6*H694+E$6*I694+F$6*J694+G$6*K694+H$6*L694+I$6*M694)>(N694),1,0)","v":0}]
[null,1056,"[BE-FR] Achene - Lonny 380.19 [DIR] [BE]_LTA_corner#02_#24","10T-BE-FR-000015","[BE-BE] Avelgem - Horta 380.102","22T20161020---1E",0,0,-0.48577999999999999,0,-0.34819,-0.80174000000000001,0,2074,{"$f":"IF((G695*ALBE+H695*ALDE+I695*AT+J695*BE+K695*DE+L695*FR+M695*NL)>(N695),1,0)","v":0},null,{"$f":"IF((C$6*G695+D$6*H695+E$6*I695+F$6*J695+G$6*K695+H$6*L695+I$6*M695)>(N695),1,0)","v":0}]
[null,1057,"ALBE_export","N/A","BASECASE","N/A",1,0,0,0,0,0,0,0,{"$f":"IF((G696*ALBE+H696*ALDE+I696*AT+J696*BE+K696*DE+L696*FR+M696*NL)>(N696),1,0)","v":0},null,{"$f":"IF((C$6*G696+D$6*H696+E$6*I696+F$6*J696+G$6*K696+H$6*L696+I$6*M696)>(N696),1,0)","v":0}]
[null,1058,"[D2-AT] Y - St. Peter (- Altheim - Simbach) 234/230 [OPP] [D2]_LTA_corner#28_#5","10T-AT-DE-000045","[D2-AT] Pirach - St. Peter 256","10T-AT-DE-000029",0,0,0.99829999999999997,-7.4400000000000004E-3,0,5.7770000000000002E-2,0,5005,{"$f":"IF((G697*ALBE+H697*ALDE+I697*AT+J697*BE+K697*DE+L697*FR+M697*NL)>(N697),1,0)","v":0},null,{"$f":"IF((C$6*G697+D$6*H697+E$6*I697+F$6*J697+G$6*K697+H$6*L697+I$6*M697)>(N697),1,0)","v":0}]
[null,1059,"[BE-FR] Achene - Lonny 380.19 [DIR] [BE]_LTA_corner#02_#2","10T-BE-FR-000015","[BE-BE] Avelgem - Horta 380.102","22T20161020---1E",0,0,-0.43151,0.34806999999999999,-0.31905,-0.76866999999999996,0,2314,{"$f":"IF((G698*ALBE+H698*ALDE+I698*AT+J698*BE+K698*DE+L698*FR+M698*NL)>(N698),1,0)","v":0},null,{"$f":"IF((C$6*G698+D$6*H698+E$6*I698+F$6*J698+G$6*K698+H$6*L698+I$6*M698)>(N698),1,0)","v":0}]
[null,1060,"[AT-AT] Westtirol Transformer WTRHU41 [OPP]_LTA_corner#17_#10","14T-38220-WT041O","BASECASE","N/A",0,0,0.98799999999999999,0,0.13628000000000001,-7.2650000000000006E-2,0,4504,{"$f":"IF((G699*ALBE+H699*ALDE+I699*AT+J699*BE+K699*DE+L699*FR+M699*NL)>(N699),1,0)","v":0},null,{"$f":"IF((C$6*G699+D$6*H699+E$6*I699+F$6*J699+G$6*K699+H$6*L699+I$6*M699)>(N699),1,0)","v":0}]
[null,1061,"[D2-AT] Pleinting - St. Peter 258 [DIR] [AT]_LTA_corner#04_#11","10T-AT-DE-000037","[D2-D2] Pirach - Pleinting 257","11TD2L000000201H",0,0,-0.99524999999999997,-3.8600000000000001E-3,9.7170000000000006E-2,-3.8600000000000001E-3,0,5475,{"$f":"IF((G700*ALBE+H700*ALDE+I700*AT+J700*BE+K700*DE+L700*FR+M700*NL)>(N700),1,0)","v":0},null,{"$f":"IF((C$6*G700+D$6*H700+E$6*I700+F$6*J700+G$6*K700+H$6*L700+I$6*M700)>(N700),1,0)","v":0}]
[null,1062,"[D2-AT] Pleinting - St. Peter 258 [DIR] [AT]_LTA_corner#12_#0","10T-AT-DE-000037","[D2-D2] Pirach - Pleinting 257","11TD2L000000201H",0,0,-0.99741000000000002,-3.8700000000000002E-3,8.4499999999999992E-3,7.1279999999999996E-2,0,5074,{"$f":"IF((G701*ALBE+H701*ALDE+I701*AT+J701*BE+K701*DE+L701*FR+M701*NL)>(N701),1,0)","v":0},null,{"$f":"IF((C$6*G701+D$6*H701+E$6*I701+F$6*J701+G$6*K701+H$6*L701+I$6*M701)>(N701),1,0)","v":0}]
[null,1063,"[BE-BE] PST_ZANDV_2 [N - S]_LTA_corner#13_#13","22T20161020---56","[NL-BE] Rilland - Zandvliet 380 White/30","10T-BE-NL-00004C",0,0,-0.32336999999999999,-0.80008000000000001,-0.28131,-0.41971999999999998,0,1975,{"$f":"IF((G702*ALBE+H702*ALDE+I702*AT+J702*BE+K702*DE+L702*FR+M702*NL)>(N702),1,0)","v":0},null,{"$f":"IF((C$6*G702+D$6*H702+E$6*I702+F$6*J702+G$6*K702+H$6*L702+I$6*M702)>(N702),1,0)","v":0}]
[null,1064,"[D2-AT] Pleinting - St. Peter 258 [DIR] [AT]_LTA_corner#14_#5","10T-AT-DE-000037","[D2-D2] Pirach - Pleinting 257","11TD2L000000201H",0,0,-0.99782999999999999,0,-5.96E-3,6.5619999999999998E-2,0,4998,{"$f":"IF((G703*ALBE+H703*ALDE+I703*AT+J703*BE+K703*DE+L703*FR+M703*NL)>(N703),1,0)","v":0},null,{"$f":"IF((C$6*G703+D$6*H703+E$6*I703+F$6*J703+G$6*K703+H$6*L703+I$6*M703)>(N703),1,0)","v":0}]
[null,1065,"[D7-D4] Hoheneck - Pulverdingen weiss [DIR] [D4]_LTA_corner#09_#13","11T-D4-D7-00014N","[D4-D7] Y - Herbertingen - Hoheneck - Metzingen schwarz","11TD40000A546-S0",0,0,-0.83306000000000002,-9.98E-2,-0.32063999999999998,-0.43958999999999998,0,3307,{"$f":"IF((G704*ALBE+H704*ALDE+I704*AT+J704*BE+K704*DE+L704*FR+M704*NL)>(N704),1,0)","v":0},null,{"$f":"IF((C$6*G704+D$6*H704+E$6*I704+F$6*J704+G$6*K704+H$6*L704+I$6*M704)>(N704),1,0)","v":0}]
[null,1066,"[D2-AT] Pleinting - St. Peter 258 [DIR] [D2]_LTA_corner#04_#3","10T-AT-DE-000037","[D2-AT] Y - St. Peter (- Altheim - Simbach) 234/230","10T-AT-DE-000045",0,0,-0.99061999999999995,-3.934E-2,1.966E-2,-0.12941,0,5124,{"$f":"IF((G705*ALBE+H705*ALDE+I705*AT+J705*BE+K705*DE+L705*FR+M705*NL)>(N705),1,0)","v":0},null,{"$f":"IF((C$6*G705+D$6*H705+E$6*I705+F$6*J705+G$6*K705+H$6*L705+I$6*M705)>(N705),1,0)","v":0}]
[null,1067,"[D2-AT] Pleinting - St. Peter 258 [DIR] [AT]_LTA_corner#01_#4","10T-AT-DE-000037","[D2-D2] Pirach - Pleinting 257","11TD2L000000201H",0,0,-0.99848000000000003,5.3859999999999998E-2,8.4600000000000005E-3,8.4600000000000005E-3,0,4924,{"$f":"IF((G706*ALBE+H706*ALDE+I706*AT+J706*BE+K706*DE+L706*FR+M706*NL)>(N706),1,0)","v":0},null,{"$f":"IF((C$6*G706+D$6*H706+E$6*I706+F$6*J706+G$6*K706+H$6*L706+I$6*M706)>(N706),1,0)","v":0}]
[null,1068,"[D2-AT] Y - St. Peter (- Altheim - Simbach) 234/230 [OPP] [D2]_LTA_corner#23_#0","10T-AT-DE-000045","[D2-AT] Pirach - St. Peter 256","10T-AT-DE-000029",0,0,0.99980000000000002,0,1.2999999999999999E-3,2.0199999999999999E-2,0,4873,{"$f":"IF((G707*ALBE+H707*ALDE+I707*AT+J707*BE+K707*DE+L707*FR+M707*NL)>(N707),1,0)","v":0},null,{"$f":"IF((C$6*G707+D$6*H707+E$6*I707+F$6*J707+G$6*K707+H$6*L707+I$6*M707)>(N707),1,0)","v":0}]
[null,1069,"ALDE_export","N/A","BASECASE","N/A",0,1,0,0,0,0,0,0,{"$f":"IF((G708*ALBE+H708*ALDE+I708*AT+J708*BE+K708*DE+L708*FR+M708*NL)>(N708),1,0)","v":0},null,{"$f":"IF((C$6*G708+D$6*H708+E$6*I708+F$6*J708+G$6*K708+H$6*L708+I$6*M708)>(N708),1,0)","v":0}]
[null,1070,"[D2-AT] Pleinting - St. Peter 258 [DIR] [AT]_LTA_corner#11_#2","10T-AT-DE-000037","[D2-D2] Pirach - Pleinting 257","11TD2L000000201H",0,0,-0.99804000000000004,3.015E-2,-4.589E-2,3.015E-2,0,4774,{"$f":"IF((G709*ALBE+H709*ALDE+I709*AT+J709*BE+K709*DE+L709*FR+M709*NL)>(N709),1,0)","v":0},null,{"$f":"IF((C$6*G709+D$6*H709+E$6*I709+F$6*J709+G$6*K709+H$6*L709+I$6*M709)>(N709),1,0)","v":0}]
[null,1071,"[BE-BE] PST_ZANDV_2 [N - S]_LTA_corner#13_#0","22T20161020---56","[NL-BE] Rilland - Zandvliet 380 White/30","10T-BE-NL-00004C",0,0,-0.40714,-0.65159999999999996,-0.34932000000000002,-0.53632000000000002,0,1630,{"$f":"IF((G710*ALBE+H710*ALDE+I710*AT+J710*BE+K710*DE+L710*FR+M710*NL)>(N710),1,0)","v":0},null,{"$f":"IF((C$6*G710+D$6*H710+E$6*I710+F$6*J710+G$6*K710+H$6*L710+I$6*M710)>(N710),1,0)","v":0}]
[null,1072,"[D2-AT] Pleinting - St. Peter 258 [DIR] [AT]_LTA_corner#01_#15","10T-AT-DE-000037","[D2-D2] Pirach - Pleinting 257","11TD2L000000201H",0,0,-0.99638000000000004,8.2809999999999995E-2,0,-1.9439999999999999E-2,0,4936,{"$f":"IF((G711*ALBE+H711*ALDE+I711*AT+J711*BE+K711*DE+L711*FR+M711*NL)>(N711),1,0)","v":0},null,{"$f":"IF((C$6*G711+D$6*H711+E$6*I711+F$6*J711+G$6*K711+H$6*L711+I$6*M711)>(N711),1,0)","v":0}]
[null,1073,"[D2-AT] Pleinting - St. Peter 258 [DIR] [AT]_LTA_corner#09_#11","10T-AT-DE-000037","[D2-D2] Pirach - Pleinting 257","11TD2L000000201H",0,0,-0.99792000000000003,-3.7260000000000001E-2,-3.7260000000000001E-2,-3.7260000000000001E-2,0,4710,{"$f":"IF((G712*ALBE+H712*ALDE+I712*AT+J712*BE+K712*DE+L712*FR+M712*NL)>(N712),1,0)","v":0},null,{"$f":"IF((C$6*G712+D$6*H712+E$6*I712+F$6*J712+G$6*K712+H$6*L712+I$6*M712)>(N712),1,0)","v":0}]
[null,1074,"[D2-AT] Pleinting - St. Peter 258 [DIR] [AT]_LTA_corner#14_#0","10T-AT-DE-000037","[D2-D2] Pirach - Pleinting 257","11TD2L000000201H",0,0,-0.99509999999999998,1.4030000000000001E-2,-8.9010000000000006E-2,4.0750000000000001E-2,0,4719,{"$f":"IF((G713*ALBE+H713*ALDE+I713*AT+J713*BE+K713*DE+L713*FR+M713*NL)>(N713),1,0)","v":0},null,{"$f":"IF((C$6*G713+D$6*H713+E$6*I713+F$6*J713+G$6*K713+H$6*L713+I$6*M713)>(N713),1,0)","v":0}]
[null,1075,"[D2-AT] Pleinting - St. Peter 258 [DIR] [AT]_LTA_corner#06_#11","10T-AT-DE-000037","[D2-D2] Pirach - Pleinting 257","11TD2L000000201H",0,0,-0.99544999999999995,-9.2579999999999996E-2,0,-2.2550000000000001E-2,0,5010,{"$f":"IF((G714*ALBE+H714*ALDE+I714*AT+J714*BE+K714*DE+L714*FR+M714*NL)>(N714),1,0)","v":0},null,{"$f":"IF((C$6*G714+D$6*H714+E$6*I714+F$6*J714+G$6*K714+H$6*L714+I$6*M714)>(N714),1,0)","v":0}]
[null,1076,"[D2-AT] Pleinting - St. Peter 258 [DIR] [D2]_LTA_corner#05_#14","10T-AT-DE-000037","[D2-AT] Y - St. Peter (- Altheim - Simbach) 234/230","10T-AT-DE-000045",0,0,-0.99290999999999996,0,0.11498999999999999,0.03,0,5601,{"$f":"IF((G715*ALBE+H715*ALDE+I715*AT+J715*BE+K715*DE+L715*FR+M715*NL)>(N715),1,0)","v":0},null,{"$f":"IF((C$6*G715+D$6*H715+E$6*I715+F$6*J715+G$6*K715+H$6*L715+I$6*M715)>(N715),1,0)","v":0}]
[null,1077,"[D2-AT] Pleinting - St. Peter 258 [DIR] [AT]_LTA_corner#04_#13","10T-AT-DE-000037","[D2-D2] Pirach - Pleinting 257","11TD2L000000201H",0,0,-0.99428000000000005,-2.8510000000000001E-2,9.8949999999999996E-2,-2.8510000000000001E-2,0,5526,{"$f":"IF((G716*ALBE+H716*ALDE+I716*AT+J716*BE+K716*DE+L716*FR+M716*NL)>(N716),1,0)","v":0},null,{"$f":"IF((C$6*G716+D$6*H716+E$6*I716+F$6*J716+G$6*K716+H$6*L716+I$6*M716)>(N716),1,0)","v":0}]
[null,1078,"[D2-AT] Y - St. Peter (- Altheim - Simbach) 234/230 [OPP] [D2]_LTA_corner#30_#6","10T-AT-DE-000045","[D2-AT] Pirach - St. Peter 256","10T-AT-DE-000029",0,0,0.99787999999999999,0,-5.228E-2,3.875E-2,0,5321,{"$f":"IF((G717*ALBE+H717*ALDE+I717*AT+J717*BE+K717*DE+L717*FR+M717*NL)>(N717),1,0)","v":0},null,{"$f":"IF((C$6*G717+D$6*H717+E$6*I717+F$6*J717+G$6*K717+H$6*L717+I$6*M717)>(N717),1,0)","v":0}]
[null,1079,"[D2-NL] Diele - Meeden 380 Black [DIR] [NL]_LTA_corner#05_#27","10T-DE-NL-00001V","[D2-NL] Diele - Meeden 380 White","10T-DE-NL-00002T",0,0,0.55632999999999999,0.27773999999999999,0.65939000000000003,0.42257,0,1865,{"$f":"IF((G718*ALBE+H718*ALDE+I718*AT+J718*BE+K718*DE+L718*FR+M718*NL)>(N718),1,0)","v":0},null,{"$f":"IF((C$6*G718+D$6*H718+E$6*I718+F$6*J718+G$6*K718+H$6*L718+I$6*M718)>(N718),1,0)","v":0}]
[null,1080,"[D2-AT] Pleinting - St. Peter 258 [DIR] [D2]_LTA_corner#04_#15","10T-AT-DE-000037","[D2-AT] Y - St. Peter (- Altheim - Simbach) 234/230","10T-AT-DE-000045",0,0,-0.99245000000000005,-2.9409999999999999E-2,0,-0.11905,0,4979,{"$f":"IF((G719*ALBE+H719*ALDE+I719*AT+J719*BE+K719*DE+L719*FR+M719*NL)>(N719),1,0)","v":0},null,{"$f":"IF((C$6*G719+D$6*H719+E$6*I719+F$6*J719+G$6*K719+H$6*L719+I$6*M719)>(N719),1,0)","v":0}]
[null,1081,"[D2-AT] Y - St. Peter (- Altheim - Simbach) 234/230 [OPP] [D2]_LTA_corner#23_#11","10T-AT-DE-000045","[D2-AT] Pirach - St. Peter 256","10T-AT-DE-000029",0,0,0.99980000000000002,3.0000000000000001E-5,0,1.9939999999999999E-2,0,4879,{"$f":"IF((G720*ALBE+H720*ALDE+I720*AT+J720*BE+K720*DE+L720*FR+M720*NL)>(N720),1,0)","v":0},null,{"$f":"IF((C$6*G720+D$6*H720+E$6*I720+F$6*J720+G$6*K720+H$6*L720+I$6*M720)>(N720),1,0)","v":0}]
[null,1082,"[D2-AT] Pleinting - St. Peter 258 [DIR] [AT]_LTA_corner#06_#17","10T-AT-DE-000037","[D2-D2] Pirach - Pleinting 257","11TD2L000000201H",0,0,-0.99524000000000001,-9.3229999999999993E-2,0,-2.8539999999999999E-2,0,5007,{"$f":"IF((G721*ALBE+H721*ALDE+I721*AT+J721*BE+K721*DE+L721*FR+M721*NL)>(N721),1,0)","v":0},null,{"$f":"IF((C$6*G721+D$6*H721+E$6*I721+F$6*J721+G$6*K721+H$6*L721+I$6*M721)>(N721),1,0)","v":0}]
[null,1083,"[D2-AT] Y - St. Peter (- Altheim - Simbach) 234/230 [OPP] [D2]_LTA_corner#23_#15","10T-AT-DE-000045","[D2-AT] Pirach - St. Peter 256","10T-AT-DE-000029",0,0,0.99668000000000001,1.389E-2,0,8.0180000000000001E-2,0,5032,{"$f":"IF((G722*ALBE+H722*ALDE+I722*AT+J722*BE+K722*DE+L722*FR+M722*NL)>(N722),1,0)","v":0},null,{"$f":"IF((C$6*G722+D$6*H722+E$6*I722+F$6*J722+G$6*K722+H$6*L722+I$6*M722)>(N722),1,0)","v":0}]
[null,1084,"[BE-FR] Achene - Lonny 380.19 [DIR] [BE]_LTA_corner#09_#5","10T-BE-FR-000015","[BE-BE] Avelgem - Horta 380.102","22T20161020---1E",0,0,-0.41333999999999999,-0.59687000000000001,-0.34154000000000001,-0.59687000000000001,0,1518,{"$f":"IF((G723*ALBE+H723*ALDE+I723*AT+J723*BE+K723*DE+L723*FR+M723*NL)>(N723),1,0)","v":0},null,{"$f":"IF((C$6*G723+D$6*H723+E$6*I723+F$6*J723+G$6*K723+H$6*L723+I$6*M723)>(N723),1,0)","v":0}]
[null,1085,"[D2-AT] Y - St. Peter (- Altheim - Simbach) 234/230 [OPP] [D2]_LTA_corner#30_#12","10T-AT-DE-000045","[D2-AT] Pirach - St. Peter 256","10T-AT-DE-000029",0,0,0.99783999999999995,0,-4.4999999999999997E-3,6.547E-2,0,5042,{"$f":"IF((G724*ALBE+H724*ALDE+I724*AT+J724*BE+K724*DE+L724*FR+M724*NL)>(N724),1,0)","v":0},null,{"$f":"IF((C$6*G724+D$6*H724+E$6*I724+F$6*J724+G$6*K724+H$6*L724+I$6*M724)>(N724),1,0)","v":0}]
[null,1086,"[D2-AT] Pleinting - St. Peter 258 [DIR] [AT]_LTA_corner#04_#15","10T-AT-DE-000037","[D2-D2] Pirach - Pleinting 257","11TD2L000000201H",0,0,-0.99524000000000001,-5.8540000000000002E-2,5.1409999999999997E-2,-5.8540000000000002E-2,0,5255,{"$f":"IF((G725*ALBE+H725*ALDE+I725*AT+J725*BE+K725*DE+L725*FR+M725*NL)>(N725),1,0)","v":0},null,{"$f":"IF((C$6*G725+D$6*H725+E$6*I725+F$6*J725+G$6*K725+H$6*L725+I$6*M725)>(N725),1,0)","v":0}]
[null,1087,"[D2-AT] Pleinting - St. Peter 258 [DIR] [D2]_LTA_corner#04_#7","10T-AT-DE-000037","[D2-AT] Y - St. Peter (- Altheim - Simbach) 234/230","10T-AT-DE-000045",0,0,-0.99822,-4.2180000000000002E-2,0,-4.2180000000000002E-2,0,4886,{"$f":"IF((G726*ALBE+H726*ALDE+I726*AT+J726*BE+K726*DE+L726*FR+M726*NL)>(N726),1,0)","v":0},null,{"$f":"IF((C$6*G726+D$6*H726+E$6*I726+F$6*J726+G$6*K726+H$6*L726+I$6*M726)>(N726),1,0)","v":0}]
[null,1088,"[D2-AT] Pleinting - St. Peter 258 [DIR] [D2]_LTA_corner#01_#6","10T-AT-DE-000037","[D2-AT] Y - St. Peter (- Altheim - Simbach) 234/230","10T-AT-DE-000045",0,0,-0.91398999999999997,0.16367000000000001,0.33324999999999999,0.16367000000000001,0,6644,{"$f":"IF((G727*ALBE+H727*ALDE+I727*AT+J727*BE+K727*DE+L727*FR+M727*NL)>(N727),1,0)","v":0},null,{"$f":"IF((C$6*G727+D$6*H727+E$6*I727+F$6*J727+G$6*K727+H$6*L727+I$6*M727)>(N727),1,0)","v":0}]
[null,1089,"[BE-FR] Achene - Lonny 380.19 [DIR] [BE]_LTA_corner#02_#25","10T-BE-FR-000015","[BE-BE] Avelgem - Horta 380.102","22T20161020---1E",0,0,-0.49695,0,-0.35396,-0.79230999999999996,0,2087,{"$f":"IF((G728*ALBE+H728*ALDE+I728*AT+J728*BE+K728*DE+L728*FR+M728*NL)>(N728),1,0)","v":0},null,{"$f":"IF((C$6*G728+D$6*H728+E$6*I728+F$6*J728+G$6*K728+H$6*L728+I$6*M728)>(N728),1,0)","v":0}]
[null,1090,"[D2-AT] Pleinting - St. Peter 258 [DIR] [AT]_LTA_corner#15_#4","10T-AT-DE-000037","[D2-D2] Pirach - Pleinting 257","11TD2L000000201H",0,0,-0.99773999999999996,-2.861E-2,-5.3560000000000003E-2,-2.861E-2,0,4680,{"$f":"IF((G729*ALBE+H729*ALDE+I729*AT+J729*BE+K729*DE+L729*FR+M729*NL)>(N729),1,0)","v":0},null,{"$f":"IF((C$6*G729+D$6*H729+E$6*I729+F$6*J729+G$6*K729+H$6*L729+I$6*M729)>(N729),1,0)","v":0}]
[null,1091,"[D2-AT] Y - St. Peter (- Altheim - Simbach) 234/230 [OPP] [D2]_LTA_corner#30_#11","10T-AT-DE-000045","[D2-AT] Pirach - St. Peter 256","10T-AT-DE-000029",0,0,0.99683999999999995,1.213E-2,-4.4999999999999997E-3,7.843E-2,0,5064,{"$f":"IF((G730*ALBE+H730*ALDE+I730*AT+J730*BE+K730*DE+L730*FR+M730*NL)>(N730),1,0)","v":0},null,{"$f":"IF((C$6*G730+D$6*H730+E$6*I730+F$6*J730+G$6*K730+H$6*L730+I$6*M730)>(N730),1,0)","v":0}]
[null,1092,"[D2-AT] Pleinting - St. Peter 258 [DIR] [D2]_LTA_corner#01_#18","10T-AT-DE-000037","[D2-AT] Y - St. Peter (- Altheim - Simbach) 234/230","10T-AT-DE-000045",0,0,-0.99036999999999997,0,0.11924999999999999,-7.0290000000000005E-2,0,5710,{"$f":"IF((G731*ALBE+H731*ALDE+I731*AT+J731*BE+K731*DE+L731*FR+M731*NL)>(N731),1,0)","v":0},null,{"$f":"IF((C$6*G731+D$6*H731+E$6*I731+F$6*J731+G$6*K731+H$6*L731+I$6*M731)>(N731),1,0)","v":0}]
[null,1093,"[AT-AT] Westtirol Transformer WTRHU41 [OPP]_LTA_corner#20_#4","14T-38220-WT041O","BASECASE","N/A",0,0,0.99238999999999999,-2.0070000000000001E-2,9.9820000000000006E-2,-6.9199999999999998E-2,0,4623,{"$f":"IF((G732*ALBE+H732*ALDE+I732*AT+J732*BE+K732*DE+L732*FR+M732*NL)>(N732),1,0)","v":0},null,{"$f":"IF((C$6*G732+D$6*H732+E$6*I732+F$6*J732+G$6*K732+H$6*L732+I$6*M732)>(N732),1,0)","v":0}]
[null,1094,"[BE-FR] Achene - Lonny 380.19 [DIR] [BE]_LTA_corner#02_#12","10T-BE-FR-000015","[BE-BE] Avelgem - Horta 380.102","22T20161020---1E",0,0,-0.44752999999999998,0.34162999999999999,-0.33739999999999998,-0.75443000000000005,0,2279,{"$f":"IF((G733*ALBE+H733*ALDE+I733*AT+J733*BE+K733*DE+L733*FR+M733*NL)>(N733),1,0)","v":0},null,{"$f":"IF((C$6*G733+D$6*H733+E$6*I733+F$6*J733+G$6*K733+H$6*L733+I$6*M733)>(N733),1,0)","v":0}]
[null,1095,"[BE-FR] Achene - Lonny 380.19 [DIR] [BE]_LTA_corner#09_#3","10T-BE-FR-000015","[BE-BE] Avelgem - Horta 380.102","22T20161020---1E",0,0,-0.41733999999999999,-0.59421000000000002,-0.34593000000000002,-0.59421000000000002,0,1514,{"$f":"IF((G734*ALBE+H734*ALDE+I734*AT+J734*BE+K734*DE+L734*FR+M734*NL)>(N734),1,0)","v":0},null,{"$f":"IF((C$6*G734+D$6*H734+E$6*I734+F$6*J734+G$6*K734+H$6*L734+I$6*M734)>(N734),1,0)","v":0}]
[null,1096,"[D2-AT] Pleinting - St. Peter 258 [DIR] [AT]_LTA_corner#01_#7","10T-AT-DE-000037","[D2-D2] Pirach - Pleinting 257","11TD2L000000201H",0,0,-1,0,0,0,0,4821,{"$f":"IF((G735*ALBE+H735*ALDE+I735*AT+J735*BE+K735*DE+L735*FR+M735*NL)>(N735),1,0)","v":0},null,{"$f":"IF((C$6*G735+D$6*H735+E$6*I735+F$6*J735+G$6*K735+H$6*L735+I$6*M735)>(N735),1,0)","v":0}]
[null,1097,"[BE-FR] Achene - Lonny 380.19 [DIR] [BE]_LTA_corner#02_#21","10T-BE-FR-000015","[BE-BE] Avelgem - Horta 380.102","22T20161020---1E",0,0,-0.49267,0,-0.37457000000000001,-0.78547999999999996,0,1964,{"$f":"IF((G736*ALBE+H736*ALDE+I736*AT+J736*BE+K736*DE+L736*FR+M736*NL)>(N736),1,0)","v":0},null,{"$f":"IF((C$6*G736+D$6*H736+E$6*I736+F$6*J736+G$6*K736+H$6*L736+I$6*M736)>(N736),1,0)","v":0}]
[null,1098,"[D2-AT] Pleinting - St. Peter 258 [DIR] [AT]_LTA_corner#04_#2","10T-AT-DE-000037","[D2-D2] Pirach - Pleinting 257","11TD2L000000201H",0,0,-0.99150000000000005,-1.847E-2,9.3899999999999997E-2,-8.8120000000000004E-2,0,5572,{"$f":"IF((G737*ALBE+H737*ALDE+I737*AT+J737*BE+K737*DE+L737*FR+M737*NL)>(N737),1,0)","v":0},null,{"$f":"IF((C$6*G737+D$6*H737+E$6*I737+F$6*J737+G$6*K737+H$6*L737+I$6*M737)>(N737),1,0)","v":0}]
[null,1099,"[BE-FR] Achene - Lonny 380.19 [DIR] [BE]_LTA_corner#02_#0","10T-BE-FR-000015","[BE-BE] Avelgem - Horta 380.102","22T20161020---1E",0,0,-0.46255000000000002,0.18679999999999999,-0.31240000000000001,-0.80842999999999998,0,2360,{"$f":"IF((G738*ALBE+H738*ALDE+I738*AT+J738*BE+K738*DE+L738*FR+M738*NL)>(N738),1,0)","v":0},null,{"$f":"IF((C$6*G738+D$6*H738+E$6*I738+F$6*J738+G$6*K738+H$6*L738+I$6*M738)>(N738),1,0)","v":0}]
[null,1100,"[AT-AT] Westtirol Transformer WTRHU41 [OPP]_LTA_corner#20_#1","14T-38220-WT041O","BASECASE","N/A",0,0,0.98780000000000001,-4.8770000000000001E-2,0.13088,-6.8879999999999997E-2,0,4519,{"$f":"IF((G739*ALBE+H739*ALDE+I739*AT+J739*BE+K739*DE+L739*FR+M739*NL)>(N739),1,0)","v":0},null,{"$f":"IF((C$6*G739+D$6*H739+E$6*I739+F$6*J739+G$6*K739+H$6*L739+I$6*M739)>(N739),1,0)","v":0}]
[null,1101,"[D2-AT] Pleinting - St. Peter 258 [DIR] [AT]_LTA_corner#01_#24","10T-AT-DE-000037","[D2-D2] Pirach - Pleinting 257","11TD2L000000201H",0,0,-0.99912999999999996,2.4129999999999999E-2,2.4129999999999999E-2,2.4129999999999999E-2,0,4974,{"$f":"IF((G740*ALBE+H740*ALDE+I740*AT+J740*BE+K740*DE+L740*FR+M740*NL)>(N740),1,0)","v":0},null,{"$f":"IF((C$6*G740+D$6*H740+E$6*I740+F$6*J740+G$6*K740+H$6*L740+I$6*M740)>(N740),1,0)","v":0}]
[null,1102,"[D2-AT] Pleinting - St. Peter 258 [DIR] [AT]_LTA_corner#06_#10","10T-AT-DE-000037","[D2-D2] Pirach - Pleinting 257","11TD2L000000201H",0,0,-0.99409000000000003,-0.10440000000000001,8.4200000000000004E-3,-2.8500000000000001E-2,0,5087,{"$f":"IF((G741*ALBE+H741*ALDE+I741*AT+J741*BE+K741*DE+L741*FR+M741*NL)>(N741),1,0)","v":0},null,{"$f":"IF((C$6*G741+D$6*H741+E$6*I741+F$6*J741+G$6*K741+H$6*L741+I$6*M741)>(N741),1,0)","v":0}]
[null,1103,"[D2-AT] Y - St. Peter (- Altheim - Simbach) 234/230 [OPP] [D2]_LTA_corner#23_#3","10T-AT-DE-000045","[D2-AT] Pirach - St. Peter 256","10T-AT-DE-000029",0,0,0.99770000000000003,0,1.461E-2,6.6250000000000003E-2,0,4936,{"$f":"IF((G742*ALBE+H742*ALDE+I742*AT+J742*BE+K742*DE+L742*FR+M742*NL)>(N742),1,0)","v":0},null,{"$f":"IF((C$6*G742+D$6*H742+E$6*I742+F$6*J742+G$6*K742+H$6*L742+I$6*M742)>(N742),1,0)","v":0}]
[null,1104,"[D2-AT] Pleinting - St. Peter 258 [DIR] [AT]_LTA_corner#11_#12","10T-AT-DE-000037","[D2-D2] Pirach - Pleinting 257","11TD2L000000201H",0,0,-0.99692999999999998,0,-7.2870000000000004E-2,-2.8590000000000001E-2,0,4632,{"$f":"IF((G743*ALBE+H743*ALDE+I743*AT+J743*BE+K743*DE+L743*FR+M743*NL)>(N743),1,0)","v":0},null,{"$f":"IF((C$6*G743+D$6*H743+E$6*I743+F$6*J743+G$6*K743+H$6*L743+I$6*M743)>(N743),1,0)","v":0}]
[null,1105,"[BE-FR] Achene - Lonny 380.19 [DIR] [BE]_LTA_corner#02_#8","10T-BE-FR-000015","[BE-BE] Avelgem - Horta 380.102","22T20161020---1E",0,0,-0.45616000000000001,0.23138,-0.30648999999999998,-0.80276999999999998,0,2401,{"$f":"IF((G744*ALBE+H744*ALDE+I744*AT+J744*BE+K744*DE+L744*FR+M744*NL)>(N744),1,0)","v":0},null,{"$f":"IF((C$6*G744+D$6*H744+E$6*I744+F$6*J744+G$6*K744+H$6*L744+I$6*M744)>(N744),1,0)","v":0}]
[null,1106,"[BE-BE] PST_ZANDV_2 [N - S]_LTA_corner#13_#10","22T20161020---56","[NL-BE] Rilland - Zandvliet 380 White/30","10T-BE-NL-00004C",0,0,-0.33178000000000002,-0.79120000000000001,-0.28699000000000002,-0.42609999999999998,0,1964,{"$f":"IF((G745*ALBE+H745*ALDE+I745*AT+J745*BE+K745*DE+L745*FR+M745*NL)>(N745),1,0)","v":0},null,{"$f":"IF((C$6*G745+D$6*H745+E$6*I745+F$6*J745+G$6*K745+H$6*L745+I$6*M745)>(N745),1,0)","v":0}]
[null,1107,"[BE-BE] PST_ZANDV_2 [N - S]_LTA_corner#13_#11","22T20161020---56","[NL-BE] Rilland - Zandvliet 380 White/30","10T-BE-NL-00004C",0,0,-0.39577000000000001,-0.68008000000000002,-0.34378999999999998,-0.51251999999999998,0,1687,{"$f":"IF((G746*ALBE+H746*ALDE+I746*AT+J746*BE+K746*DE+L746*FR+M746*NL)>(N746),1,0)","v":0},null,{"$f":"IF((C$6*G746+D$6*H746+E$6*I746+F$6*J746+G$6*K746+H$6*L746+I$6*M746)>(N746),1,0)","v":0}]
[null,1108,"[D2-AT] Pleinting - St. Peter 258 [DIR] [D2]_LTA_corner#15_#0","10T-AT-DE-000037","[D2-AT] Y - St. Peter (- Altheim - Simbach) 234/230","10T-AT-DE-000045",0,0,-0.97138999999999998,-9.1590000000000005E-2,-0.15859999999999999,-0.15118999999999999,0,4250,{"$f":"IF((G747*ALBE+H747*ALDE+I747*AT+J747*BE+K747*DE+L747*FR+M747*NL)>(N747),1,0)","v":0},null,{"$f":"IF((C$6*G747+D$6*H747+E$6*I747+F$6*J747+G$6*K747+H$6*L747+I$6*M747)>(N747),1,0)","v":0}]
[null,1109,"[D2-AT] Pleinting - St. Peter 258 [DIR] [AT]_LTA_corner#02_#5","10T-AT-DE-000037","[D2-D2] Pirach - Pleinting 257","11TD2L000000201H",0,0,-0.99739999999999995,7.0870000000000002E-2,-9.3500000000000007E-3,-9.3500000000000007E-3,0,4868,{"$f":"IF((G748*ALBE+H748*ALDE+I748*AT+J748*BE+K748*DE+L748*FR+M748*NL)>(N748),1,0)","v":0},null,{"$f":"IF((C$6*G748+D$6*H748+E$6*I748+F$6*J748+G$6*K748+H$6*L748+I$6*M748)>(N748),1,0)","v":0}]
[null,1110,"[D2-AT] Pleinting - St. Peter 258 [DIR] [D2]_LTA_corner#05_#0","10T-AT-DE-000037","[D2-AT] Y - St. Peter (- Altheim - Simbach) 234/230","10T-AT-DE-000045",0,0,0.56022000000000005,0.26534999999999997,0.67008999999999996,0.40832000000000002,0,1923,{"$f":"IF((G749*ALBE+H749*ALDE+I749*AT+J749*BE+K749*DE+L749*FR+M749*NL)>(N749),1,0)","v":0},null,{"$f":"IF((C$6*G749+D$6*H749+E$6*I749+F$6*J749+G$6*K749+H$6*L749+I$6*M749)>(N749),1,0)","v":0}]
[null,1111,"[AT-AT] Westtirol Transformer WTRHU41 [OPP]_LTA_corner#17_#0","14T-38220-WT041O","BASECASE","N/A",0,0,0.98894000000000004,8.9300000000000004E-3,0.13103000000000001,-6.8959999999999994E-2,0,4528,{"$f":"IF((G750*ALBE+H750*ALDE+I750*AT+J750*BE+K750*DE+L750*FR+M750*NL)>(N750),1,0)","v":0},null,{"$f":"IF((C$6*G750+D$6*H750+E$6*I750+F$6*J750+G$6*K750+H$6*L750+I$6*M750)>(N750),1,0)","v":0}]
[null,1112,"[D2-AT] Pleinting - St. Peter 258 [DIR] [AT]_LTA_corner#14_#3","10T-AT-DE-000037","[D2-D2] Pirach - Pleinting 257","11TD2L000000201H",0,0,-0.99685999999999997,1.4970000000000001E-2,-6.1719999999999997E-2,4.7280000000000003E-2,0,4804,{"$f":"IF((G751*ALBE+H751*ALDE+I751*AT+J751*BE+K751*DE+L751*FR+M751*NL)>(N751),1,0)","v":0},null,{"$f":"IF((C$6*G751+D$6*H751+E$6*I751+F$6*J751+G$6*K751+H$6*L751+I$6*M751)>(N751),1,0)","v":0}]
[null,1113,"[AT-AT] Westtirol Transformer WTRHU41 [OPP]_LTA_corner#20_#20","14T-38220-WT041O","BASECASE","N/A",0,0,0.98485,-2.3359999999999999E-2,0.15059,-8.2710000000000006E-2,0,4470,{"$f":"IF((G752*ALBE+H752*ALDE+I752*AT+J752*BE+K752*DE+L752*FR+M752*NL)>(N752),1,0)","v":0},null,{"$f":"IF((C$6*G752+D$6*H752+E$6*I752+F$6*J752+G$6*K752+H$6*L752+I$6*M752)>(N752),1,0)","v":0}]
[null,1114,"[AT-AT] Westtirol Transformer WTRHU41 [OPP]_LTA_corner#20_#24","14T-38220-WT041O","BASECASE","N/A",0,0,0.98626999999999998,-1.9949999999999999E-2,0.13067000000000001,-9.8989999999999995E-2,0,4556,{"$f":"IF((G753*ALBE+H753*ALDE+I753*AT+J753*BE+K753*DE+L753*FR+M753*NL)>(N753),1,0)","v":0},null,{"$f":"IF((C$6*G753+D$6*H753+E$6*I753+F$6*J753+G$6*K753+H$6*L753+I$6*M753)>(N753),1,0)","v":0}]
[null,1115,"[D2-AT] Pleinting - St. Peter 258 [DIR] [D2]_LTA_corner#05_#15","10T-AT-DE-000037","[D2-AT] Y - St. Peter (- Altheim - Simbach) 234/230","10T-AT-DE-000045",0,0,-0.99973000000000001,0,2.197E-2,7.45E-3,0,4976,{"$f":"IF((G754*ALBE+H754*ALDE+I754*AT+J754*BE+K754*DE+L754*FR+M754*NL)>(N754),1,0)","v":0},null,{"$f":"IF((C$6*G754+D$6*H754+E$6*I754+F$6*J754+G$6*K754+H$6*L754+I$6*M754)>(N754),1,0)","v":0}]
[null,1116,"[D2-AT] Pleinting - St. Peter 258 [DIR] [AT]_LTA_corner#06_#1","10T-AT-DE-000037","[D2-D2] Pirach - Pleinting 257","11TD2L000000201H",0,0,-0.99833000000000005,-3.8700000000000002E-3,4.0800000000000003E-2,4.0800000000000003E-2,0,5132,{"$f":"IF((G755*ALBE+H755*ALDE+I755*AT+J755*BE+K755*DE+L755*FR+M755*NL)>(N755),1,0)","v":0},null,{"$f":"IF((C$6*G755+D$6*H755+E$6*I755+F$6*J755+G$6*K755+H$6*L755+I$6*M755)>(N755),1,0)","v":0}]
[null,1117,"[D2-AT] Y - St. Peter (- Altheim - Simbach) 234/230 [OPP] [D2]_LTA_corner#21_#3","10T-AT-DE-000045","[D2-AT] Pirach - St. Peter 256","10T-AT-DE-000029",0,0,0.97962000000000005,5.8860000000000003E-2,0.13578000000000001,0.13578000000000001,0,4380,{"$f":"IF((G756*ALBE+H756*ALDE+I756*AT+J756*BE+K756*DE+L756*FR+M756*NL)>(N756),1,0)","v":0},null,{"$f":"IF((C$6*G756+D$6*H756+E$6*I756+F$6*J756+G$6*K756+H$6*L756+I$6*M756)>(N756),1,0)","v":0}]
[null,1118,"[D2-AT] Y - St. Peter (- Altheim - Simbach) 234/230 [OPP] [D2]_LTA_corner#30_#4","10T-AT-DE-000045","[D2-AT] Pirach - St. Peter 256","10T-AT-DE-000029",0,0,0.99824999999999997,0,-5.5730000000000002E-2,1.9619999999999999E-2,0,5290,{"$f":"IF((G757*ALBE+H757*ALDE+I757*AT+J757*BE+K757*DE+L757*FR+M757*NL)>(N757),1,0)","v":0},null,{"$f":"IF((C$6*G757+D$6*H757+E$6*I757+F$6*J757+G$6*K757+H$6*L757+I$6*M757)>(N757),1,0)","v":0}]
[null,1119,"[D2-AT] Pleinting - St. Peter 258 [DIR] [D2]_LTA_corner#01_#9","10T-AT-DE-000037","[D2-AT] Y - St. Peter (- Altheim - Simbach) 234/230","10T-AT-DE-000045",0,0,-0.99695999999999996,0,0,-7.7859999999999999E-2,0,4931,{"$f":"IF((G758*ALBE+H758*ALDE+I758*AT+J758*BE+K758*DE+L758*FR+M758*NL)>(N758),1,0)","v":0},null,{"$f":"IF((C$6*G758+D$6*H758+E$6*I758+F$6*J758+G$6*K758+H$6*L758+I$6*M758)>(N758),1,0)","v":0}]
[null,1120,"[D2-AT] Y - St. Peter (- Altheim - Simbach) 234/230 [OPP] [D2]_LTA_corner#21_#4","10T-AT-DE-000045","[D2-AT] Pirach - St. Peter 256","10T-AT-DE-000029",0,0,0.99345000000000006,3.4549999999999997E-2,7.7020000000000005E-2,7.7020000000000005E-2,0,4593,{"$f":"IF((G759*ALBE+H759*ALDE+I759*AT+J759*BE+K759*DE+L759*FR+M759*NL)>(N759),1,0)","v":0},null,{"$f":"IF((C$6*G759+D$6*H759+E$6*I759+F$6*J759+G$6*K759+H$6*L759+I$6*M759)>(N759),1,0)","v":0}]
[null,1121,"[D2-AT] Pleinting - St. Peter 258 [DIR] [AT]_LTA_corner#07_#1","10T-AT-DE-000037","[D2-D2] Pirach - Pleinting 257","11TD2L000000201H",0,0,-0.99783999999999995,0,0,6.5729999999999997E-2,0,5011,{"$f":"IF((G760*ALBE+H760*ALDE+I760*AT+J760*BE+K760*DE+L760*FR+M760*NL)>(N760),1,0)","v":0},null,{"$f":"IF((C$6*G760+D$6*H760+E$6*I760+F$6*J760+G$6*K760+H$6*L760+I$6*M760)>(N760),1,0)","v":0}]
[null,1122,"[D2-AT] Pleinting - St. Peter 258 [DIR] [AT]_LTA_corner#01_#6","10T-AT-DE-000037","[D2-D2] Pirach - Pleinting 257","11TD2L000000201H",0,0,-0.99377000000000004,0,7.9469999999999999E-2,-7.8100000000000003E-2,0,5464,{"$f":"IF((G761*ALBE+H761*ALDE+I761*AT+J761*BE+K761*DE+L761*FR+M761*NL)>(N761),1,0)","v":0},null,{"$f":"IF((C$6*G761+D$6*H761+E$6*I761+F$6*J761+G$6*K761+H$6*L761+I$6*M761)>(N761),1,0)","v":0}]
[null,1123,"[D2-AT] Y - St. Peter (- Altheim - Simbach) 234/230 [OPP] [D2]_LTA_corner#21_#6","10T-AT-DE-000045","[D2-AT] Pirach - St. Peter 256","10T-AT-DE-000029",0,0,0.97397999999999996,7.3109999999999994E-2,0.15168999999999999,0.15168999999999999,0,4305,{"$f":"IF((G762*ALBE+H762*ALDE+I762*AT+J762*BE+K762*DE+L762*FR+M762*NL)>(N762),1,0)","v":0},null,{"$f":"IF((C$6*G762+D$6*H762+E$6*I762+F$6*J762+G$6*K762+H$6*L762+I$6*M762)>(N762),1,0)","v":0}]
[null,1124,"[D2-NL] Diele - Meeden 380 Black [DIR] [NL]_LTA_corner#05_#30","10T-DE-NL-00001V","[D2-NL] Diele - Meeden 380 White","10T-DE-NL-00002T",0,0,0.55549000000000004,0.28075,0.66100000000000003,0.41915999999999998,0,1875,{"$f":"IF((G763*ALBE+H763*ALDE+I763*AT+J763*BE+K763*DE+L763*FR+M763*NL)>(N763),1,0)","v":0},null,{"$f":"IF((C$6*G763+D$6*H763+E$6*I763+F$6*J763+G$6*K763+H$6*L763+I$6*M763)>(N763),1,0)","v":0}]
[null,1125,"[BE-FR] Achene - Lonny 380.19 [DIR] [BE]_LTA_corner#02_#23","10T-BE-FR-000015","[BE-BE] Avelgem - Horta 380.102","22T20161020---1E",0,0,-0.4869,0,-0.36767,-0.79230999999999996,0,1978,{"$f":"IF((G764*ALBE+H764*ALDE+I764*AT+J764*BE+K764*DE+L764*FR+M764*NL)>(N764),1,0)","v":0},null,{"$f":"IF((C$6*G764+D$6*H764+E$6*I764+F$6*J764+G$6*K764+H$6*L764+I$6*M764)>(N764),1,0)","v":0}]
[null,1126,"[D2-AT] Pleinting - St. Peter 258 [DIR] [AT]_LTA_corner#11_#10","10T-AT-DE-000037","[D2-D2] Pirach - Pleinting 257","11TD2L000000201H",0,0,-0.99665000000000004,4.7400000000000003E-3,-8.1549999999999997E-2,4.7400000000000003E-3,0,4643,{"$f":"IF((G765*ALBE+H765*ALDE+I765*AT+J765*BE+K765*DE+L765*FR+M765*NL)>(N765),1,0)","v":0},null,{"$f":"IF((C$6*G765+D$6*H765+E$6*I765+F$6*J765+G$6*K765+H$6*L765+I$6*M765)>(N765),1,0)","v":0}]
[null,1127,"[D2-NL] Diele - Meeden 380 Black [DIR] [NL]_LTA_corner#05_#13","10T-DE-NL-00001V","[D2-NL] Diele - Meeden 380 White","10T-DE-NL-00002T",0,0,0.55991000000000002,0.26135000000000003,0.66374999999999995,0.42147000000000001,0,1895,{"$f":"IF((G766*ALBE+H766*ALDE+I766*AT+J766*BE+K766*DE+L766*FR+M766*NL)>(N766),1,0)","v":0},null,{"$f":"IF((C$6*G766+D$6*H766+E$6*I766+F$6*J766+G$6*K766+H$6*L766+I$6*M766)>(N766),1,0)","v":0}]
[null,1128,"[D7-D4] Hoheneck - Pulverdingen weiss [DIR] [D4]_LTA_corner#09_#4","11T-D4-D7-00014N","[D4-D7] Y - Herbertingen - Hoheneck - Metzingen schwarz","11TD40000A546-S0",0,0,-0.83308000000000004,-0.10038,-0.32039000000000001,-0.43959999999999999,0,3308,{"$f":"IF((G767*ALBE+H767*ALDE+I767*AT+J767*BE+K767*DE+L767*FR+M767*NL)>(N767),1,0)","v":0},null,{"$f":"IF((C$6*G767+D$6*H767+E$6*I767+F$6*J767+G$6*K767+H$6*L767+I$6*M767)>(N767),1,0)","v":0}]
[null,1129,"[AT-AT] Westtirol Transformer WTRHU41 [OPP]_LTA_corner#20_#2","14T-38220-WT041O","BASECASE","N/A",0,0,0.99390000000000001,-1.8169999999999999E-2,9.1550000000000006E-2,-5.8740000000000001E-2,0,4636,{"$f":"IF((G768*ALBE+H768*ALDE+I768*AT+J768*BE+K768*DE+L768*FR+M768*NL)>(N768),1,0)","v":0},null,{"$f":"IF((C$6*G768+D$6*H768+E$6*I768+F$6*J768+G$6*K768+H$6*L768+I$6*M768)>(N768),1,0)","v":0}]
[null,1130,"[BE-BE] Achene - Gramme 380.10 [OPP]_LTA_corner","22T-BE-IN-LI0130","[BE-BE] Avelgem - Horta 380.102","22T20161020---1E",0.31113000000000002,6.8040000000000003E-2,-2.0789999999999999E-2,0.30715999999999999,3.5060000000000001E-2,-0.14832999999999999,0.16519,991,{"$f":"IF((G769*ALBE+H769*ALDE+I769*AT+J769*BE+K769*DE+L769*FR+M769*NL)>(N769),1,0)","v":0},null,{"$f":"IF((C$6*G769+D$6*H769+E$6*I769+F$6*J769+G$6*K769+H$6*L769+I$6*M769)>(N769),1,0)","v":0}]
[null,1131,"[D2-AT] Y - St. Peter (- Altheim - Simbach) 234/230 [OPP] [D2]_LTA_corner#21_#0","10T-AT-DE-000045","[D2-AT] Pirach - St. Peter 256","10T-AT-DE-000029",0,0,0.93552999999999997,0.11584999999999999,0.26197999999999999,0.20674000000000001,0,3811,{"$f":"IF((G770*ALBE+H770*ALDE+I770*AT+J770*BE+K770*DE+L770*FR+M770*NL)>(N770),1,0)","v":0},null,{"$f":"IF((C$6*G770+D$6*H770+E$6*I770+F$6*J770+G$6*K770+H$6*L770+I$6*M770)>(N770),1,0)","v":0}]
[null,1132,"[AT-AT] Westtirol Transformer WTRHU41 [OPP]_LTA_corner#17_#6","14T-38220-WT041O","BASECASE","N/A",0,0,0.99241000000000001,0,0.1144,-4.5170000000000002E-2,0,4541,{"$f":"IF((G771*ALBE+H771*ALDE+I771*AT+J771*BE+K771*DE+L771*FR+M771*NL)>(N771),1,0)","v":0},null,{"$f":"IF((C$6*G771+D$6*H771+E$6*I771+F$6*J771+G$6*K771+H$6*L771+I$6*M771)>(N771),1,0)","v":0}]
[null,1133,"[D2-AT] Pleinting - St. Peter 258 [DIR] [D2]_LTA_corner#01_#20","10T-AT-DE-000037","[D2-AT] Y - St. Peter (- Altheim - Simbach) 234/230","10T-AT-DE-000045",0,0,-0.86043000000000003,0.13793,0.47076000000000001,0.13793,0,7344,{"$f":"IF((G772*ALBE+H772*ALDE+I772*AT+J772*BE+K772*DE+L772*FR+M772*NL)>(N772),1,0)","v":0},null,{"$f":"IF((C$6*G772+D$6*H772+E$6*I772+F$6*J772+G$6*K772+H$6*L772+I$6*M772)>(N772),1,0)","v":0}]
[null,1134,"[D2-AT] Pleinting - St. Peter 258 [DIR] [AT]_LTA_corner#11_#14","10T-AT-DE-000037","[D2-D2] Pirach - Pleinting 257","11TD2L000000201H",0,0,-0.997,0,-7.7420000000000003E-2,0,0,4644,{"$f":"IF((G773*ALBE+H773*ALDE+I773*AT+J773*BE+K773*DE+L773*FR+M773*NL)>(N773),1,0)","v":0},null,{"$f":"IF((C$6*G773+D$6*H773+E$6*I773+F$6*J773+G$6*K773+H$6*L773+I$6*M773)>(N773),1,0)","v":0}]
[null,1135,"[D7-FR] Ensdorf - Vigy 2S [OPP] [D7]","10T-DE-FR-000068","[D7-FR] Ensdorf - Vigy 1N","10T-DE-FR-00005A",6.5540000000000001E-2,-6.2530000000000002E-2,2.0580000000000001E-2,8.1570000000000004E-2,-1.823E-2,0.18115000000000001,1.214E-2,784,{"$f":"IF((G774*ALBE+H774*ALDE+I774*AT+J774*BE+K774*DE+L774*FR+M774*NL)>(N774),1,0)","v":0},null,{"$f":"IF((C$6*G774+D$6*H774+E$6*I774+F$6*J774+G$6*K774+H$6*L774+I$6*M774)>(N774),1,0)","v":0}]
[null,1136,"[D2-AT] Pleinting - St. Peter 258 [DIR] [AT]_LTA_corner#03_#2","10T-AT-DE-000037","[D2-D2] Pirach - Pleinting 257","11TD2L000000201H",0,0,-0.99907000000000001,3.057E-2,0,3.057E-2,0,4877,{"$f":"IF((G775*ALBE+H775*ALDE+I775*AT+J775*BE+K775*DE+L775*FR+M775*NL)>(N775),1,0)","v":0},null,{"$f":"IF((C$6*G775+D$6*H775+E$6*I775+F$6*J775+G$6*K775+H$6*L775+I$6*M775)>(N775),1,0)","v":0}]
[null,1137,"[D2-AT] Pleinting - St. Peter 258 [DIR] [AT]_LTA_corner#04_#4","10T-AT-DE-000037","[D2-D2] Pirach - Pleinting 257","11TD2L000000201H",0,0,-0.99177000000000004,-3.8500000000000001E-3,8.3999999999999995E-3,-0.12772,0,5044,{"$f":"IF((G776*ALBE+H776*ALDE+I776*AT+J776*BE+K776*DE+L776*FR+M776*NL)>(N776),1,0)","v":0},null,{"$f":"IF((C$6*G776+D$6*H776+E$6*I776+F$6*J776+G$6*K776+H$6*L776+I$6*M776)>(N776),1,0)","v":0}]
[null,1138,"[D2-AT] Pleinting - St. Peter 258 [DIR] [D2]_LTA_corner#05_#2","10T-AT-DE-000037","[D2-AT] Y - St. Peter (- Altheim - Simbach) 234/230","10T-AT-DE-000045",0,0,0.56996000000000002,0.26579000000000003,0.65703999999999996,0.41569,0,1791,{"$f":"IF((G777*ALBE+H777*ALDE+I777*AT+J777*BE+K777*DE+L777*FR+M777*NL)>(N777),1,0)","v":0},null,{"$f":"IF((C$6*G777+D$6*H777+E$6*I777+F$6*J777+G$6*K777+H$6*L777+I$6*M777)>(N777),1,0)","v":0}]
[null,1139,"[D2-AT] Pleinting - St. Peter 258 [DIR] [AT]_LTA_corner#14_#8","10T-AT-DE-000037","[D2-D2] Pirach - Pleinting 257","11TD2L000000201H",0,0,-0.99653999999999998,0,-7.6670000000000002E-2,3.1949999999999999E-2,0,4740,{"$f":"IF((G778*ALBE+H778*ALDE+I778*AT+J778*BE+K778*DE+L778*FR+M778*NL)>(N778),1,0)","v":0},null,{"$f":"IF((C$6*G778+D$6*H778+E$6*I778+F$6*J778+G$6*K778+H$6*L778+I$6*M778)>(N778),1,0)","v":0}]
[null,1140,"[D2-AT] Pleinting - St. Peter 258 [DIR] [D2]_LTA_corner#02_#0","10T-AT-DE-000037","[D2-AT] Y - St. Peter (- Altheim - Simbach) 234/230","10T-AT-DE-000045",0,0,-0.99926000000000004,0,-1.694E-2,-3.449E-2,0,4797,{"$f":"IF((G779*ALBE+H779*ALDE+I779*AT+J779*BE+K779*DE+L779*FR+M779*NL)>(N779),1,0)","v":0},null,{"$f":"IF((C$6*G779+D$6*H779+E$6*I779+F$6*J779+G$6*K779+H$6*L779+I$6*M779)>(N779),1,0)","v":0}]
[null,1141,"[BE-BE] PST_ZANDV_2 [N - S]_LTA_corner#13_#18","22T20161020---56","[NL-BE] Rilland - Zandvliet 380 White/30","10T-BE-NL-00004C",0,0,-0.35361999999999999,-0.72101999999999999,-0.31323000000000001,-0.50692999999999999,0,1724,{"$f":"IF((G780*ALBE+H780*ALDE+I780*AT+J780*BE+K780*DE+L780*FR+M780*NL)>(N780),1,0)","v":0},null,{"$f":"IF((C$6*G780+D$6*H780+E$6*I780+F$6*J780+G$6*K780+H$6*L780+I$6*M780)>(N780),1,0)","v":0}]
[null,1142,"[BE-FR] Achene - Lonny 380.19 [DIR] [BE]_LTA_corner#02_#20","10T-BE-FR-000015","[BE-BE] Avelgem - Horta 380.102","22T20161020---1E",0,0,-0.50302999999999998,0,-0.38300000000000001,-0.77478000000000002,0,1959,{"$f":"IF((G781*ALBE+H781*ALDE+I781*AT+J781*BE+K781*DE+L781*FR+M781*NL)>(N781),1,0)","v":0},null,{"$f":"IF((C$6*G781+D$6*H781+E$6*I781+F$6*J781+G$6*K781+H$6*L781+I$6*M781)>(N781),1,0)","v":0}]
[null,1143,"[D2-AT] Pleinting - St. Peter 258 [DIR] [AT]_LTA_corner#01_#3","10T-AT-DE-000037","[D2-D2] Pirach - Pleinting 257","11TD2L000000201H",0,0,-0.99168999999999996,0,0.12544,-2.844E-2,0,5692,{"$f":"IF((G782*ALBE+H782*ALDE+I782*AT+J782*BE+K782*DE+L782*FR+M782*NL)>(N782),1,0)","v":0},null,{"$f":"IF((C$6*G782+D$6*H782+E$6*I782+F$6*J782+G$6*K782+H$6*L782+I$6*M782)>(N782),1,0)","v":0}]
[null,1144,"[AT-AT] Westtirol Transformer WTRHU41 [OPP]_LTA_corner#17_#11","14T-38220-WT041O","BASECASE","N/A",0,0,0.98831999999999998,0,0.13094,-7.7969999999999998E-2,0,4529,{"$f":"IF((G783*ALBE+H783*ALDE+I783*AT+J783*BE+K783*DE+L783*FR+M783*NL)>(N783),1,0)","v":0},null,{"$f":"IF((C$6*G783+D$6*H783+E$6*I783+F$6*J783+G$6*K783+H$6*L783+I$6*M783)>(N783),1,0)","v":0}]
[null,1145,"[D2-AT] Pleinting - St. Peter 258 [DIR] [AT]_LTA_corner#12_#10","10T-AT-DE-000037","[D2-D2] Pirach - Pleinting 257","11TD2L000000201H",0,0,-0.99768999999999997,-2.32E-3,0,6.7909999999999998E-2,0,5023,{"$f":"IF((G784*ALBE+H784*ALDE+I784*AT+J784*BE+K784*DE+L784*FR+M784*NL)>(N784),1,0)","v":0},null,{"$f":"IF((C$6*G784+D$6*H784+E$6*I784+F$6*J784+G$6*K784+H$6*L784+I$6*M784)>(N784),1,0)","v":0}]
[null,1146,"[D2-AT] Pleinting - St. Peter 258 [DIR] [D2]_LTA_corner#01_#4","10T-AT-DE-000037","[D2-AT] Y - St. Peter (- Altheim - Simbach) 234/230","10T-AT-DE-000045",0,0,-0.99988999999999995,0,1.491E-2,0,0,4923,{"$f":"IF((G785*ALBE+H785*ALDE+I785*AT+J785*BE+K785*DE+L785*FR+M785*NL)>(N785),1,0)","v":0},null,{"$f":"IF((C$6*G785+D$6*H785+E$6*I785+F$6*J785+G$6*K785+H$6*L785+I$6*M785)>(N785),1,0)","v":0}]
[null,1147,"[D2-AT] Pleinting - St. Peter 258 [DIR] [AT]_LTA_corner#05_#1","10T-AT-DE-000037","[D2-D2] Pirach - Pleinting 257","11TD2L000000201H",0,0,-0.99851999999999996,0,3.841E-2,3.841E-2,0,5106,{"$f":"IF((G786*ALBE+H786*ALDE+I786*AT+J786*BE+K786*DE+L786*FR+M786*NL)>(N786),1,0)","v":0},null,{"$f":"IF((C$6*G786+D$6*H786+E$6*I786+F$6*J786+G$6*K786+H$6*L786+I$6*M786)>(N786),1,0)","v":0}]
[null,1148,"[D2-NL] Diele - Meeden 380 Black [DIR] [NL]_LTA_corner#05_#1","10T-DE-NL-00001V","[D2-NL] Diele - Meeden 380 White","10T-DE-NL-00002T",0,0,0.55957999999999997,0.26223000000000002,0.66344999999999998,0.42181999999999997,0,1894,{"$f":"IF((G787*ALBE+H787*ALDE+I787*AT+J787*BE+K787*DE+L787*FR+M787*NL)>(N787),1,0)","v":0},null,{"$f":"IF((C$6*G787+D$6*H787+E$6*I787+F$6*J787+G$6*K787+H$6*L787+I$6*M787)>(N787),1,0)","v":0}]
[null,1149,"[D2-AT] Pleinting - St. Peter 258 [DIR] [AT]_LTA_corner#01_#11","10T-AT-DE-000037","[D2-D2] Pirach - Pleinting 257","11TD2L000000201H",0,0,-0.99609000000000003,8.3540000000000003E-2,0,-2.8559999999999999E-2,0,4950,{"$f":"IF((G788*ALBE+H788*ALDE+I788*AT+J788*BE+K788*DE+L788*FR+M788*NL)>(N788),1,0)","v":0},null,{"$f":"IF((C$6*G788+D$6*H788+E$6*I788+F$6*J788+G$6*K788+H$6*L788+I$6*M788)>(N788),1,0)","v":0}]
[null,1150,"[D2-AT] Pleinting - St. Peter 258 [DIR] [D2]_LTA_corner#09_#21","10T-AT-DE-000037","[D2-AT] Y - St. Peter (- Altheim - Simbach) 234/230","10T-AT-DE-000045",0,0,-0.97372000000000003,-8.6760000000000004E-2,-0.1489,-0.1489,0,4283,{"$f":"IF((G789*ALBE+H789*ALDE+I789*AT+J789*BE+K789*DE+L789*FR+M789*NL)>(N789),1,0)","v":0},null,{"$f":"IF((C$6*G789+D$6*H789+E$6*I789+F$6*J789+G$6*K789+H$6*L789+I$6*M789)>(N789),1,0)","v":0}]
[null,1151,"[D2-AT] Y - St. Peter (- Altheim - Simbach) 234/230 [OPP] [D2]_LTA_corner#30_#10","10T-AT-DE-000045","[D2-AT] Pirach - St. Peter 256","10T-AT-DE-000029",0,0,0.99787000000000003,0,-2.811E-2,5.8900000000000001E-2,0,5200,{"$f":"IF((G790*ALBE+H790*ALDE+I790*AT+J790*BE+K790*DE+L790*FR+M790*NL)>(N790),1,0)","v":0},null,{"$f":"IF((C$6*G790+D$6*H790+E$6*I790+F$6*J790+G$6*K790+H$6*L790+I$6*M790)>(N790),1,0)","v":0}]
[null,1152,"[BE-FR] Achene - Lonny 380.19 [DIR] [BE]_LTA_corner#09_#2","10T-BE-FR-000015","[BE-BE] Avelgem - Horta 380.102","22T20161020---1E",0,0,-0.42448999999999998,-0.59003000000000005,-0.35148000000000001,-0.59003000000000005,0,1516,{"$f":"IF((G791*ALBE+H791*ALDE+I791*AT+J791*BE+K791*DE+L791*FR+M791*NL)>(N791),1,0)","v":0},null,{"$f":"IF((C$6*G791+D$6*H791+E$6*I791+F$6*J791+G$6*K791+H$6*L791+I$6*M791)>(N791),1,0)","v":0}]
[null,1153,"ALDE_import","N/A","BASECASE","N/A",0,-1,0,0,0,0,0,0,{"$f":"IF((G792*ALBE+H792*ALDE+I792*AT+J792*BE+K792*DE+L792*FR+M792*NL)>(N792),1,0)","v":0},null,{"$f":"IF((C$6*G792+D$6*H792+E$6*I792+F$6*J792+G$6*K792+H$6*L792+I$6*M792)>(N792),1,0)","v":0}]
[null,1154,"[D2-AT] Pleinting - St. Peter 258 [DIR] [AT]_LTA_corner#04_#0","10T-AT-DE-000037","[D2-D2] Pirach - Pleinting 257","11TD2L000000201H",0,0,-0.99312999999999996,-3.8500000000000001E-3,0,-0.11697,0,4976,{"$f":"IF((G793*ALBE+H793*ALDE+I793*AT+J793*BE+K793*DE+L793*FR+M793*NL)>(N793),1,0)","v":0},null,{"$f":"IF((C$6*G793+D$6*H793+E$6*I793+F$6*J793+G$6*K793+H$6*L793+I$6*M793)>(N793),1,0)","v":0}]
[null,1155,"[AT-AT] Westtirol Transformer WTRHU41 [OPP]_LTA_corner#17_#7","14T-38220-WT041O","BASECASE","N/A",0,0,0.99077999999999999,0,0.11845,-6.5710000000000005E-2,0,4555,{"$f":"IF((G794*ALBE+H794*ALDE+I794*AT+J794*BE+K794*DE+L794*FR+M794*NL)>(N794),1,0)","v":0},null,{"$f":"IF((C$6*G794+D$6*H794+E$6*I794+F$6*J794+G$6*K794+H$6*L794+I$6*M794)>(N794),1,0)","v":0}]
[null,1156,"[D2-AT] Pleinting - St. Peter 258 [DIR] [AT]_LTA_corner#06_#8","10T-AT-DE-000037","[D2-D2] Pirach - Pleinting 257","11TD2L000000201H",0,0,-0.99778999999999995,-6.5369999999999998E-2,8.4499999999999992E-3,8.4499999999999992E-3,0,5035,{"$f":"IF((G795*ALBE+H795*ALDE+I795*AT+J795*BE+K795*DE+L795*FR+M795*NL)>(N795),1,0)","v":0},null,{"$f":"IF((C$6*G795+D$6*H795+E$6*I795+F$6*J795+G$6*K795+H$6*L795+I$6*M795)>(N795),1,0)","v":0}]
[null,1157,"[D2-AT] Pleinting - St. Peter 258 [DIR] [AT]_LTA_corner#04_#17","10T-AT-DE-000037","[D2-D2] Pirach - Pleinting 257","11TD2L000000201H",0,0,-0.99578999999999995,-6.4509999999999998E-2,8.43E-3,-6.4509999999999998E-2,0,4972,{"$f":"IF((G796*ALBE+H796*ALDE+I796*AT+J796*BE+K796*DE+L796*FR+M796*NL)>(N796),1,0)","v":0},null,{"$f":"IF((C$6*G796+D$6*H796+E$6*I796+F$6*J796+G$6*K796+H$6*L796+I$6*M796)>(N796),1,0)","v":0}]
[null,1158,"[D2-AT] Pleinting - St. Peter 258 [DIR] [D2]_LTA_corner#04_#4","10T-AT-DE-000037","[D2-AT] Y - St. Peter (- Altheim - Simbach) 234/230","10T-AT-DE-000045",0,0,-0.99992999999999999,-5.7000000000000002E-3,0,-1.059E-2,0,4838,{"$f":"IF((G797*ALBE+H797*ALDE+I797*AT+J797*BE+K797*DE+L797*FR+M797*NL)>(N797),1,0)","v":0},null,{"$f":"IF((C$6*G797+D$6*H797+E$6*I797+F$6*J797+G$6*K797+H$6*L797+I$6*M797)>(N797),1,0)","v":0}]
[null,1159,"[D2-AT] Pleinting - St. Peter 258 [DIR] [AT]_LTA_corner#01_#21","10T-AT-DE-000037","[D2-D2] Pirach - Pleinting 257","11TD2L000000201H",0,0,-0.99809999999999999,6.157E-2,0,0,0,4887,{"$f":"IF((G798*ALBE+H798*ALDE+I798*AT+J798*BE+K798*DE+L798*FR+M798*NL)>(N798),1,0)","v":0},null,{"$f":"IF((C$6*G798+D$6*H798+E$6*I798+F$6*J798+G$6*K798+H$6*L798+I$6*M798)>(N798),1,0)","v":0}]
[null,1160,"[D2-AT] Pleinting - St. Peter 258 [DIR] [D2]_LTA_corner#01_#16","10T-AT-DE-000037","[D2-AT] Y - St. Peter (- Altheim - Simbach) 234/230","10T-AT-DE-000045",0,0,-0.99987000000000004,0,0,-1.6029999999999999E-2,0,4846,{"$f":"IF((G799*ALBE+H799*ALDE+I799*AT+J799*BE+K799*DE+L799*FR+M799*NL)>(N799),1,0)","v":0},null,{"$f":"IF((C$6*G799+D$6*H799+E$6*I799+F$6*J799+G$6*K799+H$6*L799+I$6*M799)>(N799),1,0)","v":0}]
[null,1161,"[BE-FR] Achene - Lonny 380.19 [OPP] [BE]","10T-BE-FR-000015","[BE-BE] Avelgem - Horta 380.102","22T20161020---1E",-0.31113000000000002,-6.8040000000000003E-2,2.0789999999999999E-2,-0.30715999999999999,-3.5060000000000001E-2,0.14832999999999999,-0.16519,2193,{"$f":"IF((G800*ALBE+H800*ALDE+I800*AT+J800*BE+K800*DE+L800*FR+M800*NL)>(N800),1,0)","v":0},null,{"$f":"IF((C$6*G800+D$6*H800+E$6*I800+F$6*J800+G$6*K800+H$6*L800+I$6*M800)>(N800),1,0)","v":0}]
[null,1162,"[D2-AT] Pleinting - St. Peter 258 [DIR] [D2]_LTA_corner#02_#2","10T-AT-DE-000037","[D2-AT] Y - St. Peter (- Altheim - Simbach) 234/230","10T-AT-DE-000045",0,0,-0.99665999999999999,0,-1.738E-2,-7.9839999999999994E-2,0,4855,{"$f":"IF((G801*ALBE+H801*ALDE+I801*AT+J801*BE+K801*DE+L801*FR+M801*NL)>(N801),1,0)","v":0},null,{"$f":"IF((C$6*G801+D$6*H801+E$6*I801+F$6*J801+G$6*K801+H$6*L801+I$6*M801)>(N801),1,0)","v":0}]
[null,1163,"[D2-AT] Pleinting - St. Peter 258 [DIR] [AT]_LTA_corner#04_#1","10T-AT-DE-000037","[D2-D2] Pirach - Pleinting 257","11TD2L000000201H",0,0,-0.99104999999999999,-3.8400000000000001E-3,0.13038,-2.8420000000000001E-2,0,5723,{"$f":"IF((G802*ALBE+H802*ALDE+I802*AT+J802*BE+K802*DE+L802*FR+M802*NL)>(N802),1,0)","v":0},null,{"$f":"IF((C$6*G802+D$6*H802+E$6*I802+F$6*J802+G$6*K802+H$6*L802+I$6*M802)>(N802),1,0)","v":0}]
[null,1164,"[BE-BE] PST_ZANDV_2 [N - S]_LTA_corner#13_#15","22T20161020---56","[NL-BE] Rilland - Zandvliet 380 White/30","10T-BE-NL-00004C",0,0,-0.32144,-0.79629000000000005,-0.27496999999999999,-0.43242000000000003,0,1976,{"$f":"IF((G803*ALBE+H803*ALDE+I803*AT+J803*BE+K803*DE+L803*FR+M803*NL)>(N803),1,0)","v":0},null,{"$f":"IF((C$6*G803+D$6*H803+E$6*I803+F$6*J803+G$6*K803+H$6*L803+I$6*M803)>(N803),1,0)","v":0}]
[null,1165,"[BE-FR] Achene - Lonny 380.19 [DIR] [BE]_LTA_corner#02_#1","10T-BE-FR-000015","[BE-BE] Avelgem - Horta 380.102","22T20161020---1E",0,0,-0.45562000000000002,0.3478,-0.28548000000000001,-0.76807999999999998,0,2578,{"$f":"IF((G804*ALBE+H804*ALDE+I804*AT+J804*BE+K804*DE+L804*FR+M804*NL)>(N804),1,0)","v":0},null,{"$f":"IF((C$6*G804+D$6*H804+E$6*I804+F$6*J804+G$6*K804+H$6*L804+I$6*M804)>(N804),1,0)","v":0}]
[null,1166,"[D2-NL] Diele - Meeden 380 Black [DIR] [NL]_LTA_corner#05_#11","10T-DE-NL-00001V","[D2-NL] Diele - Meeden 380 White","10T-DE-NL-00002T",0,0,0.55979999999999996,0.25640000000000002,0.66725000000000001,0.41910999999999998,0,1923,{"$f":"IF((G805*ALBE+H805*ALDE+I805*AT+J805*BE+K805*DE+L805*FR+M805*NL)>(N805),1,0)","v":0},null,{"$f":"IF((C$6*G805+D$6*H805+E$6*I805+F$6*J805+G$6*K805+H$6*L805+I$6*M805)>(N805),1,0)","v":0}]
[null,1167,"[D2-AT] Pleinting - St. Peter 258 [DIR] [D2]_LTA_corner#09_#20","10T-AT-DE-000037","[D2-AT] Y - St. Peter (- Altheim - Simbach) 234/230","10T-AT-DE-000045",0,0,-0.97901000000000005,-7.442E-2,-0.13417999999999999,-0.13417999999999999,0,4348,{"$f":"IF((G806*ALBE+H806*ALDE+I806*AT+J806*BE+K806*DE+L806*FR+M806*NL)>(N806),1,0)","v":0},null,{"$f":"IF((C$6*G806+D$6*H806+E$6*I806+F$6*J806+G$6*K806+H$6*L806+I$6*M806)>(N806),1,0)","v":0}]
[null,1168,"[D2-AT] Y - St. Peter (- Altheim - Simbach) 234/230 [OPP] [D2]_LTA_corner#21_#1","10T-AT-DE-000045","[D2-AT] Pirach - St. Peter 256","10T-AT-DE-000029",0,0,0.97860999999999998,7.4389999999999998E-2,0.13564000000000001,0.13564000000000001,0,4359,{"$f":"IF((G807*ALBE+H807*ALDE+I807*AT+J807*BE+K807*DE+L807*FR+M807*NL)>(N807),1,0)","v":0},null,{"$f":"IF((C$6*G807+D$6*H807+E$6*I807+F$6*J807+G$6*K807+H$6*L807+I$6*M807)>(N807),1,0)","v":0}]
[null,1169,"[BE-BE] PST_ZANDV_2 [N - S]_LTA_corner#13_#5","22T20161020---56","[NL-BE] Rilland - Zandvliet 380 White/30","10T-BE-NL-00004C",0,0,-0.3165,-0.79146000000000005,-0.25780999999999998,-0.45491999999999999,0,2001,{"$f":"IF((G808*ALBE+H808*ALDE+I808*AT+J808*BE+K808*DE+L808*FR+M808*NL)>(N808),1,0)","v":0},null,{"$f":"IF((C$6*G808+D$6*H808+E$6*I808+F$6*J808+G$6*K808+H$6*L808+I$6*M808)>(N808),1,0)","v":0}]
[null,1170,"ALBE_import","N/A","BASECASE","N/A",-1,0,0,0,0,0,0,0,{"$f":"IF((G809*ALBE+H809*ALDE+I809*AT+J809*BE+K809*DE+L809*FR+M809*NL)>(N809),1,0)","v":0},null,{"$f":"IF((C$6*G809+D$6*H809+E$6*I809+F$6*J809+G$6*K809+H$6*L809+I$6*M809)>(N809),1,0)","v":0}]
[null,1171,"[BE-BE] PST_ZANDV_2 [N - S]_LTA_corner#13_#28","22T20161020---56","[NL-BE] Rilland - Zandvliet 380 White/30","10T-BE-NL-00004C",0,0,-0.32401999999999997,-0.77095999999999998,-0.25513999999999998,-0.48531000000000002,0,1977,{"$f":"IF((G810*ALBE+H810*ALDE+I810*AT+J810*BE+K810*DE+L810*FR+M810*NL)>(N810),1,0)","v":0},null,{"$f":"IF((C$6*G810+D$6*H810+E$6*I810+F$6*J810+G$6*K810+H$6*L810+I$6*M810)>(N810),1,0)","v":0}]
[null,1172,"[D2-AT] Pleinting - St. Peter 258 [DIR] [D2]_LTA_corner#04_#6","10T-AT-DE-000037","[D2-AT] Y - St. Peter (- Altheim - Simbach) 234/230","10T-AT-DE-000045",0,0,-0.99080999999999997,-4.3630000000000002E-2,0,-0.128,0,4988,{"$f":"IF((G811*ALBE+H811*ALDE+I811*AT+J811*BE+K811*DE+L811*FR+M811*NL)>(N811),1,0)","v":0},null,{"$f":"IF((C$6*G811+D$6*H811+E$6*I811+F$6*J811+G$6*K811+H$6*L811+I$6*M811)>(N811),1,0)","v":0}]
[null,1173,"[AT-AT] Westtirol Transformer WTRHU41 [OPP]_LTA_corner#20_#14","14T-38220-WT041O","BASECASE","N/A",0,0,0.99026999999999998,-2.0029999999999999E-2,0.13120000000000001,-4.1790000000000001E-2,0,4483,{"$f":"IF((G812*ALBE+H812*ALDE+I812*AT+J812*BE+K812*DE+L812*FR+M812*NL)>(N812),1,0)","v":0},null,{"$f":"IF((C$6*G812+D$6*H812+E$6*I812+F$6*J812+G$6*K812+H$6*L812+I$6*M812)>(N812),1,0)","v":0}]
[null,1174,"[D2-AT] Pleinting - St. Peter 258 [DIR] [AT]_LTA_corner#02_#8","10T-AT-DE-000037","[D2-D2] Pirach - Pleinting 257","11TD2L000000201H",0,0,-0.99736999999999998,0,-5.1229999999999998E-2,-5.1229999999999998E-2,0,4662,{"$f":"IF((G813*ALBE+H813*ALDE+I813*AT+J813*BE+K813*DE+L813*FR+M813*NL)>(N813),1,0)","v":0},null,{"$f":"IF((C$6*G813+D$6*H813+E$6*I813+F$6*J813+G$6*K813+H$6*L813+I$6*M813)>(N813),1,0)","v":0}]
[null,1175,"[BE-FR] Achene - Lonny 380.19 [DIR] [BE]_LTA_corner#09_#4","10T-BE-FR-000015","[BE-BE] Avelgem - Horta 380.102","22T20161020---1E",0,0,-0.41193000000000002,-0.60063,-0.32984000000000002,-0.60063,0,1570,{"$f":"IF((G814*ALBE+H814*ALDE+I814*AT+J814*BE+K814*DE+L814*FR+M814*NL)>(N814),1,0)","v":0},null,{"$f":"IF((C$6*G814+D$6*H814+E$6*I814+F$6*J814+G$6*K814+H$6*L814+I$6*M814)>(N814),1,0)","v":0}]
[null,1176,"[NL-D7] Maasbracht - Siersdorf 380 black [DIR] [D7]","10T-DE-NL-00006L","[BE-BE] Avelgem - Horta 380.102","22T20161020---1E",0.32485999999999998,-0.157,-2.2100000000000002E-3,0.31222,1.362E-2,3.9129999999999998E-2,0.28265000000000001,924,{"$f":"IF((G815*ALBE+H815*ALDE+I815*AT+J815*BE+K815*DE+L815*FR+M815*NL)>(N815),1,0)","v":0},null,{"$f":"IF((C$6*G815+D$6*H815+E$6*I815+F$6*J815+G$6*K815+H$6*L815+I$6*M815)>(N815),1,0)","v":0}]
[null,1177,"[BE-BE] PST_VANYK_2 [S - N]","22T-BE-PST--002U","[BE-FR] Achene - Lonny 380.19","10T-BE-FR-000015",0.57365999999999995,-2.5100000000000001E-2,5.4999999999999997E-3,0.32024999999999998,-8.9300000000000004E-3,4.5900000000000003E-2,1.2149999999999999E-2,844,{"$f":"IF((G816*ALBE+H816*ALDE+I816*AT+J816*BE+K816*DE+L816*FR+M816*NL)>(N816),1,0)","v":0},null,{"$f":"IF((C$6*G816+D$6*H816+E$6*I816+F$6*J816+G$6*K816+H$6*L816+I$6*M816)>(N816),1,0)","v":0}]
[null,1178,"[D2-AT] Pleinting - St. Peter 258 [DIR] [D2]_LTA_corner#01_#21","10T-AT-DE-000037","[D2-AT] Y - St. Peter (- Altheim - Simbach) 234/230","10T-AT-DE-000045",0,0,-0.86645000000000005,0.15149000000000001,0.45096000000000003,0.15149000000000001,0,7231,{"$f":"IF((G817*ALBE+H817*ALDE+I817*AT+J817*BE+K817*DE+L817*FR+M817*NL)>(N817),1,0)","v":0},null,{"$f":"IF((C$6*G817+D$6*H817+E$6*I817+F$6*J817+G$6*K817+H$6*L817+I$6*M817)>(N817),1,0)","v":0}]
[null,1179,"[D2-AT] Pleinting - St. Peter 258 [DIR] [AT]_LTA_corner#03_#4","10T-AT-DE-000037","[D2-D2] Pirach - Pleinting 257","11TD2L000000201H",0,0,-0.999,3.099E-2,8.4600000000000005E-3,3.099E-2,0,4916,{"$f":"IF((G818*ALBE+H818*ALDE+I818*AT+J818*BE+K818*DE+L818*FR+M818*NL)>(N818),1,0)","v":0},null,{"$f":"IF((C$6*G818+D$6*H818+E$6*I818+F$6*J818+G$6*K818+H$6*L818+I$6*M818)>(N818),1,0)","v":0}]
[null,1180,"[AT-AT] Westtirol Transformer WTRHU41 [OPP]_LTA_corner#20_#16","14T-38220-WT041O","BASECASE","N/A",0,0,0.99463000000000001,-7.2500000000000004E-3,0.10017,-2.4899999999999999E-2,0,4560,{"$f":"IF((G819*ALBE+H819*ALDE+I819*AT+J819*BE+K819*DE+L819*FR+M819*NL)>(N819),1,0)","v":0},null,{"$f":"IF((C$6*G819+D$6*H819+E$6*I819+F$6*J819+G$6*K819+H$6*L819+I$6*M819)>(N819),1,0)","v":0}]
[null,1181,"[BE-FR] Achene - Lonny 380.19 [DIR] [BE]_LTA_corner#02_#16","10T-BE-FR-000015","[BE-BE] Avelgem - Horta 380.102","22T20161020---1E",0,0,-0.38116,0.65266000000000002,-0.28631000000000001,-0.58889000000000002,0,2301,{"$f":"IF((G820*ALBE+H820*ALDE+I820*AT+J820*BE+K820*DE+L820*FR+M820*NL)>(N820),1,0)","v":0},null,{"$f":"IF((C$6*G820+D$6*H820+E$6*I820+F$6*J820+G$6*K820+H$6*L820+I$6*M820)>(N820),1,0)","v":0}]
[null,1182,"[D2-AT] Pleinting - St. Peter 258 [DIR] [D2]_LTA_corner#01_#2","10T-AT-DE-000037","[D2-AT] Y - St. Peter (- Altheim - Simbach) 234/230","10T-AT-DE-000045",0,0,-0.88514000000000004,0.16,0.40660000000000002,0.16,0,7012,{"$f":"IF((G821*ALBE+H821*ALDE+I821*AT+J821*BE+K821*DE+L821*FR+M821*NL)>(N821),1,0)","v":0},null,{"$f":"IF((C$6*G821+D$6*H821+E$6*I821+F$6*J821+G$6*K821+H$6*L821+I$6*M821)>(N821),1,0)","v":0}]
[null,1183,"[D2-AT] Pleinting - St. Peter 258 [DIR] [AT]_LTA_corner#01_#2","10T-AT-DE-000037","[D2-D2] Pirach - Pleinting 257","11TD2L000000201H",0,0,-0.99228000000000005,0,8.3999999999999995E-3,-0.12371,0,5040,{"$f":"IF((G822*ALBE+H822*ALDE+I822*AT+J822*BE+K822*DE+L822*FR+M822*NL)>(N822),1,0)","v":0},null,{"$f":"IF((C$6*G822+D$6*H822+E$6*I822+F$6*J822+G$6*K822+H$6*L822+I$6*M822)>(N822),1,0)","v":0}]
[null,1184,"[D2-AT] Pleinting - St. Peter 258 [DIR] [AT]_LTA_corner#01_#0","10T-AT-DE-000037","[D2-D2] Pirach - Pleinting 257","11TD2L000000201H",0,0,-0.99360000000000004,0,0,-0.11294,0,4971,{"$f":"IF((G823*ALBE+H823*ALDE+I823*AT+J823*BE+K823*DE+L823*FR+M823*NL)>(N823),1,0)","v":0},null,{"$f":"IF((C$6*G823+D$6*H823+E$6*I823+F$6*J823+G$6*K823+H$6*L823+I$6*M823)>(N823),1,0)","v":0}]
[null,1185,"[D2-AT] Pleinting - St. Peter 258 [DIR] [D2]_LTA_corner#04_#16","10T-AT-DE-000037","[D2-AT] Y - St. Peter (- Altheim - Simbach) 234/230","10T-AT-DE-000045",0,0,-0.99077999999999999,-3.8210000000000001E-2,0,-0.12994,0,4990,{"$f":"IF((G824*ALBE+H824*ALDE+I824*AT+J824*BE+K824*DE+L824*FR+M824*NL)>(N824),1,0)","v":0},null,{"$f":"IF((C$6*G824+D$6*H824+E$6*I824+F$6*J824+G$6*K824+H$6*L824+I$6*M824)>(N824),1,0)","v":0}]
[null,1186,"[D2-NL] Diele - Meeden 380 Black [DIR] [NL]_LTA_corner#05_#5","10T-DE-NL-00001V","[D2-NL] Diele - Meeden 380 White","10T-DE-NL-00002T",0,0,0.56052999999999997,0.25140000000000001,0.67198000000000002,0.41356999999999999,0,1954,{"$f":"IF((G825*ALBE+H825*ALDE+I825*AT+J825*BE+K825*DE+L825*FR+M825*NL)>(N825),1,0)","v":0},null,{"$f":"IF((C$6*G825+D$6*H825+E$6*I825+F$6*J825+G$6*K825+H$6*L825+I$6*M825)>(N825),1,0)","v":0}]
[null,1187,"[D2-AT] Pleinting - St. Peter 258 [DIR] [D2]_LTA_corner#09_#19","10T-AT-DE-000037","[D2-AT] Y - St. Peter (- Altheim - Simbach) 234/230","10T-AT-DE-000045",0,0,-0.97829999999999995,-8.3559999999999995E-2,-0.13408,-0.13408,0,4347,{"$f":"IF((G826*ALBE+H826*ALDE+I826*AT+J826*BE+K826*DE+L826*FR+M826*NL)>(N826),1,0)","v":0},null,{"$f":"IF((C$6*G826+D$6*H826+E$6*I826+F$6*J826+G$6*K826+H$6*L826+I$6*M826)>(N826),1,0)","v":0}]
[null,1188,"[D2-AT] Pleinting - St. Peter 258 [DIR] [AT]_LTA_corner#02_#4","10T-AT-DE-000037","[D2-D2] Pirach - Pleinting 257","11TD2L000000201H",0,0,-0.99714000000000003,7.3249999999999996E-2,-1.32E-2,-1.32E-2,0,4859,{"$f":"IF((G827*ALBE+H827*ALDE+I827*AT+J827*BE+K827*DE+L827*FR+M827*NL)>(N827),1,0)","v":0},null,{"$f":"IF((C$6*G827+D$6*H827+E$6*I827+F$6*J827+G$6*K827+H$6*L827+I$6*M827)>(N827),1,0)","v":0}]
[null,1189,"[D2-AT] Pleinting - St. Peter 258 [DIR] [AT]_LTA_corner#12_#11","10T-AT-DE-000037","[D2-D2] Pirach - Pleinting 257","11TD2L000000201H",0,0,-0.99770999999999999,-1.6000000000000001E-3,0,6.7650000000000002E-2,0,5020,{"$f":"IF((G828*ALBE+H828*ALDE+I828*AT+J828*BE+K828*DE+L828*FR+M828*NL)>(N828),1,0)","v":0},null,{"$f":"IF((C$6*G828+D$6*H828+E$6*I828+F$6*J828+G$6*K828+H$6*L828+I$6*M828)>(N828),1,0)","v":0}]
[null,1190,"[D2-AT] Pleinting - St. Peter 258 [DIR] [D2]_LTA_corner#05_#4","10T-AT-DE-000037","[D2-AT] Y - St. Peter (- Altheim - Simbach) 234/230","10T-AT-DE-000045",0,0,0.55635999999999997,0.26778000000000002,0.66261000000000003,0.42391000000000001,0,1899,{"$f":"IF((G829*ALBE+H829*ALDE+I829*AT+J829*BE+K829*DE+L829*FR+M829*NL)>(N829),1,0)","v":0},null,{"$f":"IF((C$6*G829+D$6*H829+E$6*I829+F$6*J829+G$6*K829+H$6*L829+I$6*M829)>(N829),1,0)","v":0}]
[null,1191,"[D2-AT] Y - St. Peter (- Altheim - Simbach) 234/230 [OPP] [D2]_LTA_corner#23_#4","10T-AT-DE-000045","[D2-AT] Pirach - St. Peter 256","10T-AT-DE-000029",0,0,0.99785999999999997,0,0,6.5350000000000005E-2,0,5008,{"$f":"IF((G830*ALBE+H830*ALDE+I830*AT+J830*BE+K830*DE+L830*FR+M830*NL)>(N830),1,0)","v":0},null,{"$f":"IF((C$6*G830+D$6*H830+E$6*I830+F$6*J830+G$6*K830+H$6*L830+I$6*M830)>(N830),1,0)","v":0}]
[null,1192,"[D2-AT] Pleinting - St. Peter 258 [DIR] [D2]_LTA_corner#05_#10","10T-AT-DE-000037","[D2-AT] Y - St. Peter (- Altheim - Simbach) 234/230","10T-AT-DE-000045",0,0,0.55942000000000003,0.26924999999999999,0.66164999999999996,0.42044999999999999,0,1873,{"$f":"IF((G831*ALBE+H831*ALDE+I831*AT+J831*BE+K831*DE+L831*FR+M831*NL)>(N831),1,0)","v":0},null,{"$f":"IF((C$6*G831+D$6*H831+E$6*I831+F$6*J831+G$6*K831+H$6*L831+I$6*M831)>(N831),1,0)","v":0}]
[null,1193,"[D2-AT] Pleinting - St. Peter 258 [DIR] [AT]_LTA_corner#11_#0","10T-AT-DE-000037","[D2-D2] Pirach - Pleinting 257","11TD2L000000201H",0,0,-0.99678999999999995,2.7289999999999998E-2,-7.0120000000000002E-2,2.7289999999999998E-2,0,4712,{"$f":"IF((G832*ALBE+H832*ALDE+I832*AT+J832*BE+K832*DE+L832*FR+M832*NL)>(N832),1,0)","v":0},null,{"$f":"IF((C$6*G832+D$6*H832+E$6*I832+F$6*J832+G$6*K832+H$6*L832+I$6*M832)>(N832),1,0)","v":0}]
[null,1194,"[BE-BE] PST_VANYK_2 [S - N]","22T-BE-PST--002U","[NL-BE] Rilland - Zandvliet 380 Grey/29","10T-BE-NL-00003E",0.47532999999999997,-4.4679999999999997E-2,1.154E-2,0.24714,-1.9230000000000001E-2,8.5610000000000006E-2,-4.002E-2,1013,{"$f":"IF((G833*ALBE+H833*ALDE+I833*AT+J833*BE+K833*DE+L833*FR+M833*NL)>(N833),1,0)","v":0},null,{"$f":"IF((C$6*G833+D$6*H833+E$6*I833+F$6*J833+G$6*K833+H$6*L833+I$6*M833)>(N833),1,0)","v":0}]
[null,1195,"[BE-FR] Achene - Lonny 380.19 [DIR] [BE]_LTA_corner#02_#6","10T-BE-FR-000015","[BE-BE] Avelgem - Horta 380.102","22T20161020---1E",0,0,-0.39530999999999999,0.53956000000000004,-0.26408999999999999,-0.69489000000000001,0,2499,{"$f":"IF((G834*ALBE+H834*ALDE+I834*AT+J834*BE+K834*DE+L834*FR+M834*NL)>(N834),1,0)","v":0},null,{"$f":"IF((C$6*G834+D$6*H834+E$6*I834+F$6*J834+G$6*K834+H$6*L834+I$6*M834)>(N834),1,0)","v":0}]
[null,1196,"[D2-NL] Diele - Meeden 380 Black [DIR] [NL]_LTA_corner#05_#3","10T-DE-NL-00001V","[D2-NL] Diele - Meeden 380 White","10T-DE-NL-00002T",0,0,0.55652000000000001,0.2772,0.65934999999999999,0.42274,0,1864,{"$f":"IF((G835*ALBE+H835*ALDE+I835*AT+J835*BE+K835*DE+L835*FR+M835*NL)>(N835),1,0)","v":0},null,{"$f":"IF((C$6*G835+D$6*H835+E$6*I835+F$6*J835+G$6*K835+H$6*L835+I$6*M835)>(N835),1,0)","v":0}]
[null,1197,"[D2-AT] Pleinting - St. Peter 258 [DIR] [AT]_LTA_corner#15_#0","10T-AT-DE-000037","[D2-D2] Pirach - Pleinting 257","11TD2L000000201H",0,0,-0.99665000000000004,-3.8600000000000001E-3,-7.6480000000000006E-2,-2.8580000000000001E-2,0,4623,{"$f":"IF((G836*ALBE+H836*ALDE+I836*AT+J836*BE+K836*DE+L836*FR+M836*NL)>(N836),1,0)","v":0},null,{"$f":"IF((C$6*G836+D$6*H836+E$6*I836+F$6*J836+G$6*K836+H$6*L836+I$6*M836)>(N836),1,0)","v":0}]
[null,1198,"[D2-AT] Pleinting - St. Peter 258 [DIR] [AT]_LTA_corner#02_#6","10T-AT-DE-000037","[D2-D2] Pirach - Pleinting 257","11TD2L000000201H",0,0,-0.99795999999999996,4.9439999999999998E-2,-2.861E-2,-2.861E-2,0,4790,{"$f":"IF((G837*ALBE+H837*ALDE+I837*AT+J837*BE+K837*DE+L837*FR+M837*NL)>(N837),1,0)","v":0},null,{"$f":"IF((C$6*G837+D$6*H837+E$6*I837+F$6*J837+G$6*K837+H$6*L837+I$6*M837)>(N837),1,0)","v":0}]
[null,1199,"[AT-AT] Westtirol Transformer WTRHU41 [OPP]_LTA_corner#20_#0","14T-38220-WT041O","BASECASE","N/A",0,0,0.98504999999999998,-1.993E-2,0.15669,-6.8690000000000001E-2,0,4431,{"$f":"IF((G838*ALBE+H838*ALDE+I838*AT+J838*BE+K838*DE+L838*FR+M838*NL)>(N838),1,0)","v":0},null,{"$f":"IF((C$6*G838+D$6*H838+E$6*I838+F$6*J838+G$6*K838+H$6*L838+I$6*M838)>(N838),1,0)","v":0}]
[null,1200,"[D2-AT] Y - St. Peter (- Altheim - Simbach) 234/230 [OPP] [D2]_LTA_corner#30_#0","10T-AT-DE-000045","[D2-AT] Pirach - St. Peter 256","10T-AT-DE-000029",0,0,0.99794000000000005,3.2419999999999997E-2,-4.4999999999999997E-3,5.5129999999999998E-2,0,4976,{"$f":"IF((G839*ALBE+H839*ALDE+I839*AT+J839*BE+K839*DE+L839*FR+M839*NL)>(N839),1,0)","v":0},null,{"$f":"IF((C$6*G839+D$6*H839+E$6*I839+F$6*J839+G$6*K839+H$6*L839+I$6*M839)>(N839),1,0)","v":0}]
[null,1201,"[AT-AT] Westtirol Transformer WTRHU41 [OPP]_LTA_corner#17_#1","14T-38220-WT041O","BASECASE","N/A",0,0,0.98792999999999997,0,0.13874,-6.8890000000000007E-2,0,4491,{"$f":"IF((G840*ALBE+H840*ALDE+I840*AT+J840*BE+K840*DE+L840*FR+M840*NL)>(N840),1,0)","v":0},null,{"$f":"IF((C$6*G840+D$6*H840+E$6*I840+F$6*J840+G$6*K840+H$6*L840+I$6*M840)>(N840),1,0)","v":0}]
["hour 9",485,"[AT-AT] Westtirol Transformer WTRHU41 [OPP]_LTA_corner#22_#4","14T-38220-WT041O","BASECASE","N/A",0,0,0.99041999999999997,-1.9949999999999999E-2,0.13639000000000001,-8.4700000000000001E-3,0,4442,{"$f":"IF((G841*ALBE+H841*ALDE+I841*AT+J841*BE+K841*DE+L841*FR+M841*NL)>(N841),1,0)","v":0},null,{"$f":"IF((C$6*G841+D$6*H841+E$6*I841+F$6*J841+G$6*K841+H$6*L841+I$6*M841)>(N841),1,0)","v":0}]
[null,486,"[D2-AT] Pleinting - St. Peter 258 [DIR] [AT]_LTA_corner#03_#4","10T-AT-DE-000037","[D2-D2] Pirach - Pleinting 257","11TD2L000000201H",0,0,-0.99856,3.7879999999999997E-2,0,3.7879999999999997E-2,0,4889,{"$f":"IF((G842*ALBE+H842*ALDE+I842*AT+J842*BE+K842*DE+L842*FR+M842*NL)>(N842),1,0)","v":0},null,{"$f":"IF((C$6*G842+D$6*H842+E$6*I842+F$6*J842+G$6*K842+H$6*L842+I$6*M842)>(N842),1,0)","v":0}]
[null,487,"ALBE_import","N/A","BASECASE","N/A",-1,0,0,0,0,0,0,0,{"$f":"IF((G843*ALBE+H843*ALDE+I843*AT+J843*BE+K843*DE+L843*FR+M843*NL)>(N843),1,0)","v":0},null,{"$f":"IF((C$6*G843+D$6*H843+E$6*I843+F$6*J843+G$6*K843+H$6*L843+I$6*M843)>(N843),1,0)","v":0}]
[null,488,"[D2-AT] Pleinting - St. Peter 258 [DIR] [D2]_LTA_corner#05_#6","10T-AT-DE-000037","[D2-AT] Y - St. Peter (- Altheim - Simbach) 234/230","10T-AT-DE-000045",0,0,0.55686000000000002,0.26624999999999999,0.66935999999999996,0.41349999999999998,0,1937,{"$f":"IF((G844*ALBE+H844*ALDE+I844*AT+J844*BE+K844*DE+L844*FR+M844*NL)>(N844),1,0)","v":0},null,{"$f":"IF((C$6*G844+D$6*H844+E$6*I844+F$6*J844+G$6*K844+H$6*L844+I$6*M844)>(N844),1,0)","v":0}]
[null,489,"[D2-AT] Pleinting - St. Peter 258 [DIR] [AT]_LTA_corner#03_#0","10T-AT-DE-000037","[D2-D2] Pirach - Pleinting 257","11TD2L000000201H",0,0,-0.99839,3.9710000000000002E-2,8.3899999999999999E-3,3.9710000000000002E-2,0,4930,{"$f":"IF((G845*ALBE+H845*ALDE+I845*AT+J845*BE+K845*DE+L845*FR+M845*NL)>(N845),1,0)","v":0},null,{"$f":"IF((C$6*G845+D$6*H845+E$6*I845+F$6*J845+G$6*K845+H$6*L845+I$6*M845)>(N845),1,0)","v":0}]
[null,490,"[AT-AT] Westtirol Transformer WTRHU41 [OPP]_LTA_corner#20_#1","14T-38220-WT041O","BASECASE","N/A",0,0,0.9788,-1.9709999999999998E-2,0.19203000000000001,-6.8489999999999995E-2,0,4304,{"$f":"IF((G846*ALBE+H846*ALDE+I846*AT+J846*BE+K846*DE+L846*FR+M846*NL)>(N846),1,0)","v":0},null,{"$f":"IF((C$6*G846+D$6*H846+E$6*I846+F$6*J846+G$6*K846+H$6*L846+I$6*M846)>(N846),1,0)","v":0}]
[null,491,"[AT-AT] Westtirol Transformer WTRHU41 [OPP]_LTA_corner#22_#0","14T-38220-WT041O","BASECASE","N/A",0,0,0.98477000000000003,-8.4180000000000005E-2,0.13561000000000001,-6.8909999999999999E-2,0,4532,{"$f":"IF((G847*ALBE+H847*ALDE+I847*AT+J847*BE+K847*DE+L847*FR+M847*NL)>(N847),1,0)","v":0},null,{"$f":"IF((C$6*G847+D$6*H847+E$6*I847+F$6*J847+G$6*K847+H$6*L847+I$6*M847)>(N847),1,0)","v":0}]
[null,492,"[BE-BE] Achene - Gramme 380.10 [OPP]_LTA_corner#09_#6","22T-BE-IN-LI0130","[BE-BE] Avelgem - Horta 380.102","22T20161020---1E",0,0,-0.41737999999999997,-0.59328999999999998,-0.34903000000000001,-0.59328999999999998,0,1498,{"$f":"IF((G848*ALBE+H848*ALDE+I848*AT+J848*BE+K848*DE+L848*FR+M848*NL)>(N848),1,0)","v":0},null,{"$f":"IF((C$6*G848+D$6*H848+E$6*I848+F$6*J848+G$6*K848+H$6*L848+I$6*M848)>(N848),1,0)","v":0}]
[null,493,"[D2-AT] Pleinting - St. Peter 258 [DIR] [AT]_LTA_corner#15_#0","10T-AT-DE-000037","[D2-D2] Pirach - Pleinting 257","11TD2L000000201H",0,0,-0.99522999999999995,-4.0299999999999997E-3,-9.2950000000000005E-2,-2.921E-2,0,4581,{"$f":"IF((G849*ALBE+H849*ALDE+I849*AT+J849*BE+K849*DE+L849*FR+M849*NL)>(N849),1,0)","v":0},null,{"$f":"IF((C$6*G849+D$6*H849+E$6*I849+F$6*J849+G$6*K849+H$6*L849+I$6*M849)>(N849),1,0)","v":0}]
[null,494,"[BE-BE] Achene - Gramme 380.10 [OPP]_LTA_corner#09_#1","22T-BE-IN-LI0130","[BE-BE] Avelgem - Horta 380.102","22T20161020---1E",0,0,-0.43281999999999998,-0.59155999999999997,-0.33584000000000003,-0.59155999999999997,0,1628,{"$f":"IF((G850*ALBE+H850*ALDE+I850*AT+J850*BE+K850*DE+L850*FR+M850*NL)>(N850),1,0)","v":0},null,{"$f":"IF((C$6*G850+D$6*H850+E$6*I850+F$6*J850+G$6*K850+H$6*L850+I$6*M850)>(N850),1,0)","v":0}]
[null,495,"[D2-AT] Pleinting - St. Peter 258 [DIR] [D2]_LTA_corner#05_#21","10T-AT-DE-000037","[D2-AT] Y - St. Peter (- Altheim - Simbach) 234/230","10T-AT-DE-000045",0,0,-0.99926999999999999,0,2.7029999999999998E-2,2.7029999999999998E-2,0,5023,{"$f":"IF((G851*ALBE+H851*ALDE+I851*AT+J851*BE+K851*DE+L851*FR+M851*NL)>(N851),1,0)","v":0},null,{"$f":"IF((C$6*G851+D$6*H851+E$6*I851+F$6*J851+G$6*K851+H$6*L851+I$6*M851)>(N851),1,0)","v":0}]
[null,496,"[D2-AT] Pleinting - St. Peter 258 [DIR] [AT]_LTA_corner#12_#1","10T-AT-DE-000037","[D2-D2] Pirach - Pleinting 257","11TD2L000000201H",0,0,-0.99589000000000005,-4.0299999999999997E-3,8.3599999999999994E-3,9.0139999999999998E-2,0,5124,{"$f":"IF((G852*ALBE+H852*ALDE+I852*AT+J852*BE+K852*DE+L852*FR+M852*NL)>(N852),1,0)","v":0},null,{"$f":"IF((C$6*G852+D$6*H852+E$6*I852+F$6*J852+G$6*K852+H$6*L852+I$6*M852)>(N852),1,0)","v":0}]
[null,497,"[D2-AT] Pleinting - St. Peter 258 [DIR] [D2]_LTA_corner#01_#19","10T-AT-DE-000037","[D2-AT] Y - St. Peter (- Altheim - Simbach) 234/230","10T-AT-DE-000045",0,0,-0.99834000000000001,4.172E-2,0,-3.9809999999999998E-2,0,4927,{"$f":"IF((G853*ALBE+H853*ALDE+I853*AT+J853*BE+K853*DE+L853*FR+M853*NL)>(N853),1,0)","v":0},null,{"$f":"IF((C$6*G853+D$6*H853+E$6*I853+F$6*J853+G$6*K853+H$6*L853+I$6*M853)>(N853),1,0)","v":0}]
[null,498,"[D2-AT] Pleinting - St. Peter 258 [DIR] [AT]_LTA_corner#01_#10","10T-AT-DE-000037","[D2-D2] Pirach - Pleinting 257","11TD2L000000201H",0,0,-0.99863000000000002,3.0169999999999999E-2,3.0169999999999999E-2,3.0169999999999999E-2,0,5011,{"$f":"IF((G854*ALBE+H854*ALDE+I854*AT+J854*BE+K854*DE+L854*FR+M854*NL)>(N854),1,0)","v":0},null,{"$f":"IF((C$6*G854+D$6*H854+E$6*I854+F$6*J854+G$6*K854+H$6*L854+I$6*M854)>(N854),1,0)","v":0}]
[null,499,"[D2-AT] Y - St. Peter (- Altheim - Simbach) 234/230 [OPP] [D2]_LTA_corner#23_#0","10T-AT-DE-000045","[D2-AT] Pirach - St. Peter 256","10T-AT-DE-000029",0,0,0.99797000000000002,1.6160000000000001E-2,0,6.1559999999999997E-2,0,4979,{"$f":"IF((G855*ALBE+H855*ALDE+I855*AT+J855*BE+K855*DE+L855*FR+M855*NL)>(N855),1,0)","v":0},null,{"$f":"IF((C$6*G855+D$6*H855+E$6*I855+F$6*J855+G$6*K855+H$6*L855+I$6*M855)>(N855),1,0)","v":0}]
[null,500,"[D2-AT] Pleinting - St. Peter 258 [DIR] [AT]_LTA_corner#01_#11","10T-AT-DE-000037","[D2-D2] Pirach - Pleinting 257","11TD2L000000201H",0,0,-0.99492000000000003,9.8610000000000003E-2,0,-2.0490000000000001E-2,0,4949,{"$f":"IF((G856*ALBE+H856*ALDE+I856*AT+J856*BE+K856*DE+L856*FR+M856*NL)>(N856),1,0)","v":0},null,{"$f":"IF((C$6*G856+D$6*H856+E$6*I856+F$6*J856+G$6*K856+H$6*L856+I$6*M856)>(N856),1,0)","v":0}]
[null,501,"[D2-AT] Pleinting - St. Peter 258 [DIR] [D2]_LTA_corner#01_#12","10T-AT-DE-000037","[D2-AT] Y - St. Peter (- Altheim - Simbach) 234/230","10T-AT-DE-000045",0,0,-0.98453000000000002,0,0.15412999999999999,-8.3299999999999999E-2,0,5943,{"$f":"IF((G857*ALBE+H857*ALDE+I857*AT+J857*BE+K857*DE+L857*FR+M857*NL)>(N857),1,0)","v":0},null,{"$f":"IF((C$6*G857+D$6*H857+E$6*I857+F$6*J857+G$6*K857+H$6*L857+I$6*M857)>(N857),1,0)","v":0}]
[null,502,"[AT-AT] Westtirol Transformer WTRHU41 [OPP]_LTA_corner#17_#8","14T-38220-WT041O","BASECASE","N/A",0,0,0.99024999999999996,0,0.13636999999999999,-2.8330000000000001E-2,0,4444,{"$f":"IF((G858*ALBE+H858*ALDE+I858*AT+J858*BE+K858*DE+L858*FR+M858*NL)>(N858),1,0)","v":0},null,{"$f":"IF((C$6*G858+D$6*H858+E$6*I858+F$6*J858+G$6*K858+H$6*L858+I$6*M858)>(N858),1,0)","v":0}]
[null,503,"[BE-BE] Achene - Gramme 380.10 [OPP]_LTA_corner#09_#10","22T-BE-IN-LI0130","[BE-BE] Avelgem - Horta 380.102","22T20161020---1E",0,0,-0.40905999999999998,-0.59879000000000004,-0.33994999999999997,-0.59879000000000004,0,1508,{"$f":"IF((G859*ALBE+H859*ALDE+I859*AT+J859*BE+K859*DE+L859*FR+M859*NL)>(N859),1,0)","v":0},null,{"$f":"IF((C$6*G859+D$6*H859+E$6*I859+F$6*J859+G$6*K859+H$6*L859+I$6*M859)>(N859),1,0)","v":0}]
[null,504,"[D2-AT] Y - St. Peter (- Altheim - Simbach) 234/230 [OPP] [D2]_LTA_corner#30_#10","10T-AT-DE-000045","[D2-AT] Pirach - St. Peter 256","10T-AT-DE-000029",0,0,0.99880000000000002,0,-3.082E-2,3.8170000000000003E-2,0,5162,{"$f":"IF((G860*ALBE+H860*ALDE+I860*AT+J860*BE+K860*DE+L860*FR+M860*NL)>(N860),1,0)","v":0},null,{"$f":"IF((C$6*G860+D$6*H860+E$6*I860+F$6*J860+G$6*K860+H$6*L860+I$6*M860)>(N860),1,0)","v":0}]
[null,505,"[BE-BE] Achene - Gramme 380.10 [OPP]_LTA_corner#02_#14","22T-BE-IN-LI0130","[BE-BE] Avelgem - Horta 380.102","22T20161020---1E",0,0,-0.42409000000000002,0.35037000000000001,-0.31562000000000001,-0.77315999999999996,0,2303,{"$f":"IF((G861*ALBE+H861*ALDE+I861*AT+J861*BE+K861*DE+L861*FR+M861*NL)>(N861),1,0)","v":0},null,{"$f":"IF((C$6*G861+D$6*H861+E$6*I861+F$6*J861+G$6*K861+H$6*L861+I$6*M861)>(N861),1,0)","v":0}]
[null,506,"[D7-FR] Ensdorf - Vigy 2S [OPP] [D7]_LTA_corner#30_#2","10T-DE-FR-000068","[D7-D7] Ensdorf - Uchtelfangen Taubental N","11T0-0000-0604-N",0,0,7.9060000000000005E-2,0.37811,-0.12853999999999999,0.91337999999999997,0,3726,{"$f":"IF((G862*ALBE+H862*ALDE+I862*AT+J862*BE+K862*DE+L862*FR+M862*NL)>(N862),1,0)","v":0},null,{"$f":"IF((C$6*G862+D$6*H862+E$6*I862+F$6*J862+G$6*K862+H$6*L862+I$6*M862)>(N862),1,0)","v":0}]
[null,507,"[D2-AT] Pleinting - St. Peter 258 [DIR] [AT]_LTA_corner#13_#0","10T-AT-DE-000037","[D2-D2] Pirach - Pleinting 257","11TD2L000000201H",0,0,-0.99622999999999995,-7.6289999999999997E-2,-2.9239999999999999E-2,-2.9239999999999999E-2,0,4839,{"$f":"IF((G863*ALBE+H863*ALDE+I863*AT+J863*BE+K863*DE+L863*FR+M863*NL)>(N863),1,0)","v":0},null,{"$f":"IF((C$6*G863+D$6*H863+E$6*I863+F$6*J863+G$6*K863+H$6*L863+I$6*M863)>(N863),1,0)","v":0}]
[null,508,"[D2-AT] Y - St. Peter (- Altheim - Simbach) 234/230 [OPP] [D2]_LTA_corner#30_#11","10T-AT-DE-000045","[D2-AT] Pirach - St. Peter 256","10T-AT-DE-000029",0,0,0.99888999999999994,0,-2.758E-2,3.8240000000000003E-2,0,5138,{"$f":"IF((G864*ALBE+H864*ALDE+I864*AT+J864*BE+K864*DE+L864*FR+M864*NL)>(N864),1,0)","v":0},null,{"$f":"IF((C$6*G864+D$6*H864+E$6*I864+F$6*J864+G$6*K864+H$6*L864+I$6*M864)>(N864),1,0)","v":0}]
[null,509,"[D2-AT] Pleinting - St. Peter 258 [DIR] [D2]_LTA_corner#01_#22","10T-AT-DE-000037","[D2-AT] Y - St. Peter (- Altheim - Simbach) 234/230","10T-AT-DE-000045",0,0,-1,3.5E-4,0,0,0,4821,{"$f":"IF((G865*ALBE+H865*ALDE+I865*AT+J865*BE+K865*DE+L865*FR+M865*NL)>(N865),1,0)","v":0},null,{"$f":"IF((C$6*G865+D$6*H865+E$6*I865+F$6*J865+G$6*K865+H$6*L865+I$6*M865)>(N865),1,0)","v":0}]
[null,510,"[D2-AT] Pleinting - St. Peter 258 [DIR] [D2]_LTA_corner#03_#12","10T-AT-DE-000037","[D2-AT] Y - St. Peter (- Altheim - Simbach) 234/230","10T-AT-DE-000045",0,0,-1,1.7000000000000001E-4,0,1.7000000000000001E-4,0,4821,{"$f":"IF((G866*ALBE+H866*ALDE+I866*AT+J866*BE+K866*DE+L866*FR+M866*NL)>(N866),1,0)","v":0},null,{"$f":"IF((C$6*G866+D$6*H866+E$6*I866+F$6*J866+G$6*K866+H$6*L866+I$6*M866)>(N866),1,0)","v":0}]
[null,511,"[D2-AT] Pleinting - St. Peter 258 [DIR] [AT]_LTA_corner#05_#5","10T-AT-DE-000037","[D2-D2] Pirach - Pleinting 257","11TD2L000000201H",0,0,-0.99768999999999997,0,4.802E-2,4.802E-2,0,5175,{"$f":"IF((G867*ALBE+H867*ALDE+I867*AT+J867*BE+K867*DE+L867*FR+M867*NL)>(N867),1,0)","v":0},null,{"$f":"IF((C$6*G867+D$6*H867+E$6*I867+F$6*J867+G$6*K867+H$6*L867+I$6*M867)>(N867),1,0)","v":0}]
[null,512,"[AT-AT] Westtirol Transformer WTRHU41 [OPP]_LTA_corner#20_#2","14T-38220-WT041O","BASECASE","N/A",0,0,0.98882000000000003,-1.992E-2,0.14643,-1.992E-2,0,4399,{"$f":"IF((G868*ALBE+H868*ALDE+I868*AT+J868*BE+K868*DE+L868*FR+M868*NL)>(N868),1,0)","v":0},null,{"$f":"IF((C$6*G868+D$6*H868+E$6*I868+F$6*J868+G$6*K868+H$6*L868+I$6*M868)>(N868),1,0)","v":0}]
[null,513,"[D2-AT] Y - St. Peter (- Altheim - Simbach) 234/230 [OPP] [D2]_LTA_corner#30_#8","10T-AT-DE-000045","[D2-AT] Pirach - St. Peter 256","10T-AT-DE-000029",0,0,0.99875999999999998,0,-3.0720000000000001E-2,3.925E-2,0,5164,{"$f":"IF((G869*ALBE+H869*ALDE+I869*AT+J869*BE+K869*DE+L869*FR+M869*NL)>(N869),1,0)","v":0},null,{"$f":"IF((C$6*G869+D$6*H869+E$6*I869+F$6*J869+G$6*K869+H$6*L869+I$6*M869)>(N869),1,0)","v":0}]
[null,514,"[D2-AT] Pleinting - St. Peter 258 [DIR] [D2]_LTA_corner#05_#9","10T-AT-DE-000037","[D2-AT] Y - St. Peter (- Altheim - Simbach) 234/230","10T-AT-DE-000045",0,0,0.55678000000000005,0.26806999999999997,0.66527000000000003,0.41899999999999998,0,1911,{"$f":"IF((G870*ALBE+H870*ALDE+I870*AT+J870*BE+K870*DE+L870*FR+M870*NL)>(N870),1,0)","v":0},null,{"$f":"IF((C$6*G870+D$6*H870+E$6*I870+F$6*J870+G$6*K870+H$6*L870+I$6*M870)>(N870),1,0)","v":0}]
[null,515,"[D7-D4] Hoheneck - Pulverdingen weiss [DIR] [D4]_LTA_corner#09_#16","11T-D4-D7-00014N","[D4-D7] Y - Herbertingen - Hoheneck - Metzingen schwarz","11TD40000A546-S0",0,0,-0.86636000000000002,-0.10011,-0.24967,-0.42079,0,3753,{"$f":"IF((G871*ALBE+H871*ALDE+I871*AT+J871*BE+K871*DE+L871*FR+M871*NL)>(N871),1,0)","v":0},null,{"$f":"IF((C$6*G871+D$6*H871+E$6*I871+F$6*J871+G$6*K871+H$6*L871+I$6*M871)>(N871),1,0)","v":0}]
[null,516,"[NL-D7] Maasbracht - Siersdorf 380 black [DIR] [D7]","10T-DE-NL-00006L","[BE-BE] Avelgem - Horta 380.102","22T20161020---1E",0.32483000000000001,-0.15701999999999999,-2.2200000000000002E-3,0.31219000000000002,1.4030000000000001E-2,3.8989999999999997E-2,0.28261999999999998,919,{"$f":"IF((G872*ALBE+H872*ALDE+I872*AT+J872*BE+K872*DE+L872*FR+M872*NL)>(N872),1,0)","v":0},null,{"$f":"IF((C$6*G872+D$6*H872+E$6*I872+F$6*J872+G$6*K872+H$6*L872+I$6*M872)>(N872),1,0)","v":0}]
[null,517,"[D2-AT] Pleinting - St. Peter 258 [DIR] [AT]_LTA_corner#04_#12","10T-AT-DE-000037","[D2-D2] Pirach - Pleinting 257","11TD2L000000201H",0,0,-0.99448000000000003,-7.3950000000000002E-2,8.3499999999999998E-3,-7.3950000000000002E-2,0,4982,{"$f":"IF((G873*ALBE+H873*ALDE+I873*AT+J873*BE+K873*DE+L873*FR+M873*NL)>(N873),1,0)","v":0},null,{"$f":"IF((C$6*G873+D$6*H873+E$6*I873+F$6*J873+G$6*K873+H$6*L873+I$6*M873)>(N873),1,0)","v":0}]
[null,518,"ALDE_import","N/A","BASECASE","N/A",0,-1,0,0,0,0,0,0,{"$f":"IF((G874*ALBE+H874*ALDE+I874*AT+J874*BE+K874*DE+L874*FR+M874*NL)>(N874),1,0)","v":0},null,{"$f":"IF((C$6*G874+D$6*H874+E$6*I874+F$6*J874+G$6*K874+H$6*L874+I$6*M874)>(N874),1,0)","v":0}]
[null,519,"[D2-AT] Pleinting - St. Peter 258 [DIR] [AT]_LTA_corner#11_#7","10T-AT-DE-000037","[D2-D2] Pirach - Pleinting 257","11TD2L000000201H",0,0,-0.99651000000000001,4.6899999999999997E-3,-8.319E-2,4.6899999999999997E-3,0,4638,{"$f":"IF((G875*ALBE+H875*ALDE+I875*AT+J875*BE+K875*DE+L875*FR+M875*NL)>(N875),1,0)","v":0},null,{"$f":"IF((C$6*G875+D$6*H875+E$6*I875+F$6*J875+G$6*K875+H$6*L875+I$6*M875)>(N875),1,0)","v":0}]
[null,520,"[D2-AT] Pleinting - St. Peter 258 [DIR] [AT]_LTA_corner#04_#19","10T-AT-DE-000037","[D2-D2] Pirach - Pleinting 257","11TD2L000000201H",0,0,-0.99526999999999999,-6.8720000000000003E-2,0,-6.8720000000000003E-2,0,4919,{"$f":"IF((G876*ALBE+H876*ALDE+I876*AT+J876*BE+K876*DE+L876*FR+M876*NL)>(N876),1,0)","v":0},null,{"$f":"IF((C$6*G876+D$6*H876+E$6*I876+F$6*J876+G$6*K876+H$6*L876+I$6*M876)>(N876),1,0)","v":0}]
[null,521,"[BE-BE] PST_ZANDV_2 [N - S]_LTA_corner#13_#20","22T20161020---56","[NL-BE] Rilland - Zandvliet 380 White/30","10T-BE-NL-00004C",0,0,-0.31507000000000002,-0.78186,-0.24118999999999999,-0.48087999999999997,0,2026,{"$f":"IF((G877*ALBE+H877*ALDE+I877*AT+J877*BE+K877*DE+L877*FR+M877*NL)>(N877),1,0)","v":0},null,{"$f":"IF((C$6*G877+D$6*H877+E$6*I877+F$6*J877+G$6*K877+H$6*L877+I$6*M877)>(N877),1,0)","v":0}]
[null,522,"[D2-AT] Pleinting - St. Peter 258 [DIR] [AT]_LTA_corner#06_#8","10T-AT-DE-000037","[D2-D2] Pirach - Pleinting 257","11TD2L000000201H",0,0,-0.99743999999999999,-4.0400000000000002E-3,5.0500000000000003E-2,5.0500000000000003E-2,0,5202,{"$f":"IF((G878*ALBE+H878*ALDE+I878*AT+J878*BE+K878*DE+L878*FR+M878*NL)>(N878),1,0)","v":0},null,{"$f":"IF((C$6*G878+D$6*H878+E$6*I878+F$6*J878+G$6*K878+H$6*L878+I$6*M878)>(N878),1,0)","v":0}]
[null,523,"[D2-AT] Pleinting - St. Peter 258 [DIR] [D2]_LTA_corner#02_#12","10T-AT-DE-000037","[D2-AT] Y - St. Peter (- Altheim - Simbach) 234/230","10T-AT-DE-000045",0,0,-0.99999000000000005,0,-3.49E-3,-3.49E-3,0,4811,{"$f":"IF((G879*ALBE+H879*ALDE+I879*AT+J879*BE+K879*DE+L879*FR+M879*NL)>(N879),1,0)","v":0},null,{"$f":"IF((C$6*G879+D$6*H879+E$6*I879+F$6*J879+G$6*K879+H$6*L879+I$6*M879)>(N879),1,0)","v":0}]
[null,524,"[D7-D4] Hoheneck - Pulverdingen weiss [DIR] [D4]_LTA_corner#09_#5","11T-D4-D7-00014N","[D4-D7] Y - Herbertingen - Hoheneck - Metzingen schwarz","11TD40000A546-S0",0,0,-0.85594999999999999,-0.10476000000000001,-0.26654,-0.43049999999999999,0,3644,{"$f":"IF((G880*ALBE+H880*ALDE+I880*AT+J880*BE+K880*DE+L880*FR+M880*NL)>(N880),1,0)","v":0},null,{"$f":"IF((C$6*G880+D$6*H880+E$6*I880+F$6*J880+G$6*K880+H$6*L880+I$6*M880)>(N880),1,0)","v":0}]
[null,525,"[D2-AT] Pleinting - St. Peter 258 [DIR] [AT]_LTA_corner#04_#5","10T-AT-DE-000037","[D2-D2] Pirach - Pleinting 257","11TD2L000000201H",0,0,-0.98914999999999997,-4.0000000000000001E-3,8.3099999999999997E-3,-0.14665,0,5061,{"$f":"IF((G881*ALBE+H881*ALDE+I881*AT+J881*BE+K881*DE+L881*FR+M881*NL)>(N881),1,0)","v":0},null,{"$f":"IF((C$6*G881+D$6*H881+E$6*I881+F$6*J881+G$6*K881+H$6*L881+I$6*M881)>(N881),1,0)","v":0}]
[null,526,"[D2-AT] Pleinting - St. Peter 258 [DIR] [D2]_LTA_corner#05_#5","10T-AT-DE-000037","[D2-AT] Y - St. Peter (- Altheim - Simbach) 234/230","10T-AT-DE-000045",0,0,0.55547000000000002,0.27027000000000001,0.66608999999999996,0.41800999999999999,0,1920,{"$f":"IF((G882*ALBE+H882*ALDE+I882*AT+J882*BE+K882*DE+L882*FR+M882*NL)>(N882),1,0)","v":0},null,{"$f":"IF((C$6*G882+D$6*H882+E$6*I882+F$6*J882+G$6*K882+H$6*L882+I$6*M882)>(N882),1,0)","v":0}]
[null,527,"[D7-FR] Ensdorf - Vigy 2S [OPP] [D7]_LTA_corner#30_#8","10T-DE-FR-000068","[D7-D7] Ensdorf - Uchtelfangen Taubental N","11T0-0000-0604-N",0,0,4.6730000000000001E-2,0.38643,-0.17293,0.90476000000000001,0,3870,{"$f":"IF((G883*ALBE+H883*ALDE+I883*AT+J883*BE+K883*DE+L883*FR+M883*NL)>(N883),1,0)","v":0},null,{"$f":"IF((C$6*G883+D$6*H883+E$6*I883+F$6*J883+G$6*K883+H$6*L883+I$6*M883)>(N883),1,0)","v":0}]
[null,528,"[D4-AT] Buers - Westtirol 421 weiss [OPP] [D4]_LTA_corner#20_#18","10T-AT-DE-000061","[AT-AT] Westtirol Transformer WTRHU41","14T-38220-WT041O",0,0,0.98311999999999999,-3.7429999999999998E-2,0.13416,-0.11863,0,4566,{"$f":"IF((G884*ALBE+H884*ALDE+I884*AT+J884*BE+K884*DE+L884*FR+M884*NL)>(N884),1,0)","v":0},null,{"$f":"IF((C$6*G884+D$6*H884+E$6*I884+F$6*J884+G$6*K884+H$6*L884+I$6*M884)>(N884),1,0)","v":0}]
[null,529,"[D2-AT] Pleinting - St. Peter 258 [DIR] [D2]_LTA_corner#09_#6","10T-AT-DE-000037","[D2-AT] Y - St. Peter (- Altheim - Simbach) 234/230","10T-AT-DE-000045",0,0,-0.96999000000000002,-9.3039999999999998E-2,-0.1525,-0.16492000000000001,0,4275,{"$f":"IF((G885*ALBE+H885*ALDE+I885*AT+J885*BE+K885*DE+L885*FR+M885*NL)>(N885),1,0)","v":0},null,{"$f":"IF((C$6*G885+D$6*H885+E$6*I885+F$6*J885+G$6*K885+H$6*L885+I$6*M885)>(N885),1,0)","v":0}]
[null,530,"[AT-AT] Westtirol Transformer WTRHU41 [OPP]_LTA_corner#20_#8","14T-38220-WT041O","BASECASE","N/A",0,0,0.98489000000000004,-7.6139999999999999E-2,0.13563,-7.6139999999999999E-2,0,4508,{"$f":"IF((G886*ALBE+H886*ALDE+I886*AT+J886*BE+K886*DE+L886*FR+M886*NL)>(N886),1,0)","v":0},null,{"$f":"IF((C$6*G886+D$6*H886+E$6*I886+F$6*J886+G$6*K886+H$6*L886+I$6*M886)>(N886),1,0)","v":0}]
[null,531,"[AT-AT] Westtirol Transformer WTRHU41 [OPP]_LTA_corner#20_#6","14T-38220-WT041O","BASECASE","N/A",0,0,0.98375999999999997,-7.51E-2,0.14468,-7.51E-2,0,4476,{"$f":"IF((G887*ALBE+H887*ALDE+I887*AT+J887*BE+K887*DE+L887*FR+M887*NL)>(N887),1,0)","v":0},null,{"$f":"IF((C$6*G887+D$6*H887+E$6*I887+F$6*J887+G$6*K887+H$6*L887+I$6*M887)>(N887),1,0)","v":0}]
[null,532,"[D2-AT] Y - St. Peter (- Altheim - Simbach) 234/230 [OPP] [D2]_LTA_corner#23_#2","10T-AT-DE-000045","[D2-AT] Pirach - St. Peter 256","10T-AT-DE-000029",0,0,0.99787000000000003,1.43E-2,0,6.3640000000000002E-2,0,4987,{"$f":"IF((G888*ALBE+H888*ALDE+I888*AT+J888*BE+K888*DE+L888*FR+M888*NL)>(N888),1,0)","v":0},null,{"$f":"IF((C$6*G888+D$6*H888+E$6*I888+F$6*J888+G$6*K888+H$6*L888+I$6*M888)>(N888),1,0)","v":0}]
[null,533,"[D2-AT] Y - St. Peter (- Altheim - Simbach) 234/230 [OPP] [D2]_LTA_corner#30_#1","10T-AT-DE-000045","[D2-AT] Pirach - St. Peter 256","10T-AT-DE-000029",0,0,0.99878999999999996,9.5099999999999994E-3,-4.0699999999999998E-3,4.8099999999999997E-2,0,4980,{"$f":"IF((G889*ALBE+H889*ALDE+I889*AT+J889*BE+K889*DE+L889*FR+M889*NL)>(N889),1,0)","v":0},null,{"$f":"IF((C$6*G889+D$6*H889+E$6*I889+F$6*J889+G$6*K889+H$6*L889+I$6*M889)>(N889),1,0)","v":0}]
[null,534,"[BE-BE] Achene - Gramme 380.10 [OPP]_LTA_corner#02_#0","22T-BE-IN-LI0130","[BE-BE] Avelgem - Horta 380.102","22T20161020---1E",0,0,-0.35189999999999999,0.72736999999999996,-0.26772000000000001,-0.52481,0,2231,{"$f":"IF((G890*ALBE+H890*ALDE+I890*AT+J890*BE+K890*DE+L890*FR+M890*NL)>(N890),1,0)","v":0},null,{"$f":"IF((C$6*G890+D$6*H890+E$6*I890+F$6*J890+G$6*K890+H$6*L890+I$6*M890)>(N890),1,0)","v":0}]
[null,535,"[D2-AT] Pleinting - St. Peter 258 [DIR] [AT]_LTA_corner#04_#0","10T-AT-DE-000037","[D2-D2] Pirach - Pleinting 257","11TD2L000000201H",0,0,-0.9758,-3.0349999999999999E-2,0.16769000000000001,-0.13705999999999999,0,6085,{"$f":"IF((G891*ALBE+H891*ALDE+I891*AT+J891*BE+K891*DE+L891*FR+M891*NL)>(N891),1,0)","v":0},null,{"$f":"IF((C$6*G891+D$6*H891+E$6*I891+F$6*J891+G$6*K891+H$6*L891+I$6*M891)>(N891),1,0)","v":0}]
[null,536,"[D7-FR] Ensdorf - Vigy 2S [OPP] [D7]_LTA_corner#30_#23","10T-DE-FR-000068","[D7-D7] Ensdorf - Uchtelfangen Taubental N","11T0-0000-0604-N",0,0,7.5870000000000007E-2,0.37692999999999999,-0.13153999999999999,0.91371000000000002,0,3736,{"$f":"IF((G892*ALBE+H892*ALDE+I892*AT+J892*BE+K892*DE+L892*FR+M892*NL)>(N892),1,0)","v":0},null,{"$f":"IF((C$6*G892+D$6*H892+E$6*I892+F$6*J892+G$6*K892+H$6*L892+I$6*M892)>(N892),1,0)","v":0}]
[null,537,"[BE-BE] Achene - Gramme 380.10 [OPP]_LTA_corner#02_#20","22T-BE-IN-LI0130","[BE-BE] Avelgem - Horta 380.102","22T20161020---1E",0,0,-0.48060999999999998,0,-0.36514000000000002,-0.79730000000000001,0,1967,{"$f":"IF((G893*ALBE+H893*ALDE+I893*AT+J893*BE+K893*DE+L893*FR+M893*NL)>(N893),1,0)","v":0},null,{"$f":"IF((C$6*G893+D$6*H893+E$6*I893+F$6*J893+G$6*K893+H$6*L893+I$6*M893)>(N893),1,0)","v":0}]
[null,538,"[BE-BE] PST_VANYK_2 [S - N]","22T-BE-PST--002U","[BE-FR] Achene - Lonny 380.19","10T-BE-FR-000015",0.57364999999999999,-2.511E-2,5.5100000000000001E-3,0.32023000000000001,-9.5200000000000007E-3,4.5609999999999998E-2,1.213E-2,860,{"$f":"IF((G894*ALBE+H894*ALDE+I894*AT+J894*BE+K894*DE+L894*FR+M894*NL)>(N894),1,0)","v":0},null,{"$f":"IF((C$6*G894+D$6*H894+E$6*I894+F$6*J894+G$6*K894+H$6*L894+I$6*M894)>(N894),1,0)","v":0}]
[null,539,"[D2-AT] Pleinting - St. Peter 258 [DIR] [D2]_LTA_corner#06_#14","10T-AT-DE-000037","[D2-AT] Y - St. Peter (- Altheim - Simbach) 234/230","10T-AT-DE-000045",0,0,-0.99724999999999997,-6.1929999999999999E-2,0,-4.0629999999999999E-2,0,4931,{"$f":"IF((G895*ALBE+H895*ALDE+I895*AT+J895*BE+K895*DE+L895*FR+M895*NL)>(N895),1,0)","v":0},null,{"$f":"IF((C$6*G895+D$6*H895+E$6*I895+F$6*J895+G$6*K895+H$6*L895+I$6*M895)>(N895),1,0)","v":0}]
[null,540,"ALDE_export","N/A","BASECASE","N/A",0,1,0,0,0,0,0,0,{"$f":"IF((G896*ALBE+H896*ALDE+I896*AT+J896*BE+K896*DE+L896*FR+M896*NL)>(N896),1,0)","v":0},null,{"$f":"IF((C$6*G896+D$6*H896+E$6*I896+F$6*J896+G$6*K896+H$6*L896+I$6*M896)>(N896),1,0)","v":0}]
[null,541,"[D2-AT] Pleinting - St. Peter 258 [DIR] [D2]_LTA_corner#01_#2","10T-AT-DE-000037","[D2-AT] Y - St. Peter (- Altheim - Simbach) 234/230","10T-AT-DE-000045",0,0,-0.79654999999999998,0.15951000000000001,0.56091000000000002,0.15951000000000001,0,7650,{"$f":"IF((G897*ALBE+H897*ALDE+I897*AT+J897*BE+K897*DE+L897*FR+M897*NL)>(N897),1,0)","v":0},null,{"$f":"IF((C$6*G897+D$6*H897+E$6*I897+F$6*J897+G$6*K897+H$6*L897+I$6*M897)>(N897),1,0)","v":0}]
[null,542,"[BE-BE] PST_ZANDV_2 [N - S]_LTA_corner#13_#6","22T20161020---56","[NL-BE] Rilland - Zandvliet 380 White/30","10T-BE-NL-00004C",0,0,-0.34982000000000002,-0.72304999999999997,-0.31180000000000002,-0.50753999999999999,0,1716,{"$f":"IF((G898*ALBE+H898*ALDE+I898*AT+J898*BE+K898*DE+L898*FR+M898*NL)>(N898),1,0)","v":0},null,{"$f":"IF((C$6*G898+D$6*H898+E$6*I898+F$6*J898+G$6*K898+H$6*L898+I$6*M898)>(N898),1,0)","v":0}]
[null,543,"[AT-AT] Westtirol Transformer WTRHU41 [OPP]_LTA_corner#17_#2","14T-38220-WT041O","BASECASE","N/A",0,0,0.98226000000000002,0,0.17449000000000001,-6.8739999999999996E-2,0,4366,{"$f":"IF((G899*ALBE+H899*ALDE+I899*AT+J899*BE+K899*DE+L899*FR+M899*NL)>(N899),1,0)","v":0},null,{"$f":"IF((C$6*G899+D$6*H899+E$6*I899+F$6*J899+G$6*K899+H$6*L899+I$6*M899)>(N899),1,0)","v":0}]
[null,544,"[D2-AT] Pleinting - St. Peter 258 [DIR] [D2]_LTA_corner#09_#0","10T-AT-DE-000037","[D2-AT] Y - St. Peter (- Altheim - Simbach) 234/230","10T-AT-DE-000045",0,0,-0.96506000000000003,-0.10193000000000001,-0.17068,-0.17068,0,4181,{"$f":"IF((G900*ALBE+H900*ALDE+I900*AT+J900*BE+K900*DE+L900*FR+M900*NL)>(N900),1,0)","v":0},null,{"$f":"IF((C$6*G900+D$6*H900+E$6*I900+F$6*J900+G$6*K900+H$6*L900+I$6*M900)>(N900),1,0)","v":0}]
[null,545,"[D2-AT] Pleinting - St. Peter 258 [DIR] [AT]_LTA_corner#11_#4","10T-AT-DE-000037","[D2-D2] Pirach - Pleinting 257","11TD2L000000201H",0,0,-0.99729000000000001,2.2270000000000002E-2,-6.6519999999999996E-2,2.2270000000000002E-2,0,4712,{"$f":"IF((G901*ALBE+H901*ALDE+I901*AT+J901*BE+K901*DE+L901*FR+M901*NL)>(N901),1,0)","v":0},null,{"$f":"IF((C$6*G901+D$6*H901+E$6*I901+F$6*J901+G$6*K901+H$6*L901+I$6*M901)>(N901),1,0)","v":0}]
[null,546,"[D2-AT] Pleinting - St. Peter 258 [DIR] [AT]_LTA_corner#01_#7","10T-AT-DE-000037","[D2-D2] Pirach - Pleinting 257","11TD2L000000201H",0,0,-0.98975999999999997,0,8.3099999999999997E-3,-0.14249000000000001,0,5057,{"$f":"IF((G902*ALBE+H902*ALDE+I902*AT+J902*BE+K902*DE+L902*FR+M902*NL)>(N902),1,0)","v":0},null,{"$f":"IF((C$6*G902+D$6*H902+E$6*I902+F$6*J902+G$6*K902+H$6*L902+I$6*M902)>(N902),1,0)","v":0}]
[null,547,"[D2-AT] Pleinting - St. Peter 258 [DIR] [AT]_LTA_corner#11_#2","10T-AT-DE-000037","[D2-D2] Pirach - Pleinting 257","11TD2L000000201H",0,0,-0.99558999999999997,0,-8.9200000000000002E-2,-2.9219999999999999E-2,0,4590,{"$f":"IF((G903*ALBE+H903*ALDE+I903*AT+J903*BE+K903*DE+L903*FR+M903*NL)>(N903),1,0)","v":0},null,{"$f":"IF((C$6*G903+D$6*H903+E$6*I903+F$6*J903+G$6*K903+H$6*L903+I$6*M903)>(N903),1,0)","v":0}]
[null,548,"[D2-AT] Pleinting - St. Peter 258 [DIR] [D2]_LTA_corner#12_#15","10T-AT-DE-000037","[D2-AT] Y - St. Peter (- Altheim - Simbach) 234/230","10T-AT-DE-000045",0,0,-0.99990999999999997,-9.9000000000000008E-3,0,9.0600000000000003E-3,0,4872,{"$f":"IF((G904*ALBE+H904*ALDE+I904*AT+J904*BE+K904*DE+L904*FR+M904*NL)>(N904),1,0)","v":0},null,{"$f":"IF((C$6*G904+D$6*H904+E$6*I904+F$6*J904+G$6*K904+H$6*L904+I$6*M904)>(N904),1,0)","v":0}]
[null,549,"[BE-BE] Achene - Gramme 380.10 [OPP]_LTA_corner#09_#4","22T-BE-IN-LI0130","[BE-BE] Avelgem - Horta 380.102","22T20161020---1E",0,0,-0.43154999999999999,-0.58487,-0.36001,-0.58487,0,1503,{"$f":"IF((G905*ALBE+H905*ALDE+I905*AT+J905*BE+K905*DE+L905*FR+M905*NL)>(N905),1,0)","v":0},null,{"$f":"IF((C$6*G905+D$6*H905+E$6*I905+F$6*J905+G$6*K905+H$6*L905+I$6*M905)>(N905),1,0)","v":0}]
[null,550,"[D7-FR] Ensdorf - Vigy 2S [OPP] [D7]_LTA_corner#30_#3","10T-DE-FR-000068","[D7-D7] Ensdorf - Uchtelfangen Taubental N","11T0-0000-0604-N",0,0,-3.0429999999999999E-2,0.39674999999999999,-0.25649,0.88083999999999996,0,4044,{"$f":"IF((G906*ALBE+H906*ALDE+I906*AT+J906*BE+K906*DE+L906*FR+M906*NL)>(N906),1,0)","v":0},null,{"$f":"IF((C$6*G906+D$6*H906+E$6*I906+F$6*J906+G$6*K906+H$6*L906+I$6*M906)>(N906),1,0)","v":0}]
[null,551,"[BE-BE] Achene - Gramme 380.10 [OPP]_LTA_corner#02_#12","22T-BE-IN-LI0130","[BE-BE] Avelgem - Horta 380.102","22T20161020---1E",0,0,-0.44719999999999999,0.34115000000000001,-0.34194999999999998,-0.75280000000000002,0,2254,{"$f":"IF((G907*ALBE+H907*ALDE+I907*AT+J907*BE+K907*DE+L907*FR+M907*NL)>(N907),1,0)","v":0},null,{"$f":"IF((C$6*G907+D$6*H907+E$6*I907+F$6*J907+G$6*K907+H$6*L907+I$6*M907)>(N907),1,0)","v":0}]
[null,552,"[AT-AT] Westtirol Transformer WTRHU41 [OPP]_LTA_corner#17_#1","14T-38220-WT041O","BASECASE","N/A",0,0,0.98077000000000003,0,0.17138999999999999,-9.3329999999999996E-2,0,4406,{"$f":"IF((G908*ALBE+H908*ALDE+I908*AT+J908*BE+K908*DE+L908*FR+M908*NL)>(N908),1,0)","v":0},null,{"$f":"IF((C$6*G908+D$6*H908+E$6*I908+F$6*J908+G$6*K908+H$6*L908+I$6*M908)>(N908),1,0)","v":0}]
[null,553,"[D2-AT] Y - St. Peter (- Altheim - Simbach) 234/230 [OPP] [D2]_LTA_corner#30_#0","10T-AT-DE-000045","[D2-AT] Pirach - St. Peter 256","10T-AT-DE-000029",0,0,0.99841000000000002,6.7600000000000004E-3,-5.4200000000000003E-3,5.5690000000000003E-2,0,5015,{"$f":"IF((G909*ALBE+H909*ALDE+I909*AT+J909*BE+K909*DE+L909*FR+M909*NL)>(N909),1,0)","v":0},null,{"$f":"IF((C$6*G909+D$6*H909+E$6*I909+F$6*J909+G$6*K909+H$6*L909+I$6*M909)>(N909),1,0)","v":0}]
[null,554,"[D2-AT] Pleinting - St. Peter 258 [DIR] [AT]_LTA_corner#01_#13","10T-AT-DE-000037","[D2-D2] Pirach - Pleinting 257","11TD2L000000201H",0,0,-0.99709000000000003,7.6270000000000004E-2,0,0,0,4900,{"$f":"IF((G910*ALBE+H910*ALDE+I910*AT+J910*BE+K910*DE+L910*FR+M910*NL)>(N910),1,0)","v":0},null,{"$f":"IF((C$6*G910+D$6*H910+E$6*I910+F$6*J910+G$6*K910+H$6*L910+I$6*M910)>(N910),1,0)","v":0}]
[null,555,"[D2-AT] Pleinting - St. Peter 258 [DIR] [D2]_LTA_corner#04_#17","10T-AT-DE-000037","[D2-AT] Y - St. Peter (- Altheim - Simbach) 234/230","10T-AT-DE-000045",0,0,-0.99648000000000003,-5.9319999999999998E-2,0,-5.9319999999999998E-2,0,4908,{"$f":"IF((G911*ALBE+H911*ALDE+I911*AT+J911*BE+K911*DE+L911*FR+M911*NL)>(N911),1,0)","v":0},null,{"$f":"IF((C$6*G911+D$6*H911+E$6*I911+F$6*J911+G$6*K911+H$6*L911+I$6*M911)>(N911),1,0)","v":0}]
[null,556,"[D2-AT] Pleinting - St. Peter 258 [DIR] [AT]_LTA_corner#04_#17","10T-AT-DE-000037","[D2-D2] Pirach - Pleinting 257","11TD2L000000201H",0,0,-0.99068999999999996,-4.0099999999999997E-3,0,-0.13607,0,4994,{"$f":"IF((G912*ALBE+H912*ALDE+I912*AT+J912*BE+K912*DE+L912*FR+M912*NL)>(N912),1,0)","v":0},null,{"$f":"IF((C$6*G912+D$6*H912+E$6*I912+F$6*J912+G$6*K912+H$6*L912+I$6*M912)>(N912),1,0)","v":0}]
[null,557,"ALBE_export","N/A","BASECASE","N/A",1,0,0,0,0,0,0,0,{"$f":"IF((G913*ALBE+H913*ALDE+I913*AT+J913*BE+K913*DE+L913*FR+M913*NL)>(N913),1,0)","v":0},null,{"$f":"IF((C$6*G913+D$6*H913+E$6*I913+F$6*J913+G$6*K913+H$6*L913+I$6*M913)>(N913),1,0)","v":0}]
[null,558,"[D2-AT] Y - St. Peter (- Altheim - Simbach) 234/230 [OPP] [D2]_LTA_corner#23_#3","10T-AT-DE-000045","[D2-AT] Pirach - St. Peter 256","10T-AT-DE-000029",0,0,0.99809999999999999,1.8509999999999999E-2,0,5.8799999999999998E-2,0,4969,{"$f":"IF((G914*ALBE+H914*ALDE+I914*AT+J914*BE+K914*DE+L914*FR+M914*NL)>(N914),1,0)","v":0},null,{"$f":"IF((C$6*G914+D$6*H914+E$6*I914+F$6*J914+G$6*K914+H$6*L914+I$6*M914)>(N914),1,0)","v":0}]
[null,559,"[AT-AT] Westtirol Transformer WTRHU41 [OPP]_LTA_corner#17_#9","14T-38220-WT041O","BASECASE","N/A",0,0,0.99772000000000005,0,6.7519999999999997E-2,-6.0000000000000002E-5,0,4623,{"$f":"IF((G915*ALBE+H915*ALDE+I915*AT+J915*BE+K915*DE+L915*FR+M915*NL)>(N915),1,0)","v":0},null,{"$f":"IF((C$6*G915+D$6*H915+E$6*I915+F$6*J915+G$6*K915+H$6*L915+I$6*M915)>(N915),1,0)","v":0}]
[null,560,"[D2-AT] Pleinting - St. Peter 258 [DIR] [AT]_LTA_corner#02_#3","10T-AT-DE-000037","[D2-D2] Pirach - Pleinting 257","11TD2L000000201H",0,0,-0.99634999999999996,8.3099999999999993E-2,-1.391E-2,-1.391E-2,0,4865,{"$f":"IF((G916*ALBE+H916*ALDE+I916*AT+J916*BE+K916*DE+L916*FR+M916*NL)>(N916),1,0)","v":0},null,{"$f":"IF((C$6*G916+D$6*H916+E$6*I916+F$6*J916+G$6*K916+H$6*L916+I$6*M916)>(N916),1,0)","v":0}]
[null,561,"[D2-AT] Pleinting - St. Peter 258 [DIR] [AT]_LTA_corner#04_#10","10T-AT-DE-000037","[D2-D2] Pirach - Pleinting 257","11TD2L000000201H",0,0,-0.99061999999999995,-7.8109999999999999E-2,8.0449999999999994E-2,-7.8109999999999999E-2,0,5468,{"$f":"IF((G917*ALBE+H917*ALDE+I917*AT+J917*BE+K917*DE+L917*FR+M917*NL)>(N917),1,0)","v":0},null,{"$f":"IF((C$6*G917+D$6*H917+E$6*I917+F$6*J917+G$6*K917+H$6*L917+I$6*M917)>(N917),1,0)","v":0}]
[null,562,"[D2-AT] Pleinting - St. Peter 258 [DIR] [AT]_LTA_corner#07_#4","10T-AT-DE-000037","[D2-D2] Pirach - Pleinting 257","11TD2L000000201H",0,0,-0.99668000000000001,0,0,8.1420000000000006E-2,0,5053,{"$f":"IF((G918*ALBE+H918*ALDE+I918*AT+J918*BE+K918*DE+L918*FR+M918*NL)>(N918),1,0)","v":0},null,{"$f":"IF((C$6*G918+D$6*H918+E$6*I918+F$6*J918+G$6*K918+H$6*L918+I$6*M918)>(N918),1,0)","v":0}]
[null,563,"[D2-AT] Pleinting - St. Peter 258 [DIR] [AT]_LTA_corner#06_#7","10T-AT-DE-000037","[D2-D2] Pirach - Pleinting 257","11TD2L000000201H",0,0,-0.99639,-8.4080000000000002E-2,8.3700000000000007E-3,8.3700000000000007E-3,0,5073,{"$f":"IF((G919*ALBE+H919*ALDE+I919*AT+J919*BE+K919*DE+L919*FR+M919*NL)>(N919),1,0)","v":0},null,{"$f":"IF((C$6*G919+D$6*H919+E$6*I919+F$6*J919+G$6*K919+H$6*L919+I$6*M919)>(N919),1,0)","v":0}]
[null,564,"[D2-AT] Pleinting - St. Peter 258 [DIR] [D2]_LTA_corner#07_#8","10T-AT-DE-000037","[D2-AT] Y - St. Peter (- Altheim - Simbach) 234/230","10T-AT-DE-000045",0,0,-1,0,0,3.6999999999999999E-4,0,4822,{"$f":"IF((G920*ALBE+H920*ALDE+I920*AT+J920*BE+K920*DE+L920*FR+M920*NL)>(N920),1,0)","v":0},null,{"$f":"IF((C$6*G920+D$6*H920+E$6*I920+F$6*J920+G$6*K920+H$6*L920+I$6*M920)>(N920),1,0)","v":0}]
[null,565,"[BE-BE] Achene - Gramme 380.10 [OPP]_LTA_corner#09_#8","22T-BE-IN-LI0130","[BE-BE] Avelgem - Horta 380.102","22T20161020---1E",0,0,-0.40638999999999997,-0.60628000000000004,-0.31574999999999998,-0.60628000000000004,0,1616,{"$f":"IF((G921*ALBE+H921*ALDE+I921*AT+J921*BE+K921*DE+L921*FR+M921*NL)>(N921),1,0)","v":0},null,{"$f":"IF((C$6*G921+D$6*H921+E$6*I921+F$6*J921+G$6*K921+H$6*L921+I$6*M921)>(N921),1,0)","v":0}]
[null,566,"[D2-AT] Y - St. Peter (- Altheim - Simbach) 234/230 [OPP] [D2]_LTA_corner#32_#0","10T-AT-DE-000045","[D2-AT] Pirach - St. Peter 256","10T-AT-DE-000029",0,0,0.99873999999999996,-3.7399999999999998E-3,-3.6569999999999998E-2,3.4200000000000001E-2,0,5202,{"$f":"IF((G922*ALBE+H922*ALDE+I922*AT+J922*BE+K922*DE+L922*FR+M922*NL)>(N922),1,0)","v":0},null,{"$f":"IF((C$6*G922+D$6*H922+E$6*I922+F$6*J922+G$6*K922+H$6*L922+I$6*M922)>(N922),1,0)","v":0}]
[null,567,"[D2-AT] Y - St. Peter (- Altheim - Simbach) 234/230 [OPP] [D2]_LTA_corner#23_#1","10T-AT-DE-000045","[D2-AT] Pirach - St. Peter 256","10T-AT-DE-000029",0,0,0.99397999999999997,3.4909999999999997E-2,5.3060000000000003E-2,8.9249999999999996E-2,0,4754,{"$f":"IF((G923*ALBE+H923*ALDE+I923*AT+J923*BE+K923*DE+L923*FR+M923*NL)>(N923),1,0)","v":0},null,{"$f":"IF((C$6*G923+D$6*H923+E$6*I923+F$6*J923+G$6*K923+H$6*L923+I$6*M923)>(N923),1,0)","v":0}]
[null,568,"[BE-BE] Achene - Gramme 380.10 [OPP]_LTA_corner#02_#3","22T-BE-IN-LI0130","[BE-BE] Avelgem - Horta 380.102","22T20161020---1E",0,0,-0.45857999999999999,0.34982999999999997,-0.26723000000000002,-0.77195999999999998,0,2682,{"$f":"IF((G924*ALBE+H924*ALDE+I924*AT+J924*BE+K924*DE+L924*FR+M924*NL)>(N924),1,0)","v":0},null,{"$f":"IF((C$6*G924+D$6*H924+E$6*I924+F$6*J924+G$6*K924+H$6*L924+I$6*M924)>(N924),1,0)","v":0}]
[null,569,"[D7-FR] Ensdorf - Vigy 2S [OPP] [D7]_LTA_corner#30_#35","10T-DE-FR-000068","[D7-D7] Ensdorf - Uchtelfangen Taubental N","11T0-0000-0604-N",0,0,8.097E-2,0.37520999999999999,-0.12817000000000001,0.91446000000000005,0,3739,{"$f":"IF((G925*ALBE+H925*ALDE+I925*AT+J925*BE+K925*DE+L925*FR+M925*NL)>(N925),1,0)","v":0},null,{"$f":"IF((C$6*G925+D$6*H925+E$6*I925+F$6*J925+G$6*K925+H$6*L925+I$6*M925)>(N925),1,0)","v":0}]
[null,570,"[D2-AT] Pleinting - St. Peter 258 [DIR] [D2]_LTA_corner#05_#17","10T-AT-DE-000037","[D2-AT] Y - St. Peter (- Altheim - Simbach) 234/230","10T-AT-DE-000045",0,0,0.55633999999999995,0.26482,0.66713,0.41866999999999999,0,1930,{"$f":"IF((G926*ALBE+H926*ALDE+I926*AT+J926*BE+K926*DE+L926*FR+M926*NL)>(N926),1,0)","v":0},null,{"$f":"IF((C$6*G926+D$6*H926+E$6*I926+F$6*J926+G$6*K926+H$6*L926+I$6*M926)>(N926),1,0)","v":0}]
[null,571,"[D2-AT] Pleinting - St. Peter 258 [DIR] [D2]_LTA_corner#04_#21","10T-AT-DE-000037","[D2-AT] Y - St. Peter (- Altheim - Simbach) 234/230","10T-AT-DE-000045",0,0,-0.98777999999999999,-4.9669999999999999E-2,0,-0.14774000000000001,0,5006,{"$f":"IF((G927*ALBE+H927*ALDE+I927*AT+J927*BE+K927*DE+L927*FR+M927*NL)>(N927),1,0)","v":0},null,{"$f":"IF((C$6*G927+D$6*H927+E$6*I927+F$6*J927+G$6*K927+H$6*L927+I$6*M927)>(N927),1,0)","v":0}]
[null,572,"[BE-FR] Achene - Lonny 380.19 [OPP] [BE]","10T-BE-FR-000015","[BE-BE] Avelgem - Horta 380.102","22T20161020---1E",-0.31117,-6.8070000000000006E-2,2.086E-2,-0.30719000000000002,-3.7350000000000001E-2,0.14802999999999999,-0.16522999999999999,2191,{"$f":"IF((G928*ALBE+H928*ALDE+I928*AT+J928*BE+K928*DE+L928*FR+M928*NL)>(N928),1,0)","v":0},null,{"$f":"IF((C$6*G928+D$6*H928+E$6*I928+F$6*J928+G$6*K928+H$6*L928+I$6*M928)>(N928),1,0)","v":0}]
[null,573,"[D2-AT] Pleinting - St. Peter 258 [DIR] [D2]_LTA_corner#04_#19","10T-AT-DE-000037","[D2-AT] Y - St. Peter (- Altheim - Simbach) 234/230","10T-AT-DE-000045",0,0,-0.98682999999999998,-5.4140000000000001E-2,0,-0.15245,0,5010,{"$f":"IF((G929*ALBE+H929*ALDE+I929*AT+J929*BE+K929*DE+L929*FR+M929*NL)>(N929),1,0)","v":0},null,{"$f":"IF((C$6*G929+D$6*H929+E$6*I929+F$6*J929+G$6*K929+H$6*L929+I$6*M929)>(N929),1,0)","v":0}]
[null,574,"[D2-AT] Pleinting - St. Peter 258 [DIR] [AT]_LTA_corner#14_#7","10T-AT-DE-000037","[D2-D2] Pirach - Pleinting 257","11TD2L000000201H",0,0,-0.99716000000000005,1.3729999999999999E-2,-6.062E-2,4.2599999999999999E-2,0,4795,{"$f":"IF((G930*ALBE+H930*ALDE+I930*AT+J930*BE+K930*DE+L930*FR+M930*NL)>(N930),1,0)","v":0},null,{"$f":"IF((C$6*G930+D$6*H930+E$6*I930+F$6*J930+G$6*K930+H$6*L930+I$6*M930)>(N930),1,0)","v":0}]
[null,575,"[D2-AT] Pleinting - St. Peter 258 [DIR] [AT]_LTA_corner#11_#0","10T-AT-DE-000037","[D2-D2] Pirach - Pleinting 257","11TD2L000000201H",0,0,-0.99670000000000003,0,-8.1159999999999996E-2,0,0,4634,{"$f":"IF((G931*ALBE+H931*ALDE+I931*AT+J931*BE+K931*DE+L931*FR+M931*NL)>(N931),1,0)","v":0},null,{"$f":"IF((C$6*G931+D$6*H931+E$6*I931+F$6*J931+G$6*K931+H$6*L931+I$6*M931)>(N931),1,0)","v":0}]
[null,576,"[D7-D4] Hoheneck - Pulverdingen weiss [DIR] [D4]_LTA_corner#09_#15","11T-D4-D7-00014N","[D4-D7] Y - Herbertingen - Hoheneck - Metzingen schwarz","11TD40000A546-S0",0,0,-0.84053999999999995,-9.7930000000000003E-2,-0.30357000000000001,-0.43787999999999999,0,3416,{"$f":"IF((G932*ALBE+H932*ALDE+I932*AT+J932*BE+K932*DE+L932*FR+M932*NL)>(N932),1,0)","v":0},null,{"$f":"IF((C$6*G932+D$6*H932+E$6*I932+F$6*J932+G$6*K932+H$6*L932+I$6*M932)>(N932),1,0)","v":0}]
[null,577,"[D2-AT] Pleinting - St. Peter 258 [DIR] [D2]_LTA_corner#09_#20","10T-AT-DE-000037","[D2-AT] Y - St. Peter (- Altheim - Simbach) 234/230","10T-AT-DE-000045",0,0,-0.99875999999999998,-3.0000000000000001E-3,-3.517E-2,-3.517E-2,0,4715,{"$f":"IF((G933*ALBE+H933*ALDE+I933*AT+J933*BE+K933*DE+L933*FR+M933*NL)>(N933),1,0)","v":0},null,{"$f":"IF((C$6*G933+D$6*H933+E$6*I933+F$6*J933+G$6*K933+H$6*L933+I$6*M933)>(N933),1,0)","v":0}]
[null,578,"[D2-AT] Pleinting - St. Peter 258 [DIR] [AT]_LTA_corner#06_#2","10T-AT-DE-000037","[D2-D2] Pirach - Pleinting 257","11TD2L000000201H",0,0,-0.99187999999999998,-0.12352,8.3300000000000006E-3,-2.911E-2,0,5122,{"$f":"IF((G934*ALBE+H934*ALDE+I934*AT+J934*BE+K934*DE+L934*FR+M934*NL)>(N934),1,0)","v":0},null,{"$f":"IF((C$6*G934+D$6*H934+E$6*I934+F$6*J934+G$6*K934+H$6*L934+I$6*M934)>(N934),1,0)","v":0}]
[null,579,"[D2-AT] Pleinting - St. Peter 258 [DIR] [D2]_LTA_corner#09_#12","10T-AT-DE-000037","[D2-AT] Y - St. Peter (- Altheim - Simbach) 234/230","10T-AT-DE-000045",0,0,-0.97924,-6.5290000000000001E-2,-0.13568,-0.13568,0,4344,{"$f":"IF((G935*ALBE+H935*ALDE+I935*AT+J935*BE+K935*DE+L935*FR+M935*NL)>(N935),1,0)","v":0},null,{"$f":"IF((C$6*G935+D$6*H935+E$6*I935+F$6*J935+G$6*K935+H$6*L935+I$6*M935)>(N935),1,0)","v":0}]
[null,580,"[D2-AT] Pleinting - St. Peter 258 [DIR] [AT]_LTA_corner#11_#5","10T-AT-DE-000037","[D2-D2] Pirach - Pleinting 257","11TD2L000000201H",0,0,-0.99797999999999998,2.9399999999999999E-2,-4.7969999999999999E-2,2.9399999999999999E-2,0,4768,{"$f":"IF((G936*ALBE+H936*ALDE+I936*AT+J936*BE+K936*DE+L936*FR+M936*NL)>(N936),1,0)","v":0},null,{"$f":"IF((C$6*G936+D$6*H936+E$6*I936+F$6*J936+G$6*K936+H$6*L936+I$6*M936)>(N936),1,0)","v":0}]
[null,581,"[BE-BE] PST_ZANDV_2 [N - S]_LTA_corner#13_#7","22T20161020---56","[NL-BE] Rilland - Zandvliet 380 White/30","10T-BE-NL-00004C",0,0,-0.3674,-0.71164000000000005,-0.33022000000000001,-0.49952999999999997,0,1697,{"$f":"IF((G937*ALBE+H937*ALDE+I937*AT+J937*BE+K937*DE+L937*FR+M937*NL)>(N937),1,0)","v":0},null,{"$f":"IF((C$6*G937+D$6*H937+E$6*I937+F$6*J937+G$6*K937+H$6*L937+I$6*M937)>(N937),1,0)","v":0}]
[null,582,"[D7-FR] Ensdorf - Vigy 2S [OPP] [D7]_LTA_corner#30_#14","10T-DE-FR-000068","[D7-D7] Ensdorf - Uchtelfangen Taubental N","11T0-0000-0604-N",0,0,1.2710000000000001E-2,0.36203000000000002,-0.22220000000000001,0.90520999999999996,0,4105,{"$f":"IF((G938*ALBE+H938*ALDE+I938*AT+J938*BE+K938*DE+L938*FR+M938*NL)>(N938),1,0)","v":0},null,{"$f":"IF((C$6*G938+D$6*H938+E$6*I938+F$6*J938+G$6*K938+H$6*L938+I$6*M938)>(N938),1,0)","v":0}]
[null,583,"[D2-AT] Pleinting - St. Peter 258 [DIR] [AT]_LTA_corner#07_#3","10T-AT-DE-000037","[D2-D2] Pirach - Pleinting 257","11TD2L000000201H",0,0,-0.99631999999999998,0,8.3700000000000007E-3,8.5319999999999993E-2,0,5101,{"$f":"IF((G939*ALBE+H939*ALDE+I939*AT+J939*BE+K939*DE+L939*FR+M939*NL)>(N939),1,0)","v":0},null,{"$f":"IF((C$6*G939+D$6*H939+E$6*I939+F$6*J939+G$6*K939+H$6*L939+I$6*M939)>(N939),1,0)","v":0}]
[null,584,"[D2-AT] Pleinting - St. Peter 258 [DIR] [D2]_LTA_corner#05_#1","10T-AT-DE-000037","[D2-AT] Y - St. Peter (- Altheim - Simbach) 234/230","10T-AT-DE-000045",0,0,-0.9829,0,0.17283999999999999,6.3530000000000003E-2,0,5976,{"$f":"IF((G940*ALBE+H940*ALDE+I940*AT+J940*BE+K940*DE+L940*FR+M940*NL)>(N940),1,0)","v":0},null,{"$f":"IF((C$6*G940+D$6*H940+E$6*I940+F$6*J940+G$6*K940+H$6*L940+I$6*M940)>(N940),1,0)","v":0}]
[null,585,"[D7-FR] Ensdorf - Vigy 2S [OPP] [D7]_LTA_corner#30_#6","10T-DE-FR-000068","[D7-D7] Ensdorf - Uchtelfangen Taubental N","11T0-0000-0604-N",0,0,2.843E-2,0.37352999999999997,-0.1779,0.90995999999999999,0,3849,{"$f":"IF((G941*ALBE+H941*ALDE+I941*AT+J941*BE+K941*DE+L941*FR+M941*NL)>(N941),1,0)","v":0},null,{"$f":"IF((C$6*G941+D$6*H941+E$6*I941+F$6*J941+G$6*K941+H$6*L941+I$6*M941)>(N941),1,0)","v":0}]
[null,586,"[AT-AT] Westtirol Transformer WTRHU41 [OPP]_LTA_corner#20_#11","14T-38220-WT041O","BASECASE","N/A",0,0,0.98787999999999998,-6.9129999999999997E-2,0.12057,-6.9129999999999997E-2,0,4552,{"$f":"IF((G942*ALBE+H942*ALDE+I942*AT+J942*BE+K942*DE+L942*FR+M942*NL)>(N942),1,0)","v":0},null,{"$f":"IF((C$6*G942+D$6*H942+E$6*I942+F$6*J942+G$6*K942+H$6*L942+I$6*M942)>(N942),1,0)","v":0}]
[null,587,"[D2-AT] Pleinting - St. Peter 258 [DIR] [AT]_LTA_corner#14_#13","10T-AT-DE-000037","[D2-D2] Pirach - Pleinting 257","11TD2L000000201H",0,0,-0.99719000000000002,0,-1.444E-2,7.3459999999999998E-2,0,5001,{"$f":"IF((G943*ALBE+H943*ALDE+I943*AT+J943*BE+K943*DE+L943*FR+M943*NL)>(N943),1,0)","v":0},null,{"$f":"IF((C$6*G943+D$6*H943+E$6*I943+F$6*J943+G$6*K943+H$6*L943+I$6*M943)>(N943),1,0)","v":0}]
[null,588,"[AT-AT] Westtirol Transformer WTRHU41 [OPP]_LTA_corner#17_#13","14T-38220-WT041O","BASECASE","N/A",0,0,0.99772000000000005,2.0000000000000002E-5,6.7519999999999997E-2,2.0000000000000002E-5,0,4623,{"$f":"IF((G944*ALBE+H944*ALDE+I944*AT+J944*BE+K944*DE+L944*FR+M944*NL)>(N944),1,0)","v":0},null,{"$f":"IF((C$6*G944+D$6*H944+E$6*I944+F$6*J944+G$6*K944+H$6*L944+I$6*M944)>(N944),1,0)","v":0}]
[null,589,"[D7-FR] Ensdorf - Vigy 2S [OPP] [D7]_LTA_corner#30_#37","10T-DE-FR-000068","[D7-D7] Ensdorf - Uchtelfangen Taubental N","11T0-0000-0604-N",0,0,8.1059999999999993E-2,0.35942000000000002,-0.13736000000000001,0.91944999999999999,0,3841,{"$f":"IF((G945*ALBE+H945*ALDE+I945*AT+J945*BE+K945*DE+L945*FR+M945*NL)>(N945),1,0)","v":0},null,{"$f":"IF((C$6*G945+D$6*H945+E$6*I945+F$6*J945+G$6*K945+H$6*L945+I$6*M945)>(N945),1,0)","v":0}]
[null,590,"[D2-AT] Pleinting - St. Peter 258 [DIR] [AT]_LTA_corner#02_#7","10T-AT-DE-000037","[D2-D2] Pirach - Pleinting 257","11TD2L000000201H",0,0,-0.99690000000000001,6.7000000000000004E-2,-2.9260000000000001E-2,-2.9260000000000001E-2,0,4804,{"$f":"IF((G946*ALBE+H946*ALDE+I946*AT+J946*BE+K946*DE+L946*FR+M946*NL)>(N946),1,0)","v":0},null,{"$f":"IF((C$6*G946+D$6*H946+E$6*I946+F$6*J946+G$6*K946+H$6*L946+I$6*M946)>(N946),1,0)","v":0}]
[null,591,"[D2-AT] Y - St. Peter (- Altheim - Simbach) 234/230 [OPP] [D2]_LTA_corner#23_#5","10T-AT-DE-000045","[D2-AT] Pirach - St. Peter 256","10T-AT-DE-000029",0,0,0.99860000000000004,1.1520000000000001E-2,0,5.1560000000000002E-2,0,4957,{"$f":"IF((G947*ALBE+H947*ALDE+I947*AT+J947*BE+K947*DE+L947*FR+M947*NL)>(N947),1,0)","v":0},null,{"$f":"IF((C$6*G947+D$6*H947+E$6*I947+F$6*J947+G$6*K947+H$6*L947+I$6*M947)>(N947),1,0)","v":0}]
[null,592,"[D7-FR] Ensdorf - Vigy 2S [OPP] [D7]_LTA_corner#30_#41","10T-DE-FR-000068","[D7-D7] Ensdorf - Uchtelfangen Taubental N","11T0-0000-0604-N",0,0,6.8449999999999997E-2,0.37474000000000002,-0.13958000000000001,0.91400000000000003,0,3764,{"$f":"IF((G948*ALBE+H948*ALDE+I948*AT+J948*BE+K948*DE+L948*FR+M948*NL)>(N948),1,0)","v":0},null,{"$f":"IF((C$6*G948+D$6*H948+E$6*I948+F$6*J948+G$6*K948+H$6*L948+I$6*M948)>(N948),1,0)","v":0}]
[null,593,"[D2-AT] Pleinting - St. Peter 258 [DIR] [AT]_LTA_corner#01_#5","10T-AT-DE-000037","[D2-D2] Pirach - Pleinting 257","11TD2L000000201H",0,0,-0.98453000000000002,0,0.13319,-0.11380999999999999,0,5847,{"$f":"IF((G949*ALBE+H949*ALDE+I949*AT+J949*BE+K949*DE+L949*FR+M949*NL)>(N949),1,0)","v":0},null,{"$f":"IF((C$6*G949+D$6*H949+E$6*I949+F$6*J949+G$6*K949+H$6*L949+I$6*M949)>(N949),1,0)","v":0}]
[null,594,"[D2-AT] Pleinting - St. Peter 258 [DIR] [D2]_LTA_corner#01_#3","10T-AT-DE-000037","[D2-AT] Y - St. Peter (- Altheim - Simbach) 234/230","10T-AT-DE-000045",0,0,-0.84602999999999995,0.22220999999999999,0.43065999999999999,0.22220999999999999,0,6966,{"$f":"IF((G950*ALBE+H950*ALDE+I950*AT+J950*BE+K950*DE+L950*FR+M950*NL)>(N950),1,0)","v":0},null,{"$f":"IF((C$6*G950+D$6*H950+E$6*I950+F$6*J950+G$6*K950+H$6*L950+I$6*M950)>(N950),1,0)","v":0}]
[null,595,"[D2-AT] Pleinting - St. Peter 258 [DIR] [D2]_LTA_corner#05_#23","10T-AT-DE-000037","[D2-AT] Y - St. Peter (- Altheim - Simbach) 234/230","10T-AT-DE-000045",0,0,-0.99899000000000004,3.5799999999999998E-3,3.1739999999999997E-2,3.1739999999999997E-2,0,5053,{"$f":"IF((G951*ALBE+H951*ALDE+I951*AT+J951*BE+K951*DE+L951*FR+M951*NL)>(N951),1,0)","v":0},null,{"$f":"IF((C$6*G951+D$6*H951+E$6*I951+F$6*J951+G$6*K951+H$6*L951+I$6*M951)>(N951),1,0)","v":0}]
[null,596,"[BE-BE] PST_ZANDV_2 [N - S]_LTA_corner#13_#12","22T20161020---56","[NL-BE] Rilland - Zandvliet 380 White/30","10T-BE-NL-00004C",0,0,-0.30651,-0.81843999999999995,-0.26197999999999999,-0.40936,0,2032,{"$f":"IF((G952*ALBE+H952*ALDE+I952*AT+J952*BE+K952*DE+L952*FR+M952*NL)>(N952),1,0)","v":0},null,{"$f":"IF((C$6*G952+D$6*H952+E$6*I952+F$6*J952+G$6*K952+H$6*L952+I$6*M952)>(N952),1,0)","v":0}]
[null,597,"[BE-BE] PST_VANYK_2 [S - N]","22T-BE-PST--002U","[NL-BE] Rilland - Zandvliet 380 White/30","10T-BE-NL-00004C",0.47521000000000002,-4.4679999999999997E-2,1.1560000000000001E-2,0.24692,-2.0469999999999999E-2,8.5309999999999997E-2,-3.984E-2,1011,{"$f":"IF((G953*ALBE+H953*ALDE+I953*AT+J953*BE+K953*DE+L953*FR+M953*NL)>(N953),1,0)","v":0},null,{"$f":"IF((C$6*G953+D$6*H953+E$6*I953+F$6*J953+G$6*K953+H$6*L953+I$6*M953)>(N953),1,0)","v":0}]
[null,598,"[D2-AT] Pleinting - St. Peter 258 [DIR] [D2]_LTA_corner#04_#3","10T-AT-DE-000037","[D2-AT] Y - St. Peter (- Altheim - Simbach) 234/230","10T-AT-DE-000045",0,0,-0.98646999999999996,-4.7940000000000003E-2,2.8840000000000001E-2,-0.15407000000000001,0,5209,{"$f":"IF((G954*ALBE+H954*ALDE+I954*AT+J954*BE+K954*DE+L954*FR+M954*NL)>(N954),1,0)","v":0},null,{"$f":"IF((C$6*G954+D$6*H954+E$6*I954+F$6*J954+G$6*K954+H$6*L954+I$6*M954)>(N954),1,0)","v":0}]
[null,599,"[AT-AT] Westtirol Transformer WTRHU41 [OPP]_LTA_corner#17_#11","14T-38220-WT041O","BASECASE","N/A",0,0,0.99697999999999998,1.154E-2,7.5980000000000006E-2,1.154E-2,0,4592,{"$f":"IF((G955*ALBE+H955*ALDE+I955*AT+J955*BE+K955*DE+L955*FR+M955*NL)>(N955),1,0)","v":0},null,{"$f":"IF((C$6*G955+D$6*H955+E$6*I955+F$6*J955+G$6*K955+H$6*L955+I$6*M955)>(N955),1,0)","v":0}]
[null,600,"[BE-BE] Achene - Gramme 380.10 [OPP]_LTA_corner#02_#22","22T-BE-IN-LI0130","[BE-BE] Avelgem - Horta 380.102","22T20161020---1E",0,0,-0.45773000000000003,0.18332000000000001,-0.29577999999999999,-0.81816,0,2422,{"$f":"IF((G956*ALBE+H956*ALDE+I956*AT+J956*BE+K956*DE+L956*FR+M956*NL)>(N956),1,0)","v":0},null,{"$f":"IF((C$6*G956+D$6*H956+E$6*I956+F$6*J956+G$6*K956+H$6*L956+I$6*M956)>(N956),1,0)","v":0}]
[null,601,"[D2-AT] Pleinting - St. Peter 258 [DIR] [AT]_LTA_corner#06_#15","10T-AT-DE-000037","[D2-D2] Pirach - Pleinting 257","11TD2L000000201H",0,0,-0.99643999999999999,-8.4290000000000004E-2,0,0,0,5010,{"$f":"IF((G957*ALBE+H957*ALDE+I957*AT+J957*BE+K957*DE+L957*FR+M957*NL)>(N957),1,0)","v":0},null,{"$f":"IF((C$6*G957+D$6*H957+E$6*I957+F$6*J957+G$6*K957+H$6*L957+I$6*M957)>(N957),1,0)","v":0}]
[null,602,"[AT-AT] Westtirol Transformer WTRHU41 [OPP]_LTA_corner#20_#13","14T-38220-WT041O","BASECASE","N/A",0,0,0.99043999999999999,-1.4500000000000001E-2,0.13639000000000001,-1.4500000000000001E-2,0,4425,{"$f":"IF((G958*ALBE+H958*ALDE+I958*AT+J958*BE+K958*DE+L958*FR+M958*NL)>(N958),1,0)","v":0},null,{"$f":"IF((C$6*G958+D$6*H958+E$6*I958+F$6*J958+G$6*K958+H$6*L958+I$6*M958)>(N958),1,0)","v":0}]
[null,603,"[D2-AT] Pleinting - St. Peter 258 [DIR] [AT]_LTA_corner#02_#1","10T-AT-DE-000037","[D2-D2] Pirach - Pleinting 257","11TD2L000000201H",0,0,-0.99646000000000001,8.2869999999999999E-2,-1.005E-2,-1.005E-2,0,4876,{"$f":"IF((G959*ALBE+H959*ALDE+I959*AT+J959*BE+K959*DE+L959*FR+M959*NL)>(N959),1,0)","v":0},null,{"$f":"IF((C$6*G959+D$6*H959+E$6*I959+F$6*J959+G$6*K959+H$6*L959+I$6*M959)>(N959),1,0)","v":0}]
[null,604,"[D2-AT] Pleinting - St. Peter 258 [DIR] [AT]_LTA_corner#01_#0","10T-AT-DE-000037","[D2-D2] Pirach - Pleinting 257","11TD2L000000201H",0,0,-0.99321000000000004,0.11233,8.3400000000000002E-3,-2.9149999999999999E-2,0,5029,{"$f":"IF((G960*ALBE+H960*ALDE+I960*AT+J960*BE+K960*DE+L960*FR+M960*NL)>(N960),1,0)","v":0},null,{"$f":"IF((C$6*G960+D$6*H960+E$6*I960+F$6*J960+G$6*K960+H$6*L960+I$6*M960)>(N960),1,0)","v":0}]
[null,605,"[D2-AT] Pleinting - St. Peter 258 [DIR] [AT]_LTA_corner#01_#9","10T-AT-DE-000037","[D2-D2] Pirach - Pleinting 257","11TD2L000000201H",0,0,-0.99736999999999998,7.1470000000000006E-2,8.3800000000000003E-3,8.3800000000000003E-3,0,4940,{"$f":"IF((G961*ALBE+H961*ALDE+I961*AT+J961*BE+K961*DE+L961*FR+M961*NL)>(N961),1,0)","v":0},null,{"$f":"IF((C$6*G961+D$6*H961+E$6*I961+F$6*J961+G$6*K961+H$6*L961+I$6*M961)>(N961),1,0)","v":0}]
[null,606,"[BE-BE] Achene - Gramme 380.10 [OPP]_LTA_corner#02_#8","22T-BE-IN-LI0130","[BE-BE] Avelgem - Horta 380.102","22T20161020---1E",0,0,-0.51192000000000004,0,-0.39488000000000001,-0.76290000000000002,0,1930,{"$f":"IF((G962*ALBE+H962*ALDE+I962*AT+J962*BE+K962*DE+L962*FR+M962*NL)>(N962),1,0)","v":0},null,{"$f":"IF((C$6*G962+D$6*H962+E$6*I962+F$6*J962+G$6*K962+H$6*L962+I$6*M962)>(N962),1,0)","v":0}]
[null,607,"[D2-AT] Pleinting - St. Peter 258 [DIR] [AT]_LTA_corner#09_#4","10T-AT-DE-000037","[D2-D2] Pirach - Pleinting 257","11TD2L000000201H",0,0,-0.99719000000000002,-4.326E-2,-4.326E-2,-4.326E-2,0,4691,{"$f":"IF((G963*ALBE+H963*ALDE+I963*AT+J963*BE+K963*DE+L963*FR+M963*NL)>(N963),1,0)","v":0},null,{"$f":"IF((C$6*G963+D$6*H963+E$6*I963+F$6*J963+G$6*K963+H$6*L963+I$6*M963)>(N963),1,0)","v":0}]
[null,608,"[D2-AT] Pleinting - St. Peter 258 [DIR] [AT]_LTA_corner#01_#8","10T-AT-DE-000037","[D2-D2] Pirach - Pleinting 257","11TD2L000000201H",0,0,-0.99409000000000003,0,0.10853,0,0,5541,{"$f":"IF((G964*ALBE+H964*ALDE+I964*AT+J964*BE+K964*DE+L964*FR+M964*NL)>(N964),1,0)","v":0},null,{"$f":"IF((C$6*G964+D$6*H964+E$6*I964+F$6*J964+G$6*K964+H$6*L964+I$6*M964)>(N964),1,0)","v":0}]
[null,609,"[D2-AT] Pleinting - St. Peter 258 [DIR] [AT]_LTA_corner#13_#3","10T-AT-DE-000037","[D2-D2] Pirach - Pleinting 257","11TD2L000000201H",0,0,-0.99611000000000005,-8.584E-2,-1.391E-2,-1.391E-2,0,4941,{"$f":"IF((G965*ALBE+H965*ALDE+I965*AT+J965*BE+K965*DE+L965*FR+M965*NL)>(N965),1,0)","v":0},null,{"$f":"IF((C$6*G965+D$6*H965+E$6*I965+F$6*J965+G$6*K965+H$6*L965+I$6*M965)>(N965),1,0)","v":0}]
[null,610,"[BE-BE] PST_ZANDV_2 [N - S]_LTA_corner#13_#0","22T20161020---56","[NL-BE] Rilland - Zandvliet 380 White/30","10T-BE-NL-00004C",0,0,-0.30998999999999999,-0.82123000000000002,-0.27102999999999999,-0.39500000000000002,0,2025,{"$f":"IF((G966*ALBE+H966*ALDE+I966*AT+J966*BE+K966*DE+L966*FR+M966*NL)>(N966),1,0)","v":0},null,{"$f":"IF((C$6*G966+D$6*H966+E$6*I966+F$6*J966+G$6*K966+H$6*L966+I$6*M966)>(N966),1,0)","v":0}]
[null,611,"[AT-AT] Westtirol Transformer WTRHU41 [OPP]_LTA_corner#21_#8","14T-38220-WT041O","BASECASE","N/A",0,0,0.99728000000000006,0,7.1580000000000005E-2,1.7420000000000001E-2,0,4622,{"$f":"IF((G967*ALBE+H967*ALDE+I967*AT+J967*BE+K967*DE+L967*FR+M967*NL)>(N967),1,0)","v":0},null,{"$f":"IF((C$6*G967+D$6*H967+E$6*I967+F$6*J967+G$6*K967+H$6*L967+I$6*M967)>(N967),1,0)","v":0}]
[null,612,"[AT-AT] Westtirol Transformer WTRHU41 [OPP]_LTA_corner#20_#4","14T-38220-WT041O","BASECASE","N/A",0,0,0.97402,-2.981E-2,0.19567999999999999,-0.11,0,4339,{"$f":"IF((G968*ALBE+H968*ALDE+I968*AT+J968*BE+K968*DE+L968*FR+M968*NL)>(N968),1,0)","v":0},null,{"$f":"IF((C$6*G968+D$6*H968+E$6*I968+F$6*J968+G$6*K968+H$6*L968+I$6*M968)>(N968),1,0)","v":0}]
[null,613,"[BE-BE] Achene - Gramme 380.10 [OPP]_LTA_corner#02_#18","22T-BE-IN-LI0130","[BE-BE] Avelgem - Horta 380.102","22T20161020---1E",0,0,-0.47848000000000002,0,-0.32573000000000002,-0.81545000000000001,0,2161,{"$f":"IF((G969*ALBE+H969*ALDE+I969*AT+J969*BE+K969*DE+L969*FR+M969*NL)>(N969),1,0)","v":0},null,{"$f":"IF((C$6*G969+D$6*H969+E$6*I969+F$6*J969+G$6*K969+H$6*L969+I$6*M969)>(N969),1,0)","v":0}]
[null,614,"[BE-BE] PST_ZANDV_2 [N - S]_LTA_corner#13_#10","22T20161020---56","[NL-BE] Rilland - Zandvliet 380 White/30","10T-BE-NL-00004C",0,0,-0.30438999999999999,-0.80755999999999994,-0.24329999999999999,-0.44272,0,2055,{"$f":"IF((G970*ALBE+H970*ALDE+I970*AT+J970*BE+K970*DE+L970*FR+M970*NL)>(N970),1,0)","v":0},null,{"$f":"IF((C$6*G970+D$6*H970+E$6*I970+F$6*J970+G$6*K970+H$6*L970+I$6*M970)>(N970),1,0)","v":0}]
[null,615,"[D7-FR] Ensdorf - Vigy 2S [OPP] [D7]_LTA_corner#30_#29","10T-DE-FR-000068","[D7-D7] Ensdorf - Uchtelfangen Taubental N","11T0-0000-0604-N",0,0,-1.2460000000000001E-2,0.37506,-0.23901,0.89556999999999998,0,4067,{"$f":"IF((G971*ALBE+H971*ALDE+I971*AT+J971*BE+K971*DE+L971*FR+M971*NL)>(N971),1,0)","v":0},null,{"$f":"IF((C$6*G971+D$6*H971+E$6*I971+F$6*J971+G$6*K971+H$6*L971+I$6*M971)>(N971),1,0)","v":0}]
[null,616,"[D2-AT] Pleinting - St. Peter 258 [DIR] [D2]_LTA_corner#04_#1","10T-AT-DE-000037","[D2-AT] Y - St. Peter (- Altheim - Simbach) 234/230","10T-AT-DE-000045",0,0,-0.99668000000000001,-5.6980000000000003E-2,1.1679999999999999E-2,-5.6980000000000003E-2,0,4985,{"$f":"IF((G972*ALBE+H972*ALDE+I972*AT+J972*BE+K972*DE+L972*FR+M972*NL)>(N972),1,0)","v":0},null,{"$f":"IF((C$6*G972+D$6*H972+E$6*I972+F$6*J972+G$6*K972+H$6*L972+I$6*M972)>(N972),1,0)","v":0}]
[null,617,"[BE-BE] PST_ZANDV_2 [N - S]_LTA_corner#13_#26","22T20161020---56","[NL-BE] Rilland - Zandvliet 380 White/30","10T-BE-NL-00004C",0,0,-0.40404000000000001,-0.66929000000000005,-0.35199999999999998,-0.51468000000000003,0,1662,{"$f":"IF((G973*ALBE+H973*ALDE+I973*AT+J973*BE+K973*DE+L973*FR+M973*NL)>(N973),1,0)","v":0},null,{"$f":"IF((C$6*G973+D$6*H973+E$6*I973+F$6*J973+G$6*K973+H$6*L973+I$6*M973)>(N973),1,0)","v":0}]
[null,618,"[D2-AT] Pleinting - St. Peter 258 [DIR] [AT]_LTA_corner#12_#6","10T-AT-DE-000037","[D2-D2] Pirach - Pleinting 257","11TD2L000000201H",0,0,-0.99650000000000005,-2.5500000000000002E-3,0,8.3549999999999999E-2,0,5065,{"$f":"IF((G974*ALBE+H974*ALDE+I974*AT+J974*BE+K974*DE+L974*FR+M974*NL)>(N974),1,0)","v":0},null,{"$f":"IF((C$6*G974+D$6*H974+E$6*I974+F$6*J974+G$6*K974+H$6*L974+I$6*M974)>(N974),1,0)","v":0}]
[null,619,"[D2-AT] Y - St. Peter (- Altheim - Simbach) 234/230 [OPP] [D2]_LTA_corner#30_#7","10T-AT-DE-000045","[D2-AT] Pirach - St. Peter 256","10T-AT-DE-000029",0,0,0.99875000000000003,0,-2.9250000000000002E-2,4.0480000000000002E-2,0,5157,{"$f":"IF((G975*ALBE+H975*ALDE+I975*AT+J975*BE+K975*DE+L975*FR+M975*NL)>(N975),1,0)","v":0},null,{"$f":"IF((C$6*G975+D$6*H975+E$6*I975+F$6*J975+G$6*K975+H$6*L975+I$6*M975)>(N975),1,0)","v":0}]
[null,620,"[AT-AT] Westtirol Transformer WTRHU41 [OPP]_LTA_corner#21_#9","14T-38220-WT041O","BASECASE","N/A",0,0,0.99628000000000005,0,8.4669999999999995E-2,1.5990000000000001E-2,0,4580,{"$f":"IF((G976*ALBE+H976*ALDE+I976*AT+J976*BE+K976*DE+L976*FR+M976*NL)>(N976),1,0)","v":0},null,{"$f":"IF((C$6*G976+D$6*H976+E$6*I976+F$6*J976+G$6*K976+H$6*L976+I$6*M976)>(N976),1,0)","v":0}]
[null,621,"[D7-FR] Ensdorf - Vigy 2S [OPP] [D7]_LTA_corner#30_#28","10T-DE-FR-000068","[D7-D7] Ensdorf - Uchtelfangen Taubental N","11T0-0000-0604-N",0,0,-1.9290000000000002E-2,0.38478000000000001,-0.24715999999999999,0.88909000000000005,0,4065,{"$f":"IF((G977*ALBE+H977*ALDE+I977*AT+J977*BE+K977*DE+L977*FR+M977*NL)>(N977),1,0)","v":0},null,{"$f":"IF((C$6*G977+D$6*H977+E$6*I977+F$6*J977+G$6*K977+H$6*L977+I$6*M977)>(N977),1,0)","v":0}]
[null,622,"[D2-AT] Pleinting - St. Peter 258 [DIR] [D2]_LTA_corner#11_#10","10T-AT-DE-000037","[D2-AT] Y - St. Peter (- Altheim - Simbach) 234/230","10T-AT-DE-000045",0,0,-1,0,-3.1E-4,0,0,4820,{"$f":"IF((G978*ALBE+H978*ALDE+I978*AT+J978*BE+K978*DE+L978*FR+M978*NL)>(N978),1,0)","v":0},null,{"$f":"IF((C$6*G978+D$6*H978+E$6*I978+F$6*J978+G$6*K978+H$6*L978+I$6*M978)>(N978),1,0)","v":0}]
[null,623,"[D2-AT] Pleinting - St. Peter 258 [DIR] [D2]_LTA_corner#01_#4","10T-AT-DE-000037","[D2-AT] Y - St. Peter (- Altheim - Simbach) 234/230","10T-AT-DE-000045",0,0,-0.99789000000000005,2.8680000000000001E-2,5.1900000000000002E-3,-5.806E-2,0,4974,{"$f":"IF((G979*ALBE+H979*ALDE+I979*AT+J979*BE+K979*DE+L979*FR+M979*NL)>(N979),1,0)","v":0},null,{"$f":"IF((C$6*G979+D$6*H979+E$6*I979+F$6*J979+G$6*K979+H$6*L979+I$6*M979)>(N979),1,0)","v":0}]
[null,624,"[D2-AT] Pleinting - St. Peter 258 [DIR] [D2]_LTA_corner#07_#1","10T-AT-DE-000037","[D2-AT] Y - St. Peter (- Altheim - Simbach) 234/230","10T-AT-DE-000045",0,0,-0.99939999999999996,0,2.2679999999999999E-2,2.6210000000000001E-2,0,5001,{"$f":"IF((G980*ALBE+H980*ALDE+I980*AT+J980*BE+K980*DE+L980*FR+M980*NL)>(N980),1,0)","v":0},null,{"$f":"IF((C$6*G980+D$6*H980+E$6*I980+F$6*J980+G$6*K980+H$6*L980+I$6*M980)>(N980),1,0)","v":0}]
[null,625,"[D2-AT] Pleinting - St. Peter 258 [DIR] [D2]_LTA_corner#09_#21","10T-AT-DE-000037","[D2-AT] Y - St. Peter (- Altheim - Simbach) 234/230","10T-AT-DE-000045",0,0,-0.99758000000000002,-4.0149999999999998E-2,-4.0149999999999998E-2,-4.0149999999999998E-2,0,4701,{"$f":"IF((G981*ALBE+H981*ALDE+I981*AT+J981*BE+K981*DE+L981*FR+M981*NL)>(N981),1,0)","v":0},null,{"$f":"IF((C$6*G981+D$6*H981+E$6*I981+F$6*J981+G$6*K981+H$6*L981+I$6*M981)>(N981),1,0)","v":0}]
[null,626,"[D2-AT] Pleinting - St. Peter 258 [DIR] [D2]_LTA_corner#01_#14","10T-AT-DE-000037","[D2-AT] Y - St. Peter (- Altheim - Simbach) 234/230","10T-AT-DE-000045",0,0,-0.99602999999999997,0,0,-8.9029999999999998E-2,0,4944,{"$f":"IF((G982*ALBE+H982*ALDE+I982*AT+J982*BE+K982*DE+L982*FR+M982*NL)>(N982),1,0)","v":0},null,{"$f":"IF((C$6*G982+D$6*H982+E$6*I982+F$6*J982+G$6*K982+H$6*L982+I$6*M982)>(N982),1,0)","v":0}]
[null,627,"[AT-AT] Westtirol Transformer WTRHU41 [OPP]_LTA_corner#20_#0","14T-38220-WT041O","BASECASE","N/A",0,0,0.98412999999999995,-6.8870000000000001E-2,0.14835999999999999,-6.8870000000000001E-2,0,4457,{"$f":"IF((G983*ALBE+H983*ALDE+I983*AT+J983*BE+K983*DE+L983*FR+M983*NL)>(N983),1,0)","v":0},null,{"$f":"IF((C$6*G983+D$6*H983+E$6*I983+F$6*J983+G$6*K983+H$6*L983+I$6*M983)>(N983),1,0)","v":0}]
[null,628,"[BE-BE] Achene - Gramme 380.10 [OPP]_LTA_corner#02_#13","22T-BE-IN-LI0130","[BE-BE] Avelgem - Horta 380.102","22T20161020---1E",0,0,-0.49225000000000002,0,-0.37897999999999998,-0.78361999999999998,0,1939,{"$f":"IF((G984*ALBE+H984*ALDE+I984*AT+J984*BE+K984*DE+L984*FR+M984*NL)>(N984),1,0)","v":0},null,{"$f":"IF((C$6*G984+D$6*H984+E$6*I984+F$6*J984+G$6*K984+H$6*L984+I$6*M984)>(N984),1,0)","v":0}]
[null,629,"[AT-AT] Westtirol Transformer WTRHU41 [OPP]_LTA_corner#17_#10","14T-38220-WT041O","BASECASE","N/A",0,0,0.99473,0,0.10249,0,0,4513,{"$f":"IF((G985*ALBE+H985*ALDE+I985*AT+J985*BE+K985*DE+L985*FR+M985*NL)>(N985),1,0)","v":0},null,{"$f":"IF((C$6*G985+D$6*H985+E$6*I985+F$6*J985+G$6*K985+H$6*L985+I$6*M985)>(N985),1,0)","v":0}]
[null,630,"[D2-AT] Y - St. Peter (- Altheim - Simbach) 234/230 [OPP] [D2]_LTA_corner#23_#7","10T-AT-DE-000045","[D2-AT] Pirach - St. Peter 256","10T-AT-DE-000029",0,0,0.99822,9.7800000000000005E-3,0,5.8810000000000001E-2,0,4979,{"$f":"IF((G986*ALBE+H986*ALDE+I986*AT+J986*BE+K986*DE+L986*FR+M986*NL)>(N986),1,0)","v":0},null,{"$f":"IF((C$6*G986+D$6*H986+E$6*I986+F$6*J986+G$6*K986+H$6*L986+I$6*M986)>(N986),1,0)","v":0}]
[null,631,"[D2-AT] Pleinting - St. Peter 258 [DIR] [AT]_LTA_corner#14_#1","10T-AT-DE-000037","[D2-D2] Pirach - Pleinting 257","11TD2L000000201H",0,0,-0.99650000000000005,1.1129999999999999E-2,-7.7350000000000002E-2,2.9739999999999999E-2,0,4720,{"$f":"IF((G987*ALBE+H987*ALDE+I987*AT+J987*BE+K987*DE+L987*FR+M987*NL)>(N987),1,0)","v":0},null,{"$f":"IF((C$6*G987+D$6*H987+E$6*I987+F$6*J987+G$6*K987+H$6*L987+I$6*M987)>(N987),1,0)","v":0}]
[null,632,"[D2-AT] Pleinting - St. Peter 258 [DIR] [AT]_LTA_corner#01_#12","10T-AT-DE-000037","[D2-D2] Pirach - Pleinting 257","11TD2L000000201H",0,0,-0.99460999999999999,0.10095999999999999,0,-2.3439999999999999E-2,0,4956,{"$f":"IF((G988*ALBE+H988*ALDE+I988*AT+J988*BE+K988*DE+L988*FR+M988*NL)>(N988),1,0)","v":0},null,{"$f":"IF((C$6*G988+D$6*H988+E$6*I988+F$6*J988+G$6*K988+H$6*L988+I$6*M988)>(N988),1,0)","v":0}]
[null,633,"[D2-AT] Pleinting - St. Peter 258 [DIR] [AT]_LTA_corner#15_#2","10T-AT-DE-000037","[D2-D2] Pirach - Pleinting 257","11TD2L000000201H",0,0,-0.99670999999999998,-2.9250000000000002E-2,-6.9650000000000004E-2,-2.9250000000000002E-2,0,4641,{"$f":"IF((G989*ALBE+H989*ALDE+I989*AT+J989*BE+K989*DE+L989*FR+M989*NL)>(N989),1,0)","v":0},null,{"$f":"IF((C$6*G989+D$6*H989+E$6*I989+F$6*J989+G$6*K989+H$6*L989+I$6*M989)>(N989),1,0)","v":0}]
[null,634,"[D7-D4] Hoheneck - Pulverdingen weiss [DIR] [D4]_LTA_corner#09_#18","11T-D4-D7-00014N","[D4-D7] Y - Herbertingen - Hoheneck - Metzingen schwarz","11TD40000A546-S0",0,0,-0.84060999999999997,-9.851E-2,-0.30360999999999999,-0.43758999999999998,0,3416,{"$f":"IF((G990*ALBE+H990*ALDE+I990*AT+J990*BE+K990*DE+L990*FR+M990*NL)>(N990),1,0)","v":0},null,{"$f":"IF((C$6*G990+D$6*H990+E$6*I990+F$6*J990+G$6*K990+H$6*L990+I$6*M990)>(N990),1,0)","v":0}]
[null,635,"[D2-AT] Pleinting - St. Peter 258 [DIR] [AT]_LTA_corner#02_#11","10T-AT-DE-000037","[D2-D2] Pirach - Pleinting 257","11TD2L000000201H",0,0,-0.99641000000000002,0,-5.9900000000000002E-2,-5.9900000000000002E-2,0,4633,{"$f":"IF((G991*ALBE+H991*ALDE+I991*AT+J991*BE+K991*DE+L991*FR+M991*NL)>(N991),1,0)","v":0},null,{"$f":"IF((C$6*G991+D$6*H991+E$6*I991+F$6*J991+G$6*K991+H$6*L991+I$6*M991)>(N991),1,0)","v":0}]
[null,636,"[AT-AT] Westtirol Transformer WTRHU41 [OPP]_LTA_corner#21_#5","14T-38220-WT041O","BASECASE","N/A",0,0,0.99748999999999999,7.2899999999999996E-3,6.5689999999999998E-2,2.5250000000000002E-2,0,4637,{"$f":"IF((G992*ALBE+H992*ALDE+I992*AT+J992*BE+K992*DE+L992*FR+M992*NL)>(N992),1,0)","v":0},null,{"$f":"IF((C$6*G992+D$6*H992+E$6*I992+F$6*J992+G$6*K992+H$6*L992+I$6*M992)>(N992),1,0)","v":0}]
[null,637,"[D2-AT] Pleinting - St. Peter 258 [DIR] [D2]_LTA_corner#05_#14","10T-AT-DE-000037","[D2-AT] Y - St. Peter (- Altheim - Simbach) 234/230","10T-AT-DE-000045",0,0,0.56201000000000001,0.26634999999999998,0.66303999999999996,0.41664000000000001,0,1871,{"$f":"IF((G993*ALBE+H993*ALDE+I993*AT+J993*BE+K993*DE+L993*FR+M993*NL)>(N993),1,0)","v":0},null,{"$f":"IF((C$6*G993+D$6*H993+E$6*I993+F$6*J993+G$6*K993+H$6*L993+I$6*M993)>(N993),1,0)","v":0}]
[null,638,"[AT-AT] Westtirol Transformer WTRHU41 [OPP]_LTA_corner#20_#7","14T-38220-WT041O","BASECASE","N/A",0,0,0.98141,-1.9769999999999999E-2,0.13514999999999999,-0.13483000000000001,0,4578,{"$f":"IF((G994*ALBE+H994*ALDE+I994*AT+J994*BE+K994*DE+L994*FR+M994*NL)>(N994),1,0)","v":0},null,{"$f":"IF((C$6*G994+D$6*H994+E$6*I994+F$6*J994+G$6*K994+H$6*L994+I$6*M994)>(N994),1,0)","v":0}]
[null,639,"[D2-AT] Pleinting - St. Peter 258 [DIR] [AT]_LTA_corner#14_#6","10T-AT-DE-000037","[D2-D2] Pirach - Pleinting 257","11TD2L000000201H",0,0,-0.99726000000000004,0,-6.9809999999999997E-2,2.453E-2,0,4736,{"$f":"IF((G995*ALBE+H995*ALDE+I995*AT+J995*BE+K995*DE+L995*FR+M995*NL)>(N995),1,0)","v":0},null,{"$f":"IF((C$6*G995+D$6*H995+E$6*I995+F$6*J995+G$6*K995+H$6*L995+I$6*M995)>(N995),1,0)","v":0}]
[null,640,"[BE-BE] Achene - Gramme 380.10 [OPP]_LTA_corner#02_#1","22T-BE-IN-LI0130","[BE-BE] Avelgem - Horta 380.102","22T20161020---1E",0,0,-0.36842999999999998,0.61126999999999998,-0.23508000000000001,-0.65981000000000001,0,2530,{"$f":"IF((G996*ALBE+H996*ALDE+I996*AT+J996*BE+K996*DE+L996*FR+M996*NL)>(N996),1,0)","v":0},null,{"$f":"IF((C$6*G996+D$6*H996+E$6*I996+F$6*J996+G$6*K996+H$6*L996+I$6*M996)>(N996),1,0)","v":0}]
[null,641,"[D2-AT] Pleinting - St. Peter 258 [DIR] [D2]_LTA_corner#01_#1","10T-AT-DE-000037","[D2-AT] Y - St. Peter (- Altheim - Simbach) 234/230","10T-AT-DE-000045",0,0,-0.98740000000000006,0,0.15826000000000001,0,0,5852,{"$f":"IF((G997*ALBE+H997*ALDE+I997*AT+J997*BE+K997*DE+L997*FR+M997*NL)>(N997),1,0)","v":0},null,{"$f":"IF((C$6*G997+D$6*H997+E$6*I997+F$6*J997+G$6*K997+H$6*L997+I$6*M997)>(N997),1,0)","v":0}]
[null,642,"[D2-AT] Pleinting - St. Peter 258 [DIR] [D2]_LTA_corner#15_#6","10T-AT-DE-000037","[D2-AT] Y - St. Peter (- Altheim - Simbach) 234/230","10T-AT-DE-000045",0,0,-0.99865000000000004,-5.8399999999999997E-3,-3.7839999999999999E-2,-3.517E-2,0,4709,{"$f":"IF((G998*ALBE+H998*ALDE+I998*AT+J998*BE+K998*DE+L998*FR+M998*NL)>(N998),1,0)","v":0},null,{"$f":"IF((C$6*G998+D$6*H998+E$6*I998+F$6*J998+G$6*K998+H$6*L998+I$6*M998)>(N998),1,0)","v":0}]
[null,643,"[BE-BE] Achene - Gramme 380.10 [OPP]_LTA_corner#02_#17","22T-BE-IN-LI0130","[BE-BE] Avelgem - Horta 380.102","22T20161020---1E",0,0,-0.46503,0.12086,-0.30309000000000003,-0.82296999999999998,0,2356,{"$f":"IF((G999*ALBE+H999*ALDE+I999*AT+J999*BE+K999*DE+L999*FR+M999*NL)>(N999),1,0)","v":0},null,{"$f":"IF((C$6*G999+D$6*H999+E$6*I999+F$6*J999+G$6*K999+H$6*L999+I$6*M999)>(N999),1,0)","v":0}]
[null,644,"[D2-AT] Pleinting - St. Peter 258 [DIR] [D2]_LTA_corner#09_#9","10T-AT-DE-000037","[D2-AT] Y - St. Peter (- Altheim - Simbach) 234/230","10T-AT-DE-000045",0,0,-0.97699000000000003,-9.4049999999999995E-2,-0.13536999999999999,-0.13536999999999999,0,4338,{"$f":"IF((G1000*ALBE+H1000*ALDE+I1000*AT+J1000*BE+K1000*DE+L1000*FR+M1000*NL)>(N1000),1,0)","v":0},null,{"$f":"IF((C$6*G1000+D$6*H1000+E$6*I1000+F$6*J1000+G$6*K1000+H$6*L1000+I$6*M1000)>(N1000),1,0)","v":0}]
[null,645,"[AT-AT] Westtirol Transformer WTRHU41 [OPP]_LTA_corner#20_#10","14T-38220-WT041O","BASECASE","N/A",0,0,0.99511000000000005,-2.0039999999999999E-2,6.7150000000000001E-2,-6.9639999999999994E-2,0,4726,{"$f":"IF((G1001*ALBE+H1001*ALDE+I1001*AT+J1001*BE+K1001*DE+L1001*FR+M1001*NL)>(N1001),1,0)","v":0},null,{"$f":"IF((C$6*G1001+D$6*H1001+E$6*I1001+F$6*J1001+G$6*K1001+H$6*L1001+I$6*M1001)>(N1001),1,0)","v":0}]
[null,646,"[D2-AT] Pleinting - St. Peter 258 [DIR] [D2]_LTA_corner#05_#0","10T-AT-DE-000037","[D2-AT] Y - St. Peter (- Altheim - Simbach) 234/230","10T-AT-DE-000045",0,0,0.55518999999999996,0.26730999999999999,0.66574999999999995,0.42081000000000002,0,1924,{"$f":"IF((G1002*ALBE+H1002*ALDE+I1002*AT+J1002*BE+K1002*DE+L1002*FR+M1002*NL)>(N1002),1,0)","v":0},null,{"$f":"IF((C$6*G1002+D$6*H1002+E$6*I1002+F$6*J1002+G$6*K1002+H$6*L1002+I$6*M1002)>(N1002),1,0)","v":0}]
[null,647,"[D2-AT] Pleinting - St. Peter 258 [DIR] [AT]_LTA_corner#14_#8","10T-AT-DE-000037","[D2-D2] Pirach - Pleinting 257","11TD2L000000201H",0,0,-0.99687000000000003,0,-7.3000000000000001E-3,7.8659999999999994E-2,0,5030,{"$f":"IF((G1003*ALBE+H1003*ALDE+I1003*AT+J1003*BE+K1003*DE+L1003*FR+M1003*NL)>(N1003),1,0)","v":0},null,{"$f":"IF((C$6*G1003+D$6*H1003+E$6*I1003+F$6*J1003+G$6*K1003+H$6*L1003+I$6*M1003)>(N1003),1,0)","v":0}]
[null,648,"[D2-AT] Y - St. Peter (- Altheim - Simbach) 234/230 [OPP] [D2]_LTA_corner#30_#9","10T-AT-DE-000045","[D2-AT] Pirach - St. Peter 256","10T-AT-DE-000029",0,0,0.99880000000000002,0,-2.581E-2,4.163E-2,0,5135,{"$f":"IF((G1004*ALBE+H1004*ALDE+I1004*AT+J1004*BE+K1004*DE+L1004*FR+M1004*NL)>(N1004),1,0)","v":0},null,{"$f":"IF((C$6*G1004+D$6*H1004+E$6*I1004+F$6*J1004+G$6*K1004+H$6*L1004+I$6*M1004)>(N1004),1,0)","v":0}]
[null,649,"[AT-AT] Westtirol Transformer WTRHU41 [OPP]_LTA_corner#17_#6","14T-38220-WT041O","BASECASE","N/A",0,0,0.99358999999999997,0,8.9190000000000005E-2,-6.9529999999999995E-2,0,4655,{"$f":"IF((G1005*ALBE+H1005*ALDE+I1005*AT+J1005*BE+K1005*DE+L1005*FR+M1005*NL)>(N1005),1,0)","v":0},null,{"$f":"IF((C$6*G1005+D$6*H1005+E$6*I1005+F$6*J1005+G$6*K1005+H$6*L1005+I$6*M1005)>(N1005),1,0)","v":0}]
[null,650,"[BE-BE] PST_VANYK_2 [S - N]","22T-BE-PST--002U","[NL-BE] Maasbracht - Van Eyck 380 Black/27","10T-BE-NL-00002G",0.48547000000000001,-5.0999999999999997E-2,1.259E-2,0.27079999999999999,-2.2190000000000001E-2,9.4359999999999999E-2,-2.538E-2,1010,{"$f":"IF((G1006*ALBE+H1006*ALDE+I1006*AT+J1006*BE+K1006*DE+L1006*FR+M1006*NL)>(N1006),1,0)","v":0},null,{"$f":"IF((C$6*G1006+D$6*H1006+E$6*I1006+F$6*J1006+G$6*K1006+H$6*L1006+I$6*M1006)>(N1006),1,0)","v":0}]
[null,651,"[D2-AT] Pleinting - St. Peter 258 [DIR] [AT]_LTA_corner#01_#15","10T-AT-DE-000037","[D2-D2] Pirach - Pleinting 257","11TD2L000000201H",0,0,-0.99126000000000003,0,0,-0.13189000000000001,0,4990,{"$f":"IF((G1007*ALBE+H1007*ALDE+I1007*AT+J1007*BE+K1007*DE+L1007*FR+M1007*NL)>(N1007),1,0)","v":0},null,{"$f":"IF((C$6*G1007+D$6*H1007+E$6*I1007+F$6*J1007+G$6*K1007+H$6*L1007+I$6*M1007)>(N1007),1,0)","v":0}]
[null,652,"[D2-AT] Pleinting - St. Peter 258 [DIR] [D2]_LTA_corner#06_#12","10T-AT-DE-000037","[D2-AT] Y - St. Peter (- Altheim - Simbach) 234/230","10T-AT-DE-000045",0,0,-0.99982000000000004,-1.5270000000000001E-2,7.8399999999999997E-3,7.8399999999999997E-3,0,4917,{"$f":"IF((G1008*ALBE+H1008*ALDE+I1008*AT+J1008*BE+K1008*DE+L1008*FR+M1008*NL)>(N1008),1,0)","v":0},null,{"$f":"IF((C$6*G1008+D$6*H1008+E$6*I1008+F$6*J1008+G$6*K1008+H$6*L1008+I$6*M1008)>(N1008),1,0)","v":0}]
[null,653,"[D4-AT] Buers - Westtirol 421 weiss [OPP] [D4]_LTA_corner#20_#9","10T-AT-DE-000061","[AT-AT] Westtirol Transformer WTRHU41","14T-38220-WT041O",0,0,0.98651,-2.7570000000000001E-2,0.14551,-6.9709999999999994E-2,0,4471,{"$f":"IF((G1009*ALBE+H1009*ALDE+I1009*AT+J1009*BE+K1009*DE+L1009*FR+M1009*NL)>(N1009),1,0)","v":0},null,{"$f":"IF((C$6*G1009+D$6*H1009+E$6*I1009+F$6*J1009+G$6*K1009+H$6*L1009+I$6*M1009)>(N1009),1,0)","v":0}]
[null,654,"[D2-AT] Y - St. Peter (- Altheim - Simbach) 234/230 [OPP] [D2]_LTA_corner#30_#2","10T-AT-DE-000045","[D2-AT] Pirach - St. Peter 256","10T-AT-DE-000029",0,0,0.99827999999999995,1.7250000000000001E-2,-5.4200000000000003E-3,5.568E-2,0,5003,{"$f":"IF((G1010*ALBE+H1010*ALDE+I1010*AT+J1010*BE+K1010*DE+L1010*FR+M1010*NL)>(N1010),1,0)","v":0},null,{"$f":"IF((C$6*G1010+D$6*H1010+E$6*I1010+F$6*J1010+G$6*K1010+H$6*L1010+I$6*M1010)>(N1010),1,0)","v":0}]
[null,655,"[D2-AT] Pleinting - St. Peter 258 [DIR] [AT]_LTA_corner#06_#19","10T-AT-DE-000037","[D2-D2] Pirach - Pleinting 257","11TD2L000000201H",0,0,-0.99377000000000004,-0.10897,0,-2.342E-2,0,5042,{"$f":"IF((G1011*ALBE+H1011*ALDE+I1011*AT+J1011*BE+K1011*DE+L1011*FR+M1011*NL)>(N1011),1,0)","v":0},null,{"$f":"IF((C$6*G1011+D$6*H1011+E$6*I1011+F$6*J1011+G$6*K1011+H$6*L1011+I$6*M1011)>(N1011),1,0)","v":0}]
[null,656,"[D2-AT] Pleinting - St. Peter 258 [DIR] [AT]_LTA_corner#12_#5","10T-AT-DE-000037","[D2-D2] Pirach - Pleinting 257","11TD2L000000201H",0,0,-0.99648999999999999,-1.8799999999999999E-3,0,8.3659999999999998E-2,0,5064,{"$f":"IF((G1012*ALBE+H1012*ALDE+I1012*AT+J1012*BE+K1012*DE+L1012*FR+M1012*NL)>(N1012),1,0)","v":0},null,{"$f":"IF((C$6*G1012+D$6*H1012+E$6*I1012+F$6*J1012+G$6*K1012+H$6*L1012+I$6*M1012)>(N1012),1,0)","v":0}]
[null,657,"[AT-AT] Westtirol Transformer WTRHU41 [OPP]_LTA_corner#17_#4","14T-38220-WT041O","BASECASE","N/A",0,0,0.98416999999999999,0,0.13553000000000001,-0.11416999999999999,0,4554,{"$f":"IF((G1013*ALBE+H1013*ALDE+I1013*AT+J1013*BE+K1013*DE+L1013*FR+M1013*NL)>(N1013),1,0)","v":0},null,{"$f":"IF((C$6*G1013+D$6*H1013+E$6*I1013+F$6*J1013+G$6*K1013+H$6*L1013+I$6*M1013)>(N1013),1,0)","v":0}]
[null,658,"[D2-AT] Pleinting - St. Peter 258 [DIR] [D2]_LTA_corner#01_#16","10T-AT-DE-000037","[D2-AT] Y - St. Peter (- Altheim - Simbach) 234/230","10T-AT-DE-000045",0,0,-1,0,0,0,0,4821,{"$f":"IF((G1014*ALBE+H1014*ALDE+I1014*AT+J1014*BE+K1014*DE+L1014*FR+M1014*NL)>(N1014),1,0)","v":0},null,{"$f":"IF((C$6*G1014+D$6*H1014+E$6*I1014+F$6*J1014+G$6*K1014+H$6*L1014+I$6*M1014)>(N1014),1,0)","v":0}]
[null,659,"[BE-BE] PST_ZANDV_2 [N - S]_LTA_corner#13_#33","22T20161020---56","[NL-BE] Rilland - Zandvliet 380 White/30","10T-BE-NL-00004C",0,0,-0.41764000000000001,-0.63331000000000004,-0.35765999999999998,-0.54459000000000002,0,1593,{"$f":"IF((G1015*ALBE+H1015*ALDE+I1015*AT+J1015*BE+K1015*DE+L1015*FR+M1015*NL)>(N1015),1,0)","v":0},null,{"$f":"IF((C$6*G1015+D$6*H1015+E$6*I1015+F$6*J1015+G$6*K1015+H$6*L1015+I$6*M1015)>(N1015),1,0)","v":0}]
[null,660,"[D7-FR] Ensdorf - Vigy 2S [OPP] [D7]_LTA_corner#30_#18","10T-DE-FR-000068","[D7-D7] Ensdorf - Uchtelfangen Taubental N","11T0-0000-0604-N",0,0,5.5960000000000003E-2,0.35649999999999998,-0.16578999999999999,0.91776000000000002,0,3933,{"$f":"IF((G1016*ALBE+H1016*ALDE+I1016*AT+J1016*BE+K1016*DE+L1016*FR+M1016*NL)>(N1016),1,0)","v":0},null,{"$f":"IF((C$6*G1016+D$6*H1016+E$6*I1016+F$6*J1016+G$6*K1016+H$6*L1016+I$6*M1016)>(N1016),1,0)","v":0}]
[null,661,"[NL-NL] Borssele - Rilland 380 Zwart [DIR]","49T000000000059S","[NL-NL] Borssele - Rilland 380 Grijs","49T000000000057W",-5.2100000000000002E-3,2.2599999999999999E-3,-7.5000000000000002E-4,-1.358E-2,1.33E-3,-5.6299999999999996E-3,0.14008999999999999,457,{"$f":"IF((G1017*ALBE+H1017*ALDE+I1017*AT+J1017*BE+K1017*DE+L1017*FR+M1017*NL)>(N1017),1,0)","v":0},null,{"$f":"IF((C$6*G1017+D$6*H1017+E$6*I1017+F$6*J1017+G$6*K1017+H$6*L1017+I$6*M1017)>(N1017),1,0)","v":0}]
[null,662,"[D2-AT] Pleinting - St. Peter 258 [DIR] [AT]_LTA_corner#01_#14","10T-AT-DE-000037","[D2-D2] Pirach - Pleinting 257","11TD2L000000201H",0,0,-0.99438000000000004,0.10176,0,-2.9180000000000001E-2,0,4965,{"$f":"IF((G1018*ALBE+H1018*ALDE+I1018*AT+J1018*BE+K1018*DE+L1018*FR+M1018*NL)>(N1018),1,0)","v":0},null,{"$f":"IF((C$6*G1018+D$6*H1018+E$6*I1018+F$6*J1018+G$6*K1018+H$6*L1018+I$6*M1018)>(N1018),1,0)","v":0}]
[null,663,"[D2-AT] Pleinting - St. Peter 258 [DIR] [D2]_LTA_corner#15_#0","10T-AT-DE-000037","[D2-AT] Y - St. Peter (- Altheim - Simbach) 234/230","10T-AT-DE-000045",0,0,-0.95894999999999997,-0.10945000000000001,-0.19370999999999999,-0.17582,0,4101,{"$f":"IF((G1019*ALBE+H1019*ALDE+I1019*AT+J1019*BE+K1019*DE+L1019*FR+M1019*NL)>(N1019),1,0)","v":0},null,{"$f":"IF((C$6*G1019+D$6*H1019+E$6*I1019+F$6*J1019+G$6*K1019+H$6*L1019+I$6*M1019)>(N1019),1,0)","v":0}]
[null,664,"[D7-FR] Ensdorf - Vigy 2S [OPP] [D7]_LTA_corner#30_#0","10T-DE-FR-000068","[D7-D7] Ensdorf - Uchtelfangen Taubental N","11T0-0000-0604-N",0,0,7.8189999999999996E-2,0.37209999999999999,-0.17104,0.90893999999999997,0,4035,{"$f":"IF((G1020*ALBE+H1020*ALDE+I1020*AT+J1020*BE+K1020*DE+L1020*FR+M1020*NL)>(N1020),1,0)","v":0},null,{"$f":"IF((C$6*G1020+D$6*H1020+E$6*I1020+F$6*J1020+G$6*K1020+H$6*L1020+I$6*M1020)>(N1020),1,0)","v":0}]
[null,665,"[AT-AT] Westtirol Transformer WTRHU41 [OPP]_LTA_corner#17_#0","14T-38220-WT041O","BASECASE","N/A",0,0,0.98728000000000005,4.4839999999999998E-2,0.13596,-6.9089999999999999E-2,0,4551,{"$f":"IF((G1021*ALBE+H1021*ALDE+I1021*AT+J1021*BE+K1021*DE+L1021*FR+M1021*NL)>(N1021),1,0)","v":0},null,{"$f":"IF((C$6*G1021+D$6*H1021+E$6*I1021+F$6*J1021+G$6*K1021+H$6*L1021+I$6*M1021)>(N1021),1,0)","v":0}]
[null,666,"[D2-AT] Pleinting - St. Peter 258 [DIR] [AT]_LTA_corner#06_#16","10T-AT-DE-000037","[D2-D2] Pirach - Pleinting 257","11TD2L000000201H",0,0,-0.99321999999999999,-0.11251,0,-2.9149999999999999E-2,0,5044,{"$f":"IF((G1022*ALBE+H1022*ALDE+I1022*AT+J1022*BE+K1022*DE+L1022*FR+M1022*NL)>(N1022),1,0)","v":0},null,{"$f":"IF((C$6*G1022+D$6*H1022+E$6*I1022+F$6*J1022+G$6*K1022+H$6*L1022+I$6*M1022)>(N1022),1,0)","v":0}]
[null,667,"[D2-AT] Pleinting - St. Peter 258 [DIR] [AT]_LTA_corner#02_#20","10T-AT-DE-000037","[D2-D2] Pirach - Pleinting 257","11TD2L000000201H",0,0,-0.99848999999999999,0,-3.884E-2,-3.884E-2,0,4703,{"$f":"IF((G1023*ALBE+H1023*ALDE+I1023*AT+J1023*BE+K1023*DE+L1023*FR+M1023*NL)>(N1023),1,0)","v":0},null,{"$f":"IF((C$6*G1023+D$6*H1023+E$6*I1023+F$6*J1023+G$6*K1023+H$6*L1023+I$6*M1023)>(N1023),1,0)","v":0}]
[null,668,"[D2-AT] Pleinting - St. Peter 258 [DIR] [AT]_LTA_corner#11_#1","10T-AT-DE-000037","[D2-D2] Pirach - Pleinting 257","11TD2L000000201H",0,0,-0.996,0,-8.8359999999999994E-2,-1.355E-2,0,4606,{"$f":"IF((G1024*ALBE+H1024*ALDE+I1024*AT+J1024*BE+K1024*DE+L1024*FR+M1024*NL)>(N1024),1,0)","v":0},null,{"$f":"IF((C$6*G1024+D$6*H1024+E$6*I1024+F$6*J1024+G$6*K1024+H$6*L1024+I$6*M1024)>(N1024),1,0)","v":0}]
["hour 10",1656,"[D2-AT] Pleinting - St. Peter 258 [DIR] [AT]_LTA_corner#04_#6","10T-AT-DE-000037","[D2-D2] Pirach - Pleinting 257","11TD2L000000201H",0,0,-0.99514000000000002,-3.7299999999999998E-3,9.8290000000000002E-2,-3.7299999999999998E-3,0,5482,{"$f":"IF((G1025*ALBE+H1025*ALDE+I1025*AT+J1025*BE+K1025*DE+L1025*FR+M1025*NL)>(N1025),1,0)","v":0},null,{"$f":"IF((C$6*G1025+D$6*H1025+E$6*I1025+F$6*J1025+G$6*K1025+H$6*L1025+I$6*M1025)>(N1025),1,0)","v":0}]
[null,1657,"[D2-AT] Pleinting - St. Peter 258 [DIR] [D2]_LTA_corner#05_#22","10T-AT-DE-000037","[D2-AT] Y - St. Peter (- Altheim - Simbach) 234/230","10T-AT-DE-000045",0,0,-0.99411000000000005,0,0.10421999999999999,2.9700000000000001E-2,0,5532,{"$f":"IF((G1026*ALBE+H1026*ALDE+I1026*AT+J1026*BE+K1026*DE+L1026*FR+M1026*NL)>(N1026),1,0)","v":0},null,{"$f":"IF((C$6*G1026+D$6*H1026+E$6*I1026+F$6*J1026+G$6*K1026+H$6*L1026+I$6*M1026)>(N1026),1,0)","v":0}]
[null,1658,"[D2-AT] Pleinting - St. Peter 258 [DIR] [AT]_LTA_corner#07_#1","10T-AT-DE-000037","[D2-D2] Pirach - Pleinting 257","11TD2L000000201H",0,0,-0.99766999999999995,0,8.6899999999999998E-3,6.769E-2,0,5056,{"$f":"IF((G1027*ALBE+H1027*ALDE+I1027*AT+J1027*BE+K1027*DE+L1027*FR+M1027*NL)>(N1027),1,0)","v":0},null,{"$f":"IF((C$6*G1027+D$6*H1027+E$6*I1027+F$6*J1027+G$6*K1027+H$6*L1027+I$6*M1027)>(N1027),1,0)","v":0}]
[null,1659,"[D2-AT] Pleinting - St. Peter 258 [DIR] [AT]_LTA_corner#01_#3","10T-AT-DE-000037","[D2-D2] Pirach - Pleinting 257","11TD2L000000201H",0,0,-0.99843000000000004,5.4600000000000003E-2,8.6899999999999998E-3,8.6899999999999998E-3,0,4926,{"$f":"IF((G1028*ALBE+H1028*ALDE+I1028*AT+J1028*BE+K1028*DE+L1028*FR+M1028*NL)>(N1028),1,0)","v":0},null,{"$f":"IF((C$6*G1028+D$6*H1028+E$6*I1028+F$6*J1028+G$6*K1028+H$6*L1028+I$6*M1028)>(N1028),1,0)","v":0}]
[null,1660,"[D2-AT] Pleinting - St. Peter 258 [DIR] [D2]_LTA_corner#05_#1","10T-AT-DE-000037","[D2-AT] Y - St. Peter (- Altheim - Simbach) 234/230","10T-AT-DE-000045",0,0,0.54481999999999997,0.32805000000000001,0.63090999999999997,0.44441000000000003,0,1685,{"$f":"IF((G1029*ALBE+H1029*ALDE+I1029*AT+J1029*BE+K1029*DE+L1029*FR+M1029*NL)>(N1029),1,0)","v":0},null,{"$f":"IF((C$6*G1029+D$6*H1029+E$6*I1029+F$6*J1029+G$6*K1029+H$6*L1029+I$6*M1029)>(N1029),1,0)","v":0}]
[null,1661,"[D2-AT] Pleinting - St. Peter 258 [DIR] [D2]_LTA_corner#01_#1","10T-AT-DE-000037","[D2-AT] Y - St. Peter (- Altheim - Simbach) 234/230","10T-AT-DE-000045",0,0,-0.98887000000000003,0,0.12138,-8.6029999999999995E-2,0,5742,{"$f":"IF((G1030*ALBE+H1030*ALDE+I1030*AT+J1030*BE+K1030*DE+L1030*FR+M1030*NL)>(N1030),1,0)","v":0},null,{"$f":"IF((C$6*G1030+D$6*H1030+E$6*I1030+F$6*J1030+G$6*K1030+H$6*L1030+I$6*M1030)>(N1030),1,0)","v":0}]
[null,1662,"[D4-AT] Buers - Westtirol 421 weiss [OPP] [D4]_LTA_corner#20_#33","10T-AT-DE-000061","[AT-AT] Westtirol Transformer WTRHU41","14T-38220-WT041O",0,0,0.97828000000000004,-4.514E-2,0.15747,-0.12703,0,4493,{"$f":"IF((G1031*ALBE+H1031*ALDE+I1031*AT+J1031*BE+K1031*DE+L1031*FR+M1031*NL)>(N1031),1,0)","v":0},null,{"$f":"IF((C$6*G1031+D$6*H1031+E$6*I1031+F$6*J1031+G$6*K1031+H$6*L1031+I$6*M1031)>(N1031),1,0)","v":0}]
[null,1663,"[D4-AT] Buers - Westtirol 421 weiss [OPP] [D4]_LTA_corner#20_#24","10T-AT-DE-000061","[AT-AT] Westtirol Transformer WTRHU41","14T-38220-WT041O",0,0,0.97897999999999996,-4.6769999999999999E-2,0.15933,-0.11847000000000001,0,4478,{"$f":"IF((G1032*ALBE+H1032*ALDE+I1032*AT+J1032*BE+K1032*DE+L1032*FR+M1032*NL)>(N1032),1,0)","v":0},null,{"$f":"IF((C$6*G1032+D$6*H1032+E$6*I1032+F$6*J1032+G$6*K1032+H$6*L1032+I$6*M1032)>(N1032),1,0)","v":0}]
[null,1664,"[AT-AT] Westtirol Transformer WTRHU41 [OPP]_LTA_corner#22_#6","14T-38220-WT041O","BASECASE","N/A",0,0,0.98521999999999998,-7.7859999999999999E-2,0.13492999999999999,-7.1239999999999998E-2,0,4519,{"$f":"IF((G1033*ALBE+H1033*ALDE+I1033*AT+J1033*BE+K1033*DE+L1033*FR+M1033*NL)>(N1033),1,0)","v":0},null,{"$f":"IF((C$6*G1033+D$6*H1033+E$6*I1033+F$6*J1033+G$6*K1033+H$6*L1033+I$6*M1033)>(N1033),1,0)","v":0}]
[null,1665,"[D2-AT] Pleinting - St. Peter 258 [DIR] [D2]_LTA_corner#01_#0","10T-AT-DE-000037","[D2-AT] Y - St. Peter (- Altheim - Simbach) 234/230","10T-AT-DE-000045",0,0,-0.67556000000000005,0.2646,0.63529000000000002,0.2646,0,7540,{"$f":"IF((G1034*ALBE+H1034*ALDE+I1034*AT+J1034*BE+K1034*DE+L1034*FR+M1034*NL)>(N1034),1,0)","v":0},null,{"$f":"IF((C$6*G1034+D$6*H1034+E$6*I1034+F$6*J1034+G$6*K1034+H$6*L1034+I$6*M1034)>(N1034),1,0)","v":0}]
[null,1666,"[D2-AT] Pleinting - St. Peter 258 [DIR] [AT]_LTA_corner#02_#12","10T-AT-DE-000037","[D2-D2] Pirach - Pleinting 257","11TD2L000000201H",0,0,-0.99750000000000005,6.762E-2,-1.435E-2,-1.435E-2,0,4850,{"$f":"IF((G1035*ALBE+H1035*ALDE+I1035*AT+J1035*BE+K1035*DE+L1035*FR+M1035*NL)>(N1035),1,0)","v":0},null,{"$f":"IF((C$6*G1035+D$6*H1035+E$6*I1035+F$6*J1035+G$6*K1035+H$6*L1035+I$6*M1035)>(N1035),1,0)","v":0}]
[null,1667,"[BE-FR] Achene - Lonny 380.19 [DIR] [BE]_LTA_corner#09_#1","10T-BE-FR-000015","[BE-BE] Avelgem - Horta 380.102","22T20161020---1E",0,0,-0.40608,-0.60328999999999999,-0.32736999999999999,-0.60328999999999999,0,1558,{"$f":"IF((G1036*ALBE+H1036*ALDE+I1036*AT+J1036*BE+K1036*DE+L1036*FR+M1036*NL)>(N1036),1,0)","v":0},null,{"$f":"IF((C$6*G1036+D$6*H1036+E$6*I1036+F$6*J1036+G$6*K1036+H$6*L1036+I$6*M1036)>(N1036),1,0)","v":0}]
[null,1668,"[BE-BE] PST_ZANDV_2 [N - S]_LTA_corner#13_#12","22T20161020---56","[NL-BE] Rilland - Zandvliet 380 White/30","10T-BE-NL-00004C",0,0,-0.39108999999999999,-0.68749000000000005,-0.33284999999999998,-0.51343000000000005,0,1730,{"$f":"IF((G1037*ALBE+H1037*ALDE+I1037*AT+J1037*BE+K1037*DE+L1037*FR+M1037*NL)>(N1037),1,0)","v":0},null,{"$f":"IF((C$6*G1037+D$6*H1037+E$6*I1037+F$6*J1037+G$6*K1037+H$6*L1037+I$6*M1037)>(N1037),1,0)","v":0}]
[null,1669,"[AT-AT] Westtirol Transformer WTRHU41 [OPP]_LTA_corner#17_#2","14T-38220-WT041O","BASECASE","N/A",0,0,0.99650000000000005,3.5300000000000002E-3,8.3419999999999994E-2,3.5300000000000002E-3,0,4572,{"$f":"IF((G1038*ALBE+H1038*ALDE+I1038*AT+J1038*BE+K1038*DE+L1038*FR+M1038*NL)>(N1038),1,0)","v":0},null,{"$f":"IF((C$6*G1038+D$6*H1038+E$6*I1038+F$6*J1038+G$6*K1038+H$6*L1038+I$6*M1038)>(N1038),1,0)","v":0}]
[null,1670,"[AT-AT] Westtirol Transformer WTRHU41 [OPP]_LTA_corner#20_#9","14T-38220-WT041O","BASECASE","N/A",0,0,0.98984000000000005,-2.2599999999999999E-2,0.13852999999999999,-2.2599999999999999E-2,0,4430,{"$f":"IF((G1039*ALBE+H1039*ALDE+I1039*AT+J1039*BE+K1039*DE+L1039*FR+M1039*NL)>(N1039),1,0)","v":0},null,{"$f":"IF((C$6*G1039+D$6*H1039+E$6*I1039+F$6*J1039+G$6*K1039+H$6*L1039+I$6*M1039)>(N1039),1,0)","v":0}]
[null,1671,"[D2-AT] Pleinting - St. Peter 258 [DIR] [AT]_LTA_corner#01_#0","10T-AT-DE-000037","[D2-D2] Pirach - Pleinting 257","11TD2L000000201H",0,0,-0.99155000000000004,0,0.12659000000000001,-2.8209999999999999E-2,0,5699,{"$f":"IF((G1040*ALBE+H1040*ALDE+I1040*AT+J1040*BE+K1040*DE+L1040*FR+M1040*NL)>(N1040),1,0)","v":0},null,{"$f":"IF((C$6*G1040+D$6*H1040+E$6*I1040+F$6*J1040+G$6*K1040+H$6*L1040+I$6*M1040)>(N1040),1,0)","v":0}]
[null,1672,"[D2-AT] Pleinting - St. Peter 258 [DIR] [AT]_LTA_corner#14_#12","10T-AT-DE-000037","[D2-D2] Pirach - Pleinting 257","11TD2L000000201H",0,0,-0.99717999999999996,9.2300000000000004E-3,-7.1569999999999995E-2,2.0500000000000001E-2,0,4709,{"$f":"IF((G1041*ALBE+H1041*ALDE+I1041*AT+J1041*BE+K1041*DE+L1041*FR+M1041*NL)>(N1041),1,0)","v":0},null,{"$f":"IF((C$6*G1041+D$6*H1041+E$6*I1041+F$6*J1041+G$6*K1041+H$6*L1041+I$6*M1041)>(N1041),1,0)","v":0}]
[null,1673,"[D2-AT] Pleinting - St. Peter 258 [DIR] [D2]_LTA_corner#04_#16","10T-AT-DE-000037","[D2-AT] Y - St. Peter (- Altheim - Simbach) 234/230","10T-AT-DE-000045",0,0,-0.99997000000000003,-6.8000000000000005E-4,7.7400000000000004E-3,-6.8000000000000005E-4,0,4875,{"$f":"IF((G1042*ALBE+H1042*ALDE+I1042*AT+J1042*BE+K1042*DE+L1042*FR+M1042*NL)>(N1042),1,0)","v":0},null,{"$f":"IF((C$6*G1042+D$6*H1042+E$6*I1042+F$6*J1042+G$6*K1042+H$6*L1042+I$6*M1042)>(N1042),1,0)","v":0}]
[null,1674,"[D4-AT] Buers - Westtirol 421 weiss [OPP] [D4]_LTA_corner#20_#9","10T-AT-DE-000061","[AT-AT] Westtirol Transformer WTRHU41","14T-38220-WT041O",0,0,0.97589000000000004,-5.5509999999999997E-2,0.15101000000000001,-0.14746000000000001,0,4534,{"$f":"IF((G1043*ALBE+H1043*ALDE+I1043*AT+J1043*BE+K1043*DE+L1043*FR+M1043*NL)>(N1043),1,0)","v":0},null,{"$f":"IF((C$6*G1043+D$6*H1043+E$6*I1043+F$6*J1043+G$6*K1043+H$6*L1043+I$6*M1043)>(N1043),1,0)","v":0}]
[null,1675,"[D7-D4] Hoheneck - Pulverdingen weiss [DIR] [D4]_LTA_corner#09_#34","11T-D4-D7-00014N","[D4-D7] Y - Herbertingen - Hoheneck - Metzingen schwarz","11TD40000A546-S0",0,0,-0.80318000000000001,-0.1341,-0.27546999999999999,-0.51092000000000004,0,3483,{"$f":"IF((G1044*ALBE+H1044*ALDE+I1044*AT+J1044*BE+K1044*DE+L1044*FR+M1044*NL)>(N1044),1,0)","v":0},null,{"$f":"IF((C$6*G1044+D$6*H1044+E$6*I1044+F$6*J1044+G$6*K1044+H$6*L1044+I$6*M1044)>(N1044),1,0)","v":0}]
[null,1676,"[BE-FR] Achene - Lonny 380.19 [DIR] [BE]_LTA_corner#02_#14","10T-BE-FR-000015","[BE-BE] Avelgem - Horta 380.102","22T20161020---1E",0,0,-0.37503999999999998,0.59009999999999996,-0.23607,-0.67484,0,2556,{"$f":"IF((G1045*ALBE+H1045*ALDE+I1045*AT+J1045*BE+K1045*DE+L1045*FR+M1045*NL)>(N1045),1,0)","v":0},null,{"$f":"IF((C$6*G1045+D$6*H1045+E$6*I1045+F$6*J1045+G$6*K1045+H$6*L1045+I$6*M1045)>(N1045),1,0)","v":0}]
[null,1677,"[D2-NL] Diele - Meeden 380 Black [DIR] [NL]_LTA_corner#05_#41","10T-DE-NL-00001V","[D2-NL] Diele - Meeden 380 White","10T-DE-NL-00002T",0,0,0.54676000000000002,0.32518999999999998,0.63202000000000003,0.44256000000000001,0,1685,{"$f":"IF((G1046*ALBE+H1046*ALDE+I1046*AT+J1046*BE+K1046*DE+L1046*FR+M1046*NL)>(N1046),1,0)","v":0},null,{"$f":"IF((C$6*G1046+D$6*H1046+E$6*I1046+F$6*J1046+G$6*K1046+H$6*L1046+I$6*M1046)>(N1046),1,0)","v":0}]
[null,1678,"[D2-AT] Y - St. Peter (- Altheim - Simbach) 234/230 [OPP] [D2]_LTA_corner#23_#2","10T-AT-DE-000045","[D2-AT] Pirach - St. Peter 256","10T-AT-DE-000029",0,0,0.99816000000000005,1.4930000000000001E-2,0,5.8689999999999999E-2,0,4973,{"$f":"IF((G1047*ALBE+H1047*ALDE+I1047*AT+J1047*BE+K1047*DE+L1047*FR+M1047*NL)>(N1047),1,0)","v":0},null,{"$f":"IF((C$6*G1047+D$6*H1047+E$6*I1047+F$6*J1047+G$6*K1047+H$6*L1047+I$6*M1047)>(N1047),1,0)","v":0}]
[null,1679,"[D2-AT] Pleinting - St. Peter 258 [DIR] [AT]_LTA_corner#14_#11","10T-AT-DE-000037","[D2-D2] Pirach - Pleinting 257","11TD2L000000201H",0,0,-0.99785999999999997,0,-6.182E-2,2.1260000000000001E-2,0,4745,{"$f":"IF((G1048*ALBE+H1048*ALDE+I1048*AT+J1048*BE+K1048*DE+L1048*FR+M1048*NL)>(N1048),1,0)","v":0},null,{"$f":"IF((C$6*G1048+D$6*H1048+E$6*I1048+F$6*J1048+G$6*K1048+H$6*L1048+I$6*M1048)>(N1048),1,0)","v":0}]
[null,1680,"[D2-AT] Pleinting - St. Peter 258 [DIR] [D2]_LTA_corner#05_#6","10T-AT-DE-000037","[D2-AT] Y - St. Peter (- Altheim - Simbach) 234/230","10T-AT-DE-000045",0,0,0.55301999999999996,0.32668999999999998,0.62797999999999998,0.43940000000000001,0,1623,{"$f":"IF((G1049*ALBE+H1049*ALDE+I1049*AT+J1049*BE+K1049*DE+L1049*FR+M1049*NL)>(N1049),1,0)","v":0},null,{"$f":"IF((C$6*G1049+D$6*H1049+E$6*I1049+F$6*J1049+G$6*K1049+H$6*L1049+I$6*M1049)>(N1049),1,0)","v":0}]
[null,1681,"[D7-FR] Ensdorf - Vigy 2S [OPP] [D7]_LTA_corner#30_#2","10T-DE-FR-000068","[D7-D7] Ensdorf - Uchtelfangen Taubental N","11T0-0000-0604-N",0,0,2.6720000000000001E-2,0.40211000000000002,-0.18834000000000001,0.89561000000000002,0,3845,{"$f":"IF((G1050*ALBE+H1050*ALDE+I1050*AT+J1050*BE+K1050*DE+L1050*FR+M1050*NL)>(N1050),1,0)","v":0},null,{"$f":"IF((C$6*G1050+D$6*H1050+E$6*I1050+F$6*J1050+G$6*K1050+H$6*L1050+I$6*M1050)>(N1050),1,0)","v":0}]
[null,1682,"[BE-FR] Achene - Lonny 380.19 [DIR] [BE]_LTA_corner#02_#0","10T-BE-FR-000015","[BE-BE] Avelgem - Horta 380.102","22T20161020---1E",0,0,-0.50302999999999998,0,-0.37311,-0.77958000000000005,0,2011,{"$f":"IF((G1051*ALBE+H1051*ALDE+I1051*AT+J1051*BE+K1051*DE+L1051*FR+M1051*NL)>(N1051),1,0)","v":0},null,{"$f":"IF((C$6*G1051+D$6*H1051+E$6*I1051+F$6*J1051+G$6*K1051+H$6*L1051+I$6*M1051)>(N1051),1,0)","v":0}]
[null,1683,"[D2-NL] Diele - Meeden 380 Black [DIR] [NL]_LTA_corner#05_#46","10T-DE-NL-00001V","[D2-NL] Diele - Meeden 380 White","10T-DE-NL-00002T",0,0,0.54691000000000001,0.32528000000000001,0.63241000000000003,0.44174000000000002,0,1686,{"$f":"IF((G1052*ALBE+H1052*ALDE+I1052*AT+J1052*BE+K1052*DE+L1052*FR+M1052*NL)>(N1052),1,0)","v":0},null,{"$f":"IF((C$6*G1052+D$6*H1052+E$6*I1052+F$6*J1052+G$6*K1052+H$6*L1052+I$6*M1052)>(N1052),1,0)","v":0}]
[null,1684,"[D2-AT] Pleinting - St. Peter 258 [DIR] [AT]_LTA_corner#01_#13","10T-AT-DE-000037","[D2-D2] Pirach - Pleinting 257","11TD2L000000201H",0,0,-0.99909999999999999,2.4539999999999999E-2,2.4539999999999999E-2,2.4539999999999999E-2,0,4977,{"$f":"IF((G1053*ALBE+H1053*ALDE+I1053*AT+J1053*BE+K1053*DE+L1053*FR+M1053*NL)>(N1053),1,0)","v":0},null,{"$f":"IF((C$6*G1053+D$6*H1053+E$6*I1053+F$6*J1053+G$6*K1053+H$6*L1053+I$6*M1053)>(N1053),1,0)","v":0}]
[null,1685,"[D2-AT] Pleinting - St. Peter 258 [DIR] [D2]_LTA_corner#09_#1","10T-AT-DE-000037","[D2-AT] Y - St. Peter (- Altheim - Simbach) 234/230","10T-AT-DE-000045",0,0,-0.95033999999999996,-0.13800999999999999,-0.19170000000000001,-0.20263999999999999,0,4073,{"$f":"IF((G1054*ALBE+H1054*ALDE+I1054*AT+J1054*BE+K1054*DE+L1054*FR+M1054*NL)>(N1054),1,0)","v":0},null,{"$f":"IF((C$6*G1054+D$6*H1054+E$6*I1054+F$6*J1054+G$6*K1054+H$6*L1054+I$6*M1054)>(N1054),1,0)","v":0}]
[null,1686,"[D7-FR] Ensdorf - Vigy 2S [OPP] [D7]_LTA_corner#30_#22","10T-DE-FR-000068","[D7-D7] Ensdorf - Uchtelfangen Taubental N","11T0-0000-0604-N",0,0,6.7180000000000004E-2,0.39268999999999998,-0.14460999999999999,0.90573999999999999,0,3751,{"$f":"IF((G1055*ALBE+H1055*ALDE+I1055*AT+J1055*BE+K1055*DE+L1055*FR+M1055*NL)>(N1055),1,0)","v":0},null,{"$f":"IF((C$6*G1055+D$6*H1055+E$6*I1055+F$6*J1055+G$6*K1055+H$6*L1055+I$6*M1055)>(N1055),1,0)","v":0}]
[null,1687,"[D7-D4] Hoheneck - Pulverdingen weiss [DIR] [D4]_LTA_corner#09_#9","11T-D4-D7-00014N","[D4-D7] Y - Herbertingen - Hoheneck - Metzingen schwarz","11TD40000A546-S0",0,0,-0.81962000000000002,-0.10491,-0.28743000000000002,-0.48435,0,3462,{"$f":"IF((G1056*ALBE+H1056*ALDE+I1056*AT+J1056*BE+K1056*DE+L1056*FR+M1056*NL)>(N1056),1,0)","v":0},null,{"$f":"IF((C$6*G1056+D$6*H1056+E$6*I1056+F$6*J1056+G$6*K1056+H$6*L1056+I$6*M1056)>(N1056),1,0)","v":0}]
[null,1688,"[D2-AT] Pleinting - St. Peter 258 [DIR] [AT]_LTA_corner#11_#16","10T-AT-DE-000037","[D2-D2] Pirach - Pleinting 257","11TD2L000000201H",0,0,-0.99758000000000002,0,-6.9580000000000003E-2,0,0,4663,{"$f":"IF((G1057*ALBE+H1057*ALDE+I1057*AT+J1057*BE+K1057*DE+L1057*FR+M1057*NL)>(N1057),1,0)","v":0},null,{"$f":"IF((C$6*G1057+D$6*H1057+E$6*I1057+F$6*J1057+G$6*K1057+H$6*L1057+I$6*M1057)>(N1057),1,0)","v":0}]
[null,1689,"[AT-AT] Westtirol Transformer WTRHU41 [OPP]_LTA_corner#20_#13","14T-38220-WT041O","BASECASE","N/A",0,0,0.98658000000000001,-7.1340000000000001E-2,0.12842000000000001,-7.1340000000000001E-2,0,4528,{"$f":"IF((G1058*ALBE+H1058*ALDE+I1058*AT+J1058*BE+K1058*DE+L1058*FR+M1058*NL)>(N1058),1,0)","v":0},null,{"$f":"IF((C$6*G1058+D$6*H1058+E$6*I1058+F$6*J1058+G$6*K1058+H$6*L1058+I$6*M1058)>(N1058),1,0)","v":0}]
[null,1690,"[D2-AT] Pleinting - St. Peter 258 [DIR] [D2]_LTA_corner#01_#8","10T-AT-DE-000037","[D2-AT] Y - St. Peter (- Altheim - Simbach) 234/230","10T-AT-DE-000045",0,0,-0.99995999999999996,0,8.8800000000000007E-3,0,0,4882,{"$f":"IF((G1059*ALBE+H1059*ALDE+I1059*AT+J1059*BE+K1059*DE+L1059*FR+M1059*NL)>(N1059),1,0)","v":0},null,{"$f":"IF((C$6*G1059+D$6*H1059+E$6*I1059+F$6*J1059+G$6*K1059+H$6*L1059+I$6*M1059)>(N1059),1,0)","v":0}]
[null,1691,"[D2-AT] Pleinting - St. Peter 258 [DIR] [AT]_LTA_corner#01_#24","10T-AT-DE-000037","[D2-D2] Pirach - Pleinting 257","11TD2L000000201H",0,0,-0.99646999999999997,8.1799999999999998E-2,0,-1.9029999999999998E-2,0,4934,{"$f":"IF((G1060*ALBE+H1060*ALDE+I1060*AT+J1060*BE+K1060*DE+L1060*FR+M1060*NL)>(N1060),1,0)","v":0},null,{"$f":"IF((C$6*G1060+D$6*H1060+E$6*I1060+F$6*J1060+G$6*K1060+H$6*L1060+I$6*M1060)>(N1060),1,0)","v":0}]
[null,1692,"[BE-FR] Achene - Lonny 380.19 [DIR] [BE]_LTA_corner#09_#2","10T-BE-FR-000015","[BE-BE] Avelgem - Horta 380.102","22T20161020---1E",0,0,-0.41221000000000002,-0.59936,-0.33410000000000001,-0.59936,0,1550,{"$f":"IF((G1061*ALBE+H1061*ALDE+I1061*AT+J1061*BE+K1061*DE+L1061*FR+M1061*NL)>(N1061),1,0)","v":0},null,{"$f":"IF((C$6*G1061+D$6*H1061+E$6*I1061+F$6*J1061+G$6*K1061+H$6*L1061+I$6*M1061)>(N1061),1,0)","v":0}]
[null,1693,"[D2-AT] Pleinting - St. Peter 258 [DIR] [AT]_LTA_corner#06_#29","10T-AT-DE-000037","[D2-D2] Pirach - Pleinting 257","11TD2L000000201H",0,0,-0.99521999999999999,-9.3420000000000003E-2,0,-2.8309999999999998E-2,0,5007,{"$f":"IF((G1062*ALBE+H1062*ALDE+I1062*AT+J1062*BE+K1062*DE+L1062*FR+M1062*NL)>(N1062),1,0)","v":0},null,{"$f":"IF((C$6*G1062+D$6*H1062+E$6*I1062+F$6*J1062+G$6*K1062+H$6*L1062+I$6*M1062)>(N1062),1,0)","v":0}]
[null,1694,"[D2-AT] Pleinting - St. Peter 258 [DIR] [AT]_LTA_corner#02_#13","10T-AT-DE-000037","[D2-D2] Pirach - Pleinting 257","11TD2L000000201H",0,0,-0.99792999999999998,5.0160000000000003E-2,-2.8389999999999999E-2,-2.8389999999999999E-2,0,4791,{"$f":"IF((G1063*ALBE+H1063*ALDE+I1063*AT+J1063*BE+K1063*DE+L1063*FR+M1063*NL)>(N1063),1,0)","v":0},null,{"$f":"IF((C$6*G1063+D$6*H1063+E$6*I1063+F$6*J1063+G$6*K1063+H$6*L1063+I$6*M1063)>(N1063),1,0)","v":0}]
[null,1695,"[D7-FR] Ensdorf - Vigy 2S [OPP] [D7]_LTA_corner#30_#5","10T-DE-FR-000068","[D7-D7] Ensdorf - Uchtelfangen Taubental N","11T0-0000-0604-N",0,0,5.6779999999999997E-2,0.38522000000000001,-0.14735999999999999,0.90920999999999996,0,3741,{"$f":"IF((G1064*ALBE+H1064*ALDE+I1064*AT+J1064*BE+K1064*DE+L1064*FR+M1064*NL)>(N1064),1,0)","v":0},null,{"$f":"IF((C$6*G1064+D$6*H1064+E$6*I1064+F$6*J1064+G$6*K1064+H$6*L1064+I$6*M1064)>(N1064),1,0)","v":0}]
[null,1696,"[D2-AT] Pleinting - St. Peter 258 [DIR] [D2]_LTA_corner#04_#18","10T-AT-DE-000037","[D2-AT] Y - St. Peter (- Altheim - Simbach) 234/230","10T-AT-DE-000045",0,0,-0.99743000000000004,-5.067E-2,0,-5.067E-2,0,4897,{"$f":"IF((G1065*ALBE+H1065*ALDE+I1065*AT+J1065*BE+K1065*DE+L1065*FR+M1065*NL)>(N1065),1,0)","v":0},null,{"$f":"IF((C$6*G1065+D$6*H1065+E$6*I1065+F$6*J1065+G$6*K1065+H$6*L1065+I$6*M1065)>(N1065),1,0)","v":0}]
[null,1697,"[D2-NL] Diele - Meeden 380 Black [DIR] [NL]_LTA_corner#05_#2","10T-DE-NL-00001V","[D2-NL] Diele - Meeden 380 White","10T-DE-NL-00002T",0,0,0.54449999999999998,0.33395000000000002,0.63024999999999998,0.44133,0,1673,{"$f":"IF((G1066*ALBE+H1066*ALDE+I1066*AT+J1066*BE+K1066*DE+L1066*FR+M1066*NL)>(N1066),1,0)","v":0},null,{"$f":"IF((C$6*G1066+D$6*H1066+E$6*I1066+F$6*J1066+G$6*K1066+H$6*L1066+I$6*M1066)>(N1066),1,0)","v":0}]
[null,1698,"[D2-AT] Pleinting - St. Peter 258 [DIR] [AT]_LTA_corner#04_#12","10T-AT-DE-000037","[D2-D2] Pirach - Pleinting 257","11TD2L000000201H",0,0,-0.99312,-3.7200000000000002E-3,0,-0.11706,0,4976,{"$f":"IF((G1067*ALBE+H1067*ALDE+I1067*AT+J1067*BE+K1067*DE+L1067*FR+M1067*NL)>(N1067),1,0)","v":0},null,{"$f":"IF((C$6*G1067+D$6*H1067+E$6*I1067+F$6*J1067+G$6*K1067+H$6*L1067+I$6*M1067)>(N1067),1,0)","v":0}]
[null,1699,"[AT-AT] Westtirol Transformer WTRHU41 [OPP]_LTA_corner#20_#24","14T-38220-WT041O","BASECASE","N/A",0,0,0.99695,-4.8000000000000001E-4,7.8009999999999996E-2,-4.8000000000000001E-4,0,4592,{"$f":"IF((G1068*ALBE+H1068*ALDE+I1068*AT+J1068*BE+K1068*DE+L1068*FR+M1068*NL)>(N1068),1,0)","v":0},null,{"$f":"IF((C$6*G1068+D$6*H1068+E$6*I1068+F$6*J1068+G$6*K1068+H$6*L1068+I$6*M1068)>(N1068),1,0)","v":0}]
[null,1700,"[D2-AT] Pleinting - St. Peter 258 [DIR] [AT]_LTA_corner#04_#7","10T-AT-DE-000037","[D2-D2] Pirach - Pleinting 257","11TD2L000000201H",0,0,-0.99417999999999995,-2.828E-2,0.10005,-2.828E-2,0,5533,{"$f":"IF((G1069*ALBE+H1069*ALDE+I1069*AT+J1069*BE+K1069*DE+L1069*FR+M1069*NL)>(N1069),1,0)","v":0},null,{"$f":"IF((C$6*G1069+D$6*H1069+E$6*I1069+F$6*J1069+G$6*K1069+H$6*L1069+I$6*M1069)>(N1069),1,0)","v":0}]
[null,1701,"[D2-AT] Pleinting - St. Peter 258 [DIR] [D2]_LTA_corner#01_#7","10T-AT-DE-000037","[D2-AT] Y - St. Peter (- Altheim - Simbach) 234/230","10T-AT-DE-000045",0,0,-0.79795000000000005,0.27454000000000001,0.46100000000000002,0.27454000000000001,0,6924,{"$f":"IF((G1070*ALBE+H1070*ALDE+I1070*AT+J1070*BE+K1070*DE+L1070*FR+M1070*NL)>(N1070),1,0)","v":0},null,{"$f":"IF((C$6*G1070+D$6*H1070+E$6*I1070+F$6*J1070+G$6*K1070+H$6*L1070+I$6*M1070)>(N1070),1,0)","v":0}]
[null,1702,"[D2-AT] Pleinting - St. Peter 258 [DIR] [AT]_LTA_corner#01_#6","10T-AT-DE-000037","[D2-D2] Pirach - Pleinting 257","11TD2L000000201H",0,0,-0.99158999999999997,0,9.4969999999999999E-2,-8.7929999999999994E-2,0,5576,{"$f":"IF((G1071*ALBE+H1071*ALDE+I1071*AT+J1071*BE+K1071*DE+L1071*FR+M1071*NL)>(N1071),1,0)","v":0},null,{"$f":"IF((C$6*G1071+D$6*H1071+E$6*I1071+F$6*J1071+G$6*K1071+H$6*L1071+I$6*M1071)>(N1071),1,0)","v":0}]
[null,1703,"[D2-AT] Pleinting - St. Peter 258 [DIR] [D2]_LTA_corner#09_#3","10T-AT-DE-000037","[D2-AT] Y - St. Peter (- Altheim - Simbach) 234/230","10T-AT-DE-000045",0,0,-0.94711000000000001,-0.14315,-0.20308999999999999,-0.20308999999999999,0,4009,{"$f":"IF((G1072*ALBE+H1072*ALDE+I1072*AT+J1072*BE+K1072*DE+L1072*FR+M1072*NL)>(N1072),1,0)","v":0},null,{"$f":"IF((C$6*G1072+D$6*H1072+E$6*I1072+F$6*J1072+G$6*K1072+H$6*L1072+I$6*M1072)>(N1072),1,0)","v":0}]
[null,1704,"[D2-AT] Pleinting - St. Peter 258 [DIR] [D2]_LTA_corner#01_#2","10T-AT-DE-000037","[D2-AT] Y - St. Peter (- Altheim - Simbach) 234/230","10T-AT-DE-000045",0,0,-0.99446999999999997,0,0.10502,0,0,5519,{"$f":"IF((G1073*ALBE+H1073*ALDE+I1073*AT+J1073*BE+K1073*DE+L1073*FR+M1073*NL)>(N1073),1,0)","v":0},null,{"$f":"IF((C$6*G1073+D$6*H1073+E$6*I1073+F$6*J1073+G$6*K1073+H$6*L1073+I$6*M1073)>(N1073),1,0)","v":0}]
[null,1705,"[BE-BE] Achene - Gramme 380.10 [OPP]_LTA_corner","22T-BE-IN-LI0130","[BE-BE] Avelgem - Horta 380.102","22T20161020---1E",0.31175999999999998,6.8580000000000002E-2,-2.1049999999999999E-2,0.30780000000000002,3.814E-2,-0.14868999999999999,0.15712999999999999,1002,{"$f":"IF((G1074*ALBE+H1074*ALDE+I1074*AT+J1074*BE+K1074*DE+L1074*FR+M1074*NL)>(N1074),1,0)","v":0},null,{"$f":"IF((C$6*G1074+D$6*H1074+E$6*I1074+F$6*J1074+G$6*K1074+H$6*L1074+I$6*M1074)>(N1074),1,0)","v":0}]
[null,1706,"[D2-AT] Pleinting - St. Peter 258 [DIR] [AT]_LTA_corner#01_#10","10T-AT-DE-000037","[D2-D2] Pirach - Pleinting 257","11TD2L000000201H",0,0,-0.99358000000000002,0,0,-0.11316,0,4971,{"$f":"IF((G1075*ALBE+H1075*ALDE+I1075*AT+J1075*BE+K1075*DE+L1075*FR+M1075*NL)>(N1075),1,0)","v":0},null,{"$f":"IF((C$6*G1075+D$6*H1075+E$6*I1075+F$6*J1075+G$6*K1075+H$6*L1075+I$6*M1075)>(N1075),1,0)","v":0}]
[null,1707,"[D7-FR] Ensdorf - Vigy 2S [OPP] [D7]_LTA_corner#30_#13","10T-DE-FR-000068","[D7-D7] Ensdorf - Uchtelfangen Taubental N","11T0-0000-0604-N",0,0,8.6540000000000006E-2,0.37512000000000001,-0.12495000000000001,0.91442999999999997,0,3742,{"$f":"IF((G1076*ALBE+H1076*ALDE+I1076*AT+J1076*BE+K1076*DE+L1076*FR+M1076*NL)>(N1076),1,0)","v":0},null,{"$f":"IF((C$6*G1076+D$6*H1076+E$6*I1076+F$6*J1076+G$6*K1076+H$6*L1076+I$6*M1076)>(N1076),1,0)","v":0}]
[null,1708,"[D4-AT] Buers - Westtirol 421 weiss [OPP] [D4]_LTA_corner#17_#5","10T-AT-DE-000061","[AT-AT] Westtirol Transformer WTRHU41","14T-38220-WT041O",0,0,0.98643000000000003,0,0.14237,-8.1710000000000005E-2,0,4494,{"$f":"IF((G1077*ALBE+H1077*ALDE+I1077*AT+J1077*BE+K1077*DE+L1077*FR+M1077*NL)>(N1077),1,0)","v":0},null,{"$f":"IF((C$6*G1077+D$6*H1077+E$6*I1077+F$6*J1077+G$6*K1077+H$6*L1077+I$6*M1077)>(N1077),1,0)","v":0}]
[null,1709,"[D7-FR] Ensdorf - Vigy 2S [OPP] [D7]_LTA_corner#30_#19","10T-DE-FR-000068","[D7-D7] Ensdorf - Uchtelfangen Taubental N","11T0-0000-0604-N",0,0,7.2489999999999999E-2,0.37436000000000003,-0.14066999999999999,0.91368000000000005,0,3791,{"$f":"IF((G1078*ALBE+H1078*ALDE+I1078*AT+J1078*BE+K1078*DE+L1078*FR+M1078*NL)>(N1078),1,0)","v":0},null,{"$f":"IF((C$6*G1078+D$6*H1078+E$6*I1078+F$6*J1078+G$6*K1078+H$6*L1078+I$6*M1078)>(N1078),1,0)","v":0}]
[null,1710,"[AT-AT] Westtirol Transformer WTRHU41 [OPP]_LTA_corner#17_#10","14T-38220-WT041O","BASECASE","N/A",0,0,0.98389000000000004,0,0.16399,-7.1150000000000005E-2,0,4406,{"$f":"IF((G1079*ALBE+H1079*ALDE+I1079*AT+J1079*BE+K1079*DE+L1079*FR+M1079*NL)>(N1079),1,0)","v":0},null,{"$f":"IF((C$6*G1079+D$6*H1079+E$6*I1079+F$6*J1079+G$6*K1079+H$6*L1079+I$6*M1079)>(N1079),1,0)","v":0}]
[null,1711,"[D7-D4] Hoheneck - Pulverdingen weiss [DIR] [D4]_LTA_corner#09_#1","11T-D4-D7-00014N","[D4-D7] Y - Herbertingen - Hoheneck - Metzingen schwarz","11TD40000A546-S0",0,0,-0.81435999999999997,-0.12156,-0.30074000000000001,-0.48124,0,3375,{"$f":"IF((G1080*ALBE+H1080*ALDE+I1080*AT+J1080*BE+K1080*DE+L1080*FR+M1080*NL)>(N1080),1,0)","v":0},null,{"$f":"IF((C$6*G1080+D$6*H1080+E$6*I1080+F$6*J1080+G$6*K1080+H$6*L1080+I$6*M1080)>(N1080),1,0)","v":0}]
[null,1712,"[D7-D4] Hoheneck - Pulverdingen weiss [DIR] [D4]_LTA_corner#09_#10","11T-D4-D7-00014N","[D4-D7] Y - Herbertingen - Hoheneck - Metzingen schwarz","11TD40000A546-S0",0,0,-0.79288000000000003,-0.13155,-0.29299999999999998,-0.51787000000000005,0,3366,{"$f":"IF((G1081*ALBE+H1081*ALDE+I1081*AT+J1081*BE+K1081*DE+L1081*FR+M1081*NL)>(N1081),1,0)","v":0},null,{"$f":"IF((C$6*G1081+D$6*H1081+E$6*I1081+F$6*J1081+G$6*K1081+H$6*L1081+I$6*M1081)>(N1081),1,0)","v":0}]
[null,1713,"[AT-AT] Westtirol Transformer WTRHU41 [OPP]_LTA_corner#21_#8","14T-38220-WT041O","BASECASE","N/A",0,0,0.99670999999999998,2.3500000000000001E-3,8.0640000000000003E-2,7.5100000000000002E-3,0,4585,{"$f":"IF((G1082*ALBE+H1082*ALDE+I1082*AT+J1082*BE+K1082*DE+L1082*FR+M1082*NL)>(N1082),1,0)","v":0},null,{"$f":"IF((C$6*G1082+D$6*H1082+E$6*I1082+F$6*J1082+G$6*K1082+H$6*L1082+I$6*M1082)>(N1082),1,0)","v":0}]
[null,1714,"[BE-BE] PST_ZANDV_2 [N - S]_LTA_corner#13_#0","22T20161020---56","[NL-BE] Rilland - Zandvliet 380 White/30","10T-BE-NL-00004C",0,0,-0.30430000000000001,-0.82499,-0.26025999999999999,-0.39882000000000001,0,2052,{"$f":"IF((G1083*ALBE+H1083*ALDE+I1083*AT+J1083*BE+K1083*DE+L1083*FR+M1083*NL)>(N1083),1,0)","v":0},null,{"$f":"IF((C$6*G1083+D$6*H1083+E$6*I1083+F$6*J1083+G$6*K1083+H$6*L1083+I$6*M1083)>(N1083),1,0)","v":0}]
[null,1715,"[D2-AT] Pleinting - St. Peter 258 [DIR] [AT]_LTA_corner#12_#3","10T-AT-DE-000037","[D2-D2] Pirach - Pleinting 257","11TD2L000000201H",0,0,-0.99778,-1.24E-3,0,6.6619999999999999E-2,0,5016,{"$f":"IF((G1084*ALBE+H1084*ALDE+I1084*AT+J1084*BE+K1084*DE+L1084*FR+M1084*NL)>(N1084),1,0)","v":0},null,{"$f":"IF((C$6*G1084+D$6*H1084+E$6*I1084+F$6*J1084+G$6*K1084+H$6*L1084+I$6*M1084)>(N1084),1,0)","v":0}]
[null,1716,"[D2-AT] Y - St. Peter (- Altheim - Simbach) 234/230 [OPP] [D2]_LTA_corner#30_#3","10T-AT-DE-000045","[D2-AT] Pirach - St. Peter 256","10T-AT-DE-000029",0,0,0.99844999999999995,1.2370000000000001E-2,-4.2700000000000004E-3,5.4140000000000001E-2,0,4995,{"$f":"IF((G1085*ALBE+H1085*ALDE+I1085*AT+J1085*BE+K1085*DE+L1085*FR+M1085*NL)>(N1085),1,0)","v":0},null,{"$f":"IF((C$6*G1085+D$6*H1085+E$6*I1085+F$6*J1085+G$6*K1085+H$6*L1085+I$6*M1085)>(N1085),1,0)","v":0}]
[null,1717,"[D2-AT] Pleinting - St. Peter 258 [DIR] [D2]_LTA_corner#15_#5","10T-AT-DE-000037","[D2-AT] Y - St. Peter (- Altheim - Simbach) 234/230","10T-AT-DE-000045",0,0,-0.94128000000000001,-0.15140999999999999,-0.21936,-0.20723,0,3944,{"$f":"IF((G1086*ALBE+H1086*ALDE+I1086*AT+J1086*BE+K1086*DE+L1086*FR+M1086*NL)>(N1086),1,0)","v":0},null,{"$f":"IF((C$6*G1086+D$6*H1086+E$6*I1086+F$6*J1086+G$6*K1086+H$6*L1086+I$6*M1086)>(N1086),1,0)","v":0}]
[null,1718,"[D2-AT] Pleinting - St. Peter 258 [DIR] [AT]_LTA_corner#09_#4","10T-AT-DE-000037","[D2-D2] Pirach - Pleinting 257","11TD2L000000201H",0,0,-0.99792000000000003,-3.7240000000000002E-2,-3.7240000000000002E-2,-3.7240000000000002E-2,0,4710,{"$f":"IF((G1087*ALBE+H1087*ALDE+I1087*AT+J1087*BE+K1087*DE+L1087*FR+M1087*NL)>(N1087),1,0)","v":0},null,{"$f":"IF((C$6*G1087+D$6*H1087+E$6*I1087+F$6*J1087+G$6*K1087+H$6*L1087+I$6*M1087)>(N1087),1,0)","v":0}]
[null,1719,"[D2-AT] Pleinting - St. Peter 258 [DIR] [AT]_LTA_corner#06_#1","10T-AT-DE-000037","[D2-D2] Pirach - Pleinting 257","11TD2L000000201H",0,0,-0.99827999999999995,-3.7399999999999998E-3,4.1369999999999997E-2,4.1369999999999997E-2,0,5136,{"$f":"IF((G1088*ALBE+H1088*ALDE+I1088*AT+J1088*BE+K1088*DE+L1088*FR+M1088*NL)>(N1088),1,0)","v":0},null,{"$f":"IF((C$6*G1088+D$6*H1088+E$6*I1088+F$6*J1088+G$6*K1088+H$6*L1088+I$6*M1088)>(N1088),1,0)","v":0}]
[null,1720,"[D2-AT] Y - St. Peter (- Altheim - Simbach) 234/230 [OPP] [D2]_LTA_corner#23_#4","10T-AT-DE-000045","[D2-AT] Pirach - St. Peter 256","10T-AT-DE-000029",0,0,0.99814999999999998,1.558E-2,0,5.8689999999999999E-2,0,4972,{"$f":"IF((G1089*ALBE+H1089*ALDE+I1089*AT+J1089*BE+K1089*DE+L1089*FR+M1089*NL)>(N1089),1,0)","v":0},null,{"$f":"IF((C$6*G1089+D$6*H1089+E$6*I1089+F$6*J1089+G$6*K1089+H$6*L1089+I$6*M1089)>(N1089),1,0)","v":0}]
[null,1721,"[D2-AT] Pleinting - St. Peter 258 [DIR] [AT]_LTA_corner#13_#11","10T-AT-DE-000037","[D2-D2] Pirach - Pleinting 257","11TD2L000000201H",0,0,-0.99738000000000004,-6.9470000000000004E-2,-1.435E-2,-1.435E-2,0,4905,{"$f":"IF((G1090*ALBE+H1090*ALDE+I1090*AT+J1090*BE+K1090*DE+L1090*FR+M1090*NL)>(N1090),1,0)","v":0},null,{"$f":"IF((C$6*G1090+D$6*H1090+E$6*I1090+F$6*J1090+G$6*K1090+H$6*L1090+I$6*M1090)>(N1090),1,0)","v":0}]
[null,1722,"[AT-AT] Westtirol Transformer WTRHU41 [OPP]_LTA_corner#20_#8","14T-38220-WT041O","BASECASE","N/A",0,0,0.99694000000000005,-1.8700000000000001E-2,5.6000000000000001E-2,-5.1330000000000001E-2,0,4736,{"$f":"IF((G1091*ALBE+H1091*ALDE+I1091*AT+J1091*BE+K1091*DE+L1091*FR+M1091*NL)>(N1091),1,0)","v":0},null,{"$f":"IF((C$6*G1091+D$6*H1091+E$6*I1091+F$6*J1091+G$6*K1091+H$6*L1091+I$6*M1091)>(N1091),1,0)","v":0}]
[null,1723,"[D2-AT] Pleinting - St. Peter 258 [DIR] [D2]_LTA_corner#04_#3","10T-AT-DE-000037","[D2-AT] Y - St. Peter (- Altheim - Simbach) 234/230","10T-AT-DE-000045",0,0,-0.98673999999999995,-5.7700000000000001E-2,0,-0.15171999999999999,0,5009,{"$f":"IF((G1092*ALBE+H1092*ALDE+I1092*AT+J1092*BE+K1092*DE+L1092*FR+M1092*NL)>(N1092),1,0)","v":0},null,{"$f":"IF((C$6*G1092+D$6*H1092+E$6*I1092+F$6*J1092+G$6*K1092+H$6*L1092+I$6*M1092)>(N1092),1,0)","v":0}]
[null,1724,"[AT-AT] Westtirol Transformer WTRHU41 [OPP]_LTA_corner#20_#25","14T-38220-WT041O","BASECASE","N/A",0,0,0.98777000000000004,-6.8150000000000002E-2,0.12257,-6.8150000000000002E-2,0,4544,{"$f":"IF((G1093*ALBE+H1093*ALDE+I1093*AT+J1093*BE+K1093*DE+L1093*FR+M1093*NL)>(N1093),1,0)","v":0},null,{"$f":"IF((C$6*G1093+D$6*H1093+E$6*I1093+F$6*J1093+G$6*K1093+H$6*L1093+I$6*M1093)>(N1093),1,0)","v":0}]
[null,1725,"[D2-AT] Pleinting - St. Peter 258 [DIR] [D2]_LTA_corner#09_#6","10T-AT-DE-000037","[D2-AT] Y - St. Peter (- Altheim - Simbach) 234/230","10T-AT-DE-000045",0,0,-0.96209,-0.12833,-0.17018,-0.17018,0,4172,{"$f":"IF((G1094*ALBE+H1094*ALDE+I1094*AT+J1094*BE+K1094*DE+L1094*FR+M1094*NL)>(N1094),1,0)","v":0},null,{"$f":"IF((C$6*G1094+D$6*H1094+E$6*I1094+F$6*J1094+G$6*K1094+H$6*L1094+I$6*M1094)>(N1094),1,0)","v":0}]
[null,1726,"[D2-AT] Pleinting - St. Peter 258 [DIR] [AT]_LTA_corner#04_#9","10T-AT-DE-000037","[D2-D2] Pirach - Pleinting 257","11TD2L000000201H",0,0,-0.99578,-6.4630000000000007E-2,8.6700000000000006E-3,-6.4630000000000007E-2,0,4974,{"$f":"IF((G1095*ALBE+H1095*ALDE+I1095*AT+J1095*BE+K1095*DE+L1095*FR+M1095*NL)>(N1095),1,0)","v":0},null,{"$f":"IF((C$6*G1095+D$6*H1095+E$6*I1095+F$6*J1095+G$6*K1095+H$6*L1095+I$6*M1095)>(N1095),1,0)","v":0}]
[null,1727,"[D7-FR] Ensdorf - Vigy 2S [OPP] [D7]_LTA_corner#30_#30","10T-DE-FR-000068","[D7-D7] Ensdorf - Uchtelfangen Taubental N","11T0-0000-0604-N",0,0,7.7890000000000001E-2,0.38441999999999998,-0.12726999999999999,0.91102000000000005,0,3697,{"$f":"IF((G1096*ALBE+H1096*ALDE+I1096*AT+J1096*BE+K1096*DE+L1096*FR+M1096*NL)>(N1096),1,0)","v":0},null,{"$f":"IF((C$6*G1096+D$6*H1096+E$6*I1096+F$6*J1096+G$6*K1096+H$6*L1096+I$6*M1096)>(N1096),1,0)","v":0}]
[null,1728,"[D2-AT] Pleinting - St. Peter 258 [DIR] [D2]_LTA_corner#01_#4","10T-AT-DE-000037","[D2-AT] Y - St. Peter (- Altheim - Simbach) 234/230","10T-AT-DE-000045",0,0,-0.98895,0,0.11717,-9.0789999999999996E-2,0,5721,{"$f":"IF((G1097*ALBE+H1097*ALDE+I1097*AT+J1097*BE+K1097*DE+L1097*FR+M1097*NL)>(N1097),1,0)","v":0},null,{"$f":"IF((C$6*G1097+D$6*H1097+E$6*I1097+F$6*J1097+G$6*K1097+H$6*L1097+I$6*M1097)>(N1097),1,0)","v":0}]
[null,1729,"[D2-AT] Pleinting - St. Peter 258 [DIR] [AT]_LTA_corner#04_#4","10T-AT-DE-000037","[D2-D2] Pirach - Pleinting 257","11TD2L000000201H",0,0,-0.99092999999999998,-3.7100000000000002E-3,0.13134999999999999,-2.819E-2,0,5729,{"$f":"IF((G1098*ALBE+H1098*ALDE+I1098*AT+J1098*BE+K1098*DE+L1098*FR+M1098*NL)>(N1098),1,0)","v":0},null,{"$f":"IF((C$6*G1098+D$6*H1098+E$6*I1098+F$6*J1098+G$6*K1098+H$6*L1098+I$6*M1098)>(N1098),1,0)","v":0}]
[null,1730,"[BE-FR] Achene - Lonny 380.19 [DIR] [BE]_LTA_corner#02_#24","10T-BE-FR-000015","[BE-BE] Avelgem - Horta 380.102","22T20161020---1E",0,0,-0.45855000000000001,0.17879,-0.29275000000000001,-0.81979999999999997,0,2437,{"$f":"IF((G1099*ALBE+H1099*ALDE+I1099*AT+J1099*BE+K1099*DE+L1099*FR+M1099*NL)>(N1099),1,0)","v":0},null,{"$f":"IF((C$6*G1099+D$6*H1099+E$6*I1099+F$6*J1099+G$6*K1099+H$6*L1099+I$6*M1099)>(N1099),1,0)","v":0}]
[null,1731,"[BE-BE] PST_ZANDV_2 [N - S]_LTA_corner#13_#26","22T20161020---56","[NL-BE] Rilland - Zandvliet 380 White/30","10T-BE-NL-00004C",0,0,-0.3004,-0.81035999999999997,-0.23566999999999999,-0.44446000000000002,0,2075,{"$f":"IF((G1100*ALBE+H1100*ALDE+I1100*AT+J1100*BE+K1100*DE+L1100*FR+M1100*NL)>(N1100),1,0)","v":0},null,{"$f":"IF((C$6*G1100+D$6*H1100+E$6*I1100+F$6*J1100+G$6*K1100+H$6*L1100+I$6*M1100)>(N1100),1,0)","v":0}]
[null,1732,"[D2-AT] Pleinting - St. Peter 258 [DIR] [AT]_LTA_corner#06_#12","10T-AT-DE-000037","[D2-D2] Pirach - Pleinting 257","11TD2L000000201H",0,0,-0.99775000000000003,-6.7089999999999997E-2,0,0,0,4975,{"$f":"IF((G1101*ALBE+H1101*ALDE+I1101*AT+J1101*BE+K1101*DE+L1101*FR+M1101*NL)>(N1101),1,0)","v":0},null,{"$f":"IF((C$6*G1101+D$6*H1101+E$6*I1101+F$6*J1101+G$6*K1101+H$6*L1101+I$6*M1101)>(N1101),1,0)","v":0}]
[null,1733,"[D7-D7] Gronau - Hanekenfaehr Gronau W [OPP]","11T0-0000-0617-A","[D7-D7] Y - Hanekenfaehr - Kottigerhook - Kusenhorst Muensterland","11T0-0000-0679-H",-7.7060000000000003E-2,-5.7450000000000001E-2,-1.4149999999999999E-2,-7.4679999999999996E-2,2.5440000000000001E-2,-4.6649999999999997E-2,-8.1890000000000004E-2,584,{"$f":"IF((G1102*ALBE+H1102*ALDE+I1102*AT+J1102*BE+K1102*DE+L1102*FR+M1102*NL)>(N1102),1,0)","v":0},null,{"$f":"IF((C$6*G1102+D$6*H1102+E$6*I1102+F$6*J1102+G$6*K1102+H$6*L1102+I$6*M1102)>(N1102),1,0)","v":0}]
[null,1734,"[NL-D7] Maasbracht - Siersdorf 380 black [DIR] [D7]","10T-DE-NL-00006L","[BE-BE] Avelgem - Horta 380.102","22T20161020---1E",0.32579000000000002,-0.15623999999999999,-2.2499999999999998E-3,0.31318000000000001,1.54E-2,3.9419999999999997E-2,0.26190999999999998,918,{"$f":"IF((G1103*ALBE+H1103*ALDE+I1103*AT+J1103*BE+K1103*DE+L1103*FR+M1103*NL)>(N1103),1,0)","v":0},null,{"$f":"IF((C$6*G1103+D$6*H1103+E$6*I1103+F$6*J1103+G$6*K1103+H$6*L1103+I$6*M1103)>(N1103),1,0)","v":0}]
[null,1735,"[D7-D4] Hoheneck - Pulverdingen weiss [DIR] [D4]_LTA_corner#09_#0","11T-D4-D7-00014N","[D4-D7] Y - Herbertingen - Hoheneck - Metzingen schwarz","11TD40000A546-S0",0,0,-0.83231999999999995,-0.10777,-0.30247000000000002,-0.45182,0,3405,{"$f":"IF((G1104*ALBE+H1104*ALDE+I1104*AT+J1104*BE+K1104*DE+L1104*FR+M1104*NL)>(N1104),1,0)","v":0},null,{"$f":"IF((C$6*G1104+D$6*H1104+E$6*I1104+F$6*J1104+G$6*K1104+H$6*L1104+I$6*M1104)>(N1104),1,0)","v":0}]
[null,1736,"[D2-AT] Pleinting - St. Peter 258 [DIR] [AT]_LTA_corner#12_#9","10T-AT-DE-000037","[D2-D2] Pirach - Pleinting 257","11TD2L000000201H",0,0,-0.99778,-2.0400000000000001E-3,0,6.6500000000000004E-2,0,5018,{"$f":"IF((G1105*ALBE+H1105*ALDE+I1105*AT+J1105*BE+K1105*DE+L1105*FR+M1105*NL)>(N1105),1,0)","v":0},null,{"$f":"IF((C$6*G1105+D$6*H1105+E$6*I1105+F$6*J1105+G$6*K1105+H$6*L1105+I$6*M1105)>(N1105),1,0)","v":0}]
[null,1737,"[BE-BE] PST_ZANDV_2 [N - S]_LTA_corner#13_#22","22T20161020---56","[NL-BE] Rilland - Zandvliet 380 White/30","10T-BE-NL-00004C",0,0,-0.30031999999999998,-0.82325000000000004,-0.25141000000000002,-0.41092000000000001,0,2060,{"$f":"IF((G1106*ALBE+H1106*ALDE+I1106*AT+J1106*BE+K1106*DE+L1106*FR+M1106*NL)>(N1106),1,0)","v":0},null,{"$f":"IF((C$6*G1106+D$6*H1106+E$6*I1106+F$6*J1106+G$6*K1106+H$6*L1106+I$6*M1106)>(N1106),1,0)","v":0}]
[null,1738,"ALBE_import","N/A","BASECASE","N/A",-1,0,0,0,0,0,0,0,{"$f":"IF((G1107*ALBE+H1107*ALDE+I1107*AT+J1107*BE+K1107*DE+L1107*FR+M1107*NL)>(N1107),1,0)","v":0},null,{"$f":"IF((C$6*G1107+D$6*H1107+E$6*I1107+F$6*J1107+G$6*K1107+H$6*L1107+I$6*M1107)>(N1107),1,0)","v":0}]
[null,1739,"[AT-AT] Westtirol Transformer WTRHU41 [OPP]_LTA_corner#17_#11","14T-38220-WT041O","BASECASE","N/A",0,0,0.98992000000000002,0,0.13557,-4.1090000000000002E-2,0,4465,{"$f":"IF((G1108*ALBE+H1108*ALDE+I1108*AT+J1108*BE+K1108*DE+L1108*FR+M1108*NL)>(N1108),1,0)","v":0},null,{"$f":"IF((C$6*G1108+D$6*H1108+E$6*I1108+F$6*J1108+G$6*K1108+H$6*L1108+I$6*M1108)>(N1108),1,0)","v":0}]
[null,1740,"[D2-AT] Pleinting - St. Peter 258 [DIR] [D2]_LTA_corner#04_#1","10T-AT-DE-000037","[D2-AT] Y - St. Peter (- Altheim - Simbach) 234/230","10T-AT-DE-000045",0,0,-0.98597999999999997,-5.67E-2,0,-0.15692,0,5013,{"$f":"IF((G1109*ALBE+H1109*ALDE+I1109*AT+J1109*BE+K1109*DE+L1109*FR+M1109*NL)>(N1109),1,0)","v":0},null,{"$f":"IF((C$6*G1109+D$6*H1109+E$6*I1109+F$6*J1109+G$6*K1109+H$6*L1109+I$6*M1109)>(N1109),1,0)","v":0}]
[null,1741,"[BE-BE] PST_ZANDV_2 [N - S]_LTA_corner#13_#14","22T20161020---56","[NL-BE] Rilland - Zandvliet 380 White/30","10T-BE-NL-00004C",0,0,-0.31119999999999998,-0.78530999999999995,-0.23422999999999999,-0.48121999999999998,0,2047,{"$f":"IF((G1110*ALBE+H1110*ALDE+I1110*AT+J1110*BE+K1110*DE+L1110*FR+M1110*NL)>(N1110),1,0)","v":0},null,{"$f":"IF((C$6*G1110+D$6*H1110+E$6*I1110+F$6*J1110+G$6*K1110+H$6*L1110+I$6*M1110)>(N1110),1,0)","v":0}]
[null,1742,"[D2-AT] Pleinting - St. Peter 258 [DIR] [AT]_LTA_corner#03_#5","10T-AT-DE-000037","[D2-D2] Pirach - Pleinting 257","11TD2L000000201H",0,0,-0.99907999999999997,3.0290000000000001E-2,0,3.0290000000000001E-2,0,4876,{"$f":"IF((G1111*ALBE+H1111*ALDE+I1111*AT+J1111*BE+K1111*DE+L1111*FR+M1111*NL)>(N1111),1,0)","v":0},null,{"$f":"IF((C$6*G1111+D$6*H1111+E$6*I1111+F$6*J1111+G$6*K1111+H$6*L1111+I$6*M1111)>(N1111),1,0)","v":0}]
[null,1743,"[D2-AT] Pleinting - St. Peter 258 [DIR] [D2]_LTA_corner#01_#3","10T-AT-DE-000037","[D2-AT] Y - St. Peter (- Altheim - Simbach) 234/230","10T-AT-DE-000045",0,0,-0.64724999999999999,0.27731,0.65364999999999995,0.27731,0,7526,{"$f":"IF((G1112*ALBE+H1112*ALDE+I1112*AT+J1112*BE+K1112*DE+L1112*FR+M1112*NL)>(N1112),1,0)","v":0},null,{"$f":"IF((C$6*G1112+D$6*H1112+E$6*I1112+F$6*J1112+G$6*K1112+H$6*L1112+I$6*M1112)>(N1112),1,0)","v":0}]
[null,1744,"[BE-FR] Achene - Lonny 380.19 [DIR] [BE]_LTA_corner#09_#0","10T-BE-FR-000015","[BE-BE] Avelgem - Horta 380.102","22T20161020---1E",0,0,-0.42209000000000002,-0.59387999999999996,-0.34123999999999999,-0.59387999999999996,0,1557,{"$f":"IF((G1113*ALBE+H1113*ALDE+I1113*AT+J1113*BE+K1113*DE+L1113*FR+M1113*NL)>(N1113),1,0)","v":0},null,{"$f":"IF((C$6*G1113+D$6*H1113+E$6*I1113+F$6*J1113+G$6*K1113+H$6*L1113+I$6*M1113)>(N1113),1,0)","v":0}]
[null,1745,"[D2-AT] Pleinting - St. Peter 258 [DIR] [AT]_LTA_corner#13_#10","10T-AT-DE-000037","[D2-D2] Pirach - Pleinting 257","11TD2L000000201H",0,0,-0.99750000000000005,-5.815E-2,-2.8379999999999999E-2,-2.8379999999999999E-2,0,4805,{"$f":"IF((G1114*ALBE+H1114*ALDE+I1114*AT+J1114*BE+K1114*DE+L1114*FR+M1114*NL)>(N1114),1,0)","v":0},null,{"$f":"IF((C$6*G1114+D$6*H1114+E$6*I1114+F$6*J1114+G$6*K1114+H$6*L1114+I$6*M1114)>(N1114),1,0)","v":0}]
[null,1746,"[BE-FR] Achene - Lonny 380.19 [DIR] [BE]_LTA_corner#02_#7","10T-BE-FR-000015","[BE-BE] Avelgem - Horta 380.102","22T20161020---1E",0,0,-0.47998000000000002,0,-0.32594000000000001,-0.81447999999999998,0,2166,{"$f":"IF((G1115*ALBE+H1115*ALDE+I1115*AT+J1115*BE+K1115*DE+L1115*FR+M1115*NL)>(N1115),1,0)","v":0},null,{"$f":"IF((C$6*G1115+D$6*H1115+E$6*I1115+F$6*J1115+G$6*K1115+H$6*L1115+I$6*M1115)>(N1115),1,0)","v":0}]
[null,1747,"[D2-NL] Diele - Meeden 380 Black [DIR] [NL]_LTA_corner#05_#18","10T-DE-NL-00001V","[D2-NL] Diele - Meeden 380 White","10T-DE-NL-00002T",0,0,0.54696,0.32468999999999998,0.63219000000000003,0.44242999999999999,0,1686,{"$f":"IF((G1116*ALBE+H1116*ALDE+I1116*AT+J1116*BE+K1116*DE+L1116*FR+M1116*NL)>(N1116),1,0)","v":0},null,{"$f":"IF((C$6*G1116+D$6*H1116+E$6*I1116+F$6*J1116+G$6*K1116+H$6*L1116+I$6*M1116)>(N1116),1,0)","v":0}]
[null,1748,"ALBE_export","N/A","BASECASE","N/A",1,0,0,0,0,0,0,0,{"$f":"IF((G1117*ALBE+H1117*ALDE+I1117*AT+J1117*BE+K1117*DE+L1117*FR+M1117*NL)>(N1117),1,0)","v":0},null,{"$f":"IF((C$6*G1117+D$6*H1117+E$6*I1117+F$6*J1117+G$6*K1117+H$6*L1117+I$6*M1117)>(N1117),1,0)","v":0}]
[null,1749,"[BE-FR] Achene - Lonny 380.19 [DIR] [BE]_LTA_corner#02_#22","10T-BE-FR-000015","[BE-BE] Avelgem - Horta 380.102","22T20161020---1E",0,0,-0.45108999999999999,0.23213,-0.28604000000000002,-0.81289999999999996,0,2485,{"$f":"IF((G1118*ALBE+H1118*ALDE+I1118*AT+J1118*BE+K1118*DE+L1118*FR+M1118*NL)>(N1118),1,0)","v":0},null,{"$f":"IF((C$6*G1118+D$6*H1118+E$6*I1118+F$6*J1118+G$6*K1118+H$6*L1118+I$6*M1118)>(N1118),1,0)","v":0}]
[null,1750,"[D2-AT] Pleinting - St. Peter 258 [DIR] [D2]_LTA_corner#01_#5","10T-AT-DE-000037","[D2-AT] Y - St. Peter (- Altheim - Simbach) 234/230","10T-AT-DE-000045",0,0,-0.75312999999999997,0.28788000000000002,0.51676999999999995,0.28788000000000002,0,7087,{"$f":"IF((G1119*ALBE+H1119*ALDE+I1119*AT+J1119*BE+K1119*DE+L1119*FR+M1119*NL)>(N1119),1,0)","v":0},null,{"$f":"IF((C$6*G1119+D$6*H1119+E$6*I1119+F$6*J1119+G$6*K1119+H$6*L1119+I$6*M1119)>(N1119),1,0)","v":0}]
[null,1751,"[D2-AT] Y - St. Peter (- Altheim - Simbach) 234/230 [OPP] [D2]_LTA_corner#30_#8","10T-AT-DE-000045","[D2-AT] Pirach - St. Peter 256","10T-AT-DE-000029",0,0,0.99833000000000005,1.3939999999999999E-2,-4.47E-3,5.5800000000000002E-2,0,5000,{"$f":"IF((G1120*ALBE+H1120*ALDE+I1120*AT+J1120*BE+K1120*DE+L1120*FR+M1120*NL)>(N1120),1,0)","v":0},null,{"$f":"IF((C$6*G1120+D$6*H1120+E$6*I1120+F$6*J1120+G$6*K1120+H$6*L1120+I$6*M1120)>(N1120),1,0)","v":0}]
[null,1752,"ALDE_export","N/A","BASECASE","N/A",0,1,0,0,0,0,0,0,{"$f":"IF((G1121*ALBE+H1121*ALDE+I1121*AT+J1121*BE+K1121*DE+L1121*FR+M1121*NL)>(N1121),1,0)","v":0},null,{"$f":"IF((C$6*G1121+D$6*H1121+E$6*I1121+F$6*J1121+G$6*K1121+H$6*L1121+I$6*M1121)>(N1121),1,0)","v":0}]
[null,1753,"[D2-AT] Pleinting - St. Peter 258 [DIR] [AT]_LTA_corner#11_#17","10T-AT-DE-000037","[D2-D2] Pirach - Pleinting 257","11TD2L000000201H",0,0,-0.99733000000000005,5.1599999999999997E-3,-7.2620000000000004E-2,5.1599999999999997E-3,0,4666,{"$f":"IF((G1122*ALBE+H1122*ALDE+I1122*AT+J1122*BE+K1122*DE+L1122*FR+M1122*NL)>(N1122),1,0)","v":0},null,{"$f":"IF((C$6*G1122+D$6*H1122+E$6*I1122+F$6*J1122+G$6*K1122+H$6*L1122+I$6*M1122)>(N1122),1,0)","v":0}]
[null,1754,"[D2-AT] Pleinting - St. Peter 258 [DIR] [AT]_LTA_corner#05_#0","10T-AT-DE-000037","[D2-D2] Pirach - Pleinting 257","11TD2L000000201H",0,0,-0.99846999999999997,0,3.9070000000000001E-2,3.9070000000000001E-2,0,5110,{"$f":"IF((G1123*ALBE+H1123*ALDE+I1123*AT+J1123*BE+K1123*DE+L1123*FR+M1123*NL)>(N1123),1,0)","v":0},null,{"$f":"IF((C$6*G1123+D$6*H1123+E$6*I1123+F$6*J1123+G$6*K1123+H$6*L1123+I$6*M1123)>(N1123),1,0)","v":0}]
[null,1755,"[D7-FR] Ensdorf - Vigy 2S [OPP] [D7]_LTA_corner#30_#3","10T-DE-FR-000068","[D7-D7] Ensdorf - Uchtelfangen Taubental N","11T0-0000-0604-N",0,0,3.5860000000000003E-2,0.38871,-0.17952000000000001,0.90298999999999996,0,3859,{"$f":"IF((G1124*ALBE+H1124*ALDE+I1124*AT+J1124*BE+K1124*DE+L1124*FR+M1124*NL)>(N1124),1,0)","v":0},null,{"$f":"IF((C$6*G1124+D$6*H1124+E$6*I1124+F$6*J1124+G$6*K1124+H$6*L1124+I$6*M1124)>(N1124),1,0)","v":0}]
[null,1756,"[D2-NL] Diele - Meeden 380 Black [DIR] [NL]_LTA_corner#05_#25","10T-DE-NL-00001V","[D2-NL] Diele - Meeden 380 White","10T-DE-NL-00002T",0,0,0.54686000000000001,0.32318999999999998,0.63356000000000001,0.44169999999999998,0,1697,{"$f":"IF((G1125*ALBE+H1125*ALDE+I1125*AT+J1125*BE+K1125*DE+L1125*FR+M1125*NL)>(N1125),1,0)","v":0},null,{"$f":"IF((C$6*G1125+D$6*H1125+E$6*I1125+F$6*J1125+G$6*K1125+H$6*L1125+I$6*M1125)>(N1125),1,0)","v":0}]
[null,1757,"[AT-AT] Westtirol Transformer WTRHU41 [OPP]_LTA_corner#20_#12","14T-38220-WT041O","BASECASE","N/A",0,0,0.98526000000000002,-7.4370000000000006E-2,0.13492999999999999,-7.4370000000000006E-2,0,4509,{"$f":"IF((G1126*ALBE+H1126*ALDE+I1126*AT+J1126*BE+K1126*DE+L1126*FR+M1126*NL)>(N1126),1,0)","v":0},null,{"$f":"IF((C$6*G1126+D$6*H1126+E$6*I1126+F$6*J1126+G$6*K1126+H$6*L1126+I$6*M1126)>(N1126),1,0)","v":0}]
[null,1758,"[D2-AT] Pleinting - St. Peter 258 [DIR] [AT]_LTA_corner#13_#7","10T-AT-DE-000037","[D2-D2] Pirach - Pleinting 257","11TD2L000000201H",0,0,-0.99736999999999998,-7.0059999999999997E-2,-1.306E-2,-1.306E-2,0,4913,{"$f":"IF((G1127*ALBE+H1127*ALDE+I1127*AT+J1127*BE+K1127*DE+L1127*FR+M1127*NL)>(N1127),1,0)","v":0},null,{"$f":"IF((C$6*G1127+D$6*H1127+E$6*I1127+F$6*J1127+G$6*K1127+H$6*L1127+I$6*M1127)>(N1127),1,0)","v":0}]
[null,1759,"[D7-FR] Ensdorf - Vigy 2S [OPP] [D7]_LTA_corner#30_#26","10T-DE-FR-000068","[D7-D7] Ensdorf - Uchtelfangen Taubental N","11T0-0000-0604-N",0,0,8.6840000000000001E-2,0.38518000000000002,-0.11856,0.91105999999999998,0,3674,{"$f":"IF((G1128*ALBE+H1128*ALDE+I1128*AT+J1128*BE+K1128*DE+L1128*FR+M1128*NL)>(N1128),1,0)","v":0},null,{"$f":"IF((C$6*G1128+D$6*H1128+E$6*I1128+F$6*J1128+G$6*K1128+H$6*L1128+I$6*M1128)>(N1128),1,0)","v":0}]
[null,1760,"[D7-FR] Ensdorf - Vigy 2S [OPP] [D7]_LTA_corner#30_#0","10T-DE-FR-000068","[D7-D7] Ensdorf - Uchtelfangen Taubental N","11T0-0000-0604-N",0,0,3.8330000000000003E-2,0.37352999999999997,-0.18551000000000001,0.90807000000000004,0,3948,{"$f":"IF((G1129*ALBE+H1129*ALDE+I1129*AT+J1129*BE+K1129*DE+L1129*FR+M1129*NL)>(N1129),1,0)","v":0},null,{"$f":"IF((C$6*G1129+D$6*H1129+E$6*I1129+F$6*J1129+G$6*K1129+H$6*L1129+I$6*M1129)>(N1129),1,0)","v":0}]
[null,1761,"[D2-AT] Pleinting - St. Peter 258 [DIR] [D2]_LTA_corner#02_#0","10T-AT-DE-000037","[D2-AT] Y - St. Peter (- Altheim - Simbach) 234/230","10T-AT-DE-000045",0,0,-0.99914999999999998,0,-2.2239999999999999E-2,-3.4599999999999999E-2,0,4773,{"$f":"IF((G1130*ALBE+H1130*ALDE+I1130*AT+J1130*BE+K1130*DE+L1130*FR+M1130*NL)>(N1130),1,0)","v":0},null,{"$f":"IF((C$6*G1130+D$6*H1130+E$6*I1130+F$6*J1130+G$6*K1130+H$6*L1130+I$6*M1130)>(N1130),1,0)","v":0}]
[null,1762,"[BE-FR] Achene - Lonny 380.19 [DIR] [BE]_LTA_corner#02_#4","10T-BE-FR-000015","[BE-BE] Avelgem - Horta 380.102","22T20161020---1E",0,0,-0.41837000000000002,0.37898999999999999,-0.29930000000000001,-0.76924999999999999,0,2377,{"$f":"IF((G1131*ALBE+H1131*ALDE+I1131*AT+J1131*BE+K1131*DE+L1131*FR+M1131*NL)>(N1131),1,0)","v":0},null,{"$f":"IF((C$6*G1131+D$6*H1131+E$6*I1131+F$6*J1131+G$6*K1131+H$6*L1131+I$6*M1131)>(N1131),1,0)","v":0}]
[null,1763,"[BE-BE] PST_VANYK_2 [S - N]","22T-BE-PST--002U","[BE-FR] Achene - Lonny 380.19","10T-BE-FR-000015",0.57352000000000003,-2.52E-2,5.5599999999999998E-3,0.32012000000000002,-9.6600000000000002E-3,4.5809999999999997E-2,8.1700000000000002E-3,875,{"$f":"IF((G1132*ALBE+H1132*ALDE+I1132*AT+J1132*BE+K1132*DE+L1132*FR+M1132*NL)>(N1132),1,0)","v":0},null,{"$f":"IF((C$6*G1132+D$6*H1132+E$6*I1132+F$6*J1132+G$6*K1132+H$6*L1132+I$6*M1132)>(N1132),1,0)","v":0}]
[null,1764,"[D2-AT] Y - St. Peter (- Altheim - Simbach) 234/230 [OPP] [D2]_LTA_corner#30_#4","10T-AT-DE-000045","[D2-AT] Pirach - St. Peter 256","10T-AT-DE-000029",0,0,0.99836000000000003,1.2E-2,-4.47E-3,5.5800000000000002E-2,0,5002,{"$f":"IF((G1133*ALBE+H1133*ALDE+I1133*AT+J1133*BE+K1133*DE+L1133*FR+M1133*NL)>(N1133),1,0)","v":0},null,{"$f":"IF((C$6*G1133+D$6*H1133+E$6*I1133+F$6*J1133+G$6*K1133+H$6*L1133+I$6*M1133)>(N1133),1,0)","v":0}]
[null,1765,"[D2-AT] Pleinting - St. Peter 258 [DIR] [D2]_LTA_corner#01_#19","10T-AT-DE-000037","[D2-AT] Y - St. Peter (- Altheim - Simbach) 234/230","10T-AT-DE-000045",0,0,-0.99875000000000003,2.9270000000000001E-2,0,-4.054E-2,0,4915,{"$f":"IF((G1134*ALBE+H1134*ALDE+I1134*AT+J1134*BE+K1134*DE+L1134*FR+M1134*NL)>(N1134),1,0)","v":0},null,{"$f":"IF((C$6*G1134+D$6*H1134+E$6*I1134+F$6*J1134+G$6*K1134+H$6*L1134+I$6*M1134)>(N1134),1,0)","v":0}]
[null,1766,"[D2-AT] Pleinting - St. Peter 258 [DIR] [AT]_LTA_corner#02_#16","10T-AT-DE-000037","[D2-D2] Pirach - Pleinting 257","11TD2L000000201H",0,0,-0.99756,6.855E-2,-9.1900000000000003E-3,-9.1900000000000003E-3,0,4867,{"$f":"IF((G1135*ALBE+H1135*ALDE+I1135*AT+J1135*BE+K1135*DE+L1135*FR+M1135*NL)>(N1135),1,0)","v":0},null,{"$f":"IF((C$6*G1135+D$6*H1135+E$6*I1135+F$6*J1135+G$6*K1135+H$6*L1135+I$6*M1135)>(N1135),1,0)","v":0}]
[null,1767,"[D7-FR] Ensdorf - Vigy 2S [OPP] [D7]_LTA_corner#30_#16","10T-DE-FR-000068","[D7-D7] Ensdorf - Uchtelfangen Taubental N","11T0-0000-0604-N",0,0,8.5879999999999998E-2,0.38802999999999999,-0.11881,0.90991,0,3665,{"$f":"IF((G1136*ALBE+H1136*ALDE+I1136*AT+J1136*BE+K1136*DE+L1136*FR+M1136*NL)>(N1136),1,0)","v":0},null,{"$f":"IF((C$6*G1136+D$6*H1136+E$6*I1136+F$6*J1136+G$6*K1136+H$6*L1136+I$6*M1136)>(N1136),1,0)","v":0}]
[null,1768,"[D2-AT] Pleinting - St. Peter 258 [DIR] [D2]_LTA_corner#09_#10","10T-AT-DE-000037","[D2-AT] Y - St. Peter (- Altheim - Simbach) 234/230","10T-AT-DE-000045",0,0,-0.96401000000000003,-0.11194,-0.17052,-0.17052,0,4178,{"$f":"IF((G1137*ALBE+H1137*ALDE+I1137*AT+J1137*BE+K1137*DE+L1137*FR+M1137*NL)>(N1137),1,0)","v":0},null,{"$f":"IF((C$6*G1137+D$6*H1137+E$6*I1137+F$6*J1137+G$6*K1137+H$6*L1137+I$6*M1137)>(N1137),1,0)","v":0}]
[null,1769,"[D2-AT] Pleinting - St. Peter 258 [DIR] [AT]_LTA_corner#01_#11","10T-AT-DE-000037","[D2-D2] Pirach - Pleinting 257","11TD2L000000201H",0,0,-0.99607999999999997,0,8.8410000000000002E-2,0,0,5412,{"$f":"IF((G1138*ALBE+H1138*ALDE+I1138*AT+J1138*BE+K1138*DE+L1138*FR+M1138*NL)>(N1138),1,0)","v":0},null,{"$f":"IF((C$6*G1138+D$6*H1138+E$6*I1138+F$6*J1138+G$6*K1138+H$6*L1138+I$6*M1138)>(N1138),1,0)","v":0}]
[null,1770,"[D2-AT] Pleinting - St. Peter 258 [DIR] [AT]_LTA_corner#01_#5","10T-AT-DE-000037","[D2-D2] Pirach - Pleinting 257","11TD2L000000201H",0,0,-0.99617999999999995,8.4260000000000002E-2,0,-2.3060000000000001E-2,0,4942,{"$f":"IF((G1139*ALBE+H1139*ALDE+I1139*AT+J1139*BE+K1139*DE+L1139*FR+M1139*NL)>(N1139),1,0)","v":0},null,{"$f":"IF((C$6*G1139+D$6*H1139+E$6*I1139+F$6*J1139+G$6*K1139+H$6*L1139+I$6*M1139)>(N1139),1,0)","v":0}]
[null,1771,"[AT-AT] Westtirol Transformer WTRHU41 [OPP]_LTA_corner#21_#7","14T-38220-WT041O","BASECASE","N/A",0,0,0.99658999999999998,0,8.233E-2,5.0899999999999999E-3,0,4581,{"$f":"IF((G1140*ALBE+H1140*ALDE+I1140*AT+J1140*BE+K1140*DE+L1140*FR+M1140*NL)>(N1140),1,0)","v":0},null,{"$f":"IF((C$6*G1140+D$6*H1140+E$6*I1140+F$6*J1140+G$6*K1140+H$6*L1140+I$6*M1140)>(N1140),1,0)","v":0}]
[null,1772,"[D2-AT] Pleinting - St. Peter 258 [DIR] [AT]_LTA_corner#11_#8","10T-AT-DE-000037","[D2-D2] Pirach - Pleinting 257","11TD2L000000201H",0,0,-0.99773999999999996,2.0449999999999999E-2,-6.0670000000000002E-2,2.0449999999999999E-2,0,4723,{"$f":"IF((G1141*ALBE+H1141*ALDE+I1141*AT+J1141*BE+K1141*DE+L1141*FR+M1141*NL)>(N1141),1,0)","v":0},null,{"$f":"IF((C$6*G1141+D$6*H1141+E$6*I1141+F$6*J1141+G$6*K1141+H$6*L1141+I$6*M1141)>(N1141),1,0)","v":0}]
[null,1773,"[D2-AT] Pleinting - St. Peter 258 [DIR] [AT]_LTA_corner#06_#28","10T-AT-DE-000037","[D2-D2] Pirach - Pleinting 257","11TD2L000000201H",0,0,-0.99563999999999997,-9.0579999999999994E-2,0,-2.222E-2,0,5006,{"$f":"IF((G1142*ALBE+H1142*ALDE+I1142*AT+J1142*BE+K1142*DE+L1142*FR+M1142*NL)>(N1142),1,0)","v":0},null,{"$f":"IF((C$6*G1142+D$6*H1142+E$6*I1142+F$6*J1142+G$6*K1142+H$6*L1142+I$6*M1142)>(N1142),1,0)","v":0}]
[null,1774,"[AT-AT] Westtirol Transformer WTRHU41 [OPP]_LTA_corner#17_#1","14T-38220-WT041O","BASECASE","N/A",0,0,0.99460999999999999,0,8.541E-2,-5.8819999999999997E-2,0,4653,{"$f":"IF((G1143*ALBE+H1143*ALDE+I1143*AT+J1143*BE+K1143*DE+L1143*FR+M1143*NL)>(N1143),1,0)","v":0},null,{"$f":"IF((C$6*G1143+D$6*H1143+E$6*I1143+F$6*J1143+G$6*K1143+H$6*L1143+I$6*M1143)>(N1143),1,0)","v":0}]
[null,1775,"[AT-AT] Westtirol Transformer WTRHU41 [OPP]_LTA_corner#20_#4","14T-38220-WT041O","BASECASE","N/A",0,0,0.98011999999999999,-2.2380000000000001E-2,0.18398,-7.0870000000000002E-2,0,4336,{"$f":"IF((G1144*ALBE+H1144*ALDE+I1144*AT+J1144*BE+K1144*DE+L1144*FR+M1144*NL)>(N1144),1,0)","v":0},null,{"$f":"IF((C$6*G1144+D$6*H1144+E$6*I1144+F$6*J1144+G$6*K1144+H$6*L1144+I$6*M1144)>(N1144),1,0)","v":0}]
[null,1776,"[BE-BE] PST_ZANDV_2 [N - S]_LTA_corner#13_#8","22T20161020---56","[NL-BE] Rilland - Zandvliet 380 White/30","10T-BE-NL-00004C",0,0,-0.34262999999999999,-0.73294999999999999,-0.29813000000000001,-0.50646999999999998,0,1768,{"$f":"IF((G1145*ALBE+H1145*ALDE+I1145*AT+J1145*BE+K1145*DE+L1145*FR+M1145*NL)>(N1145),1,0)","v":0},null,{"$f":"IF((C$6*G1145+D$6*H1145+E$6*I1145+F$6*J1145+G$6*K1145+H$6*L1145+I$6*M1145)>(N1145),1,0)","v":0}]
[null,1777,"[D2-AT] Pleinting - St. Peter 258 [DIR] [AT]_LTA_corner#04_#2","10T-AT-DE-000037","[D2-D2] Pirach - Pleinting 257","11TD2L000000201H",0,0,-0.98748999999999998,-2.3480000000000001E-2,0.11702,-0.10309,0,5737,{"$f":"IF((G1146*ALBE+H1146*ALDE+I1146*AT+J1146*BE+K1146*DE+L1146*FR+M1146*NL)>(N1146),1,0)","v":0},null,{"$f":"IF((C$6*G1146+D$6*H1146+E$6*I1146+F$6*J1146+G$6*K1146+H$6*L1146+I$6*M1146)>(N1146),1,0)","v":0}]
[null,1778,"[D2-AT] Pleinting - St. Peter 258 [DIR] [D2]_LTA_corner#05_#2","10T-AT-DE-000037","[D2-AT] Y - St. Peter (- Altheim - Simbach) 234/230","10T-AT-DE-000045",0,0,0.54732000000000003,0.32682,0.63599000000000006,0.43491999999999997,0,1703,{"$f":"IF((G1147*ALBE+H1147*ALDE+I1147*AT+J1147*BE+K1147*DE+L1147*FR+M1147*NL)>(N1147),1,0)","v":0},null,{"$f":"IF((C$6*G1147+D$6*H1147+E$6*I1147+F$6*J1147+G$6*K1147+H$6*L1147+I$6*M1147)>(N1147),1,0)","v":0}]
[null,1779,"[AT-AT] Westtirol Transformer WTRHU41 [OPP]_LTA_corner#17_#0","14T-38220-WT041O","BASECASE","N/A",0,0,0.98767000000000005,3.3390000000000003E-2,0.13525999999999999,-7.1419999999999997E-2,0,4544,{"$f":"IF((G1148*ALBE+H1148*ALDE+I1148*AT+J1148*BE+K1148*DE+L1148*FR+M1148*NL)>(N1148),1,0)","v":0},null,{"$f":"IF((C$6*G1148+D$6*H1148+E$6*I1148+F$6*J1148+G$6*K1148+H$6*L1148+I$6*M1148)>(N1148),1,0)","v":0}]
[null,1780,"[D2-AT] Pleinting - St. Peter 258 [DIR] [AT]_LTA_corner#09_#13","10T-AT-DE-000037","[D2-D2] Pirach - Pleinting 257","11TD2L000000201H",0,0,-0.99717,-3.7399999999999998E-3,-5.3109999999999997E-2,-5.3109999999999997E-2,0,4656,{"$f":"IF((G1149*ALBE+H1149*ALDE+I1149*AT+J1149*BE+K1149*DE+L1149*FR+M1149*NL)>(N1149),1,0)","v":0},null,{"$f":"IF((C$6*G1149+D$6*H1149+E$6*I1149+F$6*J1149+G$6*K1149+H$6*L1149+I$6*M1149)>(N1149),1,0)","v":0}]
[null,1781,"[D2-AT] Pleinting - St. Peter 258 [DIR] [D2]_LTA_corner#09_#27","10T-AT-DE-000037","[D2-AT] Y - St. Peter (- Altheim - Simbach) 234/230","10T-AT-DE-000045",0,0,-0.98729999999999996,-5.7770000000000002E-2,-0.10375,-0.10549,0,4475,{"$f":"IF((G1150*ALBE+H1150*ALDE+I1150*AT+J1150*BE+K1150*DE+L1150*FR+M1150*NL)>(N1150),1,0)","v":0},null,{"$f":"IF((C$6*G1150+D$6*H1150+E$6*I1150+F$6*J1150+G$6*K1150+H$6*L1150+I$6*M1150)>(N1150),1,0)","v":0}]
[null,1782,"[BE-BE] PST_VANYK_2 [S - N]","22T-BE-PST--002U","[NL-BE] Maasbracht - Van Eyck 380 Black/27","10T-BE-NL-00002G",0.48522999999999999,-5.1249999999999997E-2,1.2699999999999999E-2,0.27059,-2.2579999999999999E-2,9.4740000000000005E-2,-2.8660000000000001E-2,1025,{"$f":"IF((G1151*ALBE+H1151*ALDE+I1151*AT+J1151*BE+K1151*DE+L1151*FR+M1151*NL)>(N1151),1,0)","v":0},null,{"$f":"IF((C$6*G1151+D$6*H1151+E$6*I1151+F$6*J1151+G$6*K1151+H$6*L1151+I$6*M1151)>(N1151),1,0)","v":0}]
[null,1783,"[AT-AT] Westtirol Transformer WTRHU41 [OPP]_LTA_corner#17_#3","14T-38220-WT041O","BASECASE","N/A",0,0,0.99690000000000001,0,7.8689999999999996E-2,0,0,4589,{"$f":"IF((G1152*ALBE+H1152*ALDE+I1152*AT+J1152*BE+K1152*DE+L1152*FR+M1152*NL)>(N1152),1,0)","v":0},null,{"$f":"IF((C$6*G1152+D$6*H1152+E$6*I1152+F$6*J1152+G$6*K1152+H$6*L1152+I$6*M1152)>(N1152),1,0)","v":0}]
[null,1784,"[AT-AT] Westtirol Transformer WTRHU41 [OPP]_LTA_corner#21_#0","14T-38220-WT041O","BASECASE","N/A",0,0,0.99629999999999996,0,8.584E-2,4.8900000000000002E-3,0,4570,{"$f":"IF((G1153*ALBE+H1153*ALDE+I1153*AT+J1153*BE+K1153*DE+L1153*FR+M1153*NL)>(N1153),1,0)","v":0},null,{"$f":"IF((C$6*G1153+D$6*H1153+E$6*I1153+F$6*J1153+G$6*K1153+H$6*L1153+I$6*M1153)>(N1153),1,0)","v":0}]
[null,1785,"[D2-AT] Pleinting - St. Peter 258 [DIR] [AT]_LTA_corner#01_#8","10T-AT-DE-000037","[D2-D2] Pirach - Pleinting 257","11TD2L000000201H",0,0,-1,0,0,0,0,4821,{"$f":"IF((G1154*ALBE+H1154*ALDE+I1154*AT+J1154*BE+K1154*DE+L1154*FR+M1154*NL)>(N1154),1,0)","v":0},null,{"$f":"IF((C$6*G1154+D$6*H1154+E$6*I1154+F$6*J1154+G$6*K1154+H$6*L1154+I$6*M1154)>(N1154),1,0)","v":0}]
[null,1786,"[D2-AT] Pleinting - St. Peter 258 [DIR] [D2]_LTA_corner#04_#20","10T-AT-DE-000037","[D2-AT] Y - St. Peter (- Altheim - Simbach) 234/230","10T-AT-DE-000045",0,0,-0.99997000000000003,-5.3E-3,0,-5.3E-3,0,4830,{"$f":"IF((G1155*ALBE+H1155*ALDE+I1155*AT+J1155*BE+K1155*DE+L1155*FR+M1155*NL)>(N1155),1,0)","v":0},null,{"$f":"IF((C$6*G1155+D$6*H1155+E$6*I1155+F$6*J1155+G$6*K1155+H$6*L1155+I$6*M1155)>(N1155),1,0)","v":0}]
[null,1787,"[D2-AT] Pleinting - St. Peter 258 [DIR] [AT]_LTA_corner#11_#7","10T-AT-DE-000037","[D2-D2] Pirach - Pleinting 257","11TD2L000000201H",0,0,-0.99841999999999997,2.6239999999999999E-2,-4.2209999999999998E-2,2.6239999999999999E-2,0,4776,{"$f":"IF((G1156*ALBE+H1156*ALDE+I1156*AT+J1156*BE+K1156*DE+L1156*FR+M1156*NL)>(N1156),1,0)","v":0},null,{"$f":"IF((C$6*G1156+D$6*H1156+E$6*I1156+F$6*J1156+G$6*K1156+H$6*L1156+I$6*M1156)>(N1156),1,0)","v":0}]
[null,1788,"[AT-AT] Westtirol Transformer WTRHU41 [OPP]_LTA_corner#17_#6","14T-38220-WT041O","BASECASE","N/A",0,0,0.98526999999999998,0,0.13492999999999999,-0.105,0,4547,{"$f":"IF((G1157*ALBE+H1157*ALDE+I1157*AT+J1157*BE+K1157*DE+L1157*FR+M1157*NL)>(N1157),1,0)","v":0},null,{"$f":"IF((C$6*G1157+D$6*H1157+E$6*I1157+F$6*J1157+G$6*K1157+H$6*L1157+I$6*M1157)>(N1157),1,0)","v":0}]
[null,1789,"[D2-AT] Pleinting - St. Peter 258 [DIR] [D2]_LTA_corner#01_#14","10T-AT-DE-000037","[D2-AT] Y - St. Peter (- Altheim - Simbach) 234/230","10T-AT-DE-000045",0,0,-0.99995000000000001,0,0,-1.0359999999999999E-2,0,4837,{"$f":"IF((G1158*ALBE+H1158*ALDE+I1158*AT+J1158*BE+K1158*DE+L1158*FR+M1158*NL)>(N1158),1,0)","v":0},null,{"$f":"IF((C$6*G1158+D$6*H1158+E$6*I1158+F$6*J1158+G$6*K1158+H$6*L1158+I$6*M1158)>(N1158),1,0)","v":0}]
[null,1790,"[BE-FR] Achene - Lonny 380.19 [DIR] [BE]_LTA_corner#09_#3","10T-BE-FR-000015","[BE-BE] Avelgem - Horta 380.102","22T20161020---1E",0,0,-0.40437000000000001,-0.60836000000000001,-0.31030000000000002,-0.60836000000000001,0,1634,{"$f":"IF((G1159*ALBE+H1159*ALDE+I1159*AT+J1159*BE+K1159*DE+L1159*FR+M1159*NL)>(N1159),1,0)","v":0},null,{"$f":"IF((C$6*G1159+D$6*H1159+E$6*I1159+F$6*J1159+G$6*K1159+H$6*L1159+I$6*M1159)>(N1159),1,0)","v":0}]
[null,1791,"[D2-AT] Y - St. Peter (- Altheim - Simbach) 234/230 [OPP] [D2]_LTA_corner#23_#0","10T-AT-DE-000045","[D2-AT] Pirach - St. Peter 256","10T-AT-DE-000029",0,0,0.99790000000000001,1.7909999999999999E-2,5.2300000000000003E-3,6.2059999999999997E-2,0,4952,{"$f":"IF((G1160*ALBE+H1160*ALDE+I1160*AT+J1160*BE+K1160*DE+L1160*FR+M1160*NL)>(N1160),1,0)","v":0},null,{"$f":"IF((C$6*G1160+D$6*H1160+E$6*I1160+F$6*J1160+G$6*K1160+H$6*L1160+I$6*M1160)>(N1160),1,0)","v":0}]
[null,1792,"[D2-AT] Pleinting - St. Peter 258 [DIR] [D2]_LTA_corner#01_#12","10T-AT-DE-000037","[D2-AT] Y - St. Peter (- Altheim - Simbach) 234/230","10T-AT-DE-000045",0,0,-0.99997000000000003,0,7.7400000000000004E-3,-1.32E-3,0,4876,{"$f":"IF((G1161*ALBE+H1161*ALDE+I1161*AT+J1161*BE+K1161*DE+L1161*FR+M1161*NL)>(N1161),1,0)","v":0},null,{"$f":"IF((C$6*G1161+D$6*H1161+E$6*I1161+F$6*J1161+G$6*K1161+H$6*L1161+I$6*M1161)>(N1161),1,0)","v":0}]
[null,1793,"[D2-AT] Pleinting - St. Peter 258 [DIR] [AT]_LTA_corner#01_#4","10T-AT-DE-000037","[D2-D2] Pirach - Pleinting 257","11TD2L000000201H",0,0,-0.99814000000000003,6.1010000000000002E-2,0,0,0,4886,{"$f":"IF((G1162*ALBE+H1162*ALDE+I1162*AT+J1162*BE+K1162*DE+L1162*FR+M1162*NL)>(N1162),1,0)","v":0},null,{"$f":"IF((C$6*G1162+D$6*H1162+E$6*I1162+F$6*J1162+G$6*K1162+H$6*L1162+I$6*M1162)>(N1162),1,0)","v":0}]
[null,1794,"[BE-FR] Achene - Lonny 380.19 [OPP] [BE]","10T-BE-FR-000015","[BE-BE] Avelgem - Horta 380.102","22T20161020---1E",-0.31175999999999998,-6.8580000000000002E-2,2.1049999999999999E-2,-0.30780000000000002,-3.814E-2,0.14868999999999999,-0.15712999999999999,2130,{"$f":"IF((G1163*ALBE+H1163*ALDE+I1163*AT+J1163*BE+K1163*DE+L1163*FR+M1163*NL)>(N1163),1,0)","v":0},null,{"$f":"IF((C$6*G1163+D$6*H1163+E$6*I1163+F$6*J1163+G$6*K1163+H$6*L1163+I$6*M1163)>(N1163),1,0)","v":0}]
[null,1795,"[D2-NL] Diele - Meeden 380 Black [DIR] [NL]_LTA_corner#05_#6","10T-DE-NL-00001V","[D2-NL] Diele - Meeden 380 White","10T-DE-NL-00002T",0,0,0.54496,0.33240999999999998,0.62963999999999998,0.44280999999999998,0,1670,{"$f":"IF((G1164*ALBE+H1164*ALDE+I1164*AT+J1164*BE+K1164*DE+L1164*FR+M1164*NL)>(N1164),1,0)","v":0},null,{"$f":"IF((C$6*G1164+D$6*H1164+E$6*I1164+F$6*J1164+G$6*K1164+H$6*L1164+I$6*M1164)>(N1164),1,0)","v":0}]
[null,1796,"[D2-NL] Diele - Meeden 380 Black [DIR] [NL]_LTA_corner#05_#27","10T-DE-NL-00001V","[D2-NL] Diele - Meeden 380 White","10T-DE-NL-00002T",0,0,0.54471999999999998,0.33268999999999999,0.63007000000000002,0.44228000000000001,0,1673,{"$f":"IF((G1165*ALBE+H1165*ALDE+I1165*AT+J1165*BE+K1165*DE+L1165*FR+M1165*NL)>(N1165),1,0)","v":0},null,{"$f":"IF((C$6*G1165+D$6*H1165+E$6*I1165+F$6*J1165+G$6*K1165+H$6*L1165+I$6*M1165)>(N1165),1,0)","v":0}]
[null,1797,"[NL-NL] Borssele - Rilland 380 Zwart [DIR]","49T000000000059S","[NL-NL] Borssele - Rilland 380 Grijs","49T000000000057W",-5.1900000000000002E-3,2.2799999999999999E-3,-7.5000000000000002E-4,-1.357E-2,1.3600000000000001E-3,-5.6499999999999996E-3,0.12096999999999999,457,{"$f":"IF((G1166*ALBE+H1166*ALDE+I1166*AT+J1166*BE+K1166*DE+L1166*FR+M1166*NL)>(N1166),1,0)","v":0},null,{"$f":"IF((C$6*G1166+D$6*H1166+E$6*I1166+F$6*J1166+G$6*K1166+H$6*L1166+I$6*M1166)>(N1166),1,0)","v":0}]
[null,1798,"[D2-AT] Pleinting - St. Peter 258 [DIR] [AT]_LTA_corner#04_#0","10T-AT-DE-000037","[D2-D2] Pirach - Pleinting 257","11TD2L000000201H",0,0,-0.99172000000000005,-3.7100000000000002E-3,8.6300000000000005E-3,-0.12811,0,5046,{"$f":"IF((G1167*ALBE+H1167*ALDE+I1167*AT+J1167*BE+K1167*DE+L1167*FR+M1167*NL)>(N1167),1,0)","v":0},null,{"$f":"IF((C$6*G1167+D$6*H1167+E$6*I1167+F$6*J1167+G$6*K1167+H$6*L1167+I$6*M1167)>(N1167),1,0)","v":0}]
[null,1799,"[BE-FR] Achene - Lonny 380.19 [DIR] [BE]_LTA_corner#02_#6","10T-BE-FR-000015","[BE-BE] Avelgem - Horta 380.102","22T20161020---1E",0,0,-0.48948000000000003,0,-0.36294999999999999,-0.79288999999999998,0,2012,{"$f":"IF((G1168*ALBE+H1168*ALDE+I1168*AT+J1168*BE+K1168*DE+L1168*FR+M1168*NL)>(N1168),1,0)","v":0},null,{"$f":"IF((C$6*G1168+D$6*H1168+E$6*I1168+F$6*J1168+G$6*K1168+H$6*L1168+I$6*M1168)>(N1168),1,0)","v":0}]
[null,1800,"[AT-AT] Westtirol Transformer WTRHU41 [OPP]_LTA_corner#20_#0","14T-38220-WT041O","BASECASE","N/A",0,0,0.98229,-2.2429999999999999E-2,0.13452,-0.1285,0,4574,{"$f":"IF((G1169*ALBE+H1169*ALDE+I1169*AT+J1169*BE+K1169*DE+L1169*FR+M1169*NL)>(N1169),1,0)","v":0},null,{"$f":"IF((C$6*G1169+D$6*H1169+E$6*I1169+F$6*J1169+G$6*K1169+H$6*L1169+I$6*M1169)>(N1169),1,0)","v":0}]
[null,1801,"[D4-AT] Buers - Westtirol 421 weiss [OPP] [D4]_LTA_corner#20_#11","10T-AT-DE-000061","[AT-AT] Westtirol Transformer WTRHU41","14T-38220-WT041O",0,0,0.97204999999999997,-6.216E-2,0.10635,-0.19988,0,4722,{"$f":"IF((G1170*ALBE+H1170*ALDE+I1170*AT+J1170*BE+K1170*DE+L1170*FR+M1170*NL)>(N1170),1,0)","v":0},null,{"$f":"IF((C$6*G1170+D$6*H1170+E$6*I1170+F$6*J1170+G$6*K1170+H$6*L1170+I$6*M1170)>(N1170),1,0)","v":0}]
[null,1802,"[D2-AT] Pleinting - St. Peter 258 [DIR] [D2]_LTA_corner#06_#13","10T-AT-DE-000037","[D2-AT] Y - St. Peter (- Altheim - Simbach) 234/230","10T-AT-DE-000045",0,0,-0.99994000000000005,-1.0840000000000001E-2,0,-2.99E-3,0,4845,{"$f":"IF((G1171*ALBE+H1171*ALDE+I1171*AT+J1171*BE+K1171*DE+L1171*FR+M1171*NL)>(N1171),1,0)","v":0},null,{"$f":"IF((C$6*G1171+D$6*H1171+E$6*I1171+F$6*J1171+G$6*K1171+H$6*L1171+I$6*M1171)>(N1171),1,0)","v":0}]
[null,1803,"[AT-AT] Westtirol Transformer WTRHU41 [OPP]_LTA_corner#20_#15","14T-38220-WT041O","BASECASE","N/A",0,0,0.98494999999999999,-7.1220000000000006E-2,0.14046,-7.1220000000000006E-2,0,4487,{"$f":"IF((G1172*ALBE+H1172*ALDE+I1172*AT+J1172*BE+K1172*DE+L1172*FR+M1172*NL)>(N1172),1,0)","v":0},null,{"$f":"IF((C$6*G1172+D$6*H1172+E$6*I1172+F$6*J1172+G$6*K1172+H$6*L1172+I$6*M1172)>(N1172),1,0)","v":0}]
[null,1804,"[D2-AT] Pleinting - St. Peter 258 [DIR] [AT]_LTA_corner#11_#9","10T-AT-DE-000037","[D2-D2] Pirach - Pleinting 257","11TD2L000000201H",0,0,-0.99768000000000001,1.6E-2,-6.4199999999999993E-2,1.6E-2,0,4706,{"$f":"IF((G1173*ALBE+H1173*ALDE+I1173*AT+J1173*BE+K1173*DE+L1173*FR+M1173*NL)>(N1173),1,0)","v":0},null,{"$f":"IF((C$6*G1173+D$6*H1173+E$6*I1173+F$6*J1173+G$6*K1173+H$6*L1173+I$6*M1173)>(N1173),1,0)","v":0}]
[null,1805,"[BE-FR] Achene - Lonny 380.19 [DIR] [BE]_LTA_corner#02_#11","10T-BE-FR-000015","[BE-BE] Avelgem - Horta 380.102","22T20161020---1E",0,0,-0.48111999999999999,0,-0.35291,-0.80249000000000004,0,2032,{"$f":"IF((G1174*ALBE+H1174*ALDE+I1174*AT+J1174*BE+K1174*DE+L1174*FR+M1174*NL)>(N1174),1,0)","v":0},null,{"$f":"IF((C$6*G1174+D$6*H1174+E$6*I1174+F$6*J1174+G$6*K1174+H$6*L1174+I$6*M1174)>(N1174),1,0)","v":0}]
[null,1806,"[D2-AT] Pleinting - St. Peter 258 [DIR] [D2]_LTA_corner#09_#7","10T-AT-DE-000037","[D2-AT] Y - St. Peter (- Altheim - Simbach) 234/230","10T-AT-DE-000045",0,0,-0.94835999999999998,-0.14244000000000001,-0.20039999999999999,-0.20039999999999999,0,4022,{"$f":"IF((G1175*ALBE+H1175*ALDE+I1175*AT+J1175*BE+K1175*DE+L1175*FR+M1175*NL)>(N1175),1,0)","v":0},null,{"$f":"IF((C$6*G1175+D$6*H1175+E$6*I1175+F$6*J1175+G$6*K1175+H$6*L1175+I$6*M1175)>(N1175),1,0)","v":0}]
[null,1807,"[D2-AT] Pleinting - St. Peter 258 [DIR] [AT]_LTA_corner#02_#22","10T-AT-DE-000037","[D2-D2] Pirach - Pleinting 257","11TD2L000000201H",0,0,-0.99736000000000002,0,-5.1330000000000001E-2,-5.1330000000000001E-2,0,4662,{"$f":"IF((G1176*ALBE+H1176*ALDE+I1176*AT+J1176*BE+K1176*DE+L1176*FR+M1176*NL)>(N1176),1,0)","v":0},null,{"$f":"IF((C$6*G1176+D$6*H1176+E$6*I1176+F$6*J1176+G$6*K1176+H$6*L1176+I$6*M1176)>(N1176),1,0)","v":0}]
[null,1808,"[D4-AT] Buers - Westtirol 421 weiss [OPP] [D4]_LTA_corner#20_#20","10T-AT-DE-000061","[AT-AT] Westtirol Transformer WTRHU41","14T-38220-WT041O",0,0,0.98762000000000005,-3.1329999999999997E-2,0.14407,-5.3609999999999998E-2,0,4455,{"$f":"IF((G1177*ALBE+H1177*ALDE+I1177*AT+J1177*BE+K1177*DE+L1177*FR+M1177*NL)>(N1177),1,0)","v":0},null,{"$f":"IF((C$6*G1177+D$6*H1177+E$6*I1177+F$6*J1177+G$6*K1177+H$6*L1177+I$6*M1177)>(N1177),1,0)","v":0}]
[null,1809,"[D2-AT] Pleinting - St. Peter 258 [DIR] [AT]_LTA_corner#06_#13","10T-AT-DE-000037","[D2-D2] Pirach - Pleinting 257","11TD2L000000201H",0,0,-0.99775000000000003,-6.5869999999999998E-2,8.6899999999999998E-3,8.6899999999999998E-3,0,5038,{"$f":"IF((G1178*ALBE+H1178*ALDE+I1178*AT+J1178*BE+K1178*DE+L1178*FR+M1178*NL)>(N1178),1,0)","v":0},null,{"$f":"IF((C$6*G1178+D$6*H1178+E$6*I1178+F$6*J1178+G$6*K1178+H$6*L1178+I$6*M1178)>(N1178),1,0)","v":0}]
[null,1810,"[D2-AT] Pleinting - St. Peter 258 [DIR] [AT]_LTA_corner#14_#9","10T-AT-DE-000037","[D2-D2] Pirach - Pleinting 257","11TD2L000000201H",0,0,-0.99811000000000005,0,-1.0410000000000001E-2,6.0630000000000003E-2,0,4975,{"$f":"IF((G1179*ALBE+H1179*ALDE+I1179*AT+J1179*BE+K1179*DE+L1179*FR+M1179*NL)>(N1179),1,0)","v":0},null,{"$f":"IF((C$6*G1179+D$6*H1179+E$6*I1179+F$6*J1179+G$6*K1179+H$6*L1179+I$6*M1179)>(N1179),1,0)","v":0}]
[null,1811,"[D2-NL] Diele - Meeden 380 Black [DIR] [NL]_LTA_corner#05_#3","10T-DE-NL-00001V","[D2-NL] Diele - Meeden 380 White","10T-DE-NL-00002T",0,0,0.54725000000000001,0.32142999999999999,0.63566999999999996,0.43945000000000001,0,1710,{"$f":"IF((G1180*ALBE+H1180*ALDE+I1180*AT+J1180*BE+K1180*DE+L1180*FR+M1180*NL)>(N1180),1,0)","v":0},null,{"$f":"IF((C$6*G1180+D$6*H1180+E$6*I1180+F$6*J1180+G$6*K1180+H$6*L1180+I$6*M1180)>(N1180),1,0)","v":0}]
[null,1812,"[AT-AT] Westtirol Transformer WTRHU41 [OPP]_LTA_corner#21_#6","14T-38220-WT041O","BASECASE","N/A",0,0,0.99690999999999996,0,7.8490000000000004E-2,8.7000000000000001E-4,0,4590,{"$f":"IF((G1181*ALBE+H1181*ALDE+I1181*AT+J1181*BE+K1181*DE+L1181*FR+M1181*NL)>(N1181),1,0)","v":0},null,{"$f":"IF((C$6*G1181+D$6*H1181+E$6*I1181+F$6*J1181+G$6*K1181+H$6*L1181+I$6*M1181)>(N1181),1,0)","v":0}]
[null,1813,"[D2-AT] Y - St. Peter (- Altheim - Simbach) 234/230 [OPP] [D2]_LTA_corner#30_#17","10T-AT-DE-000045","[D2-AT] Pirach - St. Peter 256","10T-AT-DE-000029",0,0,0.99834000000000001,1.2999999999999999E-2,-5.7600000000000004E-3,5.5800000000000002E-2,0,5010,{"$f":"IF((G1182*ALBE+H1182*ALDE+I1182*AT+J1182*BE+K1182*DE+L1182*FR+M1182*NL)>(N1182),1,0)","v":0},null,{"$f":"IF((C$6*G1182+D$6*H1182+E$6*I1182+F$6*J1182+G$6*K1182+H$6*L1182+I$6*M1182)>(N1182),1,0)","v":0}]
[null,1814,"[D2-AT] Pleinting - St. Peter 258 [DIR] [AT]_LTA_corner#14_#15","10T-AT-DE-000037","[D2-D2] Pirach - Pleinting 257","11TD2L000000201H",0,0,-0.99778,0,-6.4610000000000001E-2,1.6240000000000001E-2,0,4724,{"$f":"IF((G1183*ALBE+H1183*ALDE+I1183*AT+J1183*BE+K1183*DE+L1183*FR+M1183*NL)>(N1183),1,0)","v":0},null,{"$f":"IF((C$6*G1183+D$6*H1183+E$6*I1183+F$6*J1183+G$6*K1183+H$6*L1183+I$6*M1183)>(N1183),1,0)","v":0}]
[null,1815,"[D2-AT] Pleinting - St. Peter 258 [DIR] [D2]_LTA_corner#09_#22","10T-AT-DE-000037","[D2-AT] Y - St. Peter (- Altheim - Simbach) 234/230","10T-AT-DE-000045",0,0,-0.99961999999999995,-1.6840000000000001E-2,-1.374E-2,-1.6840000000000001E-2,0,4787,{"$f":"IF((G1184*ALBE+H1184*ALDE+I1184*AT+J1184*BE+K1184*DE+L1184*FR+M1184*NL)>(N1184),1,0)","v":0},null,{"$f":"IF((C$6*G1184+D$6*H1184+E$6*I1184+F$6*J1184+G$6*K1184+H$6*L1184+I$6*M1184)>(N1184),1,0)","v":0}]
[null,1816,"[D2-AT] Pleinting - St. Peter 258 [DIR] [AT]_LTA_corner#07_#0","10T-AT-DE-000037","[D2-D2] Pirach - Pleinting 257","11TD2L000000201H",0,0,-0.99787999999999999,0,0,6.5129999999999993E-2,0,5009,{"$f":"IF((G1185*ALBE+H1185*ALDE+I1185*AT+J1185*BE+K1185*DE+L1185*FR+M1185*NL)>(N1185),1,0)","v":0},null,{"$f":"IF((C$6*G1185+D$6*H1185+E$6*I1185+F$6*J1185+G$6*K1185+H$6*L1185+I$6*M1185)>(N1185),1,0)","v":0}]
[null,1817,"[D2-AT] Y - St. Peter (- Altheim - Simbach) 234/230 [OPP] [D2]_LTA_corner#23_#1","10T-AT-DE-000045","[D2-AT] Pirach - St. Peter 256","10T-AT-DE-000029",0,0,0.99819999999999998,1.5010000000000001E-2,0,5.8069999999999997E-2,0,4971,{"$f":"IF((G1186*ALBE+H1186*ALDE+I1186*AT+J1186*BE+K1186*DE+L1186*FR+M1186*NL)>(N1186),1,0)","v":0},null,{"$f":"IF((C$6*G1186+D$6*H1186+E$6*I1186+F$6*J1186+G$6*K1186+H$6*L1186+I$6*M1186)>(N1186),1,0)","v":0}]
[null,1818,"[AT-AT] Westtirol Transformer WTRHU41 [OPP]_LTA_corner#22_#0","14T-38220-WT041O","BASECASE","N/A",0,0,0.99031000000000002,-2.2610000000000002E-2,0.13561999999999999,-1.9290000000000002E-2,0,4443,{"$f":"IF((G1187*ALBE+H1187*ALDE+I1187*AT+J1187*BE+K1187*DE+L1187*FR+M1187*NL)>(N1187),1,0)","v":0},null,{"$f":"IF((C$6*G1187+D$6*H1187+E$6*I1187+F$6*J1187+G$6*K1187+H$6*L1187+I$6*M1187)>(N1187),1,0)","v":0}]
[null,1819,"[AT-AT] Westtirol Transformer WTRHU41 [OPP]_LTA_corner#20_#3","14T-38220-WT041O","BASECASE","N/A",0,0,0.97796000000000005,-3.0640000000000001E-2,0.17946000000000001,-0.10221,0,4390,{"$f":"IF((G1188*ALBE+H1188*ALDE+I1188*AT+J1188*BE+K1188*DE+L1188*FR+M1188*NL)>(N1188),1,0)","v":0},null,{"$f":"IF((C$6*G1188+D$6*H1188+E$6*I1188+F$6*J1188+G$6*K1188+H$6*L1188+I$6*M1188)>(N1188),1,0)","v":0}]
[null,1820,"[D7-FR] Ensdorf - Vigy 2S [OPP] [D7]_LTA_corner#30_#31","10T-DE-FR-000068","[D7-D7] Ensdorf - Uchtelfangen Taubental N","11T0-0000-0604-N",0,0,8.3250000000000005E-2,0.38611000000000001,-0.12121999999999999,0.91066000000000003,0,3675,{"$f":"IF((G1189*ALBE+H1189*ALDE+I1189*AT+J1189*BE+K1189*DE+L1189*FR+M1189*NL)>(N1189),1,0)","v":0},null,{"$f":"IF((C$6*G1189+D$6*H1189+E$6*I1189+F$6*J1189+G$6*K1189+H$6*L1189+I$6*M1189)>(N1189),1,0)","v":0}]
[null,1821,"[AT-AT] Westtirol Transformer WTRHU41 [OPP]_LTA_corner#17_#8","14T-38220-WT041O","BASECASE","N/A",0,0,0.98358999999999996,0,0.15794,-8.72E-2,0,4447,{"$f":"IF((G1190*ALBE+H1190*ALDE+I1190*AT+J1190*BE+K1190*DE+L1190*FR+M1190*NL)>(N1190),1,0)","v":0},null,{"$f":"IF((C$6*G1190+D$6*H1190+E$6*I1190+F$6*J1190+G$6*K1190+H$6*L1190+I$6*M1190)>(N1190),1,0)","v":0}]
[null,1822,"[D2-AT] Pleinting - St. Peter 258 [DIR] [D2]_LTA_corner#04_#0","10T-AT-DE-000037","[D2-AT] Y - St. Peter (- Altheim - Simbach) 234/230","10T-AT-DE-000045",0,0,-0.98621999999999999,-5.144E-2,1.5740000000000001E-2,-0.15645999999999999,0,5121,{"$f":"IF((G1191*ALBE+H1191*ALDE+I1191*AT+J1191*BE+K1191*DE+L1191*FR+M1191*NL)>(N1191),1,0)","v":0},null,{"$f":"IF((C$6*G1191+D$6*H1191+E$6*I1191+F$6*J1191+G$6*K1191+H$6*L1191+I$6*M1191)>(N1191),1,0)","v":0}]
[null,1823,"[D2-AT] Pleinting - St. Peter 258 [DIR] [AT]_LTA_corner#03_#0","10T-AT-DE-000037","[D2-D2] Pirach - Pleinting 257","11TD2L000000201H",0,0,-0.99897000000000002,3.1480000000000001E-2,8.6999999999999994E-3,3.1480000000000001E-2,0,4918,{"$f":"IF((G1192*ALBE+H1192*ALDE+I1192*AT+J1192*BE+K1192*DE+L1192*FR+M1192*NL)>(N1192),1,0)","v":0},null,{"$f":"IF((C$6*G1192+D$6*H1192+E$6*I1192+F$6*J1192+G$6*K1192+H$6*L1192+I$6*M1192)>(N1192),1,0)","v":0}]
[null,1824,"[BE-BE] PST_ZANDV_2 [N - S]_LTA_corner#13_#15","22T20161020---56","[NL-BE] Rilland - Zandvliet 380 White/30","10T-BE-NL-00004C",0,0,-0.40392,-0.65539999999999998,-0.33834999999999998,-0.54112000000000005,0,1670,{"$f":"IF((G1193*ALBE+H1193*ALDE+I1193*AT+J1193*BE+K1193*DE+L1193*FR+M1193*NL)>(N1193),1,0)","v":0},null,{"$f":"IF((C$6*G1193+D$6*H1193+E$6*I1193+F$6*J1193+G$6*K1193+H$6*L1193+I$6*M1193)>(N1193),1,0)","v":0}]
[null,1825,"[AT-AT] Westtirol Transformer WTRHU41 [OPP]_LTA_corner#17_#4","14T-38220-WT041O","BASECASE","N/A",0,0,0.99587000000000003,0,9.0800000000000006E-2,0,0,4550,{"$f":"IF((G1194*ALBE+H1194*ALDE+I1194*AT+J1194*BE+K1194*DE+L1194*FR+M1194*NL)>(N1194),1,0)","v":0},null,{"$f":"IF((C$6*G1194+D$6*H1194+E$6*I1194+F$6*J1194+G$6*K1194+H$6*L1194+I$6*M1194)>(N1194),1,0)","v":0}]
[null,1826,"[D2-AT] Pleinting - St. Peter 258 [DIR] [AT]_LTA_corner#14_#4","10T-AT-DE-000037","[D2-D2] Pirach - Pleinting 257","11TD2L000000201H",0,0,-0.99775999999999998,1.4030000000000001E-2,-5.3179999999999998E-2,3.8030000000000001E-2,0,4799,{"$f":"IF((G1195*ALBE+H1195*ALDE+I1195*AT+J1195*BE+K1195*DE+L1195*FR+M1195*NL)>(N1195),1,0)","v":0},null,{"$f":"IF((C$6*G1195+D$6*H1195+E$6*I1195+F$6*J1195+G$6*K1195+H$6*L1195+I$6*M1195)>(N1195),1,0)","v":0}]
[null,1827,"[D2-AT] Pleinting - St. Peter 258 [DIR] [AT]_LTA_corner#11_#15","10T-AT-DE-000037","[D2-D2] Pirach - Pleinting 257","11TD2L000000201H",0,0,-0.99709000000000003,0,-7.4950000000000003E-2,-1.4290000000000001E-2,0,4639,{"$f":"IF((G1196*ALBE+H1196*ALDE+I1196*AT+J1196*BE+K1196*DE+L1196*FR+M1196*NL)>(N1196),1,0)","v":0},null,{"$f":"IF((C$6*G1196+D$6*H1196+E$6*I1196+F$6*J1196+G$6*K1196+H$6*L1196+I$6*M1196)>(N1196),1,0)","v":0}]
[null,1828,"[D2-AT] Pleinting - St. Peter 258 [DIR] [AT]_LTA_corner#06_#5","10T-AT-DE-000037","[D2-D2] Pirach - Pleinting 257","11TD2L000000201H",0,0,-0.99404000000000003,-0.10491,8.6499999999999997E-3,-2.828E-2,0,5089,{"$f":"IF((G1197*ALBE+H1197*ALDE+I1197*AT+J1197*BE+K1197*DE+L1197*FR+M1197*NL)>(N1197),1,0)","v":0},null,{"$f":"IF((C$6*G1197+D$6*H1197+E$6*I1197+F$6*J1197+G$6*K1197+H$6*L1197+I$6*M1197)>(N1197),1,0)","v":0}]
[null,1829,"[BE-FR] Achene - Lonny 380.19 [DIR] [BE]_LTA_corner#02_#5","10T-BE-FR-000015","[BE-BE] Avelgem - Horta 380.102","22T20161020---1E",0,0,-0.43847999999999998,0.37078,-0.32229999999999998,-0.75258000000000003,0,2335,{"$f":"IF((G1198*ALBE+H1198*ALDE+I1198*AT+J1198*BE+K1198*DE+L1198*FR+M1198*NL)>(N1198),1,0)","v":0},null,{"$f":"IF((C$6*G1198+D$6*H1198+E$6*I1198+F$6*J1198+G$6*K1198+H$6*L1198+I$6*M1198)>(N1198),1,0)","v":0}]
[null,1830,"[D7-FR] Ensdorf - Vigy 2S [OPP] [D7]_LTA_corner#30_#28","10T-DE-FR-000068","[D7-D7] Ensdorf - Uchtelfangen Taubental N","11T0-0000-0604-N",0,0,8.5370000000000001E-2,0.38671,-0.1191,0.91047999999999996,0,3668,{"$f":"IF((G1199*ALBE+H1199*ALDE+I1199*AT+J1199*BE+K1199*DE+L1199*FR+M1199*NL)>(N1199),1,0)","v":0},null,{"$f":"IF((C$6*G1199+D$6*H1199+E$6*I1199+F$6*J1199+G$6*K1199+H$6*L1199+I$6*M1199)>(N1199),1,0)","v":0}]
[null,1831,"[D2-AT] Pleinting - St. Peter 258 [DIR] [AT]_LTA_corner#12_#0","10T-AT-DE-000037","[D2-D2] Pirach - Pleinting 257","11TD2L000000201H",0,0,-0.99734999999999996,-3.7399999999999998E-3,8.6800000000000002E-3,7.2169999999999998E-2,0,5077,{"$f":"IF((G1200*ALBE+H1200*ALDE+I1200*AT+J1200*BE+K1200*DE+L1200*FR+M1200*NL)>(N1200),1,0)","v":0},null,{"$f":"IF((C$6*G1200+D$6*H1200+E$6*I1200+F$6*J1200+G$6*K1200+H$6*L1200+I$6*M1200)>(N1200),1,0)","v":0}]
[null,1832,"[D2-AT] Y - St. Peter (- Altheim - Simbach) 234/230 [OPP] [D2]_LTA_corner#30_#0","10T-AT-DE-000045","[D2-AT] Pirach - St. Peter 256","10T-AT-DE-000029",0,0,0.99865000000000004,7.8499999999999993E-3,-1.2529999999999999E-2,4.9739999999999999E-2,0,5050,{"$f":"IF((G1201*ALBE+H1201*ALDE+I1201*AT+J1201*BE+K1201*DE+L1201*FR+M1201*NL)>(N1201),1,0)","v":0},null,{"$f":"IF((C$6*G1201+D$6*H1201+E$6*I1201+F$6*J1201+G$6*K1201+H$6*L1201+I$6*M1201)>(N1201),1,0)","v":0}]
[null,1833,"[D2-AT] Pleinting - St. Peter 258 [DIR] [AT]_LTA_corner#01_#1","10T-AT-DE-000037","[D2-D2] Pirach - Pleinting 257","11TD2L000000201H",0,0,-0.99504000000000004,9.5009999999999997E-2,8.6599999999999993E-3,-2.8309999999999998E-2,0,5018,{"$f":"IF((G1202*ALBE+H1202*ALDE+I1202*AT+J1202*BE+K1202*DE+L1202*FR+M1202*NL)>(N1202),1,0)","v":0},null,{"$f":"IF((C$6*G1202+D$6*H1202+E$6*I1202+F$6*J1202+G$6*K1202+H$6*L1202+I$6*M1202)>(N1202),1,0)","v":0}]
[null,1834,"[AT-AT] Westtirol Transformer WTRHU41 [OPP]_LTA_corner#20_#16","14T-38220-WT041O","BASECASE","N/A",0,0,0.98487000000000002,-7.3690000000000005E-2,0.13846,-7.3690000000000005E-2,0,4496,{"$f":"IF((G1203*ALBE+H1203*ALDE+I1203*AT+J1203*BE+K1203*DE+L1203*FR+M1203*NL)>(N1203),1,0)","v":0},null,{"$f":"IF((C$6*G1203+D$6*H1203+E$6*I1203+F$6*J1203+G$6*K1203+H$6*L1203+I$6*M1203)>(N1203),1,0)","v":0}]
[null,1835,"[D2-AT] Pleinting - St. Peter 258 [DIR] [AT]_LTA_corner#11_#14","10T-AT-DE-000037","[D2-D2] Pirach - Pleinting 257","11TD2L000000201H",0,0,-0.99690999999999996,0,-7.3279999999999998E-2,-2.836E-2,0,4631,{"$f":"IF((G1204*ALBE+H1204*ALDE+I1204*AT+J1204*BE+K1204*DE+L1204*FR+M1204*NL)>(N1204),1,0)","v":0},null,{"$f":"IF((C$6*G1204+D$6*H1204+E$6*I1204+F$6*J1204+G$6*K1204+H$6*L1204+I$6*M1204)>(N1204),1,0)","v":0}]
[null,1836,"[D2-AT] Pleinting - St. Peter 258 [DIR] [AT]_LTA_corner#01_#9","10T-AT-DE-000037","[D2-D2] Pirach - Pleinting 257","11TD2L000000201H",0,0,-0.99221999999999999,0,8.6400000000000001E-3,-0.12422999999999999,0,5042,{"$f":"IF((G1205*ALBE+H1205*ALDE+I1205*AT+J1205*BE+K1205*DE+L1205*FR+M1205*NL)>(N1205),1,0)","v":0},null,{"$f":"IF((C$6*G1205+D$6*H1205+E$6*I1205+F$6*J1205+G$6*K1205+H$6*L1205+I$6*M1205)>(N1205),1,0)","v":0}]
[null,1837,"[BE-BE] PST_ZANDV_2 [N - S]_LTA_corner#13_#19","22T20161020---56","[NL-BE] Rilland - Zandvliet 380 White/30","10T-BE-NL-00004C",0,0,-0.35914000000000001,-0.72260000000000002,-0.31548999999999999,-0.49933,0,1750,{"$f":"IF((G1206*ALBE+H1206*ALDE+I1206*AT+J1206*BE+K1206*DE+L1206*FR+M1206*NL)>(N1206),1,0)","v":0},null,{"$f":"IF((C$6*G1206+D$6*H1206+E$6*I1206+F$6*J1206+G$6*K1206+H$6*L1206+I$6*M1206)>(N1206),1,0)","v":0}]
[null,1838,"[D2-AT] Pleinting - St. Peter 258 [DIR] [D2]_LTA_corner#05_#11","10T-AT-DE-000037","[D2-AT] Y - St. Peter (- Altheim - Simbach) 234/230","10T-AT-DE-000045",0,0,0.54668000000000005,0.32917000000000002,0.63019000000000003,0.44231999999999999,0,1668,{"$f":"IF((G1207*ALBE+H1207*ALDE+I1207*AT+J1207*BE+K1207*DE+L1207*FR+M1207*NL)>(N1207),1,0)","v":0},null,{"$f":"IF((C$6*G1207+D$6*H1207+E$6*I1207+F$6*J1207+G$6*K1207+H$6*L1207+I$6*M1207)>(N1207),1,0)","v":0}]
[null,1839,"[D7-D4] Hoheneck - Pulverdingen weiss [DIR] [D4]_LTA_corner#09_#23","11T-D4-D7-00014N","[D4-D7] Y - Herbertingen - Hoheneck - Metzingen schwarz","11TD40000A546-S0",0,0,-0.84072000000000002,-0.11276,-0.28043000000000001,-0.44927,0,3540,{"$f":"IF((G1208*ALBE+H1208*ALDE+I1208*AT+J1208*BE+K1208*DE+L1208*FR+M1208*NL)>(N1208),1,0)","v":0},null,{"$f":"IF((C$6*G1208+D$6*H1208+E$6*I1208+F$6*J1208+G$6*K1208+H$6*L1208+I$6*M1208)>(N1208),1,0)","v":0}]
[null,1840,"[D2-AT] Pleinting - St. Peter 258 [DIR] [AT]_LTA_corner#14_#6","10T-AT-DE-000037","[D2-D2] Pirach - Pleinting 257","11TD2L000000201H",0,0,-0.99707999999999997,1.1730000000000001E-2,-7.034E-2,2.7279999999999999E-2,0,4729,{"$f":"IF((G1209*ALBE+H1209*ALDE+I1209*AT+J1209*BE+K1209*DE+L1209*FR+M1209*NL)>(N1209),1,0)","v":0},null,{"$f":"IF((C$6*G1209+D$6*H1209+E$6*I1209+F$6*J1209+G$6*K1209+H$6*L1209+I$6*M1209)>(N1209),1,0)","v":0}]
[null,1841,"[D2-AT] Pleinting - St. Peter 258 [DIR] [AT]_LTA_corner#01_#25","10T-AT-DE-000037","[D2-D2] Pirach - Pleinting 257","11TD2L000000201H",0,0,-0.99619000000000002,8.4290000000000004E-2,0,-2.223E-2,0,4941,{"$f":"IF((G1210*ALBE+H1210*ALDE+I1210*AT+J1210*BE+K1210*DE+L1210*FR+M1210*NL)>(N1210),1,0)","v":0},null,{"$f":"IF((C$6*G1210+D$6*H1210+E$6*I1210+F$6*J1210+G$6*K1210+H$6*L1210+I$6*M1210)>(N1210),1,0)","v":0}]
[null,1842,"[D2-NL] Diele - Meeden 380 Black [DIR] [NL]_LTA_corner#05_#33","10T-DE-NL-00001V","[D2-NL] Diele - Meeden 380 White","10T-DE-NL-00002T",0,0,0.54488999999999999,0.33293,0.62975999999999999,0.44233,0,1670,{"$f":"IF((G1211*ALBE+H1211*ALDE+I1211*AT+J1211*BE+K1211*DE+L1211*FR+M1211*NL)>(N1211),1,0)","v":0},null,{"$f":"IF((C$6*G1211+D$6*H1211+E$6*I1211+F$6*J1211+G$6*K1211+H$6*L1211+I$6*M1211)>(N1211),1,0)","v":0}]
[null,1843,"[D2-AT] Pleinting - St. Peter 258 [DIR] [D2]_LTA_corner#02_#11","10T-AT-DE-000037","[D2-AT] Y - St. Peter (- Altheim - Simbach) 234/230","10T-AT-DE-000045",0,0,-0.99746999999999997,0,-3.4200000000000001E-2,-6.2390000000000001E-2,0,4756,{"$f":"IF((G1212*ALBE+H1212*ALDE+I1212*AT+J1212*BE+K1212*DE+L1212*FR+M1212*NL)>(N1212),1,0)","v":0},null,{"$f":"IF((C$6*G1212+D$6*H1212+E$6*I1212+F$6*J1212+G$6*K1212+H$6*L1212+I$6*M1212)>(N1212),1,0)","v":0}]
[null,1844,"[BE-FR] Achene - Lonny 380.19 [DIR] [BE]_LTA_corner#02_#1","10T-BE-FR-000015","[BE-BE] Avelgem - Horta 380.102","22T20161020---1E",0,0,-0.35533999999999999,0.70662999999999998,-0.25839000000000001,-0.55466000000000004,0,2312,{"$f":"IF((G1213*ALBE+H1213*ALDE+I1213*AT+J1213*BE+K1213*DE+L1213*FR+M1213*NL)>(N1213),1,0)","v":0},null,{"$f":"IF((C$6*G1213+D$6*H1213+E$6*I1213+F$6*J1213+G$6*K1213+H$6*L1213+I$6*M1213)>(N1213),1,0)","v":0}]
[null,1845,"[BE-FR] Achene - Lonny 380.19 [DIR] [BE]_LTA_corner#02_#13","10T-BE-FR-000015","[BE-BE] Avelgem - Horta 380.102","22T20161020---1E",0,0,-0.44747999999999999,0.37839,-0.25825999999999999,-0.76803999999999994,0,2697,{"$f":"IF((G1214*ALBE+H1214*ALDE+I1214*AT+J1214*BE+K1214*DE+L1214*FR+M1214*NL)>(N1214),1,0)","v":0},null,{"$f":"IF((C$6*G1214+D$6*H1214+E$6*I1214+F$6*J1214+G$6*K1214+H$6*L1214+I$6*M1214)>(N1214),1,0)","v":0}]
[null,1846,"[D2-AT] Pleinting - St. Peter 258 [DIR] [AT]_LTA_corner#04_#11","10T-AT-DE-000037","[D2-D2] Pirach - Pleinting 257","11TD2L000000201H",0,0,-0.99648999999999999,-5.9180000000000003E-2,0,-5.9180000000000003E-2,0,4908,{"$f":"IF((G1215*ALBE+H1215*ALDE+I1215*AT+J1215*BE+K1215*DE+L1215*FR+M1215*NL)>(N1215),1,0)","v":0},null,{"$f":"IF((C$6*G1215+D$6*H1215+E$6*I1215+F$6*J1215+G$6*K1215+H$6*L1215+I$6*M1215)>(N1215),1,0)","v":0}]
[null,1847,"[D4-AT] Buers - Westtirol 421 weiss [OPP] [D4]_LTA_corner#17_#6","10T-AT-DE-000061","[AT-AT] Westtirol Transformer WTRHU41","14T-38220-WT041O",0,0,0.98594000000000004,0,0.14405000000000001,-8.473E-2,0,4492,{"$f":"IF((G1216*ALBE+H1216*ALDE+I1216*AT+J1216*BE+K1216*DE+L1216*FR+M1216*NL)>(N1216),1,0)","v":0},null,{"$f":"IF((C$6*G1216+D$6*H1216+E$6*I1216+F$6*J1216+G$6*K1216+H$6*L1216+I$6*M1216)>(N1216),1,0)","v":0}]
[null,1848,"ALDE_import","N/A","BASECASE","N/A",0,-1,0,0,0,0,0,0,{"$f":"IF((G1217*ALBE+H1217*ALDE+I1217*AT+J1217*BE+K1217*DE+L1217*FR+M1217*NL)>(N1217),1,0)","v":0},null,{"$f":"IF((C$6*G1217+D$6*H1217+E$6*I1217+F$6*J1217+G$6*K1217+H$6*L1217+I$6*M1217)>(N1217),1,0)","v":0}]
[null,1849,"[D2-AT] Pleinting - St. Peter 258 [DIR] [AT]_LTA_corner#15_#15","10T-AT-DE-000037","[D2-D2] Pirach - Pleinting 257","11TD2L000000201H",0,0,-0.99773999999999996,-2.8379999999999999E-2,-5.3940000000000002E-2,-2.8379999999999999E-2,0,4680,{"$f":"IF((G1218*ALBE+H1218*ALDE+I1218*AT+J1218*BE+K1218*DE+L1218*FR+M1218*NL)>(N1218),1,0)","v":0},null,{"$f":"IF((C$6*G1218+D$6*H1218+E$6*I1218+F$6*J1218+G$6*K1218+H$6*L1218+I$6*M1218)>(N1218),1,0)","v":0}]
[null,1850,"[D2-AT] Pleinting - St. Peter 258 [DIR] [AT]_LTA_corner#01_#2","10T-AT-DE-000037","[D2-D2] Pirach - Pleinting 257","11TD2L000000201H",0,0,-0.99605999999999995,8.3989999999999995E-2,0,-2.8340000000000001E-2,0,4950,{"$f":"IF((G1219*ALBE+H1219*ALDE+I1219*AT+J1219*BE+K1219*DE+L1219*FR+M1219*NL)>(N1219),1,0)","v":0},null,{"$f":"IF((C$6*G1219+D$6*H1219+E$6*I1219+F$6*J1219+G$6*K1219+H$6*L1219+I$6*M1219)>(N1219),1,0)","v":0}]
[null,1851,"[D2-NL] Diele - Meeden 380 Black [DIR] [NL]_LTA_corner#05_#5","10T-DE-NL-00001V","[D2-NL] Diele - Meeden 380 White","10T-DE-NL-00002T",0,0,0.54639000000000004,0.32840000000000003,0.63156999999999996,0.44128000000000001,0,1679,{"$f":"IF((G1220*ALBE+H1220*ALDE+I1220*AT+J1220*BE+K1220*DE+L1220*FR+M1220*NL)>(N1220),1,0)","v":0},null,{"$f":"IF((C$6*G1220+D$6*H1220+E$6*I1220+F$6*J1220+G$6*K1220+H$6*L1220+I$6*M1220)>(N1220),1,0)","v":0}]
[null,1852,"[D2-AT] Pleinting - St. Peter 258 [DIR] [AT]_LTA_corner#04_#8","10T-AT-DE-000037","[D2-D2] Pirach - Pleinting 257","11TD2L000000201H",0,0,-0.99414000000000002,-6.368E-2,5.9830000000000001E-2,-6.368E-2,0,5317,{"$f":"IF((G1221*ALBE+H1221*ALDE+I1221*AT+J1221*BE+K1221*DE+L1221*FR+M1221*NL)>(N1221),1,0)","v":0},null,{"$f":"IF((C$6*G1221+D$6*H1221+E$6*I1221+F$6*J1221+G$6*K1221+H$6*L1221+I$6*M1221)>(N1221),1,0)","v":0}]
[null,1853,"[D2-AT] Pleinting - St. Peter 258 [DIR] [AT]_LTA_corner#02_#17","10T-AT-DE-000037","[D2-D2] Pirach - Pleinting 257","11TD2L000000201H",0,0,-0.99743000000000004,6.9199999999999998E-2,-1.306E-2,-1.306E-2,0,4856,{"$f":"IF((G1222*ALBE+H1222*ALDE+I1222*AT+J1222*BE+K1222*DE+L1222*FR+M1222*NL)>(N1222),1,0)","v":0},null,{"$f":"IF((C$6*G1222+D$6*H1222+E$6*I1222+F$6*J1222+G$6*K1222+H$6*L1222+I$6*M1222)>(N1222),1,0)","v":0}]
[null,1854,"[D7-D4] Hoheneck - Pulverdingen weiss [DIR] [D4]_LTA_corner#09_#2","11T-D4-D7-00014N","[D4-D7] Y - Herbertingen - Hoheneck - Metzingen schwarz","11TD40000A546-S0",0,0,-0.83079000000000003,-0.10934000000000001,-0.3024,-0.45429999999999998,0,3402,{"$f":"IF((G1223*ALBE+H1223*ALDE+I1223*AT+J1223*BE+K1223*DE+L1223*FR+M1223*NL)>(N1223),1,0)","v":0},null,{"$f":"IF((C$6*G1223+D$6*H1223+E$6*I1223+F$6*J1223+G$6*K1223+H$6*L1223+I$6*M1223)>(N1223),1,0)","v":0}]
[null,1855,"[D2-AT] Pleinting - St. Peter 258 [DIR] [AT]_LTA_corner#14_#3","10T-AT-DE-000037","[D2-D2] Pirach - Pleinting 257","11TD2L000000201H",0,0,-0.99792000000000003,0,-4.3299999999999996E-3,6.4250000000000002E-2,0,4998,{"$f":"IF((G1224*ALBE+H1224*ALDE+I1224*AT+J1224*BE+K1224*DE+L1224*FR+M1224*NL)>(N1224),1,0)","v":0},null,{"$f":"IF((C$6*G1224+D$6*H1224+E$6*I1224+F$6*J1224+G$6*K1224+H$6*L1224+I$6*M1224)>(N1224),1,0)","v":0}]
["hour 11",2021,"[BE-BE] PST_ZANDV_2 [N - S]_LTA_corner#13_#25","22T20161020---56","[NL-BE] Rilland - Zandvliet 380 White/30","10T-BE-NL-00004C",0,0,-0.38694000000000001,-0.69323000000000001,-0.32738,-0.51236999999999999,0,1750,{"$f":"IF((G1225*ALBE+H1225*ALDE+I1225*AT+J1225*BE+K1225*DE+L1225*FR+M1225*NL)>(N1225),1,0)","v":0},null,{"$f":"IF((C$6*G1225+D$6*H1225+E$6*I1225+F$6*J1225+G$6*K1225+H$6*L1225+I$6*M1225)>(N1225),1,0)","v":0}]
[null,2022,"[D7-D4] Hoheneck - Pulverdingen weiss [DIR] [D4]_LTA_corner#09_#1","11T-D4-D7-00014N","[D4-D7] Y - Herbertingen - Hoheneck - Metzingen schwarz","11TD40000A546-S0",0,0,-0.82665999999999995,-8.9370000000000005E-2,-0.29686000000000001,-0.46960000000000002,0,3428,{"$f":"IF((G1226*ALBE+H1226*ALDE+I1226*AT+J1226*BE+K1226*DE+L1226*FR+M1226*NL)>(N1226),1,0)","v":0},null,{"$f":"IF((C$6*G1226+D$6*H1226+E$6*I1226+F$6*J1226+G$6*K1226+H$6*L1226+I$6*M1226)>(N1226),1,0)","v":0}]
[null,2023,"[AT-AT] Westtirol Transformer WTRHU41 [OPP]_LTA_corner#17_#10","14T-38220-WT041O","BASECASE","N/A",0,0,0.98168999999999995,0,0.16572000000000001,-9.3880000000000005E-2,0,4427,{"$f":"IF((G1227*ALBE+H1227*ALDE+I1227*AT+J1227*BE+K1227*DE+L1227*FR+M1227*NL)>(N1227),1,0)","v":0},null,{"$f":"IF((C$6*G1227+D$6*H1227+E$6*I1227+F$6*J1227+G$6*K1227+H$6*L1227+I$6*M1227)>(N1227),1,0)","v":0}]
[null,2024,"[BE-FR] Achene - Lonny 380.19 [DIR] [BE]_LTA_corner#02_#2","10T-BE-FR-000015","[BE-BE] Avelgem - Horta 380.102","22T20161020---1E",0,0,-0.45024999999999998,0.25069000000000002,-0.28688000000000002,-0.80754999999999999,0,2491,{"$f":"IF((G1228*ALBE+H1228*ALDE+I1228*AT+J1228*BE+K1228*DE+L1228*FR+M1228*NL)>(N1228),1,0)","v":0},null,{"$f":"IF((C$6*G1228+D$6*H1228+E$6*I1228+F$6*J1228+G$6*K1228+H$6*L1228+I$6*M1228)>(N1228),1,0)","v":0}]
[null,2025,"[D2-AT] Pleinting - St. Peter 258 [DIR] [AT]_LTA_corner#06_#12","10T-AT-DE-000037","[D2-D2] Pirach - Pleinting 257","11TD2L000000201H",0,0,-0.99605999999999995,-8.591E-2,0,-2.2100000000000002E-2,0,4997,{"$f":"IF((G1229*ALBE+H1229*ALDE+I1229*AT+J1229*BE+K1229*DE+L1229*FR+M1229*NL)>(N1229),1,0)","v":0},null,{"$f":"IF((C$6*G1229+D$6*H1229+E$6*I1229+F$6*J1229+G$6*K1229+H$6*L1229+I$6*M1229)>(N1229),1,0)","v":0}]
[null,2026,"[AT-AT] Westtirol Transformer WTRHU41 [OPP]_LTA_corner#20_#0","14T-38220-WT041O","BASECASE","N/A",0,0,0.99661,-1.941E-2,5.9389999999999998E-2,-5.3449999999999998E-2,0,4729,{"$f":"IF((G1230*ALBE+H1230*ALDE+I1230*AT+J1230*BE+K1230*DE+L1230*FR+M1230*NL)>(N1230),1,0)","v":0},null,{"$f":"IF((C$6*G1230+D$6*H1230+E$6*I1230+F$6*J1230+G$6*K1230+H$6*L1230+I$6*M1230)>(N1230),1,0)","v":0}]
[null,2027,"[D2-AT] Pleinting - St. Peter 258 [DIR] [AT]_LTA_corner#14_#20","10T-AT-DE-000037","[D2-D2] Pirach - Pleinting 257","11TD2L000000201H",0,0,-0.99824000000000002,0,-5.6430000000000001E-2,1.8020000000000001E-2,0,4749,{"$f":"IF((G1231*ALBE+H1231*ALDE+I1231*AT+J1231*BE+K1231*DE+L1231*FR+M1231*NL)>(N1231),1,0)","v":0},null,{"$f":"IF((C$6*G1231+D$6*H1231+E$6*I1231+F$6*J1231+G$6*K1231+H$6*L1231+I$6*M1231)>(N1231),1,0)","v":0}]
[null,2028,"[D2-AT] Pleinting - St. Peter 258 [DIR] [AT]_LTA_corner#01_#8","10T-AT-DE-000037","[D2-D2] Pirach - Pleinting 257","11TD2L000000201H",0,0,-0.99682000000000004,7.7369999999999994E-2,0,-1.8970000000000001E-2,0,4930,{"$f":"IF((G1232*ALBE+H1232*ALDE+I1232*AT+J1232*BE+K1232*DE+L1232*FR+M1232*NL)>(N1232),1,0)","v":0},null,{"$f":"IF((C$6*G1232+D$6*H1232+E$6*I1232+F$6*J1232+G$6*K1232+H$6*L1232+I$6*M1232)>(N1232),1,0)","v":0}]
[null,2029,"[D2-AT] Pleinting - St. Peter 258 [DIR] [AT]_LTA_corner#11_#24","10T-AT-DE-000037","[D2-D2] Pirach - Pleinting 257","11TD2L000000201H",0,0,-0.99716000000000005,0,-6.9769999999999999E-2,-2.819E-2,0,4639,{"$f":"IF((G1233*ALBE+H1233*ALDE+I1233*AT+J1233*BE+K1233*DE+L1233*FR+M1233*NL)>(N1233),1,0)","v":0},null,{"$f":"IF((C$6*G1233+D$6*H1233+E$6*I1233+F$6*J1233+G$6*K1233+H$6*L1233+I$6*M1233)>(N1233),1,0)","v":0}]
[null,2030,"[D2-AT] Pleinting - St. Peter 258 [DIR] [AT]_LTA_corner#06_#1","10T-AT-DE-000037","[D2-D2] Pirach - Pleinting 257","11TD2L000000201H",0,0,-0.99802000000000002,-6.1719999999999997E-2,8.5299999999999994E-3,8.5299999999999994E-3,0,5028,{"$f":"IF((G1234*ALBE+H1234*ALDE+I1234*AT+J1234*BE+K1234*DE+L1234*FR+M1234*NL)>(N1234),1,0)","v":0},null,{"$f":"IF((C$6*G1234+D$6*H1234+E$6*I1234+F$6*J1234+G$6*K1234+H$6*L1234+I$6*M1234)>(N1234),1,0)","v":0}]
[null,2031,"[AT-AT] Westtirol Transformer WTRHU41 [OPP]_LTA_corner#17_#0","14T-38220-WT041O","BASECASE","N/A",0,0,0.98714000000000002,4.3069999999999997E-2,0.13564000000000001,-7.2749999999999995E-2,0,4555,{"$f":"IF((G1235*ALBE+H1235*ALDE+I1235*AT+J1235*BE+K1235*DE+L1235*FR+M1235*NL)>(N1235),1,0)","v":0},null,{"$f":"IF((C$6*G1235+D$6*H1235+E$6*I1235+F$6*J1235+G$6*K1235+H$6*L1235+I$6*M1235)>(N1235),1,0)","v":0}]
[null,2032,"[D2-AT] Pleinting - St. Peter 258 [DIR] [D2]_LTA_corner#01_#20","10T-AT-DE-000037","[D2-AT] Y - St. Peter (- Altheim - Simbach) 234/230","10T-AT-DE-000045",0,0,-0.51666000000000001,0.30364999999999998,0.74072000000000005,0.30364999999999998,0,7487,{"$f":"IF((G1236*ALBE+H1236*ALDE+I1236*AT+J1236*BE+K1236*DE+L1236*FR+M1236*NL)>(N1236),1,0)","v":0},null,{"$f":"IF((C$6*G1236+D$6*H1236+E$6*I1236+F$6*J1236+G$6*K1236+H$6*L1236+I$6*M1236)>(N1236),1,0)","v":0}]
[null,2033,"[D2-AT] Pleinting - St. Peter 258 [DIR] [AT]_LTA_corner#01_#13","10T-AT-DE-000037","[D2-D2] Pirach - Pleinting 257","11TD2L000000201H",0,0,-0.99655000000000005,7.9969999999999999E-2,0,-2.2110000000000001E-2,0,4937,{"$f":"IF((G1237*ALBE+H1237*ALDE+I1237*AT+J1237*BE+K1237*DE+L1237*FR+M1237*NL)>(N1237),1,0)","v":0},null,{"$f":"IF((C$6*G1237+D$6*H1237+E$6*I1237+F$6*J1237+G$6*K1237+H$6*L1237+I$6*M1237)>(N1237),1,0)","v":0}]
[null,2034,"[D2-AT] Pleinting - St. Peter 258 [DIR] [AT]_LTA_corner#01_#19","10T-AT-DE-000037","[D2-D2] Pirach - Pleinting 257","11TD2L000000201H",0,0,-0.99651999999999996,0,8.3339999999999997E-2,0,0,5379,{"$f":"IF((G1238*ALBE+H1238*ALDE+I1238*AT+J1238*BE+K1238*DE+L1238*FR+M1238*NL)>(N1238),1,0)","v":0},null,{"$f":"IF((C$6*G1238+D$6*H1238+E$6*I1238+F$6*J1238+G$6*K1238+H$6*L1238+I$6*M1238)>(N1238),1,0)","v":0}]
[null,2035,"[D2-AT] Pleinting - St. Peter 258 [DIR] [AT]_LTA_corner#14_#25","10T-AT-DE-000037","[D2-D2] Pirach - Pleinting 257","11TD2L000000201H",0,0,-0.99822999999999995,0,-4.0099999999999997E-3,5.9409999999999998E-2,0,4985,{"$f":"IF((G1239*ALBE+H1239*ALDE+I1239*AT+J1239*BE+K1239*DE+L1239*FR+M1239*NL)>(N1239),1,0)","v":0},null,{"$f":"IF((C$6*G1239+D$6*H1239+E$6*I1239+F$6*J1239+G$6*K1239+H$6*L1239+I$6*M1239)>(N1239),1,0)","v":0}]
[null,2036,"[D2-AT] Pleinting - St. Peter 258 [DIR] [D2]_LTA_corner#01_#21","10T-AT-DE-000037","[D2-AT] Y - St. Peter (- Altheim - Simbach) 234/230","10T-AT-DE-000045",0,0,-0.78649999999999998,0.28149000000000002,0.47216999999999998,0.28149000000000002,0,6943,{"$f":"IF((G1240*ALBE+H1240*ALDE+I1240*AT+J1240*BE+K1240*DE+L1240*FR+M1240*NL)>(N1240),1,0)","v":0},null,{"$f":"IF((C$6*G1240+D$6*H1240+E$6*I1240+F$6*J1240+G$6*K1240+H$6*L1240+I$6*M1240)>(N1240),1,0)","v":0}]
[null,2037,"[D2-AT] Pleinting - St. Peter 258 [DIR] [D2]_LTA_corner#02_#0","10T-AT-DE-000037","[D2-AT] Y - St. Peter (- Altheim - Simbach) 234/230","10T-AT-DE-000045",0,0,-0.99722,0,-3.3989999999999999E-2,-6.6379999999999995E-2,0,4762,{"$f":"IF((G1241*ALBE+H1241*ALDE+I1241*AT+J1241*BE+K1241*DE+L1241*FR+M1241*NL)>(N1241),1,0)","v":0},null,{"$f":"IF((C$6*G1241+D$6*H1241+E$6*I1241+F$6*J1241+G$6*K1241+H$6*L1241+I$6*M1241)>(N1241),1,0)","v":0}]
[null,2038,"[BE-FR] Achene - Lonny 380.19 [DIR] [BE]_LTA_corner#02_#5","10T-BE-FR-000015","[BE-BE] Avelgem - Horta 380.102","22T20161020---1E",0,0,-0.45734999999999998,0.20055000000000001,-0.29281000000000001,-0.81540000000000001,0,2450,{"$f":"IF((G1242*ALBE+H1242*ALDE+I1242*AT+J1242*BE+K1242*DE+L1242*FR+M1242*NL)>(N1242),1,0)","v":0},null,{"$f":"IF((C$6*G1242+D$6*H1242+E$6*I1242+F$6*J1242+G$6*K1242+H$6*L1242+I$6*M1242)>(N1242),1,0)","v":0}]
[null,2039,"[D2-AT] Pleinting - St. Peter 258 [DIR] [D2]_LTA_corner#05_#2","10T-AT-DE-000037","[D2-AT] Y - St. Peter (- Altheim - Simbach) 234/230","10T-AT-DE-000045",0,0,0.54942999999999997,0.32385000000000003,0.64232,0.42505999999999999,0,1732,{"$f":"IF((G1243*ALBE+H1243*ALDE+I1243*AT+J1243*BE+K1243*DE+L1243*FR+M1243*NL)>(N1243),1,0)","v":0},null,{"$f":"IF((C$6*G1243+D$6*H1243+E$6*I1243+F$6*J1243+G$6*K1243+H$6*L1243+I$6*M1243)>(N1243),1,0)","v":0}]
[null,2040,"[BE-FR] Achene - Lonny 380.19 [DIR] [BE]_LTA_corner#02_#1","10T-BE-FR-000015","[BE-BE] Avelgem - Horta 380.102","22T20161020---1E",0,0,-0.44662000000000002,0.37663000000000002,-0.26290999999999998,-0.76783000000000001,0,2670,{"$f":"IF((G1244*ALBE+H1244*ALDE+I1244*AT+J1244*BE+K1244*DE+L1244*FR+M1244*NL)>(N1244),1,0)","v":0},null,{"$f":"IF((C$6*G1244+D$6*H1244+E$6*I1244+F$6*J1244+G$6*K1244+H$6*L1244+I$6*M1244)>(N1244),1,0)","v":0}]
[null,2041,"[D2-AT] Pleinting - St. Peter 258 [DIR] [AT]_LTA_corner#07_#1","10T-AT-DE-000037","[D2-D2] Pirach - Pleinting 257","11TD2L000000201H",0,0,-0.99795,0,8.5299999999999994E-3,6.3479999999999995E-2,0,5043,{"$f":"IF((G1245*ALBE+H1245*ALDE+I1245*AT+J1245*BE+K1245*DE+L1245*FR+M1245*NL)>(N1245),1,0)","v":0},null,{"$f":"IF((C$6*G1245+D$6*H1245+E$6*I1245+F$6*J1245+G$6*K1245+H$6*L1245+I$6*M1245)>(N1245),1,0)","v":0}]
[null,2042,"[AT-AT] Westtirol Transformer WTRHU41 [OPP]_LTA_corner#22_#10","14T-38220-WT041O","BASECASE","N/A",0,0,0.99036999999999997,-2.315E-2,0.13608000000000001,-1.0630000000000001E-2,0,4449,{"$f":"IF((G1246*ALBE+H1246*ALDE+I1246*AT+J1246*BE+K1246*DE+L1246*FR+M1246*NL)>(N1246),1,0)","v":0},null,{"$f":"IF((C$6*G1246+D$6*H1246+E$6*I1246+F$6*J1246+G$6*K1246+H$6*L1246+I$6*M1246)>(N1246),1,0)","v":0}]
[null,2043,"[AT-AT] Westtirol Transformer WTRHU41 [OPP]_LTA_corner#20_#16","14T-38220-WT041O","BASECASE","N/A",0,0,0.98921000000000003,-6.6739999999999994E-2,0.11204,-6.6739999999999994E-2,0,4577,{"$f":"IF((G1247*ALBE+H1247*ALDE+I1247*AT+J1247*BE+K1247*DE+L1247*FR+M1247*NL)>(N1247),1,0)","v":0},null,{"$f":"IF((C$6*G1247+D$6*H1247+E$6*I1247+F$6*J1247+G$6*K1247+H$6*L1247+I$6*M1247)>(N1247),1,0)","v":0}]
[null,2044,"[D4-AT] Buers - Westtirol 421 weiss [OPP] [D4]_LTA_corner#17_#10","10T-AT-DE-000061","[AT-AT] Westtirol Transformer WTRHU41","14T-38220-WT041O",0,0,0.99395999999999995,0,0.10828,-1.7989999999999999E-2,0,4522,{"$f":"IF((G1248*ALBE+H1248*ALDE+I1248*AT+J1248*BE+K1248*DE+L1248*FR+M1248*NL)>(N1248),1,0)","v":0},null,{"$f":"IF((C$6*G1248+D$6*H1248+E$6*I1248+F$6*J1248+G$6*K1248+H$6*L1248+I$6*M1248)>(N1248),1,0)","v":0}]
[null,2045,"[D7-D4] Hoheneck - Pulverdingen weiss [DIR] [D4]_LTA_corner#09_#14","11T-D4-D7-00014N","[D4-D7] Y - Herbertingen - Hoheneck - Metzingen schwarz","11TD40000A546-S0",0,0,-0.84441999999999995,-9.2749999999999999E-2,-0.31883,-0.42035,0,3338,{"$f":"IF((G1249*ALBE+H1249*ALDE+I1249*AT+J1249*BE+K1249*DE+L1249*FR+M1249*NL)>(N1249),1,0)","v":0},null,{"$f":"IF((C$6*G1249+D$6*H1249+E$6*I1249+F$6*J1249+G$6*K1249+H$6*L1249+I$6*M1249)>(N1249),1,0)","v":0}]
[null,2046,"[D2-AT] Pleinting - St. Peter 258 [DIR] [AT]_LTA_corner#05_#6","10T-AT-DE-000037","[D2-D2] Pirach - Pleinting 257","11TD2L000000201H",0,0,-0.99863999999999997,0,3.6819999999999999E-2,3.6819999999999999E-2,0,5094,{"$f":"IF((G1250*ALBE+H1250*ALDE+I1250*AT+J1250*BE+K1250*DE+L1250*FR+M1250*NL)>(N1250),1,0)","v":0},null,{"$f":"IF((C$6*G1250+D$6*H1250+E$6*I1250+F$6*J1250+G$6*K1250+H$6*L1250+I$6*M1250)>(N1250),1,0)","v":0}]
[null,2047,"[AT-AT] Westtirol Transformer WTRHU41 [OPP]_LTA_corner#17_#9","14T-38220-WT041O","BASECASE","N/A",0,0,0.99012999999999995,0,0.13605,-3.3619999999999997E-2,0,4453,{"$f":"IF((G1251*ALBE+H1251*ALDE+I1251*AT+J1251*BE+K1251*DE+L1251*FR+M1251*NL)>(N1251),1,0)","v":0},null,{"$f":"IF((C$6*G1251+D$6*H1251+E$6*I1251+F$6*J1251+G$6*K1251+H$6*L1251+I$6*M1251)>(N1251),1,0)","v":0}]
[null,2048,"[BE-FR] Achene - Lonny 380.19 [DIR] [BE]_LTA_corner#09_#11","10T-BE-FR-000015","[BE-BE] Avelgem - Horta 380.102","22T20161020---1E",0,0,-0.41231000000000001,-0.60019,-0.33098,-0.60019,0,1566,{"$f":"IF((G1252*ALBE+H1252*ALDE+I1252*AT+J1252*BE+K1252*DE+L1252*FR+M1252*NL)>(N1252),1,0)","v":0},null,{"$f":"IF((C$6*G1252+D$6*H1252+E$6*I1252+F$6*J1252+G$6*K1252+H$6*L1252+I$6*M1252)>(N1252),1,0)","v":0}]
[null,2049,"[BE-BE] PST_ZANDV_2 [N - S]_LTA_corner#13_#28","22T20161020---56","[NL-BE] Rilland - Zandvliet 380 White/30","10T-BE-NL-00004C",0,0,-0.35927999999999999,-0.72309000000000001,-0.31306,-0.50004999999999999,0,1762,{"$f":"IF((G1253*ALBE+H1253*ALDE+I1253*AT+J1253*BE+K1253*DE+L1253*FR+M1253*NL)>(N1253),1,0)","v":0},null,{"$f":"IF((C$6*G1253+D$6*H1253+E$6*I1253+F$6*J1253+G$6*K1253+H$6*L1253+I$6*M1253)>(N1253),1,0)","v":0}]
[null,2050,"[D2-AT] Pleinting - St. Peter 258 [DIR] [AT]_LTA_corner#02_#8","10T-AT-DE-000037","[D2-D2] Pirach - Pleinting 257","11TD2L000000201H",0,0,-0.99775000000000003,6.4430000000000001E-2,-1.2930000000000001E-2,-1.2930000000000001E-2,0,4852,{"$f":"IF((G1254*ALBE+H1254*ALDE+I1254*AT+J1254*BE+K1254*DE+L1254*FR+M1254*NL)>(N1254),1,0)","v":0},null,{"$f":"IF((C$6*G1254+D$6*H1254+E$6*I1254+F$6*J1254+G$6*K1254+H$6*L1254+I$6*M1254)>(N1254),1,0)","v":0}]
[null,2051,"[D4-AT] Buers - Westtirol 421 weiss [OPP] [D4]_LTA_corner#20_#26","10T-AT-DE-000061","[AT-AT] Westtirol Transformer WTRHU41","14T-38220-WT041O",0,0,0.99124000000000001,-3.2340000000000001E-2,9.4450000000000006E-2,-8.6410000000000001E-2,0,4661,{"$f":"IF((G1255*ALBE+H1255*ALDE+I1255*AT+J1255*BE+K1255*DE+L1255*FR+M1255*NL)>(N1255),1,0)","v":0},null,{"$f":"IF((C$6*G1255+D$6*H1255+E$6*I1255+F$6*J1255+G$6*K1255+H$6*L1255+I$6*M1255)>(N1255),1,0)","v":0}]
[null,2052,"[D2-AT] Pleinting - St. Peter 258 [DIR] [AT]_LTA_corner#11_#12","10T-AT-DE-000037","[D2-D2] Pirach - Pleinting 257","11TD2L000000201H",0,0,-0.99807999999999997,1.7989999999999999E-2,-5.6390000000000003E-2,1.7989999999999999E-2,0,4729,{"$f":"IF((G1256*ALBE+H1256*ALDE+I1256*AT+J1256*BE+K1256*DE+L1256*FR+M1256*NL)>(N1256),1,0)","v":0},null,{"$f":"IF((C$6*G1256+D$6*H1256+E$6*I1256+F$6*J1256+G$6*K1256+H$6*L1256+I$6*M1256)>(N1256),1,0)","v":0}]
[null,2053,"[BE-BE] PST_VANYK_2 [S - N]","22T-BE-PST--002U","[BE-FR] Achene - Lonny 380.19","10T-BE-FR-000015",0.57360999999999995,-2.512E-2,5.6499999999999996E-3,0.32023000000000001,-9.6299999999999997E-3,4.6030000000000001E-2,8.2299999999999995E-3,926,{"$f":"IF((G1257*ALBE+H1257*ALDE+I1257*AT+J1257*BE+K1257*DE+L1257*FR+M1257*NL)>(N1257),1,0)","v":0},null,{"$f":"IF((C$6*G1257+D$6*H1257+E$6*I1257+F$6*J1257+G$6*K1257+H$6*L1257+I$6*M1257)>(N1257),1,0)","v":0}]
[null,2054,"[D2-AT] Pleinting - St. Peter 258 [DIR] [AT]_LTA_corner#07_#10","10T-AT-DE-000037","[D2-D2] Pirach - Pleinting 257","11TD2L000000201H",0,0,-0.99817,0,0,6.0470000000000003E-2,0,4996,{"$f":"IF((G1258*ALBE+H1258*ALDE+I1258*AT+J1258*BE+K1258*DE+L1258*FR+M1258*NL)>(N1258),1,0)","v":0},null,{"$f":"IF((C$6*G1258+D$6*H1258+E$6*I1258+F$6*J1258+G$6*K1258+H$6*L1258+I$6*M1258)>(N1258),1,0)","v":0}]
[null,2055,"[D4-AT] Buers - Westtirol 421 weiss [OPP] [D4]_LTA_corner#17_#3","10T-AT-DE-000061","[AT-AT] Westtirol Transformer WTRHU41","14T-38220-WT041O",0,0,0.98385999999999996,0,0.14651,-0.10267999999999999,0,4504,{"$f":"IF((G1259*ALBE+H1259*ALDE+I1259*AT+J1259*BE+K1259*DE+L1259*FR+M1259*NL)>(N1259),1,0)","v":0},null,{"$f":"IF((C$6*G1259+D$6*H1259+E$6*I1259+F$6*J1259+G$6*K1259+H$6*L1259+I$6*M1259)>(N1259),1,0)","v":0}]
[null,2056,"[D2-AT] Pleinting - St. Peter 258 [DIR] [AT]_LTA_corner#14_#19","10T-AT-DE-000037","[D2-D2] Pirach - Pleinting 257","11TD2L000000201H",0,0,-0.99812000000000001,0,-5.9650000000000002E-2,1.3729999999999999E-2,0,4728,{"$f":"IF((G1260*ALBE+H1260*ALDE+I1260*AT+J1260*BE+K1260*DE+L1260*FR+M1260*NL)>(N1260),1,0)","v":0},null,{"$f":"IF((C$6*G1260+D$6*H1260+E$6*I1260+F$6*J1260+G$6*K1260+H$6*L1260+I$6*M1260)>(N1260),1,0)","v":0}]
[null,2057,"[D2-AT] Pleinting - St. Peter 258 [DIR] [D2]_LTA_corner#04_#4","10T-AT-DE-000037","[D2-AT] Y - St. Peter (- Altheim - Simbach) 234/230","10T-AT-DE-000045",0,0,-0.98114000000000001,-7.0319999999999994E-2,0,-0.18003,0,5029,{"$f":"IF((G1261*ALBE+H1261*ALDE+I1261*AT+J1261*BE+K1261*DE+L1261*FR+M1261*NL)>(N1261),1,0)","v":0},null,{"$f":"IF((C$6*G1261+D$6*H1261+E$6*I1261+F$6*J1261+G$6*K1261+H$6*L1261+I$6*M1261)>(N1261),1,0)","v":0}]
[null,2058,"[BE-FR] Achene - Lonny 380.19 [DIR] [BE]_LTA_corner#09_#0","10T-BE-FR-000015","[BE-BE] Avelgem - Horta 380.102","22T20161020---1E",0,0,-0.40666000000000002,-0.60658999999999996,-0.31419999999999998,-0.60658999999999996,0,1625,{"$f":"IF((G1262*ALBE+H1262*ALDE+I1262*AT+J1262*BE+K1262*DE+L1262*FR+M1262*NL)>(N1262),1,0)","v":0},null,{"$f":"IF((C$6*G1262+D$6*H1262+E$6*I1262+F$6*J1262+G$6*K1262+H$6*L1262+I$6*M1262)>(N1262),1,0)","v":0}]
[null,2059,"[D2-AT] Pleinting - St. Peter 258 [DIR] [AT]_LTA_corner#01_#14","10T-AT-DE-000037","[D2-D2] Pirach - Pleinting 257","11TD2L000000201H",0,0,-1,0,0,0,0,4821,{"$f":"IF((G1263*ALBE+H1263*ALDE+I1263*AT+J1263*BE+K1263*DE+L1263*FR+M1263*NL)>(N1263),1,0)","v":0},null,{"$f":"IF((C$6*G1263+D$6*H1263+E$6*I1263+F$6*J1263+G$6*K1263+H$6*L1263+I$6*M1263)>(N1263),1,0)","v":0}]
[null,2060,"[D2-AT] Pleinting - St. Peter 258 [DIR] [D2]_LTA_corner#05_#14","10T-AT-DE-000037","[D2-AT] Y - St. Peter (- Altheim - Simbach) 234/230","10T-AT-DE-000045",0,0,0.55903999999999998,0.32463999999999998,0.62560000000000004,0.43669999999999998,0,1578,{"$f":"IF((G1264*ALBE+H1264*ALDE+I1264*AT+J1264*BE+K1264*DE+L1264*FR+M1264*NL)>(N1264),1,0)","v":0},null,{"$f":"IF((C$6*G1264+D$6*H1264+E$6*I1264+F$6*J1264+G$6*K1264+H$6*L1264+I$6*M1264)>(N1264),1,0)","v":0}]
[null,2061,"[AT-AT] Westtirol Transformer WTRHU41 [OPP]_LTA_corner#21_#4","14T-38220-WT041O","BASECASE","N/A",0,0,0.99694000000000005,0,7.8159999999999993E-2,9.7000000000000005E-4,0,4591,{"$f":"IF((G1265*ALBE+H1265*ALDE+I1265*AT+J1265*BE+K1265*DE+L1265*FR+M1265*NL)>(N1265),1,0)","v":0},null,{"$f":"IF((C$6*G1265+D$6*H1265+E$6*I1265+F$6*J1265+G$6*K1265+H$6*L1265+I$6*M1265)>(N1265),1,0)","v":0}]
[null,2062,"[D2-NL] Diele - Meeden 380 Black [DIR] [NL]_LTA_corner#05_#31","10T-DE-NL-00001V","[D2-NL] Diele - Meeden 380 White","10T-DE-NL-00002T",0,0,0.55001,0.30785000000000001,0.63885999999999998,0.44111,0,1734,{"$f":"IF((G1266*ALBE+H1266*ALDE+I1266*AT+J1266*BE+K1266*DE+L1266*FR+M1266*NL)>(N1266),1,0)","v":0},null,{"$f":"IF((C$6*G1266+D$6*H1266+E$6*I1266+F$6*J1266+G$6*K1266+H$6*L1266+I$6*M1266)>(N1266),1,0)","v":0}]
[null,2063,"[D2-AT] Pleinting - St. Peter 258 [DIR] [D2]_LTA_corner#04_#15","10T-AT-DE-000037","[D2-AT] Y - St. Peter (- Altheim - Simbach) 234/230","10T-AT-DE-000045",0,0,-0.99736000000000002,-5.1319999999999998E-2,0,-5.1319999999999998E-2,0,4898,{"$f":"IF((G1267*ALBE+H1267*ALDE+I1267*AT+J1267*BE+K1267*DE+L1267*FR+M1267*NL)>(N1267),1,0)","v":0},null,{"$f":"IF((C$6*G1267+D$6*H1267+E$6*I1267+F$6*J1267+G$6*K1267+H$6*L1267+I$6*M1267)>(N1267),1,0)","v":0}]
[null,2064,"[D2-AT] Pleinting - St. Peter 258 [DIR] [AT]_LTA_corner#02_#18","10T-AT-DE-000037","[D2-D2] Pirach - Pleinting 257","11TD2L000000201H",0,0,-0.99812000000000001,4.6420000000000003E-2,-2.8219999999999999E-2,-2.8219999999999999E-2,0,4788,{"$f":"IF((G1268*ALBE+H1268*ALDE+I1268*AT+J1268*BE+K1268*DE+L1268*FR+M1268*NL)>(N1268),1,0)","v":0},null,{"$f":"IF((C$6*G1268+D$6*H1268+E$6*I1268+F$6*J1268+G$6*K1268+H$6*L1268+I$6*M1268)>(N1268),1,0)","v":0}]
[null,2065,"[D2-AT] Pleinting - St. Peter 258 [DIR] [AT]_LTA_corner#11_#23","10T-AT-DE-000037","[D2-D2] Pirach - Pleinting 257","11TD2L000000201H",0,0,-0.99790999999999996,0,-6.4549999999999996E-2,0,0,4675,{"$f":"IF((G1269*ALBE+H1269*ALDE+I1269*AT+J1269*BE+K1269*DE+L1269*FR+M1269*NL)>(N1269),1,0)","v":0},null,{"$f":"IF((C$6*G1269+D$6*H1269+E$6*I1269+F$6*J1269+G$6*K1269+H$6*L1269+I$6*M1269)>(N1269),1,0)","v":0}]
[null,2066,"[D2-AT] Pleinting - St. Peter 258 [DIR] [AT]_LTA_corner#02_#22","10T-AT-DE-000037","[D2-D2] Pirach - Pleinting 257","11TD2L000000201H",0,0,-0.99755000000000005,0,-4.9450000000000001E-2,-4.9450000000000001E-2,0,4668,{"$f":"IF((G1270*ALBE+H1270*ALDE+I1270*AT+J1270*BE+K1270*DE+L1270*FR+M1270*NL)>(N1270),1,0)","v":0},null,{"$f":"IF((C$6*G1270+D$6*H1270+E$6*I1270+F$6*J1270+G$6*K1270+H$6*L1270+I$6*M1270)>(N1270),1,0)","v":0}]
[null,2067,"[D2-AT] Pleinting - St. Peter 258 [DIR] [AT]_LTA_corner#01_#12","10T-AT-DE-000037","[D2-D2] Pirach - Pleinting 257","11TD2L000000201H",0,0,-0.99919999999999998,2.3120000000000002E-2,2.3120000000000002E-2,2.3120000000000002E-2,0,4968,{"$f":"IF((G1271*ALBE+H1271*ALDE+I1271*AT+J1271*BE+K1271*DE+L1271*FR+M1271*NL)>(N1271),1,0)","v":0},null,{"$f":"IF((C$6*G1271+D$6*H1271+E$6*I1271+F$6*J1271+G$6*K1271+H$6*L1271+I$6*M1271)>(N1271),1,0)","v":0}]
[null,2068,"[D4-AT] Buers - Westtirol 421 weiss [OPP] [D4]_LTA_corner#20_#23","10T-AT-DE-000061","[AT-AT] Westtirol Transformer WTRHU41","14T-38220-WT041O",0,0,0.95676000000000005,-7.9490000000000005E-2,8.0229999999999996E-2,-0.26806000000000002,0,4832,{"$f":"IF((G1272*ALBE+H1272*ALDE+I1272*AT+J1272*BE+K1272*DE+L1272*FR+M1272*NL)>(N1272),1,0)","v":0},null,{"$f":"IF((C$6*G1272+D$6*H1272+E$6*I1272+F$6*J1272+G$6*K1272+H$6*L1272+I$6*M1272)>(N1272),1,0)","v":0}]
[null,2069,"[D2-AT] Pleinting - St. Peter 258 [DIR] [AT]_LTA_corner#04_#11","10T-AT-DE-000037","[D2-D2] Pirach - Pleinting 257","11TD2L000000201H",0,0,-0.99470000000000003,-2.8119999999999999E-2,9.4780000000000003E-2,-2.8119999999999999E-2,0,5499,{"$f":"IF((G1273*ALBE+H1273*ALDE+I1273*AT+J1273*BE+K1273*DE+L1273*FR+M1273*NL)>(N1273),1,0)","v":0},null,{"$f":"IF((C$6*G1273+D$6*H1273+E$6*I1273+F$6*J1273+G$6*K1273+H$6*L1273+I$6*M1273)>(N1273),1,0)","v":0}]
[null,2070,"ALDE_import","N/A","BASECASE","N/A",0,-1,0,0,0,0,0,0,{"$f":"IF((G1274*ALBE+H1274*ALDE+I1274*AT+J1274*BE+K1274*DE+L1274*FR+M1274*NL)>(N1274),1,0)","v":0},null,{"$f":"IF((C$6*G1274+D$6*H1274+E$6*I1274+F$6*J1274+G$6*K1274+H$6*L1274+I$6*M1274)>(N1274),1,0)","v":0}]
[null,2071,"[AT-AT] Westtirol Transformer WTRHU41 [OPP]_LTA_corner#17_#12","14T-38220-WT041O","BASECASE","N/A",0,0,0.99565000000000003,0,9.3140000000000001E-2,0,0,4543,{"$f":"IF((G1275*ALBE+H1275*ALDE+I1275*AT+J1275*BE+K1275*DE+L1275*FR+M1275*NL)>(N1275),1,0)","v":0},null,{"$f":"IF((C$6*G1275+D$6*H1275+E$6*I1275+F$6*J1275+G$6*K1275+H$6*L1275+I$6*M1275)>(N1275),1,0)","v":0}]
[null,2072,"[D2-AT] Pleinting - St. Peter 258 [DIR] [D2]_LTA_corner#09_#20","10T-AT-DE-000037","[D2-AT] Y - St. Peter (- Altheim - Simbach) 234/230","10T-AT-DE-000045",0,0,-0.96314,-0.12651000000000001,-0.16786999999999999,-0.16786999999999999,0,4184,{"$f":"IF((G1276*ALBE+H1276*ALDE+I1276*AT+J1276*BE+K1276*DE+L1276*FR+M1276*NL)>(N1276),1,0)","v":0},null,{"$f":"IF((C$6*G1276+D$6*H1276+E$6*I1276+F$6*J1276+G$6*K1276+H$6*L1276+I$6*M1276)>(N1276),1,0)","v":0}]
[null,2073,"[AT-AT] Westtirol Transformer WTRHU41 [OPP]_LTA_corner#17_#6","14T-38220-WT041O","BASECASE","N/A",0,0,0.99317999999999995,0,9.0719999999999995E-2,-7.3190000000000005E-2,0,4655,{"$f":"IF((G1277*ALBE+H1277*ALDE+I1277*AT+J1277*BE+K1277*DE+L1277*FR+M1277*NL)>(N1277),1,0)","v":0},null,{"$f":"IF((C$6*G1277+D$6*H1277+E$6*I1277+F$6*J1277+G$6*K1277+H$6*L1277+I$6*M1277)>(N1277),1,0)","v":0}]
[null,2074,"[D7-FR] Ensdorf - Vigy 2S [OPP] [D7]","10T-DE-FR-000068","[D7-FR] Ensdorf - Vigy 1N","10T-DE-FR-00005A",6.5070000000000003E-2,-6.2850000000000003E-2,2.0199999999999999E-2,8.1040000000000001E-2,-2.019E-2,0.1812,7.6099999999999996E-3,732,{"$f":"IF((G1278*ALBE+H1278*ALDE+I1278*AT+J1278*BE+K1278*DE+L1278*FR+M1278*NL)>(N1278),1,0)","v":0},null,{"$f":"IF((C$6*G1278+D$6*H1278+E$6*I1278+F$6*J1278+G$6*K1278+H$6*L1278+I$6*M1278)>(N1278),1,0)","v":0}]
[null,2075,"[D2-AT] Pleinting - St. Peter 258 [DIR] [AT]_LTA_corner#01_#9","10T-AT-DE-000037","[D2-D2] Pirach - Pleinting 257","11TD2L000000201H",0,0,-0.99839,5.6640000000000003E-2,0,0,0,4882,{"$f":"IF((G1279*ALBE+H1279*ALDE+I1279*AT+J1279*BE+K1279*DE+L1279*FR+M1279*NL)>(N1279),1,0)","v":0},null,{"$f":"IF((C$6*G1279+D$6*H1279+E$6*I1279+F$6*J1279+G$6*K1279+H$6*L1279+I$6*M1279)>(N1279),1,0)","v":0}]
[null,2076,"[BE-BE] PST_ZANDV_2 [N - S]_LTA_corner#13_#2","22T20161020---56","[NL-BE] Rilland - Zandvliet 380 White/30","10T-BE-NL-00004C",0,0,-0.30896000000000001,-0.81813000000000002,-0.26297999999999999,-0.40749999999999997,0,2040,{"$f":"IF((G1280*ALBE+H1280*ALDE+I1280*AT+J1280*BE+K1280*DE+L1280*FR+M1280*NL)>(N1280),1,0)","v":0},null,{"$f":"IF((C$6*G1280+D$6*H1280+E$6*I1280+F$6*J1280+G$6*K1280+H$6*L1280+I$6*M1280)>(N1280),1,0)","v":0}]
[null,2077,"[D2-AT] Pleinting - St. Peter 258 [DIR] [AT]_LTA_corner#03_#3","10T-AT-DE-000037","[D2-D2] Pirach - Pleinting 257","11TD2L000000201H",0,0,-0.99909000000000003,2.9520000000000001E-2,8.5299999999999994E-3,2.9520000000000001E-2,0,4914,{"$f":"IF((G1281*ALBE+H1281*ALDE+I1281*AT+J1281*BE+K1281*DE+L1281*FR+M1281*NL)>(N1281),1,0)","v":0},null,{"$f":"IF((C$6*G1281+D$6*H1281+E$6*I1281+F$6*J1281+G$6*K1281+H$6*L1281+I$6*M1281)>(N1281),1,0)","v":0}]
[null,2078,"[D2-AT] Pleinting - St. Peter 258 [DIR] [AT]_LTA_corner#01_#22","10T-AT-DE-000037","[D2-D2] Pirach - Pleinting 257","11TD2L000000201H",0,0,-0.99639,8.0060000000000006E-2,0,-2.8170000000000001E-2,0,4946,{"$f":"IF((G1282*ALBE+H1282*ALDE+I1282*AT+J1282*BE+K1282*DE+L1282*FR+M1282*NL)>(N1282),1,0)","v":0},null,{"$f":"IF((C$6*G1282+D$6*H1282+E$6*I1282+F$6*J1282+G$6*K1282+H$6*L1282+I$6*M1282)>(N1282),1,0)","v":0}]
[null,2079,"[BE-FR] Achene - Lonny 380.19 [DIR] [BE]_LTA_corner#09_#6","10T-BE-FR-000015","[BE-BE] Avelgem - Horta 380.102","22T20161020---1E",0,0,-0.40814,-0.60287000000000002,-0.32638,-0.60287000000000002,0,1571,{"$f":"IF((G1283*ALBE+H1283*ALDE+I1283*AT+J1283*BE+K1283*DE+L1283*FR+M1283*NL)>(N1283),1,0)","v":0},null,{"$f":"IF((C$6*G1283+D$6*H1283+E$6*I1283+F$6*J1283+G$6*K1283+H$6*L1283+I$6*M1283)>(N1283),1,0)","v":0}]
[null,2080,"[D2-AT] Pleinting - St. Peter 258 [DIR] [D2]_LTA_corner#06_#15","10T-AT-DE-000037","[D2-AT] Y - St. Peter (- Altheim - Simbach) 234/230","10T-AT-DE-000045",0,0,-0.99995000000000001,-9.7900000000000001E-3,0,-3.3E-3,0,4842,{"$f":"IF((G1284*ALBE+H1284*ALDE+I1284*AT+J1284*BE+K1284*DE+L1284*FR+M1284*NL)>(N1284),1,0)","v":0},null,{"$f":"IF((C$6*G1284+D$6*H1284+E$6*I1284+F$6*J1284+G$6*K1284+H$6*L1284+I$6*M1284)>(N1284),1,0)","v":0}]
[null,2081,"[D2-AT] Pleinting - St. Peter 258 [DIR] [AT]_LTA_corner#15_#7","10T-AT-DE-000037","[D2-D2] Pirach - Pleinting 257","11TD2L000000201H",0,0,-0.99792999999999998,-2.8209999999999999E-2,-5.042E-2,-2.8209999999999999E-2,0,4688,{"$f":"IF((G1285*ALBE+H1285*ALDE+I1285*AT+J1285*BE+K1285*DE+L1285*FR+M1285*NL)>(N1285),1,0)","v":0},null,{"$f":"IF((C$6*G1285+D$6*H1285+E$6*I1285+F$6*J1285+G$6*K1285+H$6*L1285+I$6*M1285)>(N1285),1,0)","v":0}]
[null,2082,"[AT-AT] Westtirol Transformer WTRHU41 [OPP]_LTA_corner#21_#3","14T-38220-WT041O","BASECASE","N/A",0,0,0.99675000000000002,2.5799999999999998E-3,8.0049999999999996E-2,8.2799999999999992E-3,0,4587,{"$f":"IF((G1286*ALBE+H1286*ALDE+I1286*AT+J1286*BE+K1286*DE+L1286*FR+M1286*NL)>(N1286),1,0)","v":0},null,{"$f":"IF((C$6*G1286+D$6*H1286+E$6*I1286+F$6*J1286+G$6*K1286+H$6*L1286+I$6*M1286)>(N1286),1,0)","v":0}]
[null,2083,"[D2-AT] Pleinting - St. Peter 258 [DIR] [D2]_LTA_corner#09_#14","10T-AT-DE-000037","[D2-AT] Y - St. Peter (- Altheim - Simbach) 234/230","10T-AT-DE-000045",0,0,-0.99963000000000002,-1.6670000000000001E-2,-1.3480000000000001E-2,-1.6670000000000001E-2,0,4788,{"$f":"IF((G1287*ALBE+H1287*ALDE+I1287*AT+J1287*BE+K1287*DE+L1287*FR+M1287*NL)>(N1287),1,0)","v":0},null,{"$f":"IF((C$6*G1287+D$6*H1287+E$6*I1287+F$6*J1287+G$6*K1287+H$6*L1287+I$6*M1287)>(N1287),1,0)","v":0}]
[null,2084,"[D4-AT] Buers - Westtirol 421 weiss [OPP] [D4]_LTA_corner#20_#2","10T-AT-DE-000061","[AT-AT] Westtirol Transformer WTRHU41","14T-38220-WT041O",0,0,0.98277000000000003,-7.8030000000000002E-2,0.14396999999999999,-8.5669999999999996E-2,0,4491,{"$f":"IF((G1288*ALBE+H1288*ALDE+I1288*AT+J1288*BE+K1288*DE+L1288*FR+M1288*NL)>(N1288),1,0)","v":0},null,{"$f":"IF((C$6*G1288+D$6*H1288+E$6*I1288+F$6*J1288+G$6*K1288+H$6*L1288+I$6*M1288)>(N1288),1,0)","v":0}]
[null,2085,"[D2-AT] Pleinting - St. Peter 258 [DIR] [AT]_LTA_corner#12_#10","10T-AT-DE-000037","[D2-D2] Pirach - Pleinting 257","11TD2L000000201H",0,0,-0.99807999999999997,-1.9499999999999999E-3,0,6.191E-2,0,5005,{"$f":"IF((G1289*ALBE+H1289*ALDE+I1289*AT+J1289*BE+K1289*DE+L1289*FR+M1289*NL)>(N1289),1,0)","v":0},null,{"$f":"IF((C$6*G1289+D$6*H1289+E$6*I1289+F$6*J1289+G$6*K1289+H$6*L1289+I$6*M1289)>(N1289),1,0)","v":0}]
[null,2086,"[D2-AT] Pleinting - St. Peter 258 [DIR] [D2]_LTA_corner#01_#18","10T-AT-DE-000037","[D2-AT] Y - St. Peter (- Altheim - Simbach) 234/230","10T-AT-DE-000045",0,0,-0.72448999999999997,0.30248000000000003,0.54049000000000003,0.30248000000000003,0,7107,{"$f":"IF((G1290*ALBE+H1290*ALDE+I1290*AT+J1290*BE+K1290*DE+L1290*FR+M1290*NL)>(N1290),1,0)","v":0},null,{"$f":"IF((C$6*G1290+D$6*H1290+E$6*I1290+F$6*J1290+G$6*K1290+H$6*L1290+I$6*M1290)>(N1290),1,0)","v":0}]
[null,2087,"[BE-FR] Achene - Lonny 380.19 [DIR] [BE]_LTA_corner#02_#25","10T-BE-FR-000015","[BE-BE] Avelgem - Horta 380.102","22T20161020---1E",0,0,-0.48981999999999998,0,-0.35837999999999998,-0.79476000000000002,0,2037,{"$f":"IF((G1291*ALBE+H1291*ALDE+I1291*AT+J1291*BE+K1291*DE+L1291*FR+M1291*NL)>(N1291),1,0)","v":0},null,{"$f":"IF((C$6*G1291+D$6*H1291+E$6*I1291+F$6*J1291+G$6*K1291+H$6*L1291+I$6*M1291)>(N1291),1,0)","v":0}]
[null,2088,"[D2-AT] Pleinting - St. Peter 258 [DIR] [D2]_LTA_corner#09_#12","10T-AT-DE-000037","[D2-AT] Y - St. Peter (- Altheim - Simbach) 234/230","10T-AT-DE-000045",0,0,-0.99897999999999998,-2.673E-2,-2.4819999999999998E-2,-2.673E-2,0,4752,{"$f":"IF((G1292*ALBE+H1292*ALDE+I1292*AT+J1292*BE+K1292*DE+L1292*FR+M1292*NL)>(N1292),1,0)","v":0},null,{"$f":"IF((C$6*G1292+D$6*H1292+E$6*I1292+F$6*J1292+G$6*K1292+H$6*L1292+I$6*M1292)>(N1292),1,0)","v":0}]
[null,2089,"[BE-FR] Achene - Lonny 380.19 [DIR] [BE]_LTA_corner#02_#24","10T-BE-FR-000015","[BE-BE] Avelgem - Horta 380.102","22T20161020---1E",0,0,-0.49917,0,-0.36498000000000003,-0.78588999999999998,0,2039,{"$f":"IF((G1293*ALBE+H1293*ALDE+I1293*AT+J1293*BE+K1293*DE+L1293*FR+M1293*NL)>(N1293),1,0)","v":0},null,{"$f":"IF((C$6*G1293+D$6*H1293+E$6*I1293+F$6*J1293+G$6*K1293+H$6*L1293+I$6*M1293)>(N1293),1,0)","v":0}]
[null,2090,"[AT-AT] Westtirol Transformer WTRHU41 [OPP]_LTA_corner#20_#23","14T-38220-WT041O","BASECASE","N/A",0,0,0.99697000000000002,-5.2999999999999998E-4,7.7740000000000004E-2,-5.2999999999999998E-4,0,4592,{"$f":"IF((G1294*ALBE+H1294*ALDE+I1294*AT+J1294*BE+K1294*DE+L1294*FR+M1294*NL)>(N1294),1,0)","v":0},null,{"$f":"IF((C$6*G1294+D$6*H1294+E$6*I1294+F$6*J1294+G$6*K1294+H$6*L1294+I$6*M1294)>(N1294),1,0)","v":0}]
[null,2091,"[BE-FR] Achene - Lonny 380.19 [OPP] [BE]","10T-BE-FR-000015","[BE-BE] Avelgem - Horta 380.102","22T20161020---1E",-0.31126999999999999,-6.8190000000000001E-2,2.1440000000000001E-2,-0.30732999999999999,-3.8059999999999997E-2,0.14971999999999999,-0.15692,2069,{"$f":"IF((G1295*ALBE+H1295*ALDE+I1295*AT+J1295*BE+K1295*DE+L1295*FR+M1295*NL)>(N1295),1,0)","v":0},null,{"$f":"IF((C$6*G1295+D$6*H1295+E$6*I1295+F$6*J1295+G$6*K1295+H$6*L1295+I$6*M1295)>(N1295),1,0)","v":0}]
[null,2092,"[D2-AT] Pleinting - St. Peter 258 [DIR] [D2]_LTA_corner#09_#22","10T-AT-DE-000037","[D2-AT] Y - St. Peter (- Altheim - Simbach) 234/230","10T-AT-DE-000045",0,0,-0.94862000000000002,-0.14202999999999999,-0.19993,-0.19993,0,4025,{"$f":"IF((G1296*ALBE+H1296*ALDE+I1296*AT+J1296*BE+K1296*DE+L1296*FR+M1296*NL)>(N1296),1,0)","v":0},null,{"$f":"IF((C$6*G1296+D$6*H1296+E$6*I1296+F$6*J1296+G$6*K1296+H$6*L1296+I$6*M1296)>(N1296),1,0)","v":0}]
[null,2093,"[BE-FR] Achene - Lonny 380.19 [DIR] [BE]_LTA_corner#02_#18","10T-BE-FR-000015","[BE-BE] Avelgem - Horta 380.102","22T20161020---1E",0,0,-0.48392000000000002,0,-0.35125000000000001,-0.80152999999999996,0,2051,{"$f":"IF((G1297*ALBE+H1297*ALDE+I1297*AT+J1297*BE+K1297*DE+L1297*FR+M1297*NL)>(N1297),1,0)","v":0},null,{"$f":"IF((C$6*G1297+D$6*H1297+E$6*I1297+F$6*J1297+G$6*K1297+H$6*L1297+I$6*M1297)>(N1297),1,0)","v":0}]
[null,2094,"[AT-AT] Westtirol Transformer WTRHU41 [OPP]_LTA_corner#20_#21","14T-38220-WT041O","BASECASE","N/A",0,0,0.98858999999999997,-2.3109999999999999E-2,0.14702000000000001,-2.3109999999999999E-2,0,4402,{"$f":"IF((G1298*ALBE+H1298*ALDE+I1298*AT+J1298*BE+K1298*DE+L1298*FR+M1298*NL)>(N1298),1,0)","v":0},null,{"$f":"IF((C$6*G1298+D$6*H1298+E$6*I1298+F$6*J1298+G$6*K1298+H$6*L1298+I$6*M1298)>(N1298),1,0)","v":0}]
[null,2095,"[D2-AT] Pleinting - St. Peter 258 [DIR] [AT]_LTA_corner#03_#4","10T-AT-DE-000037","[D2-D2] Pirach - Pleinting 257","11TD2L000000201H",0,0,-0.99921000000000004,2.811E-2,0,2.811E-2,0,4873,{"$f":"IF((G1299*ALBE+H1299*ALDE+I1299*AT+J1299*BE+K1299*DE+L1299*FR+M1299*NL)>(N1299),1,0)","v":0},null,{"$f":"IF((C$6*G1299+D$6*H1299+E$6*I1299+F$6*J1299+G$6*K1299+H$6*L1299+I$6*M1299)>(N1299),1,0)","v":0}]
[null,2096,"[NL-NL] Borssele - Rilland 380 Zwart [DIR]","49T000000000059S","[NL-NL] Borssele - Rilland 380 Grijs","49T000000000057W",-5.2100000000000002E-3,2.2599999999999999E-3,-7.6999999999999996E-4,-1.359E-2,1.3500000000000001E-3,-5.6800000000000002E-3,0.12096,457,{"$f":"IF((G1300*ALBE+H1300*ALDE+I1300*AT+J1300*BE+K1300*DE+L1300*FR+M1300*NL)>(N1300),1,0)","v":0},null,{"$f":"IF((C$6*G1300+D$6*H1300+E$6*I1300+F$6*J1300+G$6*K1300+H$6*L1300+I$6*M1300)>(N1300),1,0)","v":0}]
[null,2097,"[D2-AT] Pleinting - St. Peter 258 [DIR] [AT]_LTA_corner#14_#17","10T-AT-DE-000037","[D2-D2] Pirach - Pleinting 257","11TD2L000000201H",0,0,-0.99763000000000002,8.6099999999999996E-3,-6.5979999999999997E-2,1.7639999999999999E-2,0,4715,{"$f":"IF((G1301*ALBE+H1301*ALDE+I1301*AT+J1301*BE+K1301*DE+L1301*FR+M1301*NL)>(N1301),1,0)","v":0},null,{"$f":"IF((C$6*G1301+D$6*H1301+E$6*I1301+F$6*J1301+G$6*K1301+H$6*L1301+I$6*M1301)>(N1301),1,0)","v":0}]
[null,2098,"[BE-BE] PST_ZANDV_2 [N - S]_LTA_corner#13_#4","22T20161020---56","[NL-BE] Rilland - Zandvliet 380 White/30","10T-BE-NL-00004C",0,0,-0.30264000000000002,-0.80750999999999995,-0.23757,-0.44711000000000001,0,2069,{"$f":"IF((G1302*ALBE+H1302*ALDE+I1302*AT+J1302*BE+K1302*DE+L1302*FR+M1302*NL)>(N1302),1,0)","v":0},null,{"$f":"IF((C$6*G1302+D$6*H1302+E$6*I1302+F$6*J1302+G$6*K1302+H$6*L1302+I$6*M1302)>(N1302),1,0)","v":0}]
[null,2099,"[D2-AT] Pleinting - St. Peter 258 [DIR] [AT]_LTA_corner#04_#2","10T-AT-DE-000037","[D2-D2] Pirach - Pleinting 257","11TD2L000000201H",0,0,-0.98729999999999996,-2.383E-2,0.11758,-0.10417,0,5741,{"$f":"IF((G1303*ALBE+H1303*ALDE+I1303*AT+J1303*BE+K1303*DE+L1303*FR+M1303*NL)>(N1303),1,0)","v":0},null,{"$f":"IF((C$6*G1303+D$6*H1303+E$6*I1303+F$6*J1303+G$6*K1303+H$6*L1303+I$6*M1303)>(N1303),1,0)","v":0}]
[null,2100,"[AT-AT] Westtirol Transformer WTRHU41 [OPP]_LTA_corner#17_#8","14T-38220-WT041O","BASECASE","N/A",0,0,0.98231999999999997,0,0.17266000000000001,-7.2389999999999996E-2,0,4377,{"$f":"IF((G1304*ALBE+H1304*ALDE+I1304*AT+J1304*BE+K1304*DE+L1304*FR+M1304*NL)>(N1304),1,0)","v":0},null,{"$f":"IF((C$6*G1304+D$6*H1304+E$6*I1304+F$6*J1304+G$6*K1304+H$6*L1304+I$6*M1304)>(N1304),1,0)","v":0}]
[null,2101,"[D4-AT] Buers - Westtirol 421 weiss [OPP] [D4]_LTA_corner#17_#15","10T-AT-DE-000061","[AT-AT] Westtirol Transformer WTRHU41","14T-38220-WT041O",0,0,0.99350000000000005,0,0.11304,-1.308E-2,0,4499,{"$f":"IF((G1305*ALBE+H1305*ALDE+I1305*AT+J1305*BE+K1305*DE+L1305*FR+M1305*NL)>(N1305),1,0)","v":0},null,{"$f":"IF((C$6*G1305+D$6*H1305+E$6*I1305+F$6*J1305+G$6*K1305+H$6*L1305+I$6*M1305)>(N1305),1,0)","v":0}]
[null,2102,"[D4-AT] Buers - Westtirol 421 weiss [OPP] [D4]_LTA_corner#17_#2","10T-AT-DE-000061","[AT-AT] Westtirol Transformer WTRHU41","14T-38220-WT041O",0,0,0.98394000000000004,0,0.15651999999999999,-8.5769999999999999E-2,0,4450,{"$f":"IF((G1306*ALBE+H1306*ALDE+I1306*AT+J1306*BE+K1306*DE+L1306*FR+M1306*NL)>(N1306),1,0)","v":0},null,{"$f":"IF((C$6*G1306+D$6*H1306+E$6*I1306+F$6*J1306+G$6*K1306+H$6*L1306+I$6*M1306)>(N1306),1,0)","v":0}]
[null,2103,"[BE-BE] PST_ZANDV_2 [N - S]_LTA_corner#13_#6","22T20161020---56","[NL-BE] Rilland - Zandvliet 380 White/30","10T-BE-NL-00004C",0,0,-0.38419999999999999,-0.72021999999999997,-0.29257,-0.49807000000000001,0,1967,{"$f":"IF((G1307*ALBE+H1307*ALDE+I1307*AT+J1307*BE+K1307*DE+L1307*FR+M1307*NL)>(N1307),1,0)","v":0},null,{"$f":"IF((C$6*G1307+D$6*H1307+E$6*I1307+F$6*J1307+G$6*K1307+H$6*L1307+I$6*M1307)>(N1307),1,0)","v":0}]
[null,2104,"[BE-BE] PST_ZANDV_2 [N - S]_LTA_corner#13_#0","22T20161020---56","[NL-BE] Rilland - Zandvliet 380 White/30","10T-BE-NL-00004C",0,0,-0.31312000000000001,-0.78308999999999995,-0.23626,-0.48259999999999997,0,2040,{"$f":"IF((G1308*ALBE+H1308*ALDE+I1308*AT+J1308*BE+K1308*DE+L1308*FR+M1308*NL)>(N1308),1,0)","v":0},null,{"$f":"IF((C$6*G1308+D$6*H1308+E$6*I1308+F$6*J1308+G$6*K1308+H$6*L1308+I$6*M1308)>(N1308),1,0)","v":0}]
[null,2105,"[D2-AT] Pleinting - St. Peter 258 [DIR] [AT]_LTA_corner#14_#2","10T-AT-DE-000037","[D2-D2] Pirach - Pleinting 257","11TD2L000000201H",0,0,-0.99761999999999995,1.082E-2,-6.4009999999999997E-2,2.3429999999999999E-2,0,4735,{"$f":"IF((G1309*ALBE+H1309*ALDE+I1309*AT+J1309*BE+K1309*DE+L1309*FR+M1309*NL)>(N1309),1,0)","v":0},null,{"$f":"IF((C$6*G1309+D$6*H1309+E$6*I1309+F$6*J1309+G$6*K1309+H$6*L1309+I$6*M1309)>(N1309),1,0)","v":0}]
[null,2106,"[D2-AT] Pleinting - St. Peter 258 [DIR] [AT]_LTA_corner#02_#19","10T-AT-DE-000037","[D2-D2] Pirach - Pleinting 257","11TD2L000000201H",0,0,-0.99780000000000002,6.3119999999999996E-2,-1.422E-2,-1.422E-2,0,4847,{"$f":"IF((G1310*ALBE+H1310*ALDE+I1310*AT+J1310*BE+K1310*DE+L1310*FR+M1310*NL)>(N1310),1,0)","v":0},null,{"$f":"IF((C$6*G1310+D$6*H1310+E$6*I1310+F$6*J1310+G$6*K1310+H$6*L1310+I$6*M1310)>(N1310),1,0)","v":0}]
[null,2107,"[D2-NL] Diele - Meeden 380 Black [DIR] [NL]_LTA_corner#05_#5","10T-DE-NL-00001V","[D2-NL] Diele - Meeden 380 White","10T-DE-NL-00002T",0,0,0.54823999999999995,0.32744000000000001,0.63158000000000003,0.43969000000000003,0,1670,{"$f":"IF((G1311*ALBE+H1311*ALDE+I1311*AT+J1311*BE+K1311*DE+L1311*FR+M1311*NL)>(N1311),1,0)","v":0},null,{"$f":"IF((C$6*G1311+D$6*H1311+E$6*I1311+F$6*J1311+G$6*K1311+H$6*L1311+I$6*M1311)>(N1311),1,0)","v":0}]
[null,2108,"[D2-AT] Pleinting - St. Peter 258 [DIR] [AT]_LTA_corner#06_#28","10T-AT-DE-000037","[D2-D2] Pirach - Pleinting 257","11TD2L000000201H",0,0,-0.99804000000000004,-6.2520000000000006E-2,0,0,0,4965,{"$f":"IF((G1312*ALBE+H1312*ALDE+I1312*AT+J1312*BE+K1312*DE+L1312*FR+M1312*NL)>(N1312),1,0)","v":0},null,{"$f":"IF((C$6*G1312+D$6*H1312+E$6*I1312+F$6*J1312+G$6*K1312+H$6*L1312+I$6*M1312)>(N1312),1,0)","v":0}]
[null,2109,"[AT-AT] Westtirol Transformer WTRHU41 [OPP]_LTA_corner#20_#6","14T-38220-WT041O","BASECASE","N/A",0,0,0.97828000000000004,-2.2859999999999998E-2,0.19300999999999999,-7.2090000000000001E-2,0,4305,{"$f":"IF((G1313*ALBE+H1313*ALDE+I1313*AT+J1313*BE+K1313*DE+L1313*FR+M1313*NL)>(N1313),1,0)","v":0},null,{"$f":"IF((C$6*G1313+D$6*H1313+E$6*I1313+F$6*J1313+G$6*K1313+H$6*L1313+I$6*M1313)>(N1313),1,0)","v":0}]
[null,2110,"[BE-BE] PST_ZANDV_2 [N - S]_LTA_corner#13_#5","22T20161020---56","[NL-BE] Rilland - Zandvliet 380 White/30","10T-BE-NL-00004C",0,0,-0.30451,-0.81750999999999996,-0.25423000000000001,-0.41750999999999999,0,2049,{"$f":"IF((G1314*ALBE+H1314*ALDE+I1314*AT+J1314*BE+K1314*DE+L1314*FR+M1314*NL)>(N1314),1,0)","v":0},null,{"$f":"IF((C$6*G1314+D$6*H1314+E$6*I1314+F$6*J1314+G$6*K1314+H$6*L1314+I$6*M1314)>(N1314),1,0)","v":0}]
[null,2111,"[D2-AT] Pleinting - St. Peter 258 [DIR] [AT]_LTA_corner#01_#10","10T-AT-DE-000037","[D2-D2] Pirach - Pleinting 257","11TD2L000000201H",0,0,-0.99863999999999997,5.0810000000000001E-2,8.5299999999999994E-3,8.5299999999999994E-3,0,4922,{"$f":"IF((G1315*ALBE+H1315*ALDE+I1315*AT+J1315*BE+K1315*DE+L1315*FR+M1315*NL)>(N1315),1,0)","v":0},null,{"$f":"IF((C$6*G1315+D$6*H1315+E$6*I1315+F$6*J1315+G$6*K1315+H$6*L1315+I$6*M1315)>(N1315),1,0)","v":0}]
[null,2112,"[BE-BE] PST_VANYK_2 [S - N]","22T-BE-PST--002U","[NL-BE] Maasbracht - Van Eyck 380 Black/27","10T-BE-NL-00002G",0.48557,-5.1020000000000003E-2,1.2919999999999999E-2,0.27096999999999999,-2.2509999999999999E-2,9.529E-2,-2.8479999999999998E-2,1069,{"$f":"IF((G1316*ALBE+H1316*ALDE+I1316*AT+J1316*BE+K1316*DE+L1316*FR+M1316*NL)>(N1316),1,0)","v":0},null,{"$f":"IF((C$6*G1316+D$6*H1316+E$6*I1316+F$6*J1316+G$6*K1316+H$6*L1316+I$6*M1316)>(N1316),1,0)","v":0}]
[null,2113,"[D2-AT] Y - St. Peter (- Altheim - Simbach) 234/230 [OPP] [D2]","10T-AT-DE-000045","[D2-AT] Pirach - St. Peter 256","10T-AT-DE-000029",-4.453E-2,-4.5969999999999997E-2,2.8170000000000001E-2,-4.4269999999999997E-2,-4.5600000000000002E-2,-4.1090000000000002E-2,-4.5249999999999999E-2,375,{"$f":"IF((G1317*ALBE+H1317*ALDE+I1317*AT+J1317*BE+K1317*DE+L1317*FR+M1317*NL)>(N1317),1,0)","v":0},null,{"$f":"IF((C$6*G1317+D$6*H1317+E$6*I1317+F$6*J1317+G$6*K1317+H$6*L1317+I$6*M1317)>(N1317),1,0)","v":0}]
[null,2114,"[D2-NL] Diele - Meeden 380 Black [DIR] [NL]_LTA_corner#05_#8","10T-DE-NL-00001V","[D2-NL] Diele - Meeden 380 White","10T-DE-NL-00002T",0,0,0.55115000000000003,0.30224000000000001,0.64615,0.43287999999999999,0,1779,{"$f":"IF((G1318*ALBE+H1318*ALDE+I1318*AT+J1318*BE+K1318*DE+L1318*FR+M1318*NL)>(N1318),1,0)","v":0},null,{"$f":"IF((C$6*G1318+D$6*H1318+E$6*I1318+F$6*J1318+G$6*K1318+H$6*L1318+I$6*M1318)>(N1318),1,0)","v":0}]
[null,2115,"[D2-AT] Pleinting - St. Peter 258 [DIR] [AT]_LTA_corner#01_#0","10T-AT-DE-000037","[D2-D2] Pirach - Pleinting 257","11TD2L000000201H",0,0,-0.99543000000000004,9.0889999999999999E-2,8.5000000000000006E-3,-2.8139999999999998E-2,0,5013,{"$f":"IF((G1319*ALBE+H1319*ALDE+I1319*AT+J1319*BE+K1319*DE+L1319*FR+M1319*NL)>(N1319),1,0)","v":0},null,{"$f":"IF((C$6*G1319+D$6*H1319+E$6*I1319+F$6*J1319+G$6*K1319+H$6*L1319+I$6*M1319)>(N1319),1,0)","v":0}]
[null,2116,"[BE-BE] PST_VANYK_2 [S - N]","22T-BE-PST--002U","[BE-BE] Y - Courcelles (- Gramme - Tergnee) 380.31","22T-BE-IN-LI019P",0.48921999999999999,-4.3130000000000002E-2,1.1270000000000001E-2,0.22742000000000001,-1.9740000000000001E-2,8.1019999999999995E-2,-3.4950000000000002E-2,930,{"$f":"IF((G1320*ALBE+H1320*ALDE+I1320*AT+J1320*BE+K1320*DE+L1320*FR+M1320*NL)>(N1320),1,0)","v":0},null,{"$f":"IF((C$6*G1320+D$6*H1320+E$6*I1320+F$6*J1320+G$6*K1320+H$6*L1320+I$6*M1320)>(N1320),1,0)","v":0}]
[null,2117,"[D2-AT] Pleinting - St. Peter 258 [DIR] [AT]_LTA_corner#04_#8","10T-AT-DE-000037","[D2-D2] Pirach - Pleinting 257","11TD2L000000201H",0,0,-0.99163000000000001,-3.63E-3,0.12601999999999999,-2.8039999999999999E-2,0,5696,{"$f":"IF((G1321*ALBE+H1321*ALDE+I1321*AT+J1321*BE+K1321*DE+L1321*FR+M1321*NL)>(N1321),1,0)","v":0},null,{"$f":"IF((C$6*G1321+D$6*H1321+E$6*I1321+F$6*J1321+G$6*K1321+H$6*L1321+I$6*M1321)>(N1321),1,0)","v":0}]
[null,2118,"[D7-D4] Hoheneck - Pulverdingen weiss [DIR] [D4]_LTA_corner#09_#22","11T-D4-D7-00014N","[D4-D7] Y - Herbertingen - Hoheneck - Metzingen schwarz","11TD40000A546-S0",0,0,-0.84401999999999999,-9.3780000000000002E-2,-0.31847999999999999,-0.42120000000000002,0,3339,{"$f":"IF((G1322*ALBE+H1322*ALDE+I1322*AT+J1322*BE+K1322*DE+L1322*FR+M1322*NL)>(N1322),1,0)","v":0},null,{"$f":"IF((C$6*G1322+D$6*H1322+E$6*I1322+F$6*J1322+G$6*K1322+H$6*L1322+I$6*M1322)>(N1322),1,0)","v":0}]
[null,2119,"[AT-AT] Westtirol Transformer WTRHU41 [OPP]_LTA_corner#17_#7","14T-38220-WT041O","BASECASE","N/A",0,0,0.98399999999999999,0,0.13521,-0.11602,0,4557,{"$f":"IF((G1323*ALBE+H1323*ALDE+I1323*AT+J1323*BE+K1323*DE+L1323*FR+M1323*NL)>(N1323),1,0)","v":0},null,{"$f":"IF((C$6*G1323+D$6*H1323+E$6*I1323+F$6*J1323+G$6*K1323+H$6*L1323+I$6*M1323)>(N1323),1,0)","v":0}]
[null,2120,"[D2-AT] Pleinting - St. Peter 258 [DIR] [AT]_LTA_corner#01_#7","10T-AT-DE-000037","[D2-D2] Pirach - Pleinting 257","11TD2L000000201H",0,0,-0.99404000000000003,0,0,-0.10904,0,4967,{"$f":"IF((G1324*ALBE+H1324*ALDE+I1324*AT+J1324*BE+K1324*DE+L1324*FR+M1324*NL)>(N1324),1,0)","v":0},null,{"$f":"IF((C$6*G1324+D$6*H1324+E$6*I1324+F$6*J1324+G$6*K1324+H$6*L1324+I$6*M1324)>(N1324),1,0)","v":0}]
[null,2121,"[D2-AT] Pleinting - St. Peter 258 [DIR] [D2]_LTA_corner#04_#0","10T-AT-DE-000037","[D2-AT] Y - St. Peter (- Altheim - Simbach) 234/230","10T-AT-DE-000045",0,0,-0.97936999999999996,-6.4839999999999995E-2,2.078E-2,-0.19026000000000001,0,5179,{"$f":"IF((G1325*ALBE+H1325*ALDE+I1325*AT+J1325*BE+K1325*DE+L1325*FR+M1325*NL)>(N1325),1,0)","v":0},null,{"$f":"IF((C$6*G1325+D$6*H1325+E$6*I1325+F$6*J1325+G$6*K1325+H$6*L1325+I$6*M1325)>(N1325),1,0)","v":0}]
[null,2122,"[D2-NL] Diele - Meeden 380 Black [DIR] [NL]_LTA_corner#05_#0","10T-DE-NL-00001V","[D2-NL] Diele - Meeden 380 White","10T-DE-NL-00002T",0,0,0.54293999999999998,0.34236,0.62421000000000004,0.44536999999999999,0,1633,{"$f":"IF((G1326*ALBE+H1326*ALDE+I1326*AT+J1326*BE+K1326*DE+L1326*FR+M1326*NL)>(N1326),1,0)","v":0},null,{"$f":"IF((C$6*G1326+D$6*H1326+E$6*I1326+F$6*J1326+G$6*K1326+H$6*L1326+I$6*M1326)>(N1326),1,0)","v":0}]
[null,2123,"[D2-NL] Diele - Meeden 380 Black [DIR] [NL]_LTA_corner#05_#11","10T-DE-NL-00001V","[D2-NL] Diele - Meeden 380 White","10T-DE-NL-00002T",0,0,0.54959000000000002,0.31574999999999998,0.6331,0.44433,0,1690,{"$f":"IF((G1327*ALBE+H1327*ALDE+I1327*AT+J1327*BE+K1327*DE+L1327*FR+M1327*NL)>(N1327),1,0)","v":0},null,{"$f":"IF((C$6*G1327+D$6*H1327+E$6*I1327+F$6*J1327+G$6*K1327+H$6*L1327+I$6*M1327)>(N1327),1,0)","v":0}]
[null,2124,"[D2-AT] Pleinting - St. Peter 258 [DIR] [AT]_LTA_corner#11_#19","10T-AT-DE-000037","[D2-D2] Pirach - Pleinting 257","11TD2L000000201H",0,0,-0.99770000000000003,5.3200000000000001E-3,-6.7419999999999994E-2,5.3200000000000001E-3,0,4679,{"$f":"IF((G1328*ALBE+H1328*ALDE+I1328*AT+J1328*BE+K1328*DE+L1328*FR+M1328*NL)>(N1328),1,0)","v":0},null,{"$f":"IF((C$6*G1328+D$6*H1328+E$6*I1328+F$6*J1328+G$6*K1328+H$6*L1328+I$6*M1328)>(N1328),1,0)","v":0}]
[null,2125,"[D2-AT] Pleinting - St. Peter 258 [DIR] [D2]_LTA_corner#01_#22","10T-AT-DE-000037","[D2-AT] Y - St. Peter (- Altheim - Simbach) 234/230","10T-AT-DE-000045",0,0,-0.99370999999999998,0,0.11194999999999999,0,0,5563,{"$f":"IF((G1329*ALBE+H1329*ALDE+I1329*AT+J1329*BE+K1329*DE+L1329*FR+M1329*NL)>(N1329),1,0)","v":0},null,{"$f":"IF((C$6*G1329+D$6*H1329+E$6*I1329+F$6*J1329+G$6*K1329+H$6*L1329+I$6*M1329)>(N1329),1,0)","v":0}]
[null,2126,"[AT-AT] Westtirol Transformer WTRHU41 [OPP]_LTA_corner#20_#22","14T-38220-WT041O","BASECASE","N/A",0,0,0.99039999999999995,-1.721E-2,0.13608999999999999,-1.721E-2,0,4430,{"$f":"IF((G1330*ALBE+H1330*ALDE+I1330*AT+J1330*BE+K1330*DE+L1330*FR+M1330*NL)>(N1330),1,0)","v":0},null,{"$f":"IF((C$6*G1330+D$6*H1330+E$6*I1330+F$6*J1330+G$6*K1330+H$6*L1330+I$6*M1330)>(N1330),1,0)","v":0}]
[null,2127,"[D2-NL] Diele - Meeden 380 Black [DIR] [NL]_LTA_corner#05_#26","10T-DE-NL-00001V","[D2-NL] Diele - Meeden 380 White","10T-DE-NL-00002T",0,0,0.54224000000000006,0.32895999999999997,0.63451999999999997,0.44174000000000002,0,1719,{"$f":"IF((G1331*ALBE+H1331*ALDE+I1331*AT+J1331*BE+K1331*DE+L1331*FR+M1331*NL)>(N1331),1,0)","v":0},null,{"$f":"IF((C$6*G1331+D$6*H1331+E$6*I1331+F$6*J1331+G$6*K1331+H$6*L1331+I$6*M1331)>(N1331),1,0)","v":0}]
[null,2128,"[D2-AT] Pleinting - St. Peter 258 [DIR] [D2]_LTA_corner#15_#0","10T-AT-DE-000037","[D2-AT] Y - St. Peter (- Altheim - Simbach) 234/230","10T-AT-DE-000045",0,0,-0.94282999999999995,-0.14929999999999999,-0.21665999999999999,-0.20452999999999999,0,3959,{"$f":"IF((G1332*ALBE+H1332*ALDE+I1332*AT+J1332*BE+K1332*DE+L1332*FR+M1332*NL)>(N1332),1,0)","v":0},null,{"$f":"IF((C$6*G1332+D$6*H1332+E$6*I1332+F$6*J1332+G$6*K1332+H$6*L1332+I$6*M1332)>(N1332),1,0)","v":0}]
[null,2129,"[D2-AT] Pleinting - St. Peter 258 [DIR] [D2]_LTA_corner#04_#2","10T-AT-DE-000037","[D2-AT] Y - St. Peter (- Altheim - Simbach) 234/230","10T-AT-DE-000045",0,0,-0.98041,-6.386E-2,2.647E-2,-0.18445,0,5214,{"$f":"IF((G1333*ALBE+H1333*ALDE+I1333*AT+J1333*BE+K1333*DE+L1333*FR+M1333*NL)>(N1333),1,0)","v":0},null,{"$f":"IF((C$6*G1333+D$6*H1333+E$6*I1333+F$6*J1333+G$6*K1333+H$6*L1333+I$6*M1333)>(N1333),1,0)","v":0}]
[null,2130,"[D2-AT] Pleinting - St. Peter 258 [DIR] [D2]_LTA_corner#04_#17","10T-AT-DE-000037","[D2-AT] Y - St. Peter (- Altheim - Simbach) 234/230","10T-AT-DE-000045",0,0,-0.99997000000000003,-5.3299999999999997E-3,0,-5.3299999999999997E-3,0,4830,{"$f":"IF((G1334*ALBE+H1334*ALDE+I1334*AT+J1334*BE+K1334*DE+L1334*FR+M1334*NL)>(N1334),1,0)","v":0},null,{"$f":"IF((C$6*G1334+D$6*H1334+E$6*I1334+F$6*J1334+G$6*K1334+H$6*L1334+I$6*M1334)>(N1334),1,0)","v":0}]
[null,2131,"[D2-AT] Pleinting - St. Peter 258 [DIR] [AT]_LTA_corner#11_#18","10T-AT-DE-000037","[D2-D2] Pirach - Pleinting 257","11TD2L000000201H",0,0,-0.99799000000000004,1.4080000000000001E-2,-6.021E-2,1.4080000000000001E-2,0,4712,{"$f":"IF((G1335*ALBE+H1335*ALDE+I1335*AT+J1335*BE+K1335*DE+L1335*FR+M1335*NL)>(N1335),1,0)","v":0},null,{"$f":"IF((C$6*G1335+D$6*H1335+E$6*I1335+F$6*J1335+G$6*K1335+H$6*L1335+I$6*M1335)>(N1335),1,0)","v":0}]
[null,2132,"[AT-AT] Westtirol Transformer WTRHU41 [OPP]_LTA_corner#20_#12","14T-38220-WT041O","BASECASE","N/A",0,0,0.97506000000000004,-3.3079999999999998E-2,0.18953999999999999,-0.11067,0,4362,{"$f":"IF((G1336*ALBE+H1336*ALDE+I1336*AT+J1336*BE+K1336*DE+L1336*FR+M1336*NL)>(N1336),1,0)","v":0},null,{"$f":"IF((C$6*G1336+D$6*H1336+E$6*I1336+F$6*J1336+G$6*K1336+H$6*L1336+I$6*M1336)>(N1336),1,0)","v":0}]
[null,2133,"[D2-AT] Pleinting - St. Peter 258 [DIR] [AT]_LTA_corner#13_#12","10T-AT-DE-000037","[D2-D2] Pirach - Pleinting 257","11TD2L000000201H",0,0,-0.99773000000000001,-6.4869999999999997E-2,-1.2930000000000001E-2,-1.2930000000000001E-2,0,4902,{"$f":"IF((G1337*ALBE+H1337*ALDE+I1337*AT+J1337*BE+K1337*DE+L1337*FR+M1337*NL)>(N1337),1,0)","v":0},null,{"$f":"IF((C$6*G1337+D$6*H1337+E$6*I1337+F$6*J1337+G$6*K1337+H$6*L1337+I$6*M1337)>(N1337),1,0)","v":0}]
[null,2134,"[AT-AT] Westtirol Transformer WTRHU41 [OPP]_LTA_corner#21_#7","14T-38220-WT041O","BASECASE","N/A",0,0,0.99663999999999997,0,8.1710000000000005E-2,5.8799999999999998E-3,0,4583,{"$f":"IF((G1338*ALBE+H1338*ALDE+I1338*AT+J1338*BE+K1338*DE+L1338*FR+M1338*NL)>(N1338),1,0)","v":0},null,{"$f":"IF((C$6*G1338+D$6*H1338+E$6*I1338+F$6*J1338+G$6*K1338+H$6*L1338+I$6*M1338)>(N1338),1,0)","v":0}]
[null,2135,"[D2-AT] Pleinting - St. Peter 258 [DIR] [AT]_LTA_corner#09_#5","10T-AT-DE-000037","[D2-D2] Pirach - Pleinting 257","11TD2L000000201H",0,0,-0.99804999999999999,-3.5999999999999997E-2,-3.5999999999999997E-2,-3.5999999999999997E-2,0,4714,{"$f":"IF((G1339*ALBE+H1339*ALDE+I1339*AT+J1339*BE+K1339*DE+L1339*FR+M1339*NL)>(N1339),1,0)","v":0},null,{"$f":"IF((C$6*G1339+D$6*H1339+E$6*I1339+F$6*J1339+G$6*K1339+H$6*L1339+I$6*M1339)>(N1339),1,0)","v":0}]
[null,2136,"[D2-AT] Pleinting - St. Peter 258 [DIR] [AT]_LTA_corner#11_#10","10T-AT-DE-000037","[D2-D2] Pirach - Pleinting 257","11TD2L000000201H",0,0,-0.99868999999999997,2.3310000000000001E-2,-3.909E-2,2.3310000000000001E-2,0,4778,{"$f":"IF((G1340*ALBE+H1340*ALDE+I1340*AT+J1340*BE+K1340*DE+L1340*FR+M1340*NL)>(N1340),1,0)","v":0},null,{"$f":"IF((C$6*G1340+D$6*H1340+E$6*I1340+F$6*J1340+G$6*K1340+H$6*L1340+I$6*M1340)>(N1340),1,0)","v":0}]
[null,2137,"[D2-NL] Diele - Meeden 380 Black [DIR] [NL]_LTA_corner#05_#4","10T-DE-NL-00001V","[D2-NL] Diele - Meeden 380 White","10T-DE-NL-00002T",0,0,0.55030000000000001,0.31392999999999999,0.63371999999999995,0.44386999999999999,0,1693,{"$f":"IF((G1341*ALBE+H1341*ALDE+I1341*AT+J1341*BE+K1341*DE+L1341*FR+M1341*NL)>(N1341),1,0)","v":0},null,{"$f":"IF((C$6*G1341+D$6*H1341+E$6*I1341+F$6*J1341+G$6*K1341+H$6*L1341+I$6*M1341)>(N1341),1,0)","v":0}]
[null,2138,"[AT-AT] Westtirol Transformer WTRHU41 [OPP]_LTA_corner#20_#17","14T-38220-WT041O","BASECASE","N/A",0,0,0.98351999999999995,-7.2480000000000003E-2,0.14892,-7.2480000000000003E-2,0,4459,{"$f":"IF((G1342*ALBE+H1342*ALDE+I1342*AT+J1342*BE+K1342*DE+L1342*FR+M1342*NL)>(N1342),1,0)","v":0},null,{"$f":"IF((C$6*G1342+D$6*H1342+E$6*I1342+F$6*J1342+G$6*K1342+H$6*L1342+I$6*M1342)>(N1342),1,0)","v":0}]
[null,2139,"[D2-NL] Diele - Meeden 380 Black [DIR] [NL]_LTA_corner#05_#36","10T-DE-NL-00001V","[D2-NL] Diele - Meeden 380 White","10T-DE-NL-00002T",0,0,0.54269000000000001,0.34420000000000001,0.62470999999999999,0.44356000000000001,0,1634,{"$f":"IF((G1343*ALBE+H1343*ALDE+I1343*AT+J1343*BE+K1343*DE+L1343*FR+M1343*NL)>(N1343),1,0)","v":0},null,{"$f":"IF((C$6*G1343+D$6*H1343+E$6*I1343+F$6*J1343+G$6*K1343+H$6*L1343+I$6*M1343)>(N1343),1,0)","v":0}]
[null,2140,"[D2-AT] Pleinting - St. Peter 258 [DIR] [AT]_LTA_corner#04_#10","10T-AT-DE-000037","[D2-D2] Pirach - Pleinting 257","11TD2L000000201H",0,0,-0.99605999999999995,-6.2420000000000003E-2,8.5100000000000002E-3,-6.2420000000000003E-2,0,4970,{"$f":"IF((G1344*ALBE+H1344*ALDE+I1344*AT+J1344*BE+K1344*DE+L1344*FR+M1344*NL)>(N1344),1,0)","v":0},null,{"$f":"IF((C$6*G1344+D$6*H1344+E$6*I1344+F$6*J1344+G$6*K1344+H$6*L1344+I$6*M1344)>(N1344),1,0)","v":0}]
[null,2141,"[D2-AT] Pleinting - St. Peter 258 [DIR] [AT]_LTA_corner#13_#13","10T-AT-DE-000037","[D2-D2] Pirach - Pleinting 257","11TD2L000000201H",0,0,-0.99773999999999996,-5.4080000000000003E-2,-2.8209999999999999E-2,-2.8209999999999999E-2,0,4797,{"$f":"IF((G1345*ALBE+H1345*ALDE+I1345*AT+J1345*BE+K1345*DE+L1345*FR+M1345*NL)>(N1345),1,0)","v":0},null,{"$f":"IF((C$6*G1345+D$6*H1345+E$6*I1345+F$6*J1345+G$6*K1345+H$6*L1345+I$6*M1345)>(N1345),1,0)","v":0}]
[null,2142,"[D2-AT] Pleinting - St. Peter 258 [DIR] [D2]_LTA_corner#01_#3","10T-AT-DE-000037","[D2-AT] Y - St. Peter (- Altheim - Simbach) 234/230","10T-AT-DE-000045",0,0,-0.99995000000000001,0,0,-1.0410000000000001E-2,0,4837,{"$f":"IF((G1346*ALBE+H1346*ALDE+I1346*AT+J1346*BE+K1346*DE+L1346*FR+M1346*NL)>(N1346),1,0)","v":0},null,{"$f":"IF((C$6*G1346+D$6*H1346+E$6*I1346+F$6*J1346+G$6*K1346+H$6*L1346+I$6*M1346)>(N1346),1,0)","v":0}]
[null,2143,"[D2-AT] Pleinting - St. Peter 258 [DIR] [D2]_LTA_corner#01_#0","10T-AT-DE-000037","[D2-AT] Y - St. Peter (- Altheim - Simbach) 234/230","10T-AT-DE-000045",0,0,-0.98238999999999999,0,0.15542,-0.10369,0,5974,{"$f":"IF((G1347*ALBE+H1347*ALDE+I1347*AT+J1347*BE+K1347*DE+L1347*FR+M1347*NL)>(N1347),1,0)","v":0},null,{"$f":"IF((C$6*G1347+D$6*H1347+E$6*I1347+F$6*J1347+G$6*K1347+H$6*L1347+I$6*M1347)>(N1347),1,0)","v":0}]
[null,2144,"[AT-AT] Westtirol Transformer WTRHU41 [OPP]_LTA_corner#20_#20","14T-38220-WT041O","BASECASE","N/A",0,0,0.98326000000000002,-7.8799999999999995E-2,0.14416999999999999,-7.8799999999999995E-2,0,4482,{"$f":"IF((G1348*ALBE+H1348*ALDE+I1348*AT+J1348*BE+K1348*DE+L1348*FR+M1348*NL)>(N1348),1,0)","v":0},null,{"$f":"IF((C$6*G1348+D$6*H1348+E$6*I1348+F$6*J1348+G$6*K1348+H$6*L1348+I$6*M1348)>(N1348),1,0)","v":0}]
[null,2145,"ALBE_export","N/A","BASECASE","N/A",1,0,0,0,0,0,0,0,{"$f":"IF((G1349*ALBE+H1349*ALDE+I1349*AT+J1349*BE+K1349*DE+L1349*FR+M1349*NL)>(N1349),1,0)","v":0},null,{"$f":"IF((C$6*G1349+D$6*H1349+E$6*I1349+F$6*J1349+G$6*K1349+H$6*L1349+I$6*M1349)>(N1349),1,0)","v":0}]
[null,2146,"[D4-AT] Buers - Westtirol 421 weiss [OPP] [D4]_LTA_corner#20_#0","10T-AT-DE-000061","[AT-AT] Westtirol Transformer WTRHU41","14T-38220-WT041O",0,0,0.97850000000000004,-3.193E-2,0.18506,-8.5300000000000001E-2,0,4350,{"$f":"IF((G1350*ALBE+H1350*ALDE+I1350*AT+J1350*BE+K1350*DE+L1350*FR+M1350*NL)>(N1350),1,0)","v":0},null,{"$f":"IF((C$6*G1350+D$6*H1350+E$6*I1350+F$6*J1350+G$6*K1350+H$6*L1350+I$6*M1350)>(N1350),1,0)","v":0}]
[null,2147,"[AT-AT] Westtirol Transformer WTRHU41 [OPP]_LTA_corner#20_#3","14T-38220-WT041O","BASECASE","N/A",0,0,0.99490999999999996,-2.325E-2,6.5159999999999996E-2,-7.3319999999999996E-2,0,4737,{"$f":"IF((G1351*ALBE+H1351*ALDE+I1351*AT+J1351*BE+K1351*DE+L1351*FR+M1351*NL)>(N1351),1,0)","v":0},null,{"$f":"IF((C$6*G1351+D$6*H1351+E$6*I1351+F$6*J1351+G$6*K1351+H$6*L1351+I$6*M1351)>(N1351),1,0)","v":0}]
[null,2148,"ALDE_export","N/A","BASECASE","N/A",0,1,0,0,0,0,0,0,{"$f":"IF((G1352*ALBE+H1352*ALDE+I1352*AT+J1352*BE+K1352*DE+L1352*FR+M1352*NL)>(N1352),1,0)","v":0},null,{"$f":"IF((C$6*G1352+D$6*H1352+E$6*I1352+F$6*J1352+G$6*K1352+H$6*L1352+I$6*M1352)>(N1352),1,0)","v":0}]
[null,2149,"ALBE_import","N/A","BASECASE","N/A",-1,0,0,0,0,0,0,0,{"$f":"IF((G1353*ALBE+H1353*ALDE+I1353*AT+J1353*BE+K1353*DE+L1353*FR+M1353*NL)>(N1353),1,0)","v":0},null,{"$f":"IF((C$6*G1353+D$6*H1353+E$6*I1353+F$6*J1353+G$6*K1353+H$6*L1353+I$6*M1353)>(N1353),1,0)","v":0}]
[null,2150,"[D2-AT] Pleinting - St. Peter 258 [DIR] [AT]_LTA_corner#14_#1","10T-AT-DE-000037","[D2-D2] Pirach - Pleinting 257","11TD2L000000201H",0,0,-0.99822,1.2829999999999999E-2,-4.8030000000000003E-2,3.2989999999999998E-2,0,4798,{"$f":"IF((G1354*ALBE+H1354*ALDE+I1354*AT+J1354*BE+K1354*DE+L1354*FR+M1354*NL)>(N1354),1,0)","v":0},null,{"$f":"IF((C$6*G1354+D$6*H1354+E$6*I1354+F$6*J1354+G$6*K1354+H$6*L1354+I$6*M1354)>(N1354),1,0)","v":0}]
[null,2151,"[D4-AT] Buers - Westtirol 421 weiss [OPP] [D4]_LTA_corner#17_#11","10T-AT-DE-000061","[AT-AT] Westtirol Transformer WTRHU41","14T-38220-WT041O",0,0,0.99395999999999995,1.9E-3,0.10922,-1.0160000000000001E-2,0,4509,{"$f":"IF((G1355*ALBE+H1355*ALDE+I1355*AT+J1355*BE+K1355*DE+L1355*FR+M1355*NL)>(N1355),1,0)","v":0},null,{"$f":"IF((C$6*G1355+D$6*H1355+E$6*I1355+F$6*J1355+G$6*K1355+H$6*L1355+I$6*M1355)>(N1355),1,0)","v":0}]
[null,2152,"[AT-AT] Westtirol Transformer WTRHU41 [OPP]_LTA_corner#22_#0","14T-38220-WT041O","BASECASE","N/A",0,0,0.98414999999999997,-8.8910000000000003E-2,0.13522999999999999,-7.2529999999999997E-2,0,4540,{"$f":"IF((G1356*ALBE+H1356*ALDE+I1356*AT+J1356*BE+K1356*DE+L1356*FR+M1356*NL)>(N1356),1,0)","v":0},null,{"$f":"IF((C$6*G1356+D$6*H1356+E$6*I1356+F$6*J1356+G$6*K1356+H$6*L1356+I$6*M1356)>(N1356),1,0)","v":0}]
[null,2153,"[BE-FR] Achene - Lonny 380.19 [DIR] [BE]_LTA_corner#02_#21","10T-BE-FR-000015","[BE-BE] Avelgem - Horta 380.102","22T20161020---1E",0,0,-0.43890000000000001,0.37013000000000001,-0.31779000000000002,-0.75456999999999996,0,2359,{"$f":"IF((G1357*ALBE+H1357*ALDE+I1357*AT+J1357*BE+K1357*DE+L1357*FR+M1357*NL)>(N1357),1,0)","v":0},null,{"$f":"IF((C$6*G1357+D$6*H1357+E$6*I1357+F$6*J1357+G$6*K1357+H$6*L1357+I$6*M1357)>(N1357),1,0)","v":0}]
[null,2154,"[D2-AT] Pleinting - St. Peter 258 [DIR] [AT]_LTA_corner#04_#9","10T-AT-DE-000037","[D2-D2] Pirach - Pleinting 257","11TD2L000000201H",0,0,-0.99360000000000004,-3.64E-3,0,-0.11286,0,4971,{"$f":"IF((G1358*ALBE+H1358*ALDE+I1358*AT+J1358*BE+K1358*DE+L1358*FR+M1358*NL)>(N1358),1,0)","v":0},null,{"$f":"IF((C$6*G1358+D$6*H1358+E$6*I1358+F$6*J1358+G$6*K1358+H$6*L1358+I$6*M1358)>(N1358),1,0)","v":0}]
[null,2155,"[D2-AT] Pleinting - St. Peter 258 [DIR] [D2]_LTA_corner#05_#8","10T-AT-DE-000037","[D2-AT] Y - St. Peter (- Altheim - Simbach) 234/230","10T-AT-DE-000045",0,0,-0.99402000000000001,0,0.10493,3.014E-2,0,5537,{"$f":"IF((G1359*ALBE+H1359*ALDE+I1359*AT+J1359*BE+K1359*DE+L1359*FR+M1359*NL)>(N1359),1,0)","v":0},null,{"$f":"IF((C$6*G1359+D$6*H1359+E$6*I1359+F$6*J1359+G$6*K1359+H$6*L1359+I$6*M1359)>(N1359),1,0)","v":0}]
[null,2156,"[D4-AT] Buers - Westtirol 421 weiss [OPP] [D4]_LTA_corner#20_#3","10T-AT-DE-000061","[AT-AT] Westtirol Transformer WTRHU41","14T-38220-WT041O",0,0,0.96574000000000004,-7.3469999999999994E-2,0.15687000000000001,-0.19325000000000001,0,4545,{"$f":"IF((G1360*ALBE+H1360*ALDE+I1360*AT+J1360*BE+K1360*DE+L1360*FR+M1360*NL)>(N1360),1,0)","v":0},null,{"$f":"IF((C$6*G1360+D$6*H1360+E$6*I1360+F$6*J1360+G$6*K1360+H$6*L1360+I$6*M1360)>(N1360),1,0)","v":0}]
[null,2157,"[D2-AT] Pleinting - St. Peter 258 [DIR] [D2]_LTA_corner#06_#3","10T-AT-DE-000037","[D2-AT] Y - St. Peter (- Altheim - Simbach) 234/230","10T-AT-DE-000045",0,0,-0.99790999999999996,-5.0439999999999999E-2,0,-4.0300000000000002E-2,0,4906,{"$f":"IF((G1361*ALBE+H1361*ALDE+I1361*AT+J1361*BE+K1361*DE+L1361*FR+M1361*NL)>(N1361),1,0)","v":0},null,{"$f":"IF((C$6*G1361+D$6*H1361+E$6*I1361+F$6*J1361+G$6*K1361+H$6*L1361+I$6*M1361)>(N1361),1,0)","v":0}]
[null,2158,"[D2-AT] Pleinting - St. Peter 258 [DIR] [D2]_LTA_corner#01_#23","10T-AT-DE-000037","[D2-AT] Y - St. Peter (- Altheim - Simbach) 234/230","10T-AT-DE-000045",0,0,-0.99995999999999996,0,8.9300000000000004E-3,0,0,4882,{"$f":"IF((G1362*ALBE+H1362*ALDE+I1362*AT+J1362*BE+K1362*DE+L1362*FR+M1362*NL)>(N1362),1,0)","v":0},null,{"$f":"IF((C$6*G1362+D$6*H1362+E$6*I1362+F$6*J1362+G$6*K1362+H$6*L1362+I$6*M1362)>(N1362),1,0)","v":0}]
[null,2159,"[D2-AT] Pleinting - St. Peter 258 [DIR] [AT]_LTA_corner#14_#21","10T-AT-DE-000037","[D2-D2] Pirach - Pleinting 257","11TD2L000000201H",0,0,-0.99838000000000005,0,-9.7900000000000001E-3,5.5960000000000003E-2,0,4963,{"$f":"IF((G1363*ALBE+H1363*ALDE+I1363*AT+J1363*BE+K1363*DE+L1363*FR+M1363*NL)>(N1363),1,0)","v":0},null,{"$f":"IF((C$6*G1363+D$6*H1363+E$6*I1363+F$6*J1363+G$6*K1363+H$6*L1363+I$6*M1363)>(N1363),1,0)","v":0}]
[null,2160,"[D2-NL] Diele - Meeden 380 Black [DIR] [NL]_LTA_corner#05_#15","10T-DE-NL-00001V","[D2-NL] Diele - Meeden 380 White","10T-DE-NL-00002T",0,0,0.54156000000000004,0.34660000000000002,0.62697999999999998,0.43985999999999997,0,1650,{"$f":"IF((G1364*ALBE+H1364*ALDE+I1364*AT+J1364*BE+K1364*DE+L1364*FR+M1364*NL)>(N1364),1,0)","v":0},null,{"$f":"IF((C$6*G1364+D$6*H1364+E$6*I1364+F$6*J1364+G$6*K1364+H$6*L1364+I$6*M1364)>(N1364),1,0)","v":0}]
[null,2161,"[D2-AT] Pleinting - St. Peter 258 [DIR] [D2]_LTA_corner#09_#23","10T-AT-DE-000037","[D2-AT] Y - St. Peter (- Altheim - Simbach) 234/230","10T-AT-DE-000045",0,0,-0.94721999999999995,-0.1429,-0.20293,-0.20293,0,4009,{"$f":"IF((G1365*ALBE+H1365*ALDE+I1365*AT+J1365*BE+K1365*DE+L1365*FR+M1365*NL)>(N1365),1,0)","v":0},null,{"$f":"IF((C$6*G1365+D$6*H1365+E$6*I1365+F$6*J1365+G$6*K1365+H$6*L1365+I$6*M1365)>(N1365),1,0)","v":0}]
[null,2162,"[D2-AT] Pleinting - St. Peter 258 [DIR] [AT]_LTA_corner#02_#3","10T-AT-DE-000037","[D2-D2] Pirach - Pleinting 257","11TD2L000000201H",0,0,-0.99789000000000005,6.3619999999999996E-2,-9.1199999999999996E-3,-9.1199999999999996E-3,0,4862,{"$f":"IF((G1366*ALBE+H1366*ALDE+I1366*AT+J1366*BE+K1366*DE+L1366*FR+M1366*NL)>(N1366),1,0)","v":0},null,{"$f":"IF((C$6*G1366+D$6*H1366+E$6*I1366+F$6*J1366+G$6*K1366+H$6*L1366+I$6*M1366)>(N1366),1,0)","v":0}]
[null,2163,"[D2-AT] Pleinting - St. Peter 258 [DIR] [D2]_LTA_corner#09_#17","10T-AT-DE-000037","[D2-AT] Y - St. Peter (- Altheim - Simbach) 234/230","10T-AT-DE-000045",0,0,-0.96503000000000005,-0.11017,-0.16819999999999999,-0.16819999999999999,0,4189,{"$f":"IF((G1367*ALBE+H1367*ALDE+I1367*AT+J1367*BE+K1367*DE+L1367*FR+M1367*NL)>(N1367),1,0)","v":0},null,{"$f":"IF((C$6*G1367+D$6*H1367+E$6*I1367+F$6*J1367+G$6*K1367+H$6*L1367+I$6*M1367)>(N1367),1,0)","v":0}]
[null,2164,"[D2-AT] Pleinting - St. Peter 258 [DIR] [D2]_LTA_corner#04_#5","10T-AT-DE-000037","[D2-AT] Y - St. Peter (- Altheim - Simbach) 234/230","10T-AT-DE-000045",0,0,-0.97992999999999997,-6.9919999999999996E-2,0,-0.1867,0,5033,{"$f":"IF((G1368*ALBE+H1368*ALDE+I1368*AT+J1368*BE+K1368*DE+L1368*FR+M1368*NL)>(N1368),1,0)","v":0},null,{"$f":"IF((C$6*G1368+D$6*H1368+E$6*I1368+F$6*J1368+G$6*K1368+H$6*L1368+I$6*M1368)>(N1368),1,0)","v":0}]
[null,2165,"[NL-D7] Maasbracht - Siersdorf 380 black [DIR] [D7]","10T-DE-NL-00006L","[BE-BE] Avelgem - Horta 380.102","22T20161020---1E",0.32561000000000001,-0.15656,-2.3900000000000002E-3,0.31301000000000001,1.555E-2,3.9039999999999998E-2,0.26190000000000002,976,{"$f":"IF((G1369*ALBE+H1369*ALDE+I1369*AT+J1369*BE+K1369*DE+L1369*FR+M1369*NL)>(N1369),1,0)","v":0},null,{"$f":"IF((C$6*G1369+D$6*H1369+E$6*I1369+F$6*J1369+G$6*K1369+H$6*L1369+I$6*M1369)>(N1369),1,0)","v":0}]
[null,2166,"[AT-AT] Westtirol Transformer WTRHU41 [OPP]_LTA_corner#17_#5","14T-38220-WT041O","BASECASE","N/A",0,0,0.99468000000000001,0,8.3940000000000001E-2,-5.9709999999999999E-2,0,4659,{"$f":"IF((G1370*ALBE+H1370*ALDE+I1370*AT+J1370*BE+K1370*DE+L1370*FR+M1370*NL)>(N1370),1,0)","v":0},null,{"$f":"IF((C$6*G1370+D$6*H1370+E$6*I1370+F$6*J1370+G$6*K1370+H$6*L1370+I$6*M1370)>(N1370),1,0)","v":0}]
[null,2167,"[D4-AT] Buers - Westtirol 421 weiss [OPP] [D4]_LTA_corner#17_#1","10T-AT-DE-000061","[AT-AT] Westtirol Transformer WTRHU41","14T-38220-WT041O",0,0,0.98568,1.4109999999999999E-2,0.14438999999999999,-8.5919999999999996E-2,0,4509,{"$f":"IF((G1371*ALBE+H1371*ALDE+I1371*AT+J1371*BE+K1371*DE+L1371*FR+M1371*NL)>(N1371),1,0)","v":0},null,{"$f":"IF((C$6*G1371+D$6*H1371+E$6*I1371+F$6*J1371+G$6*K1371+H$6*L1371+I$6*M1371)>(N1371),1,0)","v":0}]
[null,2168,"[BE-FR] Achene - Lonny 380.19 [DIR] [BE]_LTA_corner#02_#3","10T-BE-FR-000015","[BE-BE] Avelgem - Horta 380.102","22T20161020---1E",0,0,-0.42170000000000002,0.37713000000000002,-0.29802000000000001,-0.76885000000000003,0,2396,{"$f":"IF((G1372*ALBE+H1372*ALDE+I1372*AT+J1372*BE+K1372*DE+L1372*FR+M1372*NL)>(N1372),1,0)","v":0},null,{"$f":"IF((C$6*G1372+D$6*H1372+E$6*I1372+F$6*J1372+G$6*K1372+H$6*L1372+I$6*M1372)>(N1372),1,0)","v":0}]
[null,2169,"[BE-FR] Achene - Lonny 380.19 [DIR] [BE]_LTA_corner#02_#7","10T-BE-FR-000015","[BE-BE] Avelgem - Horta 380.102","22T20161020---1E",0,0,-0.48270999999999997,0,-0.33134000000000002,-0.81067999999999996,0,2149,{"$f":"IF((G1373*ALBE+H1373*ALDE+I1373*AT+J1373*BE+K1373*DE+L1373*FR+M1373*NL)>(N1373),1,0)","v":0},null,{"$f":"IF((C$6*G1373+D$6*H1373+E$6*I1373+F$6*J1373+G$6*K1373+H$6*L1373+I$6*M1373)>(N1373),1,0)","v":0}]
[null,2170,"[AT-AT] Westtirol Transformer WTRHU41 [OPP]_LTA_corner#20_#7","14T-38220-WT041O","BASECASE","N/A",0,0,0.98068,-2.2919999999999999E-2,0.13475000000000001,-0.13997000000000001,0,4584,{"$f":"IF((G1374*ALBE+H1374*ALDE+I1374*AT+J1374*BE+K1374*DE+L1374*FR+M1374*NL)>(N1374),1,0)","v":0},null,{"$f":"IF((C$6*G1374+D$6*H1374+E$6*I1374+F$6*J1374+G$6*K1374+H$6*L1374+I$6*M1374)>(N1374),1,0)","v":0}]
[null,2171,"[D2-AT] Pleinting - St. Peter 258 [DIR] [AT]_LTA_corner#12_#12","10T-AT-DE-000037","[D2-D2] Pirach - Pleinting 257","11TD2L000000201H",0,0,-0.99807999999999997,-1.17E-3,0,6.1870000000000001E-2,0,5003,{"$f":"IF((G1375*ALBE+H1375*ALDE+I1375*AT+J1375*BE+K1375*DE+L1375*FR+M1375*NL)>(N1375),1,0)","v":0},null,{"$f":"IF((C$6*G1375+D$6*H1375+E$6*I1375+F$6*J1375+G$6*K1375+H$6*L1375+I$6*M1375)>(N1375),1,0)","v":0}]
[null,2172,"[D2-AT] Pleinting - St. Peter 258 [DIR] [D2]_LTA_corner#01_#19","10T-AT-DE-000037","[D2-AT] Y - St. Peter (- Altheim - Simbach) 234/230","10T-AT-DE-000045",0,0,-0.48374,0.31408999999999998,0.75412000000000001,0.31408999999999998,0,7417,{"$f":"IF((G1376*ALBE+H1376*ALDE+I1376*AT+J1376*BE+K1376*DE+L1376*FR+M1376*NL)>(N1376),1,0)","v":0},null,{"$f":"IF((C$6*G1376+D$6*H1376+E$6*I1376+F$6*J1376+G$6*K1376+H$6*L1376+I$6*M1376)>(N1376),1,0)","v":0}]
[null,2173,"[D2-AT] Pleinting - St. Peter 258 [DIR] [AT]_LTA_corner#12_#3","10T-AT-DE-000037","[D2-D2] Pirach - Pleinting 257","11TD2L000000201H",0,0,-0.99765000000000004,-3.65E-3,8.5199999999999998E-3,6.7860000000000004E-2,0,5064,{"$f":"IF((G1377*ALBE+H1377*ALDE+I1377*AT+J1377*BE+K1377*DE+L1377*FR+M1377*NL)>(N1377),1,0)","v":0},null,{"$f":"IF((C$6*G1377+D$6*H1377+E$6*I1377+F$6*J1377+G$6*K1377+H$6*L1377+I$6*M1377)>(N1377),1,0)","v":0}]
[null,2174,"[AT-AT] Westtirol Transformer WTRHU41 [OPP]_LTA_corner#17_#13","14T-38220-WT041O","BASECASE","N/A",0,0,0.99653999999999998,4.1900000000000001E-3,8.2879999999999995E-2,4.1900000000000001E-3,0,4574,{"$f":"IF((G1378*ALBE+H1378*ALDE+I1378*AT+J1378*BE+K1378*DE+L1378*FR+M1378*NL)>(N1378),1,0)","v":0},null,{"$f":"IF((C$6*G1378+D$6*H1378+E$6*I1378+F$6*J1378+G$6*K1378+H$6*L1378+I$6*M1378)>(N1378),1,0)","v":0}]
[null,2175,"[D2-AT] Pleinting - St. Peter 258 [DIR] [D2]_LTA_corner#01_#17","10T-AT-DE-000037","[D2-AT] Y - St. Peter (- Altheim - Simbach) 234/230","10T-AT-DE-000045",0,0,-0.99880999999999998,2.8969999999999999E-2,0,-3.9329999999999997E-2,0,4913,{"$f":"IF((G1379*ALBE+H1379*ALDE+I1379*AT+J1379*BE+K1379*DE+L1379*FR+M1379*NL)>(N1379),1,0)","v":0},null,{"$f":"IF((C$6*G1379+D$6*H1379+E$6*I1379+F$6*J1379+G$6*K1379+H$6*L1379+I$6*M1379)>(N1379),1,0)","v":0}]
[null,2176,"[D4-AT] Buers - Westtirol 421 weiss [OPP] [D4]_LTA_corner#17_#14","10T-AT-DE-000061","[AT-AT] Westtirol Transformer WTRHU41","14T-38220-WT041O",0,0,0.99385000000000001,0,0.1101,-1.2030000000000001E-2,0,4507,{"$f":"IF((G1380*ALBE+H1380*ALDE+I1380*AT+J1380*BE+K1380*DE+L1380*FR+M1380*NL)>(N1380),1,0)","v":0},null,{"$f":"IF((C$6*G1380+D$6*H1380+E$6*I1380+F$6*J1380+G$6*K1380+H$6*L1380+I$6*M1380)>(N1380),1,0)","v":0}]
[null,2177,"[D2-AT] Pleinting - St. Peter 258 [DIR] [AT]_LTA_corner#11_#25","10T-AT-DE-000037","[D2-D2] Pirach - Pleinting 257","11TD2L000000201H",0,0,-0.99739,0,-7.0749999999999993E-2,-1.455E-2,0,4649,{"$f":"IF((G1381*ALBE+H1381*ALDE+I1381*AT+J1381*BE+K1381*DE+L1381*FR+M1381*NL)>(N1381),1,0)","v":0},null,{"$f":"IF((C$6*G1381+D$6*H1381+E$6*I1381+F$6*J1381+G$6*K1381+H$6*L1381+I$6*M1381)>(N1381),1,0)","v":0}]
[null,2178,"[AT-AT] Westtirol Transformer WTRHU41 [OPP]_LTA_corner#20_#19","14T-38220-WT041O","BASECASE","N/A",0,0,0.98428000000000004,-8.0280000000000004E-2,0.13525000000000001,-8.0280000000000004E-2,0,4514,{"$f":"IF((G1382*ALBE+H1382*ALDE+I1382*AT+J1382*BE+K1382*DE+L1382*FR+M1382*NL)>(N1382),1,0)","v":0},null,{"$f":"IF((C$6*G1382+D$6*H1382+E$6*I1382+F$6*J1382+G$6*K1382+H$6*L1382+I$6*M1382)>(N1382),1,0)","v":0}]
[null,2179,"[D2-AT] Pleinting - St. Peter 258 [DIR] [AT]_LTA_corner#01_#4","10T-AT-DE-000037","[D2-D2] Pirach - Pleinting 257","11TD2L000000201H",0,0,-0.99275000000000002,0,8.4799999999999997E-3,-0.11992,0,5036,{"$f":"IF((G1383*ALBE+H1383*ALDE+I1383*AT+J1383*BE+K1383*DE+L1383*FR+M1383*NL)>(N1383),1,0)","v":0},null,{"$f":"IF((C$6*G1383+D$6*H1383+E$6*I1383+F$6*J1383+G$6*K1383+H$6*L1383+I$6*M1383)>(N1383),1,0)","v":0}]
[null,2180,"[BE-FR] Achene - Lonny 380.19 [DIR] [BE]_LTA_corner#02_#0","10T-BE-FR-000015","[BE-BE] Avelgem - Horta 380.102","22T20161020---1E",0,0,-0.37480000000000002,0.65602000000000005,-0.26748,-0.59801000000000004,0,2373,{"$f":"IF((G1384*ALBE+H1384*ALDE+I1384*AT+J1384*BE+K1384*DE+L1384*FR+M1384*NL)>(N1384),1,0)","v":0},null,{"$f":"IF((C$6*G1384+D$6*H1384+E$6*I1384+F$6*J1384+G$6*K1384+H$6*L1384+I$6*M1384)>(N1384),1,0)","v":0}]
[null,2181,"[BE-BE] PST_ZANDV_2 [N - S]_LTA_corner#13_#27","22T20161020---56","[NL-BE] Rilland - Zandvliet 380 White/30","10T-BE-NL-00004C",0,0,-0.39795999999999998,-0.66615000000000002,-0.33204,-0.5363,0,1699,{"$f":"IF((G1385*ALBE+H1385*ALDE+I1385*AT+J1385*BE+K1385*DE+L1385*FR+M1385*NL)>(N1385),1,0)","v":0},null,{"$f":"IF((C$6*G1385+D$6*H1385+E$6*I1385+F$6*J1385+G$6*K1385+H$6*L1385+I$6*M1385)>(N1385),1,0)","v":0}]
[null,2182,"[AT-AT] Westtirol Transformer WTRHU41 [OPP]_LTA_corner#21_#6","14T-38220-WT041O","BASECASE","N/A",0,0,0.99629999999999996,0,8.5699999999999998E-2,6.2700000000000004E-3,0,4571,{"$f":"IF((G1386*ALBE+H1386*ALDE+I1386*AT+J1386*BE+K1386*DE+L1386*FR+M1386*NL)>(N1386),1,0)","v":0},null,{"$f":"IF((C$6*G1386+D$6*H1386+E$6*I1386+F$6*J1386+G$6*K1386+H$6*L1386+I$6*M1386)>(N1386),1,0)","v":0}]
[null,2183,"[D2-AT] Pleinting - St. Peter 258 [DIR] [AT]_LTA_corner#06_#0","10T-AT-DE-000037","[D2-D2] Pirach - Pleinting 257","11TD2L000000201H",0,0,-0.99451000000000001,-0.10045,8.5000000000000006E-3,-2.8119999999999999E-2,0,5080,{"$f":"IF((G1387*ALBE+H1387*ALDE+I1387*AT+J1387*BE+K1387*DE+L1387*FR+M1387*NL)>(N1387),1,0)","v":0},null,{"$f":"IF((C$6*G1387+D$6*H1387+E$6*I1387+F$6*J1387+G$6*K1387+H$6*L1387+I$6*M1387)>(N1387),1,0)","v":0}]
[null,2184,"[D2-AT] Pleinting - St. Peter 258 [DIR] [AT]_LTA_corner#04_#26","10T-AT-DE-000037","[D2-D2] Pirach - Pleinting 257","11TD2L000000201H",0,0,-0.99616000000000005,-6.1740000000000003E-2,6.3800000000000003E-3,-6.1740000000000003E-2,0,4955,{"$f":"IF((G1388*ALBE+H1388*ALDE+I1388*AT+J1388*BE+K1388*DE+L1388*FR+M1388*NL)>(N1388),1,0)","v":0},null,{"$f":"IF((C$6*G1388+D$6*H1388+E$6*I1388+F$6*J1388+G$6*K1388+H$6*L1388+I$6*M1388)>(N1388),1,0)","v":0}]
[null,2185,"[D2-AT] Pleinting - St. Peter 258 [DIR] [AT]_LTA_corner#04_#25","10T-AT-DE-000037","[D2-D2] Pirach - Pleinting 257","11TD2L000000201H",0,0,-0.99666999999999994,-5.765E-2,0,-5.765E-2,0,4906,{"$f":"IF((G1389*ALBE+H1389*ALDE+I1389*AT+J1389*BE+K1389*DE+L1389*FR+M1389*NL)>(N1389),1,0)","v":0},null,{"$f":"IF((C$6*G1389+D$6*H1389+E$6*I1389+F$6*J1389+G$6*K1389+H$6*L1389+I$6*M1389)>(N1389),1,0)","v":0}]
[null,2186,"[BE-FR] Achene - Lonny 380.19 [DIR] [BE]_LTA_corner#02_#11","10T-BE-FR-000015","[BE-BE] Avelgem - Horta 380.102","22T20161020---1E",0,0,-0.38534000000000002,0.56230000000000002,-0.24423,-0.68969999999999998,0,2559,{"$f":"IF((G1390*ALBE+H1390*ALDE+I1390*AT+J1390*BE+K1390*DE+L1390*FR+M1390*NL)>(N1390),1,0)","v":0},null,{"$f":"IF((C$6*G1390+D$6*H1390+E$6*I1390+F$6*J1390+G$6*K1390+H$6*L1390+I$6*M1390)>(N1390),1,0)","v":0}]
[null,2187,"[BE-BE] PST_ZANDV_2 [N - S]_LTA_corner#13_#20","22T20161020---56","[NL-BE] Rilland - Zandvliet 380 White/30","10T-BE-NL-00004C",0,0,-0.34450999999999998,-0.73233999999999999,-0.29748999999999998,-0.50644999999999996,0,1778,{"$f":"IF((G1391*ALBE+H1391*ALDE+I1391*AT+J1391*BE+K1391*DE+L1391*FR+M1391*NL)>(N1391),1,0)","v":0},null,{"$f":"IF((C$6*G1391+D$6*H1391+E$6*I1391+F$6*J1391+G$6*K1391+H$6*L1391+I$6*M1391)>(N1391),1,0)","v":0}]
[null,2188,"[BE-FR] Achene - Lonny 380.19 [DIR] [BE]_LTA_corner#09_#10","10T-BE-FR-000015","[BE-BE] Avelgem - Horta 380.102","22T20161020---1E",0,0,-0.41882999999999998,-0.59667999999999999,-0.33544000000000002,-0.59667999999999999,0,1572,{"$f":"IF((G1392*ALBE+H1392*ALDE+I1392*AT+J1392*BE+K1392*DE+L1392*FR+M1392*NL)>(N1392),1,0)","v":0},null,{"$f":"IF((C$6*G1392+D$6*H1392+E$6*I1392+F$6*J1392+G$6*K1392+H$6*L1392+I$6*M1392)>(N1392),1,0)","v":0}]
[null,2189,"[D2-AT] Pleinting - St. Peter 258 [DIR] [AT]_LTA_corner#04_#7","10T-AT-DE-000037","[D2-D2] Pirach - Pleinting 257","11TD2L000000201H",0,0,-0.99434,-6.2829999999999997E-2,5.8189999999999999E-2,-6.2829999999999997E-2,0,5305,{"$f":"IF((G1393*ALBE+H1393*ALDE+I1393*AT+J1393*BE+K1393*DE+L1393*FR+M1393*NL)>(N1393),1,0)","v":0},null,{"$f":"IF((C$6*G1393+D$6*H1393+E$6*I1393+F$6*J1393+G$6*K1393+H$6*L1393+I$6*M1393)>(N1393),1,0)","v":0}]
[null,2190,"[D2-AT] Pleinting - St. Peter 258 [DIR] [AT]_LTA_corner#06_#3","10T-AT-DE-000037","[D2-D2] Pirach - Pleinting 257","11TD2L000000201H",0,0,-0.99846999999999997,-3.6600000000000001E-3,3.9070000000000001E-2,3.9070000000000001E-2,0,5119,{"$f":"IF((G1394*ALBE+H1394*ALDE+I1394*AT+J1394*BE+K1394*DE+L1394*FR+M1394*NL)>(N1394),1,0)","v":0},null,{"$f":"IF((C$6*G1394+D$6*H1394+E$6*I1394+F$6*J1394+G$6*K1394+H$6*L1394+I$6*M1394)>(N1394),1,0)","v":0}]
[null,2191,"[D2-AT] Pleinting - St. Peter 258 [DIR] [D2]_LTA_corner#01_#1","10T-AT-DE-000037","[D2-AT] Y - St. Peter (- Altheim - Simbach) 234/230","10T-AT-DE-000045",0,0,-0.98243999999999998,0,0.15146000000000001,-0.10894,0,5956,{"$f":"IF((G1395*ALBE+H1395*ALDE+I1395*AT+J1395*BE+K1395*DE+L1395*FR+M1395*NL)>(N1395),1,0)","v":0},null,{"$f":"IF((C$6*G1395+D$6*H1395+E$6*I1395+F$6*J1395+G$6*K1395+H$6*L1395+I$6*M1395)>(N1395),1,0)","v":0}]
[null,2192,"[AT-AT] Westtirol Transformer WTRHU41 [OPP]_LTA_corner#20_#18","14T-38220-WT041O","BASECASE","N/A",0,0,0.98753000000000002,-7.2779999999999997E-2,0.11909,-7.2779999999999997E-2,0,4560,{"$f":"IF((G1396*ALBE+H1396*ALDE+I1396*AT+J1396*BE+K1396*DE+L1396*FR+M1396*NL)>(N1396),1,0)","v":0},null,{"$f":"IF((C$6*G1396+D$6*H1396+E$6*I1396+F$6*J1396+G$6*K1396+H$6*L1396+I$6*M1396)>(N1396),1,0)","v":0}]
[null,2193,"[D2-AT] Pleinting - St. Peter 258 [DIR] [AT]_LTA_corner#06_#23","10T-AT-DE-000037","[D2-D2] Pirach - Pleinting 257","11TD2L000000201H",0,0,-0.99561999999999995,-8.9169999999999999E-2,0,-2.8150000000000001E-2,0,4999,{"$f":"IF((G1397*ALBE+H1397*ALDE+I1397*AT+J1397*BE+K1397*DE+L1397*FR+M1397*NL)>(N1397),1,0)","v":0},null,{"$f":"IF((C$6*G1397+D$6*H1397+E$6*I1397+F$6*J1397+G$6*K1397+H$6*L1397+I$6*M1397)>(N1397),1,0)","v":0}]
["hour 12",2518,"ALBE_import","N/A","BASECASE","N/A",-1,0,0,0,0,0,0,0,{"$f":"IF((G1398*ALBE+H1398*ALDE+I1398*AT+J1398*BE+K1398*DE+L1398*FR+M1398*NL)>(N1398),1,0)","v":0},null,{"$f":"IF((C$6*G1398+D$6*H1398+E$6*I1398+F$6*J1398+G$6*K1398+H$6*L1398+I$6*M1398)>(N1398),1,0)","v":0}]
[null,2519,"[AT-AT] Westtirol Transformer WTRHU41 [OPP]_LTA_corner#17_#6","14T-38220-WT041O","BASECASE","N/A",0,0,0.98224,0,0.16561999999999999,-8.8169999999999998E-2,0,4421,{"$f":"IF((G1399*ALBE+H1399*ALDE+I1399*AT+J1399*BE+K1399*DE+L1399*FR+M1399*NL)>(N1399),1,0)","v":0},null,{"$f":"IF((C$6*G1399+D$6*H1399+E$6*I1399+F$6*J1399+G$6*K1399+H$6*L1399+I$6*M1399)>(N1399),1,0)","v":0}]
[null,2520,"[D2-AT] Pleinting - St. Peter 258 [DIR] [AT]_LTA_corner#11_#1","10T-AT-DE-000037","[D2-D2] Pirach - Pleinting 257","11TD2L000000201H",0,0,-0.99753999999999998,1.6049999999999998E-2,-6.6269999999999996E-2,1.6049999999999998E-2,0,4701,{"$f":"IF((G1400*ALBE+H1400*ALDE+I1400*AT+J1400*BE+K1400*DE+L1400*FR+M1400*NL)>(N1400),1,0)","v":0},null,{"$f":"IF((C$6*G1400+D$6*H1400+E$6*I1400+F$6*J1400+G$6*K1400+H$6*L1400+I$6*M1400)>(N1400),1,0)","v":0}]
[null,2521,"[D4-AT] Buers - Westtirol 421 weiss [OPP] [D4]_LTA_corner#20_#22","10T-AT-DE-000061","[AT-AT] Westtirol Transformer WTRHU41","14T-38220-WT041O",0,0,0.96555000000000002,-6.6259999999999999E-2,9.5880000000000007E-2,-0.23266000000000001,0,4773,{"$f":"IF((G1401*ALBE+H1401*ALDE+I1401*AT+J1401*BE+K1401*DE+L1401*FR+M1401*NL)>(N1401),1,0)","v":0},null,{"$f":"IF((C$6*G1401+D$6*H1401+E$6*I1401+F$6*J1401+G$6*K1401+H$6*L1401+I$6*M1401)>(N1401),1,0)","v":0}]
[null,2522,"[D7-D4] Hoheneck - Pulverdingen weiss [DIR] [D4]_LTA_corner#09_#14","11T-D4-D7-00014N","[D4-D7] Y - Herbertingen - Hoheneck - Metzingen schwarz","11TD40000A546-S0",0,0,-0.81501000000000001,-0.12136,-0.27206000000000002,-0.49701000000000001,0,3531,{"$f":"IF((G1402*ALBE+H1402*ALDE+I1402*AT+J1402*BE+K1402*DE+L1402*FR+M1402*NL)>(N1402),1,0)","v":0},null,{"$f":"IF((C$6*G1402+D$6*H1402+E$6*I1402+F$6*J1402+G$6*K1402+H$6*L1402+I$6*M1402)>(N1402),1,0)","v":0}]
[null,2523,"[D7-D7] PST Gronau [OPP]","11T0-0000-0620-R","[D7-D7] Gronau - Kusenhorst Hamaland","11T0-0000-0618-7",-8.7230000000000002E-2,-4.333E-2,-1.183E-2,-8.5819999999999994E-2,2.5610000000000001E-2,-4.6800000000000001E-2,-0.12717999999999999,574,{"$f":"IF((G1403*ALBE+H1403*ALDE+I1403*AT+J1403*BE+K1403*DE+L1403*FR+M1403*NL)>(N1403),1,0)","v":0},null,{"$f":"IF((C$6*G1403+D$6*H1403+E$6*I1403+F$6*J1403+G$6*K1403+H$6*L1403+I$6*M1403)>(N1403),1,0)","v":0}]
[null,2524,"[D4-AT] Buers - Westtirol 421 weiss [OPP] [D4]_LTA_corner#20_#1","10T-AT-DE-000061","[AT-AT] Westtirol Transformer WTRHU41","14T-38220-WT041O",0,0,0.99324999999999997,-8.7000000000000001E-4,0.11459999999999999,-1.7749999999999998E-2,0,4501,{"$f":"IF((G1404*ALBE+H1404*ALDE+I1404*AT+J1404*BE+K1404*DE+L1404*FR+M1404*NL)>(N1404),1,0)","v":0},null,{"$f":"IF((C$6*G1404+D$6*H1404+E$6*I1404+F$6*J1404+G$6*K1404+H$6*L1404+I$6*M1404)>(N1404),1,0)","v":0}]
[null,2525,"[D2-AT] Pleinting - St. Peter 258 [DIR] [AT]_LTA_corner#11_#7","10T-AT-DE-000037","[D2-D2] Pirach - Pleinting 257","11TD2L000000201H",0,0,-0.99766999999999995,1.9939999999999999E-2,-6.2140000000000001E-2,1.9939999999999999E-2,0,4718,{"$f":"IF((G1405*ALBE+H1405*ALDE+I1405*AT+J1405*BE+K1405*DE+L1405*FR+M1405*NL)>(N1405),1,0)","v":0},null,{"$f":"IF((C$6*G1405+D$6*H1405+E$6*I1405+F$6*J1405+G$6*K1405+H$6*L1405+I$6*M1405)>(N1405),1,0)","v":0}]
[null,2526,"[D7-D4] Hoheneck - Pulverdingen weiss [DIR] [D4]_LTA_corner#09_#4","11T-D4-D7-00014N","[D4-D7] Y - Herbertingen - Hoheneck - Metzingen schwarz","11TD40000A546-S0",0,0,-0.84653999999999996,-9.0399999999999994E-2,-0.31835000000000002,-0.41694999999999999,0,3345,{"$f":"IF((G1406*ALBE+H1406*ALDE+I1406*AT+J1406*BE+K1406*DE+L1406*FR+M1406*NL)>(N1406),1,0)","v":0},null,{"$f":"IF((C$6*G1406+D$6*H1406+E$6*I1406+F$6*J1406+G$6*K1406+H$6*L1406+I$6*M1406)>(N1406),1,0)","v":0}]
[null,2527,"[BE-FR] Achene - Lonny 380.19 [DIR] [BE]_LTA_corner#02_#3","10T-BE-FR-000015","[BE-BE] Avelgem - Horta 380.102","22T20161020---1E",0,0,-0.40377000000000002,0.51761999999999997,-0.26375999999999999,-0.70672999999999997,0,2534,{"$f":"IF((G1407*ALBE+H1407*ALDE+I1407*AT+J1407*BE+K1407*DE+L1407*FR+M1407*NL)>(N1407),1,0)","v":0},null,{"$f":"IF((C$6*G1407+D$6*H1407+E$6*I1407+F$6*J1407+G$6*K1407+H$6*L1407+I$6*M1407)>(N1407),1,0)","v":0}]
[null,2528,"[D2-AT] Pleinting - St. Peter 258 [DIR] [AT]_LTA_corner#04_#0","10T-AT-DE-000037","[D2-D2] Pirach - Pleinting 257","11TD2L000000201H",0,0,-0.99121999999999999,-3.7299999999999998E-3,8.3599999999999994E-3,-0.13192999999999999,0,5048,{"$f":"IF((G1408*ALBE+H1408*ALDE+I1408*AT+J1408*BE+K1408*DE+L1408*FR+M1408*NL)>(N1408),1,0)","v":0},null,{"$f":"IF((C$6*G1408+D$6*H1408+E$6*I1408+F$6*J1408+G$6*K1408+H$6*L1408+I$6*M1408)>(N1408),1,0)","v":0}]
[null,2529,"[D2-AT] Pleinting - St. Peter 258 [DIR] [D2]_LTA_corner#01_#3","10T-AT-DE-000037","[D2-AT] Y - St. Peter (- Altheim - Simbach) 234/230","10T-AT-DE-000045",0,0,-0.98636999999999997,0,0.16456000000000001,0,0,5891,{"$f":"IF((G1409*ALBE+H1409*ALDE+I1409*AT+J1409*BE+K1409*DE+L1409*FR+M1409*NL)>(N1409),1,0)","v":0},null,{"$f":"IF((C$6*G1409+D$6*H1409+E$6*I1409+F$6*J1409+G$6*K1409+H$6*L1409+I$6*M1409)>(N1409),1,0)","v":0}]
[null,2530,"[D2-AT] Pleinting - St. Peter 258 [DIR] [AT]_LTA_corner#13_#0","10T-AT-DE-000037","[D2-D2] Pirach - Pleinting 257","11TD2L000000201H",0,0,-0.99700999999999995,-7.4560000000000001E-2,-1.434E-2,-1.434E-2,0,4915,{"$f":"IF((G1410*ALBE+H1410*ALDE+I1410*AT+J1410*BE+K1410*DE+L1410*FR+M1410*NL)>(N1410),1,0)","v":0},null,{"$f":"IF((C$6*G1410+D$6*H1410+E$6*I1410+F$6*J1410+G$6*K1410+H$6*L1410+I$6*M1410)>(N1410),1,0)","v":0}]
[null,2531,"[D2-AT] Pleinting - St. Peter 258 [DIR] [D2]_LTA_corner#01_#13","10T-AT-DE-000037","[D2-AT] Y - St. Peter (- Altheim - Simbach) 234/230","10T-AT-DE-000045",0,0,-0.97767000000000004,0,0.18478,-0.10014000000000001,0,6148,{"$f":"IF((G1411*ALBE+H1411*ALDE+I1411*AT+J1411*BE+K1411*DE+L1411*FR+M1411*NL)>(N1411),1,0)","v":0},null,{"$f":"IF((C$6*G1411+D$6*H1411+E$6*I1411+F$6*J1411+G$6*K1411+H$6*L1411+I$6*M1411)>(N1411),1,0)","v":0}]
[null,2532,"[D2-AT] Pleinting - St. Peter 258 [DIR] [AT]_LTA_corner#02_#12","10T-AT-DE-000037","[D2-D2] Pirach - Pleinting 257","11TD2L000000201H",0,0,-0.99717,7.2819999999999996E-2,-1.3129999999999999E-2,-1.3129999999999999E-2,0,4859,{"$f":"IF((G1412*ALBE+H1412*ALDE+I1412*AT+J1412*BE+K1412*DE+L1412*FR+M1412*NL)>(N1412),1,0)","v":0},null,{"$f":"IF((C$6*G1412+D$6*H1412+E$6*I1412+F$6*J1412+G$6*K1412+H$6*L1412+I$6*M1412)>(N1412),1,0)","v":0}]
[null,2533,"[D2-AT] Pleinting - St. Peter 258 [DIR] [AT]_LTA_corner#07_#0","10T-AT-DE-000037","[D2-D2] Pirach - Pleinting 257","11TD2L000000201H",0,0,-0.99756999999999996,0,0,6.9639999999999994E-2,0,5022,{"$f":"IF((G1413*ALBE+H1413*ALDE+I1413*AT+J1413*BE+K1413*DE+L1413*FR+M1413*NL)>(N1413),1,0)","v":0},null,{"$f":"IF((C$6*G1413+D$6*H1413+E$6*I1413+F$6*J1413+G$6*K1413+H$6*L1413+I$6*M1413)>(N1413),1,0)","v":0}]
[null,2534,"[AT-AT] Westtirol Transformer WTRHU41 [OPP]_LTA_corner#20_#19","14T-38220-WT041O","BASECASE","N/A",0,0,0.99151,-4.0919999999999998E-2,0.11645999999999999,-4.0919999999999998E-2,0,4531,{"$f":"IF((G1414*ALBE+H1414*ALDE+I1414*AT+J1414*BE+K1414*DE+L1414*FR+M1414*NL)>(N1414),1,0)","v":0},null,{"$f":"IF((C$6*G1414+D$6*H1414+E$6*I1414+F$6*J1414+G$6*K1414+H$6*L1414+I$6*M1414)>(N1414),1,0)","v":0}]
[null,2535,"[D2-AT] Pleinting - St. Peter 258 [DIR] [D2]_LTA_corner#01_#23","10T-AT-DE-000037","[D2-AT] Y - St. Peter (- Altheim - Simbach) 234/230","10T-AT-DE-000045",0,0,-0.99511000000000005,0,0,-9.8790000000000003E-2,0,4955,{"$f":"IF((G1415*ALBE+H1415*ALDE+I1415*AT+J1415*BE+K1415*DE+L1415*FR+M1415*NL)>(N1415),1,0)","v":0},null,{"$f":"IF((C$6*G1415+D$6*H1415+E$6*I1415+F$6*J1415+G$6*K1415+H$6*L1415+I$6*M1415)>(N1415),1,0)","v":0}]
[null,2536,"[D2-AT] Pleinting - St. Peter 258 [DIR] [AT]_LTA_corner#11_#12","10T-AT-DE-000037","[D2-D2] Pirach - Pleinting 257","11TD2L000000201H",0,0,-0.99841000000000002,2.5270000000000001E-2,-4.3540000000000002E-2,2.5270000000000001E-2,0,4772,{"$f":"IF((G1416*ALBE+H1416*ALDE+I1416*AT+J1416*BE+K1416*DE+L1416*FR+M1416*NL)>(N1416),1,0)","v":0},null,{"$f":"IF((C$6*G1416+D$6*H1416+E$6*I1416+F$6*J1416+G$6*K1416+H$6*L1416+I$6*M1416)>(N1416),1,0)","v":0}]
[null,2537,"[D2-AT] Pleinting - St. Peter 258 [DIR] [D2]_LTA_corner#02_#6","10T-AT-DE-000037","[D2-AT] Y - St. Peter (- Altheim - Simbach) 234/230","10T-AT-DE-000045",0,0,-1,0,-2.0400000000000001E-3,-2.0400000000000001E-3,0,4815,{"$f":"IF((G1417*ALBE+H1417*ALDE+I1417*AT+J1417*BE+K1417*DE+L1417*FR+M1417*NL)>(N1417),1,0)","v":0},null,{"$f":"IF((C$6*G1417+D$6*H1417+E$6*I1417+F$6*J1417+G$6*K1417+H$6*L1417+I$6*M1417)>(N1417),1,0)","v":0}]
[null,2538,"[D2-AT] Pleinting - St. Peter 258 [DIR] [D2]_LTA_corner#03_#0","10T-AT-DE-000037","[D2-AT] Y - St. Peter (- Altheim - Simbach) 234/230","10T-AT-DE-000045",0,0,-1,1E-4,0,1E-4,0,4821,{"$f":"IF((G1418*ALBE+H1418*ALDE+I1418*AT+J1418*BE+K1418*DE+L1418*FR+M1418*NL)>(N1418),1,0)","v":0},null,{"$f":"IF((C$6*G1418+D$6*H1418+E$6*I1418+F$6*J1418+G$6*K1418+H$6*L1418+I$6*M1418)>(N1418),1,0)","v":0}]
[null,2539,"[D2-AT] Pleinting - St. Peter 258 [DIR] [D2]_LTA_corner#09_#3","10T-AT-DE-000037","[D2-AT] Y - St. Peter (- Altheim - Simbach) 234/230","10T-AT-DE-000045",0,0,-0.98162000000000005,-6.0769999999999998E-2,-0.12794,-0.12794,0,4377,{"$f":"IF((G1419*ALBE+H1419*ALDE+I1419*AT+J1419*BE+K1419*DE+L1419*FR+M1419*NL)>(N1419),1,0)","v":0},null,{"$f":"IF((C$6*G1419+D$6*H1419+E$6*I1419+F$6*J1419+G$6*K1419+H$6*L1419+I$6*M1419)>(N1419),1,0)","v":0}]
[null,2540,"[BE-BE] PST_VANYK_2 [S - N]","22T-BE-PST--002U","[BE-FR] Achene - Lonny 380.19","10T-BE-FR-000015",0.57362999999999997,-2.511E-2,5.6600000000000001E-3,0.32024999999999998,-9.6200000000000001E-3,4.6149999999999997E-2,1.205E-2,965,{"$f":"IF((G1420*ALBE+H1420*ALDE+I1420*AT+J1420*BE+K1420*DE+L1420*FR+M1420*NL)>(N1420),1,0)","v":0},null,{"$f":"IF((C$6*G1420+D$6*H1420+E$6*I1420+F$6*J1420+G$6*K1420+H$6*L1420+I$6*M1420)>(N1420),1,0)","v":0}]
[null,2541,"[BE-FR] Achene - Lonny 380.19 [DIR] [BE]_LTA_corner#02_#20","10T-BE-FR-000015","[BE-BE] Avelgem - Horta 380.102","22T20161020---1E",0,0,-0.46355000000000002,0.19577,-0.30542999999999998,-0.80840000000000001,0,2407,{"$f":"IF((G1421*ALBE+H1421*ALDE+I1421*AT+J1421*BE+K1421*DE+L1421*FR+M1421*NL)>(N1421),1,0)","v":0},null,{"$f":"IF((C$6*G1421+D$6*H1421+E$6*I1421+F$6*J1421+G$6*K1421+H$6*L1421+I$6*M1421)>(N1421),1,0)","v":0}]
[null,2542,"[BE-BE] PST_ZANDV_2 [N - S]_LTA_corner#13_#19","22T20161020---56","[NL-BE] Rilland - Zandvliet 380 White/30","10T-BE-NL-00004C",0,0,-0.40338000000000002,-0.66027999999999998,-0.34173999999999999,-0.53341000000000005,0,1669,{"$f":"IF((G1422*ALBE+H1422*ALDE+I1422*AT+J1422*BE+K1422*DE+L1422*FR+M1422*NL)>(N1422),1,0)","v":0},null,{"$f":"IF((C$6*G1422+D$6*H1422+E$6*I1422+F$6*J1422+G$6*K1422+H$6*L1422+I$6*M1422)>(N1422),1,0)","v":0}]
[null,2543,"[BE-FR] Achene - Lonny 380.19 [DIR] [BE]_LTA_corner#09_#9","10T-BE-FR-000015","[BE-BE] Avelgem - Horta 380.102","22T20161020---1E",0,0,-0.41513,-0.59743000000000002,-0.33735999999999999,-0.59743000000000002,0,1547,{"$f":"IF((G1423*ALBE+H1423*ALDE+I1423*AT+J1423*BE+K1423*DE+L1423*FR+M1423*NL)>(N1423),1,0)","v":0},null,{"$f":"IF((C$6*G1423+D$6*H1423+E$6*I1423+F$6*J1423+G$6*K1423+H$6*L1423+I$6*M1423)>(N1423),1,0)","v":0}]
[null,2544,"[AT-AT] Westtirol Transformer WTRHU41 [OPP]_LTA_corner#20_#21","14T-38220-WT041O","BASECASE","N/A",0,0,0.99236999999999997,-1.401E-2,0.12168,-1.401E-2,0,4474,{"$f":"IF((G1424*ALBE+H1424*ALDE+I1424*AT+J1424*BE+K1424*DE+L1424*FR+M1424*NL)>(N1424),1,0)","v":0},null,{"$f":"IF((C$6*G1424+D$6*H1424+E$6*I1424+F$6*J1424+G$6*K1424+H$6*L1424+I$6*M1424)>(N1424),1,0)","v":0}]
[null,2545,"ALDE_import","N/A","BASECASE","N/A",0,-1,0,0,0,0,0,0,{"$f":"IF((G1425*ALBE+H1425*ALDE+I1425*AT+J1425*BE+K1425*DE+L1425*FR+M1425*NL)>(N1425),1,0)","v":0},null,{"$f":"IF((C$6*G1425+D$6*H1425+E$6*I1425+F$6*J1425+G$6*K1425+H$6*L1425+I$6*M1425)>(N1425),1,0)","v":0}]
[null,2546,"[D2-AT] Pleinting - St. Peter 258 [DIR] [D2]_LTA_corner#15_#1","10T-AT-DE-000037","[D2-AT] Y - St. Peter (- Altheim - Simbach) 234/230","10T-AT-DE-000045",0,0,-0.99829999999999997,-3.0079999999999999E-2,-3.9750000000000001E-2,-3.0079999999999999E-2,0,4711,{"$f":"IF((G1426*ALBE+H1426*ALDE+I1426*AT+J1426*BE+K1426*DE+L1426*FR+M1426*NL)>(N1426),1,0)","v":0},null,{"$f":"IF((C$6*G1426+D$6*H1426+E$6*I1426+F$6*J1426+G$6*K1426+H$6*L1426+I$6*M1426)>(N1426),1,0)","v":0}]
[null,2547,"[D2-AT] Pleinting - St. Peter 258 [DIR] [AT]_LTA_corner#12_#8","10T-AT-DE-000037","[D2-D2] Pirach - Pleinting 257","11TD2L000000201H",0,0,-0.99741999999999997,-2.2599999999999999E-3,0,7.177E-2,0,5033,{"$f":"IF((G1427*ALBE+H1427*ALDE+I1427*AT+J1427*BE+K1427*DE+L1427*FR+M1427*NL)>(N1427),1,0)","v":0},null,{"$f":"IF((C$6*G1427+D$6*H1427+E$6*I1427+F$6*J1427+G$6*K1427+H$6*L1427+I$6*M1427)>(N1427),1,0)","v":0}]
[null,2548,"[D2-AT] Pleinting - St. Peter 258 [DIR] [D2]_LTA_corner#05_#7","10T-AT-DE-000037","[D2-AT] Y - St. Peter (- Altheim - Simbach) 234/230","10T-AT-DE-000045",0,0,-0.99933000000000005,0,2.596E-2,2.596E-2,0,5015,{"$f":"IF((G1428*ALBE+H1428*ALDE+I1428*AT+J1428*BE+K1428*DE+L1428*FR+M1428*NL)>(N1428),1,0)","v":0},null,{"$f":"IF((C$6*G1428+D$6*H1428+E$6*I1428+F$6*J1428+G$6*K1428+H$6*L1428+I$6*M1428)>(N1428),1,0)","v":0}]
[null,2549,"[D2-AT] Pleinting - St. Peter 258 [DIR] [D2]_LTA_corner#05_#8","10T-AT-DE-000037","[D2-AT] Y - St. Peter (- Altheim - Simbach) 234/230","10T-AT-DE-000045",0,0,-0.99994000000000005,2.0899999999999998E-3,7.77E-3,7.77E-3,0,4877,{"$f":"IF((G1429*ALBE+H1429*ALDE+I1429*AT+J1429*BE+K1429*DE+L1429*FR+M1429*NL)>(N1429),1,0)","v":0},null,{"$f":"IF((C$6*G1429+D$6*H1429+E$6*I1429+F$6*J1429+G$6*K1429+H$6*L1429+I$6*M1429)>(N1429),1,0)","v":0}]
[null,2550,"[D2-AT] Pleinting - St. Peter 258 [DIR] [AT]_LTA_corner#06_#6","10T-AT-DE-000037","[D2-D2] Pirach - Pleinting 257","11TD2L000000201H",0,0,-0.99736999999999998,-7.2470000000000007E-2,0,0,0,4986,{"$f":"IF((G1430*ALBE+H1430*ALDE+I1430*AT+J1430*BE+K1430*DE+L1430*FR+M1430*NL)>(N1430),1,0)","v":0},null,{"$f":"IF((C$6*G1430+D$6*H1430+E$6*I1430+F$6*J1430+G$6*K1430+H$6*L1430+I$6*M1430)>(N1430),1,0)","v":0}]
[null,2551,"[D4-AT] Buers - Westtirol 421 weiss [OPP] [D4]_LTA_corner#20_#3","10T-AT-DE-000061","[AT-AT] Westtirol Transformer WTRHU41","14T-38220-WT041O",0,0,0.97940000000000005,-2.8219999999999999E-2,0.18259,-8.1540000000000001E-2,0,4354,{"$f":"IF((G1431*ALBE+H1431*ALDE+I1431*AT+J1431*BE+K1431*DE+L1431*FR+M1431*NL)>(N1431),1,0)","v":0},null,{"$f":"IF((C$6*G1431+D$6*H1431+E$6*I1431+F$6*J1431+G$6*K1431+H$6*L1431+I$6*M1431)>(N1431),1,0)","v":0}]
[null,2552,"[D2-AT] Pleinting - St. Peter 258 [DIR] [D2]_LTA_corner#02_#7","10T-AT-DE-000037","[D2-AT] Y - St. Peter (- Altheim - Simbach) 234/230","10T-AT-DE-000045",0,0,-0.99895,0,-3.1109999999999999E-2,-3.3739999999999999E-2,0,4731,{"$f":"IF((G1432*ALBE+H1432*ALDE+I1432*AT+J1432*BE+K1432*DE+L1432*FR+M1432*NL)>(N1432),1,0)","v":0},null,{"$f":"IF((C$6*G1432+D$6*H1432+E$6*I1432+F$6*J1432+G$6*K1432+H$6*L1432+I$6*M1432)>(N1432),1,0)","v":0}]
[null,2553,"[AT-AT] Westtirol Transformer WTRHU41 [OPP]_LTA_corner#17_#7","14T-38220-WT041O","BASECASE","N/A",0,0,0.98285,0,0.17085,-6.9339999999999999E-2,0,4379,{"$f":"IF((G1433*ALBE+H1433*ALDE+I1433*AT+J1433*BE+K1433*DE+L1433*FR+M1433*NL)>(N1433),1,0)","v":0},null,{"$f":"IF((C$6*G1433+D$6*H1433+E$6*I1433+F$6*J1433+G$6*K1433+H$6*L1433+I$6*M1433)>(N1433),1,0)","v":0}]
[null,2554,"[D2-AT] Pleinting - St. Peter 258 [DIR] [AT]_LTA_corner#01_#17","10T-AT-DE-000037","[D2-D2] Pirach - Pleinting 257","11TD2L000000201H",0,0,-0.99611000000000005,8.6059999999999998E-2,0,-1.907E-2,0,4938,{"$f":"IF((G1434*ALBE+H1434*ALDE+I1434*AT+J1434*BE+K1434*DE+L1434*FR+M1434*NL)>(N1434),1,0)","v":0},null,{"$f":"IF((C$6*G1434+D$6*H1434+E$6*I1434+F$6*J1434+G$6*K1434+H$6*L1434+I$6*M1434)>(N1434),1,0)","v":0}]
[null,2555,"[D2-AT] Pleinting - St. Peter 258 [DIR] [D2]_LTA_corner#09_#11","10T-AT-DE-000037","[D2-AT] Y - St. Peter (- Altheim - Simbach) 234/230","10T-AT-DE-000045",0,0,-0.99433000000000005,-6.8860000000000005E-2,-4.2729999999999997E-2,-6.8860000000000005E-2,0,4724,{"$f":"IF((G1435*ALBE+H1435*ALDE+I1435*AT+J1435*BE+K1435*DE+L1435*FR+M1435*NL)>(N1435),1,0)","v":0},null,{"$f":"IF((C$6*G1435+D$6*H1435+E$6*I1435+F$6*J1435+G$6*K1435+H$6*L1435+I$6*M1435)>(N1435),1,0)","v":0}]
[null,2556,"[D2-AT] Pleinting - St. Peter 258 [DIR] [D2]_LTA_corner#04_#4","10T-AT-DE-000037","[D2-AT] Y - St. Peter (- Altheim - Simbach) 234/230","10T-AT-DE-000045",0,0,-0.98104000000000002,-6.4530000000000004E-2,0,-0.18274000000000001,0,5032,{"$f":"IF((G1436*ALBE+H1436*ALDE+I1436*AT+J1436*BE+K1436*DE+L1436*FR+M1436*NL)>(N1436),1,0)","v":0},null,{"$f":"IF((C$6*G1436+D$6*H1436+E$6*I1436+F$6*J1436+G$6*K1436+H$6*L1436+I$6*M1436)>(N1436),1,0)","v":0}]
[null,2557,"[D2-AT] Pleinting - St. Peter 258 [DIR] [AT]_LTA_corner#13_#2","10T-AT-DE-000037","[D2-D2] Pirach - Pleinting 257","11TD2L000000201H",0,0,-0.99702000000000002,-7.4829999999999994E-2,-1.3129999999999999E-2,-1.3129999999999999E-2,0,4922,{"$f":"IF((G1437*ALBE+H1437*ALDE+I1437*AT+J1437*BE+K1437*DE+L1437*FR+M1437*NL)>(N1437),1,0)","v":0},null,{"$f":"IF((C$6*G1437+D$6*H1437+E$6*I1437+F$6*J1437+G$6*K1437+H$6*L1437+I$6*M1437)>(N1437),1,0)","v":0}]
[null,2558,"[D2-AT] Pleinting - St. Peter 258 [DIR] [AT]_LTA_corner#01_#18","10T-AT-DE-000037","[D2-D2] Pirach - Pleinting 257","11TD2L000000201H",0,0,-0.99309000000000003,0,0,-0.11733,0,4975,{"$f":"IF((G1438*ALBE+H1438*ALDE+I1438*AT+J1438*BE+K1438*DE+L1438*FR+M1438*NL)>(N1438),1,0)","v":0},null,{"$f":"IF((C$6*G1438+D$6*H1438+E$6*I1438+F$6*J1438+G$6*K1438+H$6*L1438+I$6*M1438)>(N1438),1,0)","v":0}]
[null,2559,"[D2-AT] Pleinting - St. Peter 258 [DIR] [AT]_LTA_corner#04_#21","10T-AT-DE-000037","[D2-D2] Pirach - Pleinting 257","11TD2L000000201H",0,0,-0.99339,-6.615E-2,6.6519999999999996E-2,-6.615E-2,0,5364,{"$f":"IF((G1439*ALBE+H1439*ALDE+I1439*AT+J1439*BE+K1439*DE+L1439*FR+M1439*NL)>(N1439),1,0)","v":0},null,{"$f":"IF((C$6*G1439+D$6*H1439+E$6*I1439+F$6*J1439+G$6*K1439+H$6*L1439+I$6*M1439)>(N1439),1,0)","v":0}]
[null,2560,"[D2-AT] Pleinting - St. Peter 258 [DIR] [AT]_LTA_corner#05_#4","10T-AT-DE-000037","[D2-D2] Pirach - Pleinting 257","11TD2L000000201H",0,0,-0.99824999999999997,0,4.1849999999999998E-2,4.1849999999999998E-2,0,5131,{"$f":"IF((G1440*ALBE+H1440*ALDE+I1440*AT+J1440*BE+K1440*DE+L1440*FR+M1440*NL)>(N1440),1,0)","v":0},null,{"$f":"IF((C$6*G1440+D$6*H1440+E$6*I1440+F$6*J1440+G$6*K1440+H$6*L1440+I$6*M1440)>(N1440),1,0)","v":0}]
[null,2561,"[AT-AT] Westtirol Transformer WTRHU41 [OPP]_LTA_corner#17_#4","14T-38220-WT041O","BASECASE","N/A",0,0,0.99497000000000002,0,9.8739999999999994E-2,-1.7149999999999999E-2,0,4552,{"$f":"IF((G1441*ALBE+H1441*ALDE+I1441*AT+J1441*BE+K1441*DE+L1441*FR+M1441*NL)>(N1441),1,0)","v":0},null,{"$f":"IF((C$6*G1441+D$6*H1441+E$6*I1441+F$6*J1441+G$6*K1441+H$6*L1441+I$6*M1441)>(N1441),1,0)","v":0}]
[null,2562,"[D2-AT] Pleinting - St. Peter 258 [DIR] [D2]_LTA_corner#04_#0","10T-AT-DE-000037","[D2-AT] Y - St. Peter (- Altheim - Simbach) 234/230","10T-AT-DE-000045",0,0,-0.97951999999999995,-6.0569999999999999E-2,2.878E-2,-0.18984999999999999,0,5234,{"$f":"IF((G1442*ALBE+H1442*ALDE+I1442*AT+J1442*BE+K1442*DE+L1442*FR+M1442*NL)>(N1442),1,0)","v":0},null,{"$f":"IF((C$6*G1442+D$6*H1442+E$6*I1442+F$6*J1442+G$6*K1442+H$6*L1442+I$6*M1442)>(N1442),1,0)","v":0}]
[null,2563,"[D2-AT] Pleinting - St. Peter 258 [DIR] [AT]_LTA_corner#09_#5","10T-AT-DE-000037","[D2-D2] Pirach - Pleinting 257","11TD2L000000201H",0,0,-0.99775999999999998,-3.8609999999999998E-2,-3.8609999999999998E-2,-3.8609999999999998E-2,0,4706,{"$f":"IF((G1443*ALBE+H1443*ALDE+I1443*AT+J1443*BE+K1443*DE+L1443*FR+M1443*NL)>(N1443),1,0)","v":0},null,{"$f":"IF((C$6*G1443+D$6*H1443+E$6*I1443+F$6*J1443+G$6*K1443+H$6*L1443+I$6*M1443)>(N1443),1,0)","v":0}]
[null,2564,"[D2-AT] Pleinting - St. Peter 258 [DIR] [D2]_LTA_corner#09_#17","10T-AT-DE-000037","[D2-AT] Y - St. Peter (- Altheim - Simbach) 234/230","10T-AT-DE-000045",0,0,-0.99768000000000001,-3.9269999999999999E-2,-3.9269999999999999E-2,-3.9269999999999999E-2,0,4704,{"$f":"IF((G1444*ALBE+H1444*ALDE+I1444*AT+J1444*BE+K1444*DE+L1444*FR+M1444*NL)>(N1444),1,0)","v":0},null,{"$f":"IF((C$6*G1444+D$6*H1444+E$6*I1444+F$6*J1444+G$6*K1444+H$6*L1444+I$6*M1444)>(N1444),1,0)","v":0}]
[null,2565,"[D2-AT] Pleinting - St. Peter 258 [DIR] [D2]_LTA_corner#09_#12","10T-AT-DE-000037","[D2-AT] Y - St. Peter (- Altheim - Simbach) 234/230","10T-AT-DE-000045",0,0,-0.97948000000000002,-8.9609999999999995E-2,-0.12766,-0.12766,0,4372,{"$f":"IF((G1445*ALBE+H1445*ALDE+I1445*AT+J1445*BE+K1445*DE+L1445*FR+M1445*NL)>(N1445),1,0)","v":0},null,{"$f":"IF((C$6*G1445+D$6*H1445+E$6*I1445+F$6*J1445+G$6*K1445+H$6*L1445+I$6*M1445)>(N1445),1,0)","v":0}]
[null,2566,"[D2-AT] Pleinting - St. Peter 258 [DIR] [AT]_LTA_corner#06_#3","10T-AT-DE-000037","[D2-D2] Pirach - Pleinting 257","11TD2L000000201H",0,0,-0.99355000000000004,-0.10965999999999999,8.3800000000000003E-3,-2.7570000000000001E-2,0,5097,{"$f":"IF((G1446*ALBE+H1446*ALDE+I1446*AT+J1446*BE+K1446*DE+L1446*FR+M1446*NL)>(N1446),1,0)","v":0},null,{"$f":"IF((C$6*G1446+D$6*H1446+E$6*I1446+F$6*J1446+G$6*K1446+H$6*L1446+I$6*M1446)>(N1446),1,0)","v":0}]
[null,2567,"[D4-AT] Buers - Westtirol 421 weiss [OPP] [D4]_LTA_corner#20_#2","10T-AT-DE-000061","[AT-AT] Westtirol Transformer WTRHU41","14T-38220-WT041O",0,0,0.97260000000000002,-5.5870000000000003E-2,0.16006999999999999,-0.15906999999999999,0,4512,{"$f":"IF((G1447*ALBE+H1447*ALDE+I1447*AT+J1447*BE+K1447*DE+L1447*FR+M1447*NL)>(N1447),1,0)","v":0},null,{"$f":"IF((C$6*G1447+D$6*H1447+E$6*I1447+F$6*J1447+G$6*K1447+H$6*L1447+I$6*M1447)>(N1447),1,0)","v":0}]
[null,2568,"[D2-AT] Pleinting - St. Peter 258 [DIR] [AT]_LTA_corner#14_#5","10T-AT-DE-000037","[D2-D2] Pirach - Pleinting 257","11TD2L000000201H",0,0,-0.99768000000000001,0,-6.4509999999999998E-2,2.154E-2,0,4740,{"$f":"IF((G1448*ALBE+H1448*ALDE+I1448*AT+J1448*BE+K1448*DE+L1448*FR+M1448*NL)>(N1448),1,0)","v":0},null,{"$f":"IF((C$6*G1448+D$6*H1448+E$6*I1448+F$6*J1448+G$6*K1448+H$6*L1448+I$6*M1448)>(N1448),1,0)","v":0}]
[null,2569,"[D2-AT] Pleinting - St. Peter 258 [DIR] [AT]_LTA_corner#11_#2","10T-AT-DE-000037","[D2-D2] Pirach - Pleinting 257","11TD2L000000201H",0,0,-0.99658999999999998,0,-7.7679999999999999E-2,-2.7650000000000001E-2,0,4620,{"$f":"IF((G1449*ALBE+H1449*ALDE+I1449*AT+J1449*BE+K1449*DE+L1449*FR+M1449*NL)>(N1449),1,0)","v":0},null,{"$f":"IF((C$6*G1449+D$6*H1449+E$6*I1449+F$6*J1449+G$6*K1449+H$6*L1449+I$6*M1449)>(N1449),1,0)","v":0}]
[null,2570,"[D2-AT] Pleinting - St. Peter 258 [DIR] [AT]_LTA_corner#01_#16","10T-AT-DE-000037","[D2-D2] Pirach - Pleinting 257","11TD2L000000201H",0,0,-0.99787000000000003,6.5240000000000006E-2,0,0,0,4890,{"$f":"IF((G1450*ALBE+H1450*ALDE+I1450*AT+J1450*BE+K1450*DE+L1450*FR+M1450*NL)>(N1450),1,0)","v":0},null,{"$f":"IF((C$6*G1450+D$6*H1450+E$6*I1450+F$6*J1450+G$6*K1450+H$6*L1450+I$6*M1450)>(N1450),1,0)","v":0}]
[null,2571,"[AT-AT] Westtirol Transformer WTRHU41 [OPP]_LTA_corner#20_#17","14T-38220-WT041O","BASECASE","N/A",0,0,0.98438999999999999,-7.2900000000000006E-2,0.14266999999999999,-7.2900000000000006E-2,0,4481,{"$f":"IF((G1451*ALBE+H1451*ALDE+I1451*AT+J1451*BE+K1451*DE+L1451*FR+M1451*NL)>(N1451),1,0)","v":0},null,{"$f":"IF((C$6*G1451+D$6*H1451+E$6*I1451+F$6*J1451+G$6*K1451+H$6*L1451+I$6*M1451)>(N1451),1,0)","v":0}]
[null,2572,"[D2-AT] Pleinting - St. Peter 258 [DIR] [AT]_LTA_corner#02_#10","10T-AT-DE-000037","[D2-D2] Pirach - Pleinting 257","11TD2L000000201H",0,0,-0.99722,7.1690000000000004E-2,-1.434E-2,-1.434E-2,0,4854,{"$f":"IF((G1452*ALBE+H1452*ALDE+I1452*AT+J1452*BE+K1452*DE+L1452*FR+M1452*NL)>(N1452),1,0)","v":0},null,{"$f":"IF((C$6*G1452+D$6*H1452+E$6*I1452+F$6*J1452+G$6*K1452+H$6*L1452+I$6*M1452)>(N1452),1,0)","v":0}]
[null,2573,"[D2-AT] Pleinting - St. Peter 258 [DIR] [AT]_LTA_corner#13_#8","10T-AT-DE-000037","[D2-D2] Pirach - Pleinting 257","11TD2L000000201H",0,0,-0.99717,-6.4189999999999997E-2,-2.767E-2,-2.767E-2,0,4822,{"$f":"IF((G1453*ALBE+H1453*ALDE+I1453*AT+J1453*BE+K1453*DE+L1453*FR+M1453*NL)>(N1453),1,0)","v":0},null,{"$f":"IF((C$6*G1453+D$6*H1453+E$6*I1453+F$6*J1453+G$6*K1453+H$6*L1453+I$6*M1453)>(N1453),1,0)","v":0}]
[null,2574,"[AT-AT] Westtirol Transformer WTRHU41 [OPP]_LTA_corner#20_#22","14T-38220-WT041O","BASECASE","N/A",0,0,0.99007000000000001,-1.78E-2,0.13827,-1.78E-2,0,4424,{"$f":"IF((G1454*ALBE+H1454*ALDE+I1454*AT+J1454*BE+K1454*DE+L1454*FR+M1454*NL)>(N1454),1,0)","v":0},null,{"$f":"IF((C$6*G1454+D$6*H1454+E$6*I1454+F$6*J1454+G$6*K1454+H$6*L1454+I$6*M1454)>(N1454),1,0)","v":0}]
[null,2575,"[AT-AT] Westtirol Transformer WTRHU41 [OPP]_LTA_corner#20_#20","14T-38220-WT041O","BASECASE","N/A",0,0,0.98451,-6.9459999999999994E-2,0.1452,-6.9459999999999994E-2,0,4469,{"$f":"IF((G1455*ALBE+H1455*ALDE+I1455*AT+J1455*BE+K1455*DE+L1455*FR+M1455*NL)>(N1455),1,0)","v":0},null,{"$f":"IF((C$6*G1455+D$6*H1455+E$6*I1455+F$6*J1455+G$6*K1455+H$6*L1455+I$6*M1455)>(N1455),1,0)","v":0}]
[null,2576,"[D2-AT] Pleinting - St. Peter 258 [DIR] [AT]_LTA_corner#06_#0","10T-AT-DE-000037","[D2-D2] Pirach - Pleinting 257","11TD2L000000201H",0,0,-0.99804000000000004,-3.7499999999999999E-3,4.4159999999999998E-2,4.4159999999999998E-2,0,5156,{"$f":"IF((G1456*ALBE+H1456*ALDE+I1456*AT+J1456*BE+K1456*DE+L1456*FR+M1456*NL)>(N1456),1,0)","v":0},null,{"$f":"IF((C$6*G1456+D$6*H1456+E$6*I1456+F$6*J1456+G$6*K1456+H$6*L1456+I$6*M1456)>(N1456),1,0)","v":0}]
[null,2577,"[NL-D7] Maasbracht - Siersdorf 380 black [DIR] [D7]","10T-DE-NL-00006L","[BE-BE] Avelgem - Horta 380.102","22T20161020---1E",0.32571,-0.15631999999999999,-2.3400000000000001E-3,0.31311,1.541E-2,3.9300000000000002E-2,0.28395999999999999,931,{"$f":"IF((G1457*ALBE+H1457*ALDE+I1457*AT+J1457*BE+K1457*DE+L1457*FR+M1457*NL)>(N1457),1,0)","v":0},null,{"$f":"IF((C$6*G1457+D$6*H1457+E$6*I1457+F$6*J1457+G$6*K1457+H$6*L1457+I$6*M1457)>(N1457),1,0)","v":0}]
[null,2578,"[BE-FR] Achene - Lonny 380.19 [DIR] [BE]_LTA_corner#02_#6","10T-BE-FR-000015","[BE-BE] Avelgem - Horta 380.102","22T20161020---1E",0,0,-0.45744000000000001,0.24052999999999999,-0.30027999999999999,-0.80169999999999997,0,2444,{"$f":"IF((G1458*ALBE+H1458*ALDE+I1458*AT+J1458*BE+K1458*DE+L1458*FR+M1458*NL)>(N1458),1,0)","v":0},null,{"$f":"IF((C$6*G1458+D$6*H1458+E$6*I1458+F$6*J1458+G$6*K1458+H$6*L1458+I$6*M1458)>(N1458),1,0)","v":0}]
[null,2579,"[D2-AT] Pleinting - St. Peter 258 [DIR] [AT]_LTA_corner#02_#16","10T-AT-DE-000037","[D2-D2] Pirach - Pleinting 257","11TD2L000000201H",0,0,-0.99734,7.17E-2,-9.4599999999999997E-3,-9.4599999999999997E-3,0,4869,{"$f":"IF((G1459*ALBE+H1459*ALDE+I1459*AT+J1459*BE+K1459*DE+L1459*FR+M1459*NL)>(N1459),1,0)","v":0},null,{"$f":"IF((C$6*G1459+D$6*H1459+E$6*I1459+F$6*J1459+G$6*K1459+H$6*L1459+I$6*M1459)>(N1459),1,0)","v":0}]
[null,2580,"[D2-AT] Pleinting - St. Peter 258 [DIR] [AT]_LTA_corner#11_#6","10T-AT-DE-000037","[D2-D2] Pirach - Pleinting 257","11TD2L000000201H",0,0,-0.99682000000000004,0,-7.8689999999999996E-2,-1.273E-2,0,4631,{"$f":"IF((G1460*ALBE+H1460*ALDE+I1460*AT+J1460*BE+K1460*DE+L1460*FR+M1460*NL)>(N1460),1,0)","v":0},null,{"$f":"IF((C$6*G1460+D$6*H1460+E$6*I1460+F$6*J1460+G$6*K1460+H$6*L1460+I$6*M1460)>(N1460),1,0)","v":0}]
[null,2581,"[AT-AT] Westtirol Transformer WTRHU41 [OPP]_LTA_corner#17_#5","14T-38220-WT041O","BASECASE","N/A",0,0,0.98978999999999995,0,0.13822999999999999,-3.4779999999999998E-2,0,4447,{"$f":"IF((G1461*ALBE+H1461*ALDE+I1461*AT+J1461*BE+K1461*DE+L1461*FR+M1461*NL)>(N1461),1,0)","v":0},null,{"$f":"IF((C$6*G1461+D$6*H1461+E$6*I1461+F$6*J1461+G$6*K1461+H$6*L1461+I$6*M1461)>(N1461),1,0)","v":0}]
[null,2582,"[AT-AT] Westtirol Transformer WTRHU41 [OPP]_LTA_corner#20_#12","14T-38220-WT041O","BASECASE","N/A",0,0,0.97935000000000005,-2.0289999999999999E-2,0.18892999999999999,-6.9089999999999999E-2,0,4316,{"$f":"IF((G1462*ALBE+H1462*ALDE+I1462*AT+J1462*BE+K1462*DE+L1462*FR+M1462*NL)>(N1462),1,0)","v":0},null,{"$f":"IF((C$6*G1462+D$6*H1462+E$6*I1462+F$6*J1462+G$6*K1462+H$6*L1462+I$6*M1462)>(N1462),1,0)","v":0}]
[null,2583,"[BE-FR] Achene - Lonny 380.19 [DIR] [BE]_LTA_corner#02_#11","10T-BE-FR-000015","[BE-BE] Avelgem - Horta 380.102","22T20161020---1E",0,0,-0.40340999999999999,0.58689999999999998,-0.29147000000000001,-0.63863000000000003,0,2384,{"$f":"IF((G1463*ALBE+H1463*ALDE+I1463*AT+J1463*BE+K1463*DE+L1463*FR+M1463*NL)>(N1463),1,0)","v":0},null,{"$f":"IF((C$6*G1463+D$6*H1463+E$6*I1463+F$6*J1463+G$6*K1463+H$6*L1463+I$6*M1463)>(N1463),1,0)","v":0}]
[null,2584,"[AT-AT] Westtirol Transformer WTRHU41 [OPP]_LTA_corner#22_#1","14T-38220-WT041O","BASECASE","N/A",0,0,0.98492000000000002,-7.8640000000000002E-2,0.13755000000000001,-6.9489999999999996E-2,0,4514,{"$f":"IF((G1464*ALBE+H1464*ALDE+I1464*AT+J1464*BE+K1464*DE+L1464*FR+M1464*NL)>(N1464),1,0)","v":0},null,{"$f":"IF((C$6*G1464+D$6*H1464+E$6*I1464+F$6*J1464+G$6*K1464+H$6*L1464+I$6*M1464)>(N1464),1,0)","v":0}]
[null,2585,"[D2-AT] Pleinting - St. Peter 258 [DIR] [AT]_LTA_corner#14_#3","10T-AT-DE-000037","[D2-D2] Pirach - Pleinting 257","11TD2L000000201H",0,0,-0.99699000000000004,8.4100000000000008E-3,-7.4270000000000003E-2,2.0750000000000001E-2,0,4704,{"$f":"IF((G1465*ALBE+H1465*ALDE+I1465*AT+J1465*BE+K1465*DE+L1465*FR+M1465*NL)>(N1465),1,0)","v":0},null,{"$f":"IF((C$6*G1465+D$6*H1465+E$6*I1465+F$6*J1465+G$6*K1465+H$6*L1465+I$6*M1465)>(N1465),1,0)","v":0}]
[null,2586,"[D2-AT] Pleinting - St. Peter 258 [DIR] [AT]_LTA_corner#12_#2","10T-AT-DE-000037","[D2-D2] Pirach - Pleinting 257","11TD2L000000201H",0,0,-0.99692000000000003,-3.7499999999999999E-3,8.4100000000000008E-3,7.7829999999999996E-2,0,5091,{"$f":"IF((G1466*ALBE+H1466*ALDE+I1466*AT+J1466*BE+K1466*DE+L1466*FR+M1466*NL)>(N1466),1,0)","v":0},null,{"$f":"IF((C$6*G1466+D$6*H1466+E$6*I1466+F$6*J1466+G$6*K1466+H$6*L1466+I$6*M1466)>(N1466),1,0)","v":0}]
[null,2587,"[BE-BE] PST_VANYK_2 [S - N]","22T-BE-PST--002U","[BE-BE] Y - Courcelles (- Gramme - Tergnee) 380.31","22T-BE-IN-LI019P",0.48925000000000002,-4.3099999999999999E-2,1.128E-2,0.22745000000000001,-1.9709999999999998E-2,8.1240000000000007E-2,-3.3649999999999999E-2,931,{"$f":"IF((G1467*ALBE+H1467*ALDE+I1467*AT+J1467*BE+K1467*DE+L1467*FR+M1467*NL)>(N1467),1,0)","v":0},null,{"$f":"IF((C$6*G1467+D$6*H1467+E$6*I1467+F$6*J1467+G$6*K1467+H$6*L1467+I$6*M1467)>(N1467),1,0)","v":0}]
[null,2588,"[BE-FR] Achene - Lonny 380.19 [DIR] [BE]_LTA_corner#02_#25","10T-BE-FR-000015","[BE-BE] Avelgem - Horta 380.102","22T20161020---1E",0,0,-0.48981000000000002,0,-0.36051,-0.79379999999999995,0,2026,{"$f":"IF((G1468*ALBE+H1468*ALDE+I1468*AT+J1468*BE+K1468*DE+L1468*FR+M1468*NL)>(N1468),1,0)","v":0},null,{"$f":"IF((C$6*G1468+D$6*H1468+E$6*I1468+F$6*J1468+G$6*K1468+H$6*L1468+I$6*M1468)>(N1468),1,0)","v":0}]
[null,2589,"[BE-BE] PST_VANYK_2 [S - N]","22T-BE-PST--002U","[NL-BE] Maasbracht - Van Eyck 380 Black/27","10T-BE-NL-00002G",0.48559999999999998,-5.0990000000000001E-2,1.294E-2,0.27100000000000002,-2.248E-2,9.554E-2,-2.5569999999999999E-2,1065,{"$f":"IF((G1469*ALBE+H1469*ALDE+I1469*AT+J1469*BE+K1469*DE+L1469*FR+M1469*NL)>(N1469),1,0)","v":0},null,{"$f":"IF((C$6*G1469+D$6*H1469+E$6*I1469+F$6*J1469+G$6*K1469+H$6*L1469+I$6*M1469)>(N1469),1,0)","v":0}]
[null,2590,"[D2-AT] Pleinting - St. Peter 258 [DIR] [AT]_LTA_corner#14_#6","10T-AT-DE-000037","[D2-D2] Pirach - Pleinting 257","11TD2L000000201H",0,0,-0.99699000000000004,1.0500000000000001E-2,-7.2029999999999997E-2,2.6630000000000001E-2,0,4725,{"$f":"IF((G1470*ALBE+H1470*ALDE+I1470*AT+J1470*BE+K1470*DE+L1470*FR+M1470*NL)>(N1470),1,0)","v":0},null,{"$f":"IF((C$6*G1470+D$6*H1470+E$6*I1470+F$6*J1470+G$6*K1470+H$6*L1470+I$6*M1470)>(N1470),1,0)","v":0}]
[null,2591,"[AT-AT] Westtirol Transformer WTRHU41 [OPP]_LTA_corner#20_#2","14T-38220-WT041O","BASECASE","N/A",0,0,0.98184000000000005,-2.034E-2,0.13711999999999999,-0.12953999999999999,0,4566,{"$f":"IF((G1471*ALBE+H1471*ALDE+I1471*AT+J1471*BE+K1471*DE+L1471*FR+M1471*NL)>(N1471),1,0)","v":0},null,{"$f":"IF((C$6*G1471+D$6*H1471+E$6*I1471+F$6*J1471+G$6*K1471+H$6*L1471+I$6*M1471)>(N1471),1,0)","v":0}]
[null,2592,"[D2-AT] Pleinting - St. Peter 258 [DIR] [D2]_LTA_corner#05_#1","10T-AT-DE-000037","[D2-AT] Y - St. Peter (- Altheim - Simbach) 234/230","10T-AT-DE-000045",0,0,0.51171999999999995,0.27578999999999998,0.69284000000000001,0.42668,0,2316,{"$f":"IF((G1472*ALBE+H1472*ALDE+I1472*AT+J1472*BE+K1472*DE+L1472*FR+M1472*NL)>(N1472),1,0)","v":0},null,{"$f":"IF((C$6*G1472+D$6*H1472+E$6*I1472+F$6*J1472+G$6*K1472+H$6*L1472+I$6*M1472)>(N1472),1,0)","v":0}]
[null,2593,"[D2-AT] Pleinting - St. Peter 258 [DIR] [AT]_LTA_corner#06_#2","10T-AT-DE-000037","[D2-D2] Pirach - Pleinting 257","11TD2L000000201H",0,0,-0.99509999999999998,-9.6269999999999994E-2,0,-2.2700000000000001E-2,0,5017,{"$f":"IF((G1473*ALBE+H1473*ALDE+I1473*AT+J1473*BE+K1473*DE+L1473*FR+M1473*NL)>(N1473),1,0)","v":0},null,{"$f":"IF((C$6*G1473+D$6*H1473+E$6*I1473+F$6*J1473+G$6*K1473+H$6*L1473+I$6*M1473)>(N1473),1,0)","v":0}]
[null,2594,"[D2-AT] Pleinting - St. Peter 258 [DIR] [AT]_LTA_corner#04_#17","10T-AT-DE-000037","[D2-D2] Pirach - Pleinting 257","11TD2L000000201H",0,0,-0.99619999999999997,-6.1600000000000002E-2,0,-6.1600000000000002E-2,0,4911,{"$f":"IF((G1474*ALBE+H1474*ALDE+I1474*AT+J1474*BE+K1474*DE+L1474*FR+M1474*NL)>(N1474),1,0)","v":0},null,{"$f":"IF((C$6*G1474+D$6*H1474+E$6*I1474+F$6*J1474+G$6*K1474+H$6*L1474+I$6*M1474)>(N1474),1,0)","v":0}]
[null,2595,"[AT-AT] Westtirol Transformer WTRHU41 [OPP]_LTA_corner#20_#14","14T-38220-WT041O","BASECASE","N/A",0,0,0.97658,-2.8590000000000001E-2,0.18698000000000001,-0.10248,0,4362,{"$f":"IF((G1475*ALBE+H1475*ALDE+I1475*AT+J1475*BE+K1475*DE+L1475*FR+M1475*NL)>(N1475),1,0)","v":0},null,{"$f":"IF((C$6*G1475+D$6*H1475+E$6*I1475+F$6*J1475+G$6*K1475+H$6*L1475+I$6*M1475)>(N1475),1,0)","v":0}]
[null,2596,"[D4-AT] Buers - Westtirol 421 weiss [OPP] [D4]_LTA_corner#20_#20","10T-AT-DE-000061","[AT-AT] Westtirol Transformer WTRHU41","14T-38220-WT041O",0,0,0.99072000000000005,-2.8549999999999999E-2,0.10423,-8.2479999999999998E-2,0,4625,{"$f":"IF((G1476*ALBE+H1476*ALDE+I1476*AT+J1476*BE+K1476*DE+L1476*FR+M1476*NL)>(N1476),1,0)","v":0},null,{"$f":"IF((C$6*G1476+D$6*H1476+E$6*I1476+F$6*J1476+G$6*K1476+H$6*L1476+I$6*M1476)>(N1476),1,0)","v":0}]
[null,2597,"[D2-AT] Pleinting - St. Peter 258 [DIR] [AT]_LTA_corner#11_#10","10T-AT-DE-000037","[D2-D2] Pirach - Pleinting 257","11TD2L000000201H",0,0,-0.99729000000000001,0,-7.3590000000000003E-2,0,0,4653,{"$f":"IF((G1477*ALBE+H1477*ALDE+I1477*AT+J1477*BE+K1477*DE+L1477*FR+M1477*NL)>(N1477),1,0)","v":0},null,{"$f":"IF((C$6*G1477+D$6*H1477+E$6*I1477+F$6*J1477+G$6*K1477+H$6*L1477+I$6*M1477)>(N1477),1,0)","v":0}]
[null,2598,"[BE-FR] Achene - Lonny 380.19 [OPP] [BE]","10T-BE-FR-000015","[BE-BE] Avelgem - Horta 380.102","22T20161020---1E",-0.31122,-6.8150000000000002E-2,2.147E-2,-0.30728,-3.7999999999999999E-2,0.15010999999999999,-0.16588,2019,{"$f":"IF((G1478*ALBE+H1478*ALDE+I1478*AT+J1478*BE+K1478*DE+L1478*FR+M1478*NL)>(N1478),1,0)","v":0},null,{"$f":"IF((C$6*G1478+D$6*H1478+E$6*I1478+F$6*J1478+G$6*K1478+H$6*L1478+I$6*M1478)>(N1478),1,0)","v":0}]
[null,2599,"[D4-AT] Buers - Westtirol 421 weiss [OPP] [D4]_LTA_corner#17_#0","10T-AT-DE-000061","[AT-AT] Westtirol Transformer WTRHU41","14T-38220-WT041O",0,0,0.99287999999999998,0,0.11699,-2.2409999999999999E-2,0,4500,{"$f":"IF((G1479*ALBE+H1479*ALDE+I1479*AT+J1479*BE+K1479*DE+L1479*FR+M1479*NL)>(N1479),1,0)","v":0},null,{"$f":"IF((C$6*G1479+D$6*H1479+E$6*I1479+F$6*J1479+G$6*K1479+H$6*L1479+I$6*M1479)>(N1479),1,0)","v":0}]
[null,2600,"[D2-AT] Pleinting - St. Peter 258 [DIR] [AT]_LTA_corner#15_#5","10T-AT-DE-000037","[D2-D2] Pirach - Pleinting 257","11TD2L000000201H",0,0,-0.99748999999999999,-2.768E-2,-5.9029999999999999E-2,-2.768E-2,0,4668,{"$f":"IF((G1480*ALBE+H1480*ALDE+I1480*AT+J1480*BE+K1480*DE+L1480*FR+M1480*NL)>(N1480),1,0)","v":0},null,{"$f":"IF((C$6*G1480+D$6*H1480+E$6*I1480+F$6*J1480+G$6*K1480+H$6*L1480+I$6*M1480)>(N1480),1,0)","v":0}]
[null,2601,"[BE-FR] Achene - Lonny 380.19 [DIR] [BE]_LTA_corner#09_#2","10T-BE-FR-000015","[BE-BE] Avelgem - Horta 380.102","22T20161020---1E",0,0,-0.42336000000000001,-0.59250000000000003,-0.34447,-0.59250000000000003,0,1546,{"$f":"IF((G1481*ALBE+H1481*ALDE+I1481*AT+J1481*BE+K1481*DE+L1481*FR+M1481*NL)>(N1481),1,0)","v":0},null,{"$f":"IF((C$6*G1481+D$6*H1481+E$6*I1481+F$6*J1481+G$6*K1481+H$6*L1481+I$6*M1481)>(N1481),1,0)","v":0}]
[null,2602,"[D2-AT] Pleinting - St. Peter 258 [DIR] [AT]_LTA_corner#01_#0","10T-AT-DE-000037","[D2-D2] Pirach - Pleinting 257","11TD2L000000201H",0,0,-0.99173,0,8.3700000000000007E-3,-0.12803999999999999,0,5044,{"$f":"IF((G1482*ALBE+H1482*ALDE+I1482*AT+J1482*BE+K1482*DE+L1482*FR+M1482*NL)>(N1482),1,0)","v":0},null,{"$f":"IF((C$6*G1482+D$6*H1482+E$6*I1482+F$6*J1482+G$6*K1482+H$6*L1482+I$6*M1482)>(N1482),1,0)","v":0}]
[null,2603,"[D2-AT] Pleinting - St. Peter 258 [DIR] [D2]_LTA_corner#02_#3","10T-AT-DE-000037","[D2-AT] Y - St. Peter (- Altheim - Simbach) 234/230","10T-AT-DE-000045",0,0,-0.99661,0,-4.8239999999999998E-2,-6.6659999999999997E-2,0,4696,{"$f":"IF((G1483*ALBE+H1483*ALDE+I1483*AT+J1483*BE+K1483*DE+L1483*FR+M1483*NL)>(N1483),1,0)","v":0},null,{"$f":"IF((C$6*G1483+D$6*H1483+E$6*I1483+F$6*J1483+G$6*K1483+H$6*L1483+I$6*M1483)>(N1483),1,0)","v":0}]
[null,2604,"[AT-AT] Westtirol Transformer WTRHU41 [OPP]_LTA_corner#17_#1","14T-38220-WT041O","BASECASE","N/A",0,0,0.99273,0,9.7900000000000001E-2,-7.0040000000000005E-2,0,4628,{"$f":"IF((G1484*ALBE+H1484*ALDE+I1484*AT+J1484*BE+K1484*DE+L1484*FR+M1484*NL)>(N1484),1,0)","v":0},null,{"$f":"IF((C$6*G1484+D$6*H1484+E$6*I1484+F$6*J1484+G$6*K1484+H$6*L1484+I$6*M1484)>(N1484),1,0)","v":0}]
[null,2605,"[D7-D7] Gronau - Hanekenfaehr Gronau W [OPP]","11T0-0000-0617-A","[D7-D7] Y - Hanekenfaehr - Kottigerhook - Kusenhorst Muensterland","11T0-0000-0679-H",-7.6600000000000001E-2,-5.604E-2,-1.4030000000000001E-2,-7.4380000000000002E-2,2.5069999999999999E-2,-4.6510000000000003E-2,-9.4320000000000001E-2,550,{"$f":"IF((G1485*ALBE+H1485*ALDE+I1485*AT+J1485*BE+K1485*DE+L1485*FR+M1485*NL)>(N1485),1,0)","v":0},null,{"$f":"IF((C$6*G1485+D$6*H1485+E$6*I1485+F$6*J1485+G$6*K1485+H$6*L1485+I$6*M1485)>(N1485),1,0)","v":0}]
[null,2606,"[D2-AT] Pleinting - St. Peter 258 [DIR] [AT]_LTA_corner#01_#14","10T-AT-DE-000037","[D2-D2] Pirach - Pleinting 257","11TD2L000000201H",0,0,-0.99565999999999999,8.8819999999999996E-2,0,-2.7629999999999998E-2,0,4953,{"$f":"IF((G1486*ALBE+H1486*ALDE+I1486*AT+J1486*BE+K1486*DE+L1486*FR+M1486*NL)>(N1486),1,0)","v":0},null,{"$f":"IF((C$6*G1486+D$6*H1486+E$6*I1486+F$6*J1486+G$6*K1486+H$6*L1486+I$6*M1486)>(N1486),1,0)","v":0}]
[null,2607,"[BE-FR] Achene - Lonny 380.19 [DIR] [BE]_LTA_corner#02_#10","10T-BE-FR-000015","[BE-BE] Avelgem - Horta 380.102","22T20161020---1E",0,0,-0.43524000000000002,0.34494999999999998,-0.31197000000000003,-0.77088000000000001,0,2363,{"$f":"IF((G1487*ALBE+H1487*ALDE+I1487*AT+J1487*BE+K1487*DE+L1487*FR+M1487*NL)>(N1487),1,0)","v":0},null,{"$f":"IF((C$6*G1487+D$6*H1487+E$6*I1487+F$6*J1487+G$6*K1487+H$6*L1487+I$6*M1487)>(N1487),1,0)","v":0}]
[null,2608,"[NL-NL] Borssele - Rilland 380 Zwart [DIR]","49T000000000059S","[NL-NL] Borssele - Rilland 380 Grijs","49T000000000057W",-5.2100000000000002E-3,2.2599999999999999E-3,-7.6999999999999996E-4,-1.359E-2,1.3500000000000001E-3,-5.7000000000000002E-3,0.1401,457,{"$f":"IF((G1488*ALBE+H1488*ALDE+I1488*AT+J1488*BE+K1488*DE+L1488*FR+M1488*NL)>(N1488),1,0)","v":0},null,{"$f":"IF((C$6*G1488+D$6*H1488+E$6*I1488+F$6*J1488+G$6*K1488+H$6*L1488+I$6*M1488)>(N1488),1,0)","v":0}]
[null,2609,"[D2-AT] Pleinting - St. Peter 258 [DIR] [D2]_LTA_corner#01_#12","10T-AT-DE-000037","[D2-AT] Y - St. Peter (- Altheim - Simbach) 234/230","10T-AT-DE-000045",0,0,-0.73211000000000004,0.18073,0.63141000000000003,0.18073,0,7818,{"$f":"IF((G1489*ALBE+H1489*ALDE+I1489*AT+J1489*BE+K1489*DE+L1489*FR+M1489*NL)>(N1489),1,0)","v":0},null,{"$f":"IF((C$6*G1489+D$6*H1489+E$6*I1489+F$6*J1489+G$6*K1489+H$6*L1489+I$6*M1489)>(N1489),1,0)","v":0}]
[null,2610,"[AT-AT] Westtirol Transformer WTRHU41 [OPP]_LTA_corner#20_#18","14T-38220-WT041O","BASECASE","N/A",0,0,0.98680000000000001,-6.9620000000000001E-2,0.12855,-6.9620000000000001E-2,0,4525,{"$f":"IF((G1490*ALBE+H1490*ALDE+I1490*AT+J1490*BE+K1490*DE+L1490*FR+M1490*NL)>(N1490),1,0)","v":0},null,{"$f":"IF((C$6*G1490+D$6*H1490+E$6*I1490+F$6*J1490+G$6*K1490+H$6*L1490+I$6*M1490)>(N1490),1,0)","v":0}]
[null,2611,"[D2-AT] Pleinting - St. Peter 258 [DIR] [AT]_LTA_corner#14_#12","10T-AT-DE-000037","[D2-D2] Pirach - Pleinting 257","11TD2L000000201H",0,0,-0.99778999999999995,1.239E-2,-5.4330000000000003E-2,3.628E-2,0,4793,{"$f":"IF((G1491*ALBE+H1491*ALDE+I1491*AT+J1491*BE+K1491*DE+L1491*FR+M1491*NL)>(N1491),1,0)","v":0},null,{"$f":"IF((C$6*G1491+D$6*H1491+E$6*I1491+F$6*J1491+G$6*K1491+H$6*L1491+I$6*M1491)>(N1491),1,0)","v":0}]
[null,2612,"[D2-AT] Pleinting - St. Peter 258 [DIR] [AT]_LTA_corner#04_#16","10T-AT-DE-000037","[D2-D2] Pirach - Pleinting 257","11TD2L000000201H",0,0,-0.99561999999999995,-6.5939999999999999E-2,6.8399999999999997E-3,-6.5939999999999999E-2,0,4963,{"$f":"IF((G1492*ALBE+H1492*ALDE+I1492*AT+J1492*BE+K1492*DE+L1492*FR+M1492*NL)>(N1492),1,0)","v":0},null,{"$f":"IF((C$6*G1492+D$6*H1492+E$6*I1492+F$6*J1492+G$6*K1492+H$6*L1492+I$6*M1492)>(N1492),1,0)","v":0}]
[null,2613,"[D2-AT] Pleinting - St. Peter 258 [DIR] [AT]_LTA_corner#01_#15","10T-AT-DE-000037","[D2-D2] Pirach - Pleinting 257","11TD2L000000201H",0,0,-0.99582000000000004,8.8669999999999999E-2,0,-2.196E-2,0,4944,{"$f":"IF((G1493*ALBE+H1493*ALDE+I1493*AT+J1493*BE+K1493*DE+L1493*FR+M1493*NL)>(N1493),1,0)","v":0},null,{"$f":"IF((C$6*G1493+D$6*H1493+E$6*I1493+F$6*J1493+G$6*K1493+H$6*L1493+I$6*M1493)>(N1493),1,0)","v":0}]
[null,2614,"[D7-D4] Hoheneck - Pulverdingen weiss [DIR] [D4]_LTA_corner#09_#39","11T-D4-D7-00014N","[D4-D7] Y - Herbertingen - Hoheneck - Metzingen schwarz","11TD40000A546-S0",0,0,-0.81147000000000002,-0.11225,-0.30935000000000001,-0.48293000000000003,0,3324,{"$f":"IF((G1494*ALBE+H1494*ALDE+I1494*AT+J1494*BE+K1494*DE+L1494*FR+M1494*NL)>(N1494),1,0)","v":0},null,{"$f":"IF((C$6*G1494+D$6*H1494+E$6*I1494+F$6*J1494+G$6*K1494+H$6*L1494+I$6*M1494)>(N1494),1,0)","v":0}]
[null,2615,"[D2-AT] Pleinting - St. Peter 258 [DIR] [D2]_LTA_corner#01_#0","10T-AT-DE-000037","[D2-AT] Y - St. Peter (- Altheim - Simbach) 234/230","10T-AT-DE-000045",0,0,-1,0,0,0,0,4821,{"$f":"IF((G1495*ALBE+H1495*ALDE+I1495*AT+J1495*BE+K1495*DE+L1495*FR+M1495*NL)>(N1495),1,0)","v":0},null,{"$f":"IF((C$6*G1495+D$6*H1495+E$6*I1495+F$6*J1495+G$6*K1495+H$6*L1495+I$6*M1495)>(N1495),1,0)","v":0}]
[null,2616,"[D2-AT] Pleinting - St. Peter 258 [DIR] [AT]_LTA_corner#14_#7","10T-AT-DE-000037","[D2-D2] Pirach - Pleinting 257","11TD2L000000201H",0,0,-0.99789000000000005,0,-1.277E-2,6.3710000000000003E-2,0,4978,{"$f":"IF((G1496*ALBE+H1496*ALDE+I1496*AT+J1496*BE+K1496*DE+L1496*FR+M1496*NL)>(N1496),1,0)","v":0},null,{"$f":"IF((C$6*G1496+D$6*H1496+E$6*I1496+F$6*J1496+G$6*K1496+H$6*L1496+I$6*M1496)>(N1496),1,0)","v":0}]
[null,2617,"ALDE_export","N/A","BASECASE","N/A",0,1,0,0,0,0,0,0,{"$f":"IF((G1497*ALBE+H1497*ALDE+I1497*AT+J1497*BE+K1497*DE+L1497*FR+M1497*NL)>(N1497),1,0)","v":0},null,{"$f":"IF((C$6*G1497+D$6*H1497+E$6*I1497+F$6*J1497+G$6*K1497+H$6*L1497+I$6*M1497)>(N1497),1,0)","v":0}]
[null,2618,"[AT-AT] Westtirol Transformer WTRHU41 [OPP]_LTA_corner#17_#2","14T-38220-WT041O","BASECASE","N/A",0,0,0.98456999999999995,0,0.13750000000000001,-0.10825,0,4541,{"$f":"IF((G1498*ALBE+H1498*ALDE+I1498*AT+J1498*BE+K1498*DE+L1498*FR+M1498*NL)>(N1498),1,0)","v":0},null,{"$f":"IF((C$6*G1498+D$6*H1498+E$6*I1498+F$6*J1498+G$6*K1498+H$6*L1498+I$6*M1498)>(N1498),1,0)","v":0}]
[null,2619,"[BE-BE] PST_ZANDV_2 [N - S]_LTA_corner#13_#4","22T20161020---56","[NL-BE] Rilland - Zandvliet 380 White/30","10T-BE-NL-00004C",0,0,-0.31524999999999997,-0.79407000000000005,-0.25289,-0.45400000000000001,0,2024,{"$f":"IF((G1499*ALBE+H1499*ALDE+I1499*AT+J1499*BE+K1499*DE+L1499*FR+M1499*NL)>(N1499),1,0)","v":0},null,{"$f":"IF((C$6*G1499+D$6*H1499+E$6*I1499+F$6*J1499+G$6*K1499+H$6*L1499+I$6*M1499)>(N1499),1,0)","v":0}]
[null,2620,"[D2-AT] Pleinting - St. Peter 258 [DIR] [AT]_LTA_corner#15_#0","10T-AT-DE-000037","[D2-D2] Pirach - Pleinting 257","11TD2L000000201H",0,0,-0.99631000000000003,-3.7499999999999999E-3,-8.1170000000000006E-2,-2.7640000000000001E-2,0,4612,{"$f":"IF((G1500*ALBE+H1500*ALDE+I1500*AT+J1500*BE+K1500*DE+L1500*FR+M1500*NL)>(N1500),1,0)","v":0},null,{"$f":"IF((C$6*G1500+D$6*H1500+E$6*I1500+F$6*J1500+G$6*K1500+H$6*L1500+I$6*M1500)>(N1500),1,0)","v":0}]
[null,2621,"[BE-FR] Achene - Lonny 380.19 [DIR] [BE]_LTA_corner#02_#19","10T-BE-FR-000015","[BE-BE] Avelgem - Horta 380.102","22T20161020---1E",0,0,-0.48860999999999999,0,-0.34448000000000001,-0.80162,0,2104,{"$f":"IF((G1501*ALBE+H1501*ALDE+I1501*AT+J1501*BE+K1501*DE+L1501*FR+M1501*NL)>(N1501),1,0)","v":0},null,{"$f":"IF((C$6*G1501+D$6*H1501+E$6*I1501+F$6*J1501+G$6*K1501+H$6*L1501+I$6*M1501)>(N1501),1,0)","v":0}]
[null,2622,"[AT-AT] Westtirol Transformer WTRHU41 [OPP]_LTA_corner#22_#9","14T-38220-WT041O","BASECASE","N/A",0,0,0.99007000000000001,-2.051E-2,0.13827,-1.481E-2,0,4432,{"$f":"IF((G1502*ALBE+H1502*ALDE+I1502*AT+J1502*BE+K1502*DE+L1502*FR+M1502*NL)>(N1502),1,0)","v":0},null,{"$f":"IF((C$6*G1502+D$6*H1502+E$6*I1502+F$6*J1502+G$6*K1502+H$6*L1502+I$6*M1502)>(N1502),1,0)","v":0}]
[null,2623,"[D2-AT] Pleinting - St. Peter 258 [DIR] [AT]_LTA_corner#01_#8","10T-AT-DE-000037","[D2-D2] Pirach - Pleinting 257","11TD2L000000201H",0,0,-0.99895999999999996,2.6290000000000001E-2,2.6290000000000001E-2,2.6290000000000001E-2,0,4987,{"$f":"IF((G1503*ALBE+H1503*ALDE+I1503*AT+J1503*BE+K1503*DE+L1503*FR+M1503*NL)>(N1503),1,0)","v":0},null,{"$f":"IF((C$6*G1503+D$6*H1503+E$6*I1503+F$6*J1503+G$6*K1503+H$6*L1503+I$6*M1503)>(N1503),1,0)","v":0}]
[null,2624,"[D2-AT] Pleinting - St. Peter 258 [DIR] [AT]_LTA_corner#06_#13","10T-AT-DE-000037","[D2-D2] Pirach - Pleinting 257","11TD2L000000201H",0,0,-0.99475000000000002,-9.8549999999999999E-2,0,-2.76E-2,0,5018,{"$f":"IF((G1504*ALBE+H1504*ALDE+I1504*AT+J1504*BE+K1504*DE+L1504*FR+M1504*NL)>(N1504),1,0)","v":0},null,{"$f":"IF((C$6*G1504+D$6*H1504+E$6*I1504+F$6*J1504+G$6*K1504+H$6*L1504+I$6*M1504)>(N1504),1,0)","v":0}]
[null,2625,"[D2-AT] Pleinting - St. Peter 258 [DIR] [D2]_LTA_corner#15_#15","10T-AT-DE-000037","[D2-AT] Y - St. Peter (- Altheim - Simbach) 234/230","10T-AT-DE-000045",0,0,-0.99875999999999998,-5.6699999999999997E-3,-3.6240000000000001E-2,-3.3730000000000003E-2,0,4714,{"$f":"IF((G1505*ALBE+H1505*ALDE+I1505*AT+J1505*BE+K1505*DE+L1505*FR+M1505*NL)>(N1505),1,0)","v":0},null,{"$f":"IF((C$6*G1505+D$6*H1505+E$6*I1505+F$6*J1505+G$6*K1505+H$6*L1505+I$6*M1505)>(N1505),1,0)","v":0}]
[null,2626,"[BE-FR] Achene - Lonny 380.19 [DIR] [BE]_LTA_corner#02_#24","10T-BE-FR-000015","[BE-BE] Avelgem - Horta 380.102","22T20161020---1E",0,0,-0.49425999999999998,0,-0.3659,-0.78856000000000004,0,2015,{"$f":"IF((G1506*ALBE+H1506*ALDE+I1506*AT+J1506*BE+K1506*DE+L1506*FR+M1506*NL)>(N1506),1,0)","v":0},null,{"$f":"IF((C$6*G1506+D$6*H1506+E$6*I1506+F$6*J1506+G$6*K1506+H$6*L1506+I$6*M1506)>(N1506),1,0)","v":0}]
[null,2627,"[BE-BE] PST_ZANDV_2 [N - S]_LTA_corner#13_#10","22T20161020---56","[NL-BE] Rilland - Zandvliet 380 White/30","10T-BE-NL-00004C",0,0,-0.32244,-0.80271000000000003,-0.27829999999999999,-0.41742000000000001,0,1992,{"$f":"IF((G1507*ALBE+H1507*ALDE+I1507*AT+J1507*BE+K1507*DE+L1507*FR+M1507*NL)>(N1507),1,0)","v":0},null,{"$f":"IF((C$6*G1507+D$6*H1507+E$6*I1507+F$6*J1507+G$6*K1507+H$6*L1507+I$6*M1507)>(N1507),1,0)","v":0}]
[null,2628,"[AT-AT] Westtirol Transformer WTRHU41 [OPP]_LTA_corner#20_#16","14T-38220-WT041O","BASECASE","N/A",0,0,0.98497999999999997,-7.3819999999999997E-2,0.13755999999999999,-7.3819999999999997E-2,0,4499,{"$f":"IF((G1508*ALBE+H1508*ALDE+I1508*AT+J1508*BE+K1508*DE+L1508*FR+M1508*NL)>(N1508),1,0)","v":0},null,{"$f":"IF((C$6*G1508+D$6*H1508+E$6*I1508+F$6*J1508+G$6*K1508+H$6*L1508+I$6*M1508)>(N1508),1,0)","v":0}]
[null,2629,"[D2-AT] Pleinting - St. Peter 258 [DIR] [AT]_LTA_corner#02_#13","10T-AT-DE-000037","[D2-D2] Pirach - Pleinting 257","11TD2L000000201H",0,0,-0.99716000000000005,0,-5.323E-2,-5.323E-2,0,4655,{"$f":"IF((G1509*ALBE+H1509*ALDE+I1509*AT+J1509*BE+K1509*DE+L1509*FR+M1509*NL)>(N1509),1,0)","v":0},null,{"$f":"IF((C$6*G1509+D$6*H1509+E$6*I1509+F$6*J1509+G$6*K1509+H$6*L1509+I$6*M1509)>(N1509),1,0)","v":0}]
[null,2630,"[D2-AT] Pleinting - St. Peter 258 [DIR] [AT]_LTA_corner#01_#7","10T-AT-DE-000037","[D2-D2] Pirach - Pleinting 257","11TD2L000000201H",0,0,-0.99812000000000001,6.0179999999999997E-2,8.4200000000000004E-3,8.4200000000000004E-3,0,4930,{"$f":"IF((G1510*ALBE+H1510*ALDE+I1510*AT+J1510*BE+K1510*DE+L1510*FR+M1510*NL)>(N1510),1,0)","v":0},null,{"$f":"IF((C$6*G1510+D$6*H1510+E$6*I1510+F$6*J1510+G$6*K1510+H$6*L1510+I$6*M1510)>(N1510),1,0)","v":0}]
[null,2631,"[D2-AT] Pleinting - St. Peter 258 [DIR] [AT]_LTA_corner#09_#11","10T-AT-DE-000037","[D2-D2] Pirach - Pleinting 257","11TD2L000000201H",0,0,-0.99719999999999998,-9.75E-3,-5.2420000000000001E-2,-5.2420000000000001E-2,0,4659,{"$f":"IF((G1511*ALBE+H1511*ALDE+I1511*AT+J1511*BE+K1511*DE+L1511*FR+M1511*NL)>(N1511),1,0)","v":0},null,{"$f":"IF((C$6*G1511+D$6*H1511+E$6*I1511+F$6*J1511+G$6*K1511+H$6*L1511+I$6*M1511)>(N1511),1,0)","v":0}]
[null,2632,"[D2-AT] Pleinting - St. Peter 258 [DIR] [D2]_LTA_corner#05_#6","10T-AT-DE-000037","[D2-AT] Y - St. Peter (- Altheim - Simbach) 234/230","10T-AT-DE-000045",0,0,-0.98480000000000001,0,0.16350000000000001,5.8610000000000002E-2,0,5917,{"$f":"IF((G1512*ALBE+H1512*ALDE+I1512*AT+J1512*BE+K1512*DE+L1512*FR+M1512*NL)>(N1512),1,0)","v":0},null,{"$f":"IF((C$6*G1512+D$6*H1512+E$6*I1512+F$6*J1512+G$6*K1512+H$6*L1512+I$6*M1512)>(N1512),1,0)","v":0}]
[null,2633,"[D2-AT] Pleinting - St. Peter 258 [DIR] [D2]_LTA_corner#01_#5","10T-AT-DE-000037","[D2-AT] Y - St. Peter (- Altheim - Simbach) 234/230","10T-AT-DE-000045",0,0,-1,2.0000000000000001E-4,0,0,0,4821,{"$f":"IF((G1513*ALBE+H1513*ALDE+I1513*AT+J1513*BE+K1513*DE+L1513*FR+M1513*NL)>(N1513),1,0)","v":0},null,{"$f":"IF((C$6*G1513+D$6*H1513+E$6*I1513+F$6*J1513+G$6*K1513+H$6*L1513+I$6*M1513)>(N1513),1,0)","v":0}]
[null,2634,"[D2-AT] Pleinting - St. Peter 258 [DIR] [AT]_LTA_corner#12_#1","10T-AT-DE-000037","[D2-D2] Pirach - Pleinting 257","11TD2L000000201H",0,0,-0.99743999999999999,-1.5900000000000001E-3,0,7.1540000000000006E-2,0,5031,{"$f":"IF((G1514*ALBE+H1514*ALDE+I1514*AT+J1514*BE+K1514*DE+L1514*FR+M1514*NL)>(N1514),1,0)","v":0},null,{"$f":"IF((C$6*G1514+D$6*H1514+E$6*I1514+F$6*J1514+G$6*K1514+H$6*L1514+I$6*M1514)>(N1514),1,0)","v":0}]
[null,2635,"[AT-AT] Westtirol Transformer WTRHU41 [OPP]_LTA_corner#20_#0","14T-38220-WT041O","BASECASE","N/A",0,0,0.99448000000000003,-2.06E-2,7.5289999999999996E-2,-7.016E-2,0,4702,{"$f":"IF((G1515*ALBE+H1515*ALDE+I1515*AT+J1515*BE+K1515*DE+L1515*FR+M1515*NL)>(N1515),1,0)","v":0},null,{"$f":"IF((C$6*G1515+D$6*H1515+E$6*I1515+F$6*J1515+G$6*K1515+H$6*L1515+I$6*M1515)>(N1515),1,0)","v":0}]
[null,2636,"[BE-FR] Achene - Lonny 380.19 [DIR] [BE]_LTA_corner#02_#22","10T-BE-FR-000015","[BE-BE] Avelgem - Horta 380.102","22T20161020---1E",0,0,-0.44954,0.33928000000000003,-0.32852999999999999,-0.75819999999999999,0,2331,{"$f":"IF((G1516*ALBE+H1516*ALDE+I1516*AT+J1516*BE+K1516*DE+L1516*FR+M1516*NL)>(N1516),1,0)","v":0},null,{"$f":"IF((C$6*G1516+D$6*H1516+E$6*I1516+F$6*J1516+G$6*K1516+H$6*L1516+I$6*M1516)>(N1516),1,0)","v":0}]
[null,2637,"[D2-AT] Pleinting - St. Peter 258 [DIR] [D2]_LTA_corner#05_#5","10T-AT-DE-000037","[D2-AT] Y - St. Peter (- Altheim - Simbach) 234/230","10T-AT-DE-000045",0,0,-0.99911000000000005,2.97E-3,2.981E-2,2.981E-2,0,5040,{"$f":"IF((G1517*ALBE+H1517*ALDE+I1517*AT+J1517*BE+K1517*DE+L1517*FR+M1517*NL)>(N1517),1,0)","v":0},null,{"$f":"IF((C$6*G1517+D$6*H1517+E$6*I1517+F$6*J1517+G$6*K1517+H$6*L1517+I$6*M1517)>(N1517),1,0)","v":0}]
[null,2638,"[D2-AT] Y - St. Peter (- Altheim - Simbach) 234/230 [OPP] [D2]","10T-AT-DE-000045","[D2-AT] Pirach - St. Peter 256","10T-AT-DE-000029",-4.4609999999999997E-2,-4.6039999999999998E-2,2.8139999999999998E-2,-4.4350000000000001E-2,-4.5659999999999999E-2,-4.1209999999999997E-2,-4.5260000000000002E-2,411,{"$f":"IF((G1518*ALBE+H1518*ALDE+I1518*AT+J1518*BE+K1518*DE+L1518*FR+M1518*NL)>(N1518),1,0)","v":0},null,{"$f":"IF((C$6*G1518+D$6*H1518+E$6*I1518+F$6*J1518+G$6*K1518+H$6*L1518+I$6*M1518)>(N1518),1,0)","v":0}]
[null,2639,"[D2-AT] Pleinting - St. Peter 258 [DIR] [D2]_LTA_corner#05_#0","10T-AT-DE-000037","[D2-AT] Y - St. Peter (- Altheim - Simbach) 234/230","10T-AT-DE-000045",0,0,0.51690999999999998,0.27495000000000003,0.68952999999999998,0.42632999999999999,0,2269,{"$f":"IF((G1519*ALBE+H1519*ALDE+I1519*AT+J1519*BE+K1519*DE+L1519*FR+M1519*NL)>(N1519),1,0)","v":0},null,{"$f":"IF((C$6*G1519+D$6*H1519+E$6*I1519+F$6*J1519+G$6*K1519+H$6*L1519+I$6*M1519)>(N1519),1,0)","v":0}]
[null,2640,"[D2-AT] Pleinting - St. Peter 258 [DIR] [AT]_LTA_corner#14_#0","10T-AT-DE-000037","[D2-D2] Pirach - Pleinting 257","11TD2L000000201H",0,0,-0.99753999999999998,0,-6.7960000000000007E-2,1.704E-2,0,4718,{"$f":"IF((G1520*ALBE+H1520*ALDE+I1520*AT+J1520*BE+K1520*DE+L1520*FR+M1520*NL)>(N1520),1,0)","v":0},null,{"$f":"IF((C$6*G1520+D$6*H1520+E$6*I1520+F$6*J1520+G$6*K1520+H$6*L1520+I$6*M1520)>(N1520),1,0)","v":0}]
[null,2641,"[D2-AT] Pleinting - St. Peter 258 [DIR] [D2]_LTA_corner#01_#16","10T-AT-DE-000037","[D2-AT] Y - St. Peter (- Altheim - Simbach) 234/230","10T-AT-DE-000045",0,0,-0.86555000000000004,0.20660000000000001,0.40676000000000001,0.20660000000000001,0,6901,{"$f":"IF((G1521*ALBE+H1521*ALDE+I1521*AT+J1521*BE+K1521*DE+L1521*FR+M1521*NL)>(N1521),1,0)","v":0},null,{"$f":"IF((C$6*G1521+D$6*H1521+E$6*I1521+F$6*J1521+G$6*K1521+H$6*L1521+I$6*M1521)>(N1521),1,0)","v":0}]
[null,2642,"[D2-NL] Diele - Meeden 380 Black [DIR] [D2]","10T-DE-NL-00001V","[D2-NL] Diele - Meeden 380 White ","10T-DE-NL-00002T",-7.0650000000000004E-2,-3.6889999999999999E-2,-1.1140000000000001E-2,-7.2569999999999996E-2,1.328E-2,-4.0849999999999997E-2,-0.12967000000000001,432,{"$f":"IF((G1522*ALBE+H1522*ALDE+I1522*AT+J1522*BE+K1522*DE+L1522*FR+M1522*NL)>(N1522),1,0)","v":0},null,{"$f":"IF((C$6*G1522+D$6*H1522+E$6*I1522+F$6*J1522+G$6*K1522+H$6*L1522+I$6*M1522)>(N1522),1,0)","v":0}]
[null,2643,"[D2-AT] Pleinting - St. Peter 258 [DIR] [D2]_LTA_corner#04_#6","10T-AT-DE-000037","[D2-AT] Y - St. Peter (- Altheim - Simbach) 234/230","10T-AT-DE-000045",0,0,-0.99629999999999996,-6.0699999999999997E-2,0,-6.0879999999999997E-2,0,4910,{"$f":"IF((G1523*ALBE+H1523*ALDE+I1523*AT+J1523*BE+K1523*DE+L1523*FR+M1523*NL)>(N1523),1,0)","v":0},null,{"$f":"IF((C$6*G1523+D$6*H1523+E$6*I1523+F$6*J1523+G$6*K1523+H$6*L1523+I$6*M1523)>(N1523),1,0)","v":0}]
[null,2644,"[D2-AT] Pleinting - St. Peter 258 [DIR] [D2]_LTA_corner#01_#17","10T-AT-DE-000037","[D2-AT] Y - St. Peter (- Altheim - Simbach) 234/230","10T-AT-DE-000045",0,0,-0.83079000000000003,0.21562999999999999,0.46561999999999998,0.21562999999999999,0,7136,{"$f":"IF((G1524*ALBE+H1524*ALDE+I1524*AT+J1524*BE+K1524*DE+L1524*FR+M1524*NL)>(N1524),1,0)","v":0},null,{"$f":"IF((C$6*G1524+D$6*H1524+E$6*I1524+F$6*J1524+G$6*K1524+H$6*L1524+I$6*M1524)>(N1524),1,0)","v":0}]
[null,2645,"[BE-BE] PST_ZANDV_2 [N - S]_LTA_corner#13_#8","22T20161020---56","[NL-BE] Rilland - Zandvliet 380 White/30","10T-BE-NL-00004C",0,0,-0.32445000000000002,-0.77136000000000005,-0.25117,-0.48647000000000001,0,1997,{"$f":"IF((G1525*ALBE+H1525*ALDE+I1525*AT+J1525*BE+K1525*DE+L1525*FR+M1525*NL)>(N1525),1,0)","v":0},null,{"$f":"IF((C$6*G1525+D$6*H1525+E$6*I1525+F$6*J1525+G$6*K1525+H$6*L1525+I$6*M1525)>(N1525),1,0)","v":0}]
[null,2646,"[D2-AT] Pleinting - St. Peter 258 [DIR] [AT]_LTA_corner#02_#11","10T-AT-DE-000037","[D2-D2] Pirach - Pleinting 257","11TD2L000000201H",0,0,-0.99766999999999995,5.586E-2,-2.768E-2,-2.768E-2,0,4799,{"$f":"IF((G1526*ALBE+H1526*ALDE+I1526*AT+J1526*BE+K1526*DE+L1526*FR+M1526*NL)>(N1526),1,0)","v":0},null,{"$f":"IF((C$6*G1526+D$6*H1526+E$6*I1526+F$6*J1526+G$6*K1526+H$6*L1526+I$6*M1526)>(N1526),1,0)","v":0}]
[null,2647,"[D2-AT] Pleinting - St. Peter 258 [DIR] [D2]_LTA_corner#15_#0","10T-AT-DE-000037","[D2-AT] Y - St. Peter (- Altheim - Simbach) 234/230","10T-AT-DE-000045",0,0,-0.96235999999999999,-0.10495,-0.18617,-0.16789000000000001,0,4138,{"$f":"IF((G1527*ALBE+H1527*ALDE+I1527*AT+J1527*BE+K1527*DE+L1527*FR+M1527*NL)>(N1527),1,0)","v":0},null,{"$f":"IF((C$6*G1527+D$6*H1527+E$6*I1527+F$6*J1527+G$6*K1527+H$6*L1527+I$6*M1527)>(N1527),1,0)","v":0}]
[null,2648,"[D2-AT] Pleinting - St. Peter 258 [DIR] [AT]_LTA_corner#04_#8","10T-AT-DE-000037","[D2-D2] Pirach - Pleinting 257","11TD2L000000201H",0,0,-0.99553000000000003,-6.6519999999999996E-2,8.3999999999999995E-3,-6.6519999999999996E-2,0,4974,{"$f":"IF((G1528*ALBE+H1528*ALDE+I1528*AT+J1528*BE+K1528*DE+L1528*FR+M1528*NL)>(N1528),1,0)","v":0},null,{"$f":"IF((C$6*G1528+D$6*H1528+E$6*I1528+F$6*J1528+G$6*K1528+H$6*L1528+I$6*M1528)>(N1528),1,0)","v":0}]
[null,2649,"[BE-FR] Achene - Lonny 380.19 [DIR] [BE]_LTA_corner#02_#16","10T-BE-FR-000015","[BE-BE] Avelgem - Horta 380.102","22T20161020---1E",0,0,-0.50160000000000005,0,-0.37136999999999998,-0.78134000000000003,0,2015,{"$f":"IF((G1529*ALBE+H1529*ALDE+I1529*AT+J1529*BE+K1529*DE+L1529*FR+M1529*NL)>(N1529),1,0)","v":0},null,{"$f":"IF((C$6*G1529+D$6*H1529+E$6*I1529+F$6*J1529+G$6*K1529+H$6*L1529+I$6*M1529)>(N1529),1,0)","v":0}]
[null,2650,"[D2-AT] Pleinting - St. Peter 258 [DIR] [D2]_LTA_corner#04_#3","10T-AT-DE-000037","[D2-AT] Y - St. Peter (- Altheim - Simbach) 234/230","10T-AT-DE-000045",0,0,-0.99639,-5.9880000000000003E-2,5.4900000000000001E-3,-5.9880000000000003E-2,0,4946,{"$f":"IF((G1530*ALBE+H1530*ALDE+I1530*AT+J1530*BE+K1530*DE+L1530*FR+M1530*NL)>(N1530),1,0)","v":0},null,{"$f":"IF((C$6*G1530+D$6*H1530+E$6*I1530+F$6*J1530+G$6*K1530+H$6*L1530+I$6*M1530)>(N1530),1,0)","v":0}]
[null,2651,"[BE-BE] PST_ZANDV_2 [N - S]_LTA_corner#13_#25","22T20161020---56","[NL-BE] Rilland - Zandvliet 380 White/30","10T-BE-NL-00004C",0,0,-0.36852000000000001,-0.71221000000000001,-0.32413999999999998,-0.50187000000000004,0,1729,{"$f":"IF((G1531*ALBE+H1531*ALDE+I1531*AT+J1531*BE+K1531*DE+L1531*FR+M1531*NL)>(N1531),1,0)","v":0},null,{"$f":"IF((C$6*G1531+D$6*H1531+E$6*I1531+F$6*J1531+G$6*K1531+H$6*L1531+I$6*M1531)>(N1531),1,0)","v":0}]
[null,2652,"[BE-BE] PST_ZANDV_2 [N - S]_LTA_corner#13_#5","22T20161020---56","[NL-BE] Rilland - Zandvliet 380 White/30","10T-BE-NL-00004C",0,0,-0.35541,-0.72072999999999998,-0.31030999999999997,-0.50787000000000004,0,1744,{"$f":"IF((G1532*ALBE+H1532*ALDE+I1532*AT+J1532*BE+K1532*DE+L1532*FR+M1532*NL)>(N1532),1,0)","v":0},null,{"$f":"IF((C$6*G1532+D$6*H1532+E$6*I1532+F$6*J1532+G$6*K1532+H$6*L1532+I$6*M1532)>(N1532),1,0)","v":0}]
[null,2653,"[D2-AT] Pleinting - St. Peter 258 [DIR] [D2]_LTA_corner#05_#3","10T-AT-DE-000037","[D2-AT] Y - St. Peter (- Altheim - Simbach) 234/230","10T-AT-DE-000045",0,0,-0.98573999999999995,0,0.16470000000000001,3.4380000000000001E-2,0,5913,{"$f":"IF((G1533*ALBE+H1533*ALDE+I1533*AT+J1533*BE+K1533*DE+L1533*FR+M1533*NL)>(N1533),1,0)","v":0},null,{"$f":"IF((C$6*G1533+D$6*H1533+E$6*I1533+F$6*J1533+G$6*K1533+H$6*L1533+I$6*M1533)>(N1533),1,0)","v":0}]
[null,2654,"[D4-AT] Buers - Westtirol 421 weiss [OPP] [D4]_LTA_corner#20_#4","10T-AT-DE-000061","[AT-AT] Westtirol Transformer WTRHU41","14T-38220-WT041O",0,0,0.98763000000000001,-2.8459999999999999E-2,0.14767,-4.446E-2,0,4430,{"$f":"IF((G1534*ALBE+H1534*ALDE+I1534*AT+J1534*BE+K1534*DE+L1534*FR+M1534*NL)>(N1534),1,0)","v":0},null,{"$f":"IF((C$6*G1534+D$6*H1534+E$6*I1534+F$6*J1534+G$6*K1534+H$6*L1534+I$6*M1534)>(N1534),1,0)","v":0}]
[null,2655,"[D2-AT] Pleinting - St. Peter 258 [DIR] [D2]_LTA_corner#09_#2","10T-AT-DE-000037","[D2-AT] Y - St. Peter (- Altheim - Simbach) 234/230","10T-AT-DE-000045",0,0,-0.96450000000000002,-0.10178,-0.17232,-0.17232,0,4174,{"$f":"IF((G1535*ALBE+H1535*ALDE+I1535*AT+J1535*BE+K1535*DE+L1535*FR+M1535*NL)>(N1535),1,0)","v":0},null,{"$f":"IF((C$6*G1535+D$6*H1535+E$6*I1535+F$6*J1535+G$6*K1535+H$6*L1535+I$6*M1535)>(N1535),1,0)","v":0}]
[null,2656,"[BE-BE] PST_ZANDV_2 [N - S]_LTA_corner#13_#0","22T20161020---56","[NL-BE] Rilland - Zandvliet 380 White/30","10T-BE-NL-00004C",0,0,-0.39106000000000002,-0.70967000000000002,-0.30554999999999999,-0.50007999999999997,0,1915,{"$f":"IF((G1536*ALBE+H1536*ALDE+I1536*AT+J1536*BE+K1536*DE+L1536*FR+M1536*NL)>(N1536),1,0)","v":0},null,{"$f":"IF((C$6*G1536+D$6*H1536+E$6*I1536+F$6*J1536+G$6*K1536+H$6*L1536+I$6*M1536)>(N1536),1,0)","v":0}]
[null,2657,"[NL-NL] Krimpen a/d IJssel - Geertruidenberg 380 Zwart [OPP]","49T0000000000282","[NL-NL] Diemen - Lelystad 380 Wit","49T0000000000096",0.1166,2.2030000000000001E-2,1.206E-2,0.13754,-2.3560000000000001E-2,6.3640000000000002E-2,-0.26045000000000001,1802,{"$f":"IF((G1537*ALBE+H1537*ALDE+I1537*AT+J1537*BE+K1537*DE+L1537*FR+M1537*NL)>(N1537),1,0)","v":0},null,{"$f":"IF((C$6*G1537+D$6*H1537+E$6*I1537+F$6*J1537+G$6*K1537+H$6*L1537+I$6*M1537)>(N1537),1,0)","v":0}]
[null,2658,"[AT-AT] Westtirol Transformer WTRHU41 [OPP]_LTA_corner#17_#0","14T-38220-WT041O","BASECASE","N/A",0,0,0.98724999999999996,3.8379999999999997E-2,0.13788,-6.9650000000000004E-2,0,4538,{"$f":"IF((G1538*ALBE+H1538*ALDE+I1538*AT+J1538*BE+K1538*DE+L1538*FR+M1538*NL)>(N1538),1,0)","v":0},null,{"$f":"IF((C$6*G1538+D$6*H1538+E$6*I1538+F$6*J1538+G$6*K1538+H$6*L1538+I$6*M1538)>(N1538),1,0)","v":0}]
[null,2659,"[AT-AT] Westtirol Transformer WTRHU41 [OPP]_LTA_corner#20_#23","14T-38220-WT041O","BASECASE","N/A",0,0,0.98926000000000003,-2.0490000000000001E-2,0.14326,-2.0490000000000001E-2,0,4411,{"$f":"IF((G1539*ALBE+H1539*ALDE+I1539*AT+J1539*BE+K1539*DE+L1539*FR+M1539*NL)>(N1539),1,0)","v":0},null,{"$f":"IF((C$6*G1539+D$6*H1539+E$6*I1539+F$6*J1539+G$6*K1539+H$6*L1539+I$6*M1539)>(N1539),1,0)","v":0}]
[null,2660,"ALBE_export","N/A","BASECASE","N/A",1,0,0,0,0,0,0,0,{"$f":"IF((G1540*ALBE+H1540*ALDE+I1540*AT+J1540*BE+K1540*DE+L1540*FR+M1540*NL)>(N1540),1,0)","v":0},null,{"$f":"IF((C$6*G1540+D$6*H1540+E$6*I1540+F$6*J1540+G$6*K1540+H$6*L1540+I$6*M1540)>(N1540),1,0)","v":0}]
[null,2661,"[D2-AT] Pleinting - St. Peter 258 [DIR] [D2]_LTA_corner#04_#2","10T-AT-DE-000037","[D2-AT] Y - St. Peter (- Altheim - Simbach) 234/230","10T-AT-DE-000045",0,0,-0.99631999999999998,-6.0639999999999999E-2,3.5E-4,-6.0639999999999999E-2,0,4912,{"$f":"IF((G1541*ALBE+H1541*ALDE+I1541*AT+J1541*BE+K1541*DE+L1541*FR+M1541*NL)>(N1541),1,0)","v":0},null,{"$f":"IF((C$6*G1541+D$6*H1541+E$6*I1541+F$6*J1541+G$6*K1541+H$6*L1541+I$6*M1541)>(N1541),1,0)","v":0}]
[null,2662,"[D2-AT] Pleinting - St. Peter 258 [DIR] [AT]_LTA_corner#03_#0","10T-AT-DE-000037","[D2-D2] Pirach - Pleinting 257","11TD2L000000201H",0,0,-0.99880000000000002,3.4110000000000001E-2,8.43E-3,3.4110000000000001E-2,0,4921,{"$f":"IF((G1542*ALBE+H1542*ALDE+I1542*AT+J1542*BE+K1542*DE+L1542*FR+M1542*NL)>(N1542),1,0)","v":0},null,{"$f":"IF((C$6*G1542+D$6*H1542+E$6*I1542+F$6*J1542+G$6*K1542+H$6*L1542+I$6*M1542)>(N1542),1,0)","v":0}]
[null,2663,"[D2-AT] Pleinting - St. Peter 258 [DIR] [AT]_LTA_corner#14_#2","10T-AT-DE-000037","[D2-D2] Pirach - Pleinting 257","11TD2L000000201H",0,0,-0.99770000000000003,0,-6.1700000000000001E-3,6.7479999999999998E-2,0,5003,{"$f":"IF((G1543*ALBE+H1543*ALDE+I1543*AT+J1543*BE+K1543*DE+L1543*FR+M1543*NL)>(N1543),1,0)","v":0},null,{"$f":"IF((C$6*G1543+D$6*H1543+E$6*I1543+F$6*J1543+G$6*K1543+H$6*L1543+I$6*M1543)>(N1543),1,0)","v":0}]
[null,2664,"[D2-AT] Pleinting - St. Peter 258 [DIR] [D2]_LTA_corner#12_#8","10T-AT-DE-000037","[D2-AT] Y - St. Peter (- Altheim - Simbach) 234/230","10T-AT-DE-000045",0,0,-0.99995999999999996,-5.6800000000000002E-3,0,7.0499999999999998E-3,0,4856,{"$f":"IF((G1544*ALBE+H1544*ALDE+I1544*AT+J1544*BE+K1544*DE+L1544*FR+M1544*NL)>(N1544),1,0)","v":0},null,{"$f":"IF((C$6*G1544+D$6*H1544+E$6*I1544+F$6*J1544+G$6*K1544+H$6*L1544+I$6*M1544)>(N1544),1,0)","v":0}]
[null,2665,"[D7-D4] Hoheneck - Pulverdingen weiss [DIR] [D4]_LTA_corner#09_#24","11T-D4-D7-00014N","[D4-D7] Y - Herbertingen - Hoheneck - Metzingen schwarz","11TD40000A546-S0",0,0,-0.84428000000000003,-9.2840000000000006E-2,-0.31805,-0.42120000000000002,0,3342,{"$f":"IF((G1545*ALBE+H1545*ALDE+I1545*AT+J1545*BE+K1545*DE+L1545*FR+M1545*NL)>(N1545),1,0)","v":0},null,{"$f":"IF((C$6*G1545+D$6*H1545+E$6*I1545+F$6*J1545+G$6*K1545+H$6*L1545+I$6*M1545)>(N1545),1,0)","v":0}]
[null,2666,"[BE-FR] Achene - Lonny 380.19 [DIR] [BE]_LTA_corner#02_#0","10T-BE-FR-000015","[BE-BE] Avelgem - Horta 380.102","22T20161020---1E",0,0,-0.45663999999999999,0.34464,-0.28199000000000002,-0.77017999999999998,0,2598,{"$f":"IF((G1546*ALBE+H1546*ALDE+I1546*AT+J1546*BE+K1546*DE+L1546*FR+M1546*NL)>(N1546),1,0)","v":0},null,{"$f":"IF((C$6*G1546+D$6*H1546+E$6*I1546+F$6*J1546+G$6*K1546+H$6*L1546+I$6*M1546)>(N1546),1,0)","v":0}]
[null,2667,"[BE-BE] PST_ZANDV_2 [N - S]_LTA_corner#13_#12","22T20161020---56","[NL-BE] Rilland - Zandvliet 380 White/30","10T-BE-NL-00004C",0,0,-0.39440999999999998,-0.68335000000000001,-0.33848,-0.51273999999999997,0,1712,{"$f":"IF((G1547*ALBE+H1547*ALDE+I1547*AT+J1547*BE+K1547*DE+L1547*FR+M1547*NL)>(N1547),1,0)","v":0},null,{"$f":"IF((C$6*G1547+D$6*H1547+E$6*I1547+F$6*J1547+G$6*K1547+H$6*L1547+I$6*M1547)>(N1547),1,0)","v":0}]
[null,2668,"[D2-AT] Pleinting - St. Peter 258 [DIR] [AT]_LTA_corner#01_#13","10T-AT-DE-000037","[D2-D2] Pirach - Pleinting 257","11TD2L000000201H",0,0,-0.99578999999999995,8.8789999999999994E-2,0,-2.2710000000000001E-2,0,4945,{"$f":"IF((G1548*ALBE+H1548*ALDE+I1548*AT+J1548*BE+K1548*DE+L1548*FR+M1548*NL)>(N1548),1,0)","v":0},null,{"$f":"IF((C$6*G1548+D$6*H1548+E$6*I1548+F$6*J1548+G$6*K1548+H$6*L1548+I$6*M1548)>(N1548),1,0)","v":0}]
[null,2669,"[D2-AT] Pleinting - St. Peter 258 [DIR] [AT]_LTA_corner#11_#5","10T-AT-DE-000037","[D2-D2] Pirach - Pleinting 257","11TD2L000000201H",0,0,-0.99709000000000003,4.2700000000000004E-3,-7.6009999999999994E-2,4.2700000000000004E-3,0,4656,{"$f":"IF((G1549*ALBE+H1549*ALDE+I1549*AT+J1549*BE+K1549*DE+L1549*FR+M1549*NL)>(N1549),1,0)","v":0},null,{"$f":"IF((C$6*G1549+D$6*H1549+E$6*I1549+F$6*J1549+G$6*K1549+H$6*L1549+I$6*M1549)>(N1549),1,0)","v":0}]
[null,2670,"[D2-AT] Pleinting - St. Peter 258 [DIR] [AT]_LTA_corner#06_#4","10T-AT-DE-000037","[D2-D2] Pirach - Pleinting 257","11TD2L000000201H",0,0,-0.99736000000000002,-7.1690000000000004E-2,8.4100000000000008E-3,8.4100000000000008E-3,0,5048,{"$f":"IF((G1550*ALBE+H1550*ALDE+I1550*AT+J1550*BE+K1550*DE+L1550*FR+M1550*NL)>(N1550),1,0)","v":0},null,{"$f":"IF((C$6*G1550+D$6*H1550+E$6*I1550+F$6*J1550+G$6*K1550+H$6*L1550+I$6*M1550)>(N1550),1,0)","v":0}]
[null,2671,"[D2-AT] Pleinting - St. Peter 258 [DIR] [D2]_LTA_corner#06_#12","10T-AT-DE-000037","[D2-AT] Y - St. Peter (- Altheim - Simbach) 234/230","10T-AT-DE-000045",0,0,-0.99983,-1.472E-2,7.77E-3,7.77E-3,0,4915,{"$f":"IF((G1551*ALBE+H1551*ALDE+I1551*AT+J1551*BE+K1551*DE+L1551*FR+M1551*NL)>(N1551),1,0)","v":0},null,{"$f":"IF((C$6*G1551+D$6*H1551+E$6*I1551+F$6*J1551+G$6*K1551+H$6*L1551+I$6*M1551)>(N1551),1,0)","v":0}]
[null,2672,"[D2-AT] Pleinting - St. Peter 258 [DIR] [AT]_LTA_corner#03_#2","10T-AT-DE-000037","[D2-D2] Pirach - Pleinting 257","11TD2L000000201H",0,0,-0.99895,3.2390000000000002E-2,0,3.2390000000000002E-2,0,4880,{"$f":"IF((G1552*ALBE+H1552*ALDE+I1552*AT+J1552*BE+K1552*DE+L1552*FR+M1552*NL)>(N1552),1,0)","v":0},null,{"$f":"IF((C$6*G1552+D$6*H1552+E$6*I1552+F$6*J1552+G$6*K1552+H$6*L1552+I$6*M1552)>(N1552),1,0)","v":0}]
[null,2673,"[D7-FR] Ensdorf - Vigy 2S [OPP] [D7]","10T-DE-FR-000068","[D7-D7] Ensdorf - Uchtelfangen Taubental N","11T0-0000-0604-N",6.5159999999999996E-2,-6.2740000000000004E-2,2.0240000000000001E-2,8.1129999999999994E-2,-2.0150000000000001E-2,0.18176,1.206E-2,770,{"$f":"IF((G1553*ALBE+H1553*ALDE+I1553*AT+J1553*BE+K1553*DE+L1553*FR+M1553*NL)>(N1553),1,0)","v":0},null,{"$f":"IF((C$6*G1553+D$6*H1553+E$6*I1553+F$6*J1553+G$6*K1553+H$6*L1553+I$6*M1553)>(N1553),1,0)","v":0}]
[null,2674,"[BE-FR] Achene - Lonny 380.19 [DIR] [BE]_LTA_corner#09_#6","10T-BE-FR-000015","[BE-BE] Avelgem - Horta 380.102","22T20161020---1E",0,0,-0.41377999999999998,-0.60062000000000004,-0.32757999999999998,-0.60062000000000004,0,1589,{"$f":"IF((G1554*ALBE+H1554*ALDE+I1554*AT+J1554*BE+K1554*DE+L1554*FR+M1554*NL)>(N1554),1,0)","v":0},null,{"$f":"IF((C$6*G1554+D$6*H1554+E$6*I1554+F$6*J1554+G$6*K1554+H$6*L1554+I$6*M1554)>(N1554),1,0)","v":0}]
[null,2675,"[D2-AT] Pleinting - St. Peter 258 [DIR] [AT]_LTA_corner#01_#1","10T-AT-DE-000037","[D2-D2] Pirach - Pleinting 257","11TD2L000000201H",0,0,-0.99461999999999995,9.9479999999999999E-2,8.3899999999999999E-3,-2.76E-2,0,5018,{"$f":"IF((G1555*ALBE+H1555*ALDE+I1555*AT+J1555*BE+K1555*DE+L1555*FR+M1555*NL)>(N1555),1,0)","v":0},null,{"$f":"IF((C$6*G1555+D$6*H1555+E$6*I1555+F$6*J1555+G$6*K1555+H$6*L1555+I$6*M1555)>(N1555),1,0)","v":0}]
[null,2676,"[D2-AT] Pleinting - St. Peter 258 [DIR] [AT]_LTA_corner#04_#5","10T-AT-DE-000037","[D2-D2] Pirach - Pleinting 257","11TD2L000000201H",0,0,-0.99024000000000001,-3.7200000000000002E-3,0.13661999999999999,-2.7480000000000001E-2,0,5761,{"$f":"IF((G1556*ALBE+H1556*ALDE+I1556*AT+J1556*BE+K1556*DE+L1556*FR+M1556*NL)>(N1556),1,0)","v":0},null,{"$f":"IF((C$6*G1556+D$6*H1556+E$6*I1556+F$6*J1556+G$6*K1556+H$6*L1556+I$6*M1556)>(N1556),1,0)","v":0}]
[null,2677,"[BE-FR] Achene - Lonny 380.19 [DIR] [BE]_LTA_corner#09_#8","10T-BE-FR-000015","[BE-BE] Avelgem - Horta 380.102","22T20161020---1E",0,0,-0.41826999999999998,-0.59536,-0.34082000000000001,-0.59536,0,1543,{"$f":"IF((G1557*ALBE+H1557*ALDE+I1557*AT+J1557*BE+K1557*DE+L1557*FR+M1557*NL)>(N1557),1,0)","v":0},null,{"$f":"IF((C$6*G1557+D$6*H1557+E$6*I1557+F$6*J1557+G$6*K1557+H$6*L1557+I$6*M1557)>(N1557),1,0)","v":0}]
[null,2678,"[BE-BE] PST_ZANDV_2 [N - S]_LTA_corner#13_#18","22T20161020---56","[NL-BE] Rilland - Zandvliet 380 White/30","10T-BE-NL-00004C",0,0,-0.31857999999999997,-0.80164999999999997,-0.27012000000000003,-0.42765999999999998,0,2000,{"$f":"IF((G1558*ALBE+H1558*ALDE+I1558*AT+J1558*BE+K1558*DE+L1558*FR+M1558*NL)>(N1558),1,0)","v":0},null,{"$f":"IF((C$6*G1558+D$6*H1558+E$6*I1558+F$6*J1558+G$6*K1558+H$6*L1558+I$6*M1558)>(N1558),1,0)","v":0}]
[null,2679,"[AT-AT] Westtirol Transformer WTRHU41 [OPP]_LTA_corner#20_#8","14T-38220-WT041O","BASECASE","N/A",0,0,0.99541000000000002,-3.5500000000000002E-3,9.4920000000000004E-2,-1.206E-2,0,4557,{"$f":"IF((G1559*ALBE+H1559*ALDE+I1559*AT+J1559*BE+K1559*DE+L1559*FR+M1559*NL)>(N1559),1,0)","v":0},null,{"$f":"IF((C$6*G1559+D$6*H1559+E$6*I1559+F$6*J1559+G$6*K1559+H$6*L1559+I$6*M1559)>(N1559),1,0)","v":0}]
[null,2680,"[D2-AT] Pleinting - St. Peter 258 [DIR] [AT]_LTA_corner#07_#1","10T-AT-DE-000037","[D2-D2] Pirach - Pleinting 257","11TD2L000000201H",0,0,-0.99726999999999999,0,8.4100000000000008E-3,7.3340000000000002E-2,0,5070,{"$f":"IF((G1560*ALBE+H1560*ALDE+I1560*AT+J1560*BE+K1560*DE+L1560*FR+M1560*NL)>(N1560),1,0)","v":0},null,{"$f":"IF((C$6*G1560+D$6*H1560+E$6*I1560+F$6*J1560+G$6*K1560+H$6*L1560+I$6*M1560)>(N1560),1,0)","v":0}]
["hour 13",1481,"[D2-AT] Pleinting - St. Peter 258 [DIR] [D2]_LTA_corner#09_#1","10T-AT-DE-000037","[D2-AT] Y - St. Peter (- Altheim - Simbach) 234/230","10T-AT-DE-000045",0,0,-0.99619999999999997,-5.0299999999999997E-2,-5.0299999999999997E-2,-5.0299999999999997E-2,0,4667,{"$f":"IF((G1561*ALBE+H1561*ALDE+I1561*AT+J1561*BE+K1561*DE+L1561*FR+M1561*NL)>(N1561),1,0)","v":0},null,{"$f":"IF((C$6*G1561+D$6*H1561+E$6*I1561+F$6*J1561+G$6*K1561+H$6*L1561+I$6*M1561)>(N1561),1,0)","v":0}]
[null,1482,"[BE-FR] Achene - Lonny 380.19 [DIR] [BE]_LTA_corner#02_#23","10T-BE-FR-000015","[BE-BE] Avelgem - Horta 380.102","22T20161020---1E",0,0,-0.48515000000000003,0,-0.33916000000000002,-0.80598000000000003,0,2118,{"$f":"IF((G1562*ALBE+H1562*ALDE+I1562*AT+J1562*BE+K1562*DE+L1562*FR+M1562*NL)>(N1562),1,0)","v":0},null,{"$f":"IF((C$6*G1562+D$6*H1562+E$6*I1562+F$6*J1562+G$6*K1562+H$6*L1562+I$6*M1562)>(N1562),1,0)","v":0}]
[null,1483,"[D2-AT] Pleinting - St. Peter 258 [DIR] [D2]_LTA_corner#05_#1","10T-AT-DE-000037","[D2-AT] Y - St. Peter (- Altheim - Simbach) 234/230","10T-AT-DE-000045",0,0,0.55715000000000003,0.26473000000000002,0.67381000000000002,0.40678999999999998,0,1964,{"$f":"IF((G1563*ALBE+H1563*ALDE+I1563*AT+J1563*BE+K1563*DE+L1563*FR+M1563*NL)>(N1563),1,0)","v":0},null,{"$f":"IF((C$6*G1563+D$6*H1563+E$6*I1563+F$6*J1563+G$6*K1563+H$6*L1563+I$6*M1563)>(N1563),1,0)","v":0}]
[null,1484,"[D2-AT] Pleinting - St. Peter 258 [DIR] [D2]_LTA_corner#02_#16","10T-AT-DE-000037","[D2-AT] Y - St. Peter (- Altheim - Simbach) 234/230","10T-AT-DE-000045",0,0,-0.99895,1.4400000000000001E-3,-3.2399999999999998E-2,-3.2399999999999998E-2,0,4725,{"$f":"IF((G1564*ALBE+H1564*ALDE+I1564*AT+J1564*BE+K1564*DE+L1564*FR+M1564*NL)>(N1564),1,0)","v":0},null,{"$f":"IF((C$6*G1564+D$6*H1564+E$6*I1564+F$6*J1564+G$6*K1564+H$6*L1564+I$6*M1564)>(N1564),1,0)","v":0}]
[null,1485,"[D2-AT] Pleinting - St. Peter 258 [DIR] [AT]_LTA_corner#04_#2","10T-AT-DE-000037","[D2-D2] Pirach - Pleinting 257","11TD2L000000201H",0,0,-0.99317,-6.6530000000000006E-2,6.905E-2,-6.6530000000000006E-2,0,5381,{"$f":"IF((G1565*ALBE+H1565*ALDE+I1565*AT+J1565*BE+K1565*DE+L1565*FR+M1565*NL)>(N1565),1,0)","v":0},null,{"$f":"IF((C$6*G1565+D$6*H1565+E$6*I1565+F$6*J1565+G$6*K1565+H$6*L1565+I$6*M1565)>(N1565),1,0)","v":0}]
[null,1486,"[D2-NL] Diele - Meeden 380 Black [DIR] [NL]_LTA_corner#05_#3","10T-DE-NL-00001V","[D2-NL] Diele - Meeden 380 White","10T-DE-NL-00002T",0,0,0.55327999999999999,0.27318999999999999,0.66913999999999996,0.41413,0,1946,{"$f":"IF((G1566*ALBE+H1566*ALDE+I1566*AT+J1566*BE+K1566*DE+L1566*FR+M1566*NL)>(N1566),1,0)","v":0},null,{"$f":"IF((C$6*G1566+D$6*H1566+E$6*I1566+F$6*J1566+G$6*K1566+H$6*L1566+I$6*M1566)>(N1566),1,0)","v":0}]
[null,1487,"[D2-AT] Pleinting - St. Peter 258 [DIR] [AT]_LTA_corner#04_#7","10T-AT-DE-000037","[D2-D2] Pirach - Pleinting 257","11TD2L000000201H",0,0,-0.99306000000000005,-2.6419999999999999E-2,0.11149000000000001,-2.6419999999999999E-2,0,5603,{"$f":"IF((G1567*ALBE+H1567*ALDE+I1567*AT+J1567*BE+K1567*DE+L1567*FR+M1567*NL)>(N1567),1,0)","v":0},null,{"$f":"IF((C$6*G1567+D$6*H1567+E$6*I1567+F$6*J1567+G$6*K1567+H$6*L1567+I$6*M1567)>(N1567),1,0)","v":0}]
[null,1488,"[D2-AT] Pleinting - St. Peter 258 [DIR] [AT]_LTA_corner#06_#3","10T-AT-DE-000037","[D2-D2] Pirach - Pleinting 257","11TD2L000000201H",0,0,-0.99697000000000002,-7.7799999999999994E-2,0,0,0,4997,{"$f":"IF((G1568*ALBE+H1568*ALDE+I1568*AT+J1568*BE+K1568*DE+L1568*FR+M1568*NL)>(N1568),1,0)","v":0},null,{"$f":"IF((C$6*G1568+D$6*H1568+E$6*I1568+F$6*J1568+G$6*K1568+H$6*L1568+I$6*M1568)>(N1568),1,0)","v":0}]
[null,1489,"[BE-FR] Achene - Lonny 380.19 [OPP] [BE]","10T-BE-FR-000015","[BE-BE] Avelgem - Horta 380.102","22T20161020---1E",-0.31164999999999998,-6.8430000000000005E-2,2.0719999999999999E-2,-0.30769000000000002,-3.8019999999999998E-2,0.14904999999999999,-0.16603999999999999,2070,{"$f":"IF((G1569*ALBE+H1569*ALDE+I1569*AT+J1569*BE+K1569*DE+L1569*FR+M1569*NL)>(N1569),1,0)","v":0},null,{"$f":"IF((C$6*G1569+D$6*H1569+E$6*I1569+F$6*J1569+G$6*K1569+H$6*L1569+I$6*M1569)>(N1569),1,0)","v":0}]
[null,1490,"[BE-FR] Achene - Lonny 380.19 [DIR] [BE]_LTA_corner#02_#7","10T-BE-FR-000015","[BE-BE] Avelgem - Horta 380.102","22T20161020---1E",0,0,-0.39548,0.61206000000000005,-0.28874,-0.62097000000000002,0,2361,{"$f":"IF((G1570*ALBE+H1570*ALDE+I1570*AT+J1570*BE+K1570*DE+L1570*FR+M1570*NL)>(N1570),1,0)","v":0},null,{"$f":"IF((C$6*G1570+D$6*H1570+E$6*I1570+F$6*J1570+G$6*K1570+H$6*L1570+I$6*M1570)>(N1570),1,0)","v":0}]
[null,1491,"[D2-AT] Pleinting - St. Peter 258 [DIR] [D2]_LTA_corner#09_#24","10T-AT-DE-000037","[D2-AT] Y - St. Peter (- Altheim - Simbach) 234/230","10T-AT-DE-000045",0,0,-0.96242000000000005,-9.9820000000000006E-2,-0.17857000000000001,-0.17857000000000001,0,4146,{"$f":"IF((G1571*ALBE+H1571*ALDE+I1571*AT+J1571*BE+K1571*DE+L1571*FR+M1571*NL)>(N1571),1,0)","v":0},null,{"$f":"IF((C$6*G1571+D$6*H1571+E$6*I1571+F$6*J1571+G$6*K1571+H$6*L1571+I$6*M1571)>(N1571),1,0)","v":0}]
[null,1492,"[BE-BE] PST_ZANDV_2 [N - S]_LTA_corner#13_#21","22T20161020---56","[NL-BE] Rilland - Zandvliet 380 White/30","10T-BE-NL-00004C",0,0,-0.31874000000000002,-0.77742999999999995,-0.24504000000000001,-0.48370000000000002,0,2014,{"$f":"IF((G1572*ALBE+H1572*ALDE+I1572*AT+J1572*BE+K1572*DE+L1572*FR+M1572*NL)>(N1572),1,0)","v":0},null,{"$f":"IF((C$6*G1572+D$6*H1572+E$6*I1572+F$6*J1572+G$6*K1572+H$6*L1572+I$6*M1572)>(N1572),1,0)","v":0}]
[null,1493,"[BE-BE] PST_ZANDV_2 [N - S]_LTA_corner#13_#3","22T20161020---56","[NL-BE] Rilland - Zandvliet 380 White/30","10T-BE-NL-00004C",0,0,-0.35394999999999999,-0.72126000000000001,-0.31090000000000001,-0.50778000000000001,0,1736,{"$f":"IF((G1573*ALBE+H1573*ALDE+I1573*AT+J1573*BE+K1573*DE+L1573*FR+M1573*NL)>(N1573),1,0)","v":0},null,{"$f":"IF((C$6*G1573+D$6*H1573+E$6*I1573+F$6*J1573+G$6*K1573+H$6*L1573+I$6*M1573)>(N1573),1,0)","v":0}]
[null,1494,"[AT-AT] Westtirol Transformer WTRHU41 [OPP]_LTA_corner#17_#0","14T-38220-WT041O","BASECASE","N/A",0,0,0.99558999999999997,0,9.3109999999999998E-2,-1.141E-2,0,4561,{"$f":"IF((G1574*ALBE+H1574*ALDE+I1574*AT+J1574*BE+K1574*DE+L1574*FR+M1574*NL)>(N1574),1,0)","v":0},null,{"$f":"IF((C$6*G1574+D$6*H1574+E$6*I1574+F$6*J1574+G$6*K1574+H$6*L1574+I$6*M1574)>(N1574),1,0)","v":0}]
[null,1495,"[AT-AT] Westtirol Transformer WTRHU41 [OPP]_LTA_corner#17_#1","14T-38220-WT041O","BASECASE","N/A",0,0,0.98990999999999996,0,0.13686000000000001,-3.6609999999999997E-2,0,4454,{"$f":"IF((G1575*ALBE+H1575*ALDE+I1575*AT+J1575*BE+K1575*DE+L1575*FR+M1575*NL)>(N1575),1,0)","v":0},null,{"$f":"IF((C$6*G1575+D$6*H1575+E$6*I1575+F$6*J1575+G$6*K1575+H$6*L1575+I$6*M1575)>(N1575),1,0)","v":0}]
[null,1496,"[D2-AT] Pleinting - St. Peter 258 [DIR] [D2]_LTA_corner#01_#17","10T-AT-DE-000037","[D2-AT] Y - St. Peter (- Altheim - Simbach) 234/230","10T-AT-DE-000045",0,0,-0.84431999999999996,0.22470000000000001,0.43143999999999999,0.22470000000000001,0,6962,{"$f":"IF((G1576*ALBE+H1576*ALDE+I1576*AT+J1576*BE+K1576*DE+L1576*FR+M1576*NL)>(N1576),1,0)","v":0},null,{"$f":"IF((C$6*G1576+D$6*H1576+E$6*I1576+F$6*J1576+G$6*K1576+H$6*L1576+I$6*M1576)>(N1576),1,0)","v":0}]
[null,1497,"[D2-AT] Pleinting - St. Peter 258 [DIR] [AT]_LTA_corner#11_#8","10T-AT-DE-000037","[D2-D2] Pirach - Pleinting 257","11TD2L000000201H",0,0,-0.99819000000000002,2.758E-2,-4.5760000000000002E-2,2.758E-2,0,4770,{"$f":"IF((G1577*ALBE+H1577*ALDE+I1577*AT+J1577*BE+K1577*DE+L1577*FR+M1577*NL)>(N1577),1,0)","v":0},null,{"$f":"IF((C$6*G1577+D$6*H1577+E$6*I1577+F$6*J1577+G$6*K1577+H$6*L1577+I$6*M1577)>(N1577),1,0)","v":0}]
[null,1498,"[AT-AT] Westtirol Transformer WTRHU41 [OPP]_LTA_corner#20_#24","14T-38220-WT041O","BASECASE","N/A",0,0,0.99561999999999995,-1.7340000000000001E-2,7.4529999999999999E-2,-5.3780000000000001E-2,0,4682,{"$f":"IF((G1578*ALBE+H1578*ALDE+I1578*AT+J1578*BE+K1578*DE+L1578*FR+M1578*NL)>(N1578),1,0)","v":0},null,{"$f":"IF((C$6*G1578+D$6*H1578+E$6*I1578+F$6*J1578+G$6*K1578+H$6*L1578+I$6*M1578)>(N1578),1,0)","v":0}]
[null,1499,"[D7-D7] Gronau - Hanekenfaehr Gronau W [OPP]","11T0-0000-0617-A","[D7-D7] Y - Hanekenfaehr - Kottigerhook - Kusenhorst Muensterland","11T0-0000-0679-H",-7.6310000000000003E-2,-5.5829999999999998E-2,-1.371E-2,-7.4069999999999997E-2,2.512E-2,-4.5999999999999999E-2,-9.418E-2,508,{"$f":"IF((G1579*ALBE+H1579*ALDE+I1579*AT+J1579*BE+K1579*DE+L1579*FR+M1579*NL)>(N1579),1,0)","v":0},null,{"$f":"IF((C$6*G1579+D$6*H1579+E$6*I1579+F$6*J1579+G$6*K1579+H$6*L1579+I$6*M1579)>(N1579),1,0)","v":0}]
[null,1500,"[D2-AT] Pleinting - St. Peter 258 [DIR] [AT]_LTA_corner#04_#1","10T-AT-DE-000037","[D2-D2] Pirach - Pleinting 257","11TD2L000000201H",0,0,-0.99538000000000004,-6.7650000000000002E-2,7.9500000000000005E-3,-6.7650000000000002E-2,0,4972,{"$f":"IF((G1580*ALBE+H1580*ALDE+I1580*AT+J1580*BE+K1580*DE+L1580*FR+M1580*NL)>(N1580),1,0)","v":0},null,{"$f":"IF((C$6*G1580+D$6*H1580+E$6*I1580+F$6*J1580+G$6*K1580+H$6*L1580+I$6*M1580)>(N1580),1,0)","v":0}]
[null,1501,"[AT-AT] Westtirol Transformer WTRHU41 [OPP]_LTA_corner#17_#4","14T-38220-WT041O","BASECASE","N/A",0,0,0.98521999999999998,0,0.13621,-0.10387,0,4541,{"$f":"IF((G1581*ALBE+H1581*ALDE+I1581*AT+J1581*BE+K1581*DE+L1581*FR+M1581*NL)>(N1581),1,0)","v":0},null,{"$f":"IF((C$6*G1581+D$6*H1581+E$6*I1581+F$6*J1581+G$6*K1581+H$6*L1581+I$6*M1581)>(N1581),1,0)","v":0}]
[null,1502,"[D2-AT] Pleinting - St. Peter 258 [DIR] [AT]_LTA_corner#11_#14","10T-AT-DE-000037","[D2-D2] Pirach - Pleinting 257","11TD2L000000201H",0,0,-0.99694000000000005,0,-7.8109999999999999E-2,0,0,4642,{"$f":"IF((G1582*ALBE+H1582*ALDE+I1582*AT+J1582*BE+K1582*DE+L1582*FR+M1582*NL)>(N1582),1,0)","v":0},null,{"$f":"IF((C$6*G1582+D$6*H1582+E$6*I1582+F$6*J1582+G$6*K1582+H$6*L1582+I$6*M1582)>(N1582),1,0)","v":0}]
[null,1503,"[D2-AT] Pleinting - St. Peter 258 [DIR] [D2]_LTA_corner#01_#3","10T-AT-DE-000037","[D2-AT] Y - St. Peter (- Altheim - Simbach) 234/230","10T-AT-DE-000045",0,0,-0.80018999999999996,0.23874999999999999,0.49568000000000001,0.23874999999999999,0,7187,{"$f":"IF((G1583*ALBE+H1583*ALDE+I1583*AT+J1583*BE+K1583*DE+L1583*FR+M1583*NL)>(N1583),1,0)","v":0},null,{"$f":"IF((C$6*G1583+D$6*H1583+E$6*I1583+F$6*J1583+G$6*K1583+H$6*L1583+I$6*M1583)>(N1583),1,0)","v":0}]
[null,1504,"[D2-AT] Pleinting - St. Peter 258 [DIR] [D2]_LTA_corner#05_#38","10T-AT-DE-000037","[D2-AT] Y - St. Peter (- Altheim - Simbach) 234/230","10T-AT-DE-000045",0,0,-0.99824999999999997,8.0700000000000008E-3,4.1410000000000002E-2,4.1410000000000002E-2,0,5119,{"$f":"IF((G1584*ALBE+H1584*ALDE+I1584*AT+J1584*BE+K1584*DE+L1584*FR+M1584*NL)>(N1584),1,0)","v":0},null,{"$f":"IF((C$6*G1584+D$6*H1584+E$6*I1584+F$6*J1584+G$6*K1584+H$6*L1584+I$6*M1584)>(N1584),1,0)","v":0}]
[null,1505,"[D2-AT] Pleinting - St. Peter 258 [DIR] [D2]_LTA_corner#01_#0","10T-AT-DE-000037","[D2-AT] Y - St. Peter (- Altheim - Simbach) 234/230","10T-AT-DE-000045",0,0,-0.71628000000000003,0.18542,0.64666999999999997,0.18542,0,7845,{"$f":"IF((G1585*ALBE+H1585*ALDE+I1585*AT+J1585*BE+K1585*DE+L1585*FR+M1585*NL)>(N1585),1,0)","v":0},null,{"$f":"IF((C$6*G1585+D$6*H1585+E$6*I1585+F$6*J1585+G$6*K1585+H$6*L1585+I$6*M1585)>(N1585),1,0)","v":0}]
[null,1506,"[AT-AT] Westtirol Transformer WTRHU41 [OPP]_LTA_corner#20_#7","14T-38220-WT041O","BASECASE","N/A",0,0,0.97792000000000001,-2.751E-2,0.18217,-9.8680000000000004E-2,0,4376,{"$f":"IF((G1586*ALBE+H1586*ALDE+I1586*AT+J1586*BE+K1586*DE+L1586*FR+M1586*NL)>(N1586),1,0)","v":0},null,{"$f":"IF((C$6*G1586+D$6*H1586+E$6*I1586+F$6*J1586+G$6*K1586+H$6*L1586+I$6*M1586)>(N1586),1,0)","v":0}]
[null,1507,"[D2-AT] Pleinting - St. Peter 258 [DIR] [D2]_LTA_corner#01_#2","10T-AT-DE-000037","[D2-AT] Y - St. Peter (- Altheim - Simbach) 234/230","10T-AT-DE-000045",0,0,-0.98009999999999997,0,0.17355000000000001,-9.6379999999999993E-2,0,6077,{"$f":"IF((G1587*ALBE+H1587*ALDE+I1587*AT+J1587*BE+K1587*DE+L1587*FR+M1587*NL)>(N1587),1,0)","v":0},null,{"$f":"IF((C$6*G1587+D$6*H1587+E$6*I1587+F$6*J1587+G$6*K1587+H$6*L1587+I$6*M1587)>(N1587),1,0)","v":0}]
[null,1508,"[BE-BE] PST_VANYK_2 [S - N]","22T-BE-PST--002U","[BE-FR] Achene - Lonny 380.19","10T-BE-FR-000015",0.57354000000000005,-2.5170000000000001E-2,5.4599999999999996E-3,0.32013999999999998,-9.6299999999999997E-3,4.5900000000000003E-2,1.2E-2,980,{"$f":"IF((G1588*ALBE+H1588*ALDE+I1588*AT+J1588*BE+K1588*DE+L1588*FR+M1588*NL)>(N1588),1,0)","v":0},null,{"$f":"IF((C$6*G1588+D$6*H1588+E$6*I1588+F$6*J1588+G$6*K1588+H$6*L1588+I$6*M1588)>(N1588),1,0)","v":0}]
[null,1509,"[D2-AT] Pleinting - St. Peter 258 [DIR] [AT]_LTA_corner#14_#15","10T-AT-DE-000037","[D2-D2] Pirach - Pleinting 257","11TD2L000000201H",0,0,-0.99736999999999998,0,-6.8269999999999997E-2,2.4389999999999998E-2,0,4739,{"$f":"IF((G1589*ALBE+H1589*ALDE+I1589*AT+J1589*BE+K1589*DE+L1589*FR+M1589*NL)>(N1589),1,0)","v":0},null,{"$f":"IF((C$6*G1589+D$6*H1589+E$6*I1589+F$6*J1589+G$6*K1589+H$6*L1589+I$6*M1589)>(N1589),1,0)","v":0}]
[null,1510,"[D2-AT] Pleinting - St. Peter 258 [DIR] [D2]_LTA_corner#05_#3","10T-AT-DE-000037","[D2-AT] Y - St. Peter (- Altheim - Simbach) 234/230","10T-AT-DE-000045",0,0,0.55427999999999999,0.27251999999999998,0.66739999999999999,0.41603000000000001,0,1931,{"$f":"IF((G1590*ALBE+H1590*ALDE+I1590*AT+J1590*BE+K1590*DE+L1590*FR+M1590*NL)>(N1590),1,0)","v":0},null,{"$f":"IF((C$6*G1590+D$6*H1590+E$6*I1590+F$6*J1590+G$6*K1590+H$6*L1590+I$6*M1590)>(N1590),1,0)","v":0}]
[null,1511,"[D2-AT] Pleinting - St. Peter 258 [DIR] [D2]_LTA_corner#01_#1","10T-AT-DE-000037","[D2-AT] Y - St. Peter (- Altheim - Simbach) 234/230","10T-AT-DE-000045",0,0,-0.98526999999999998,0,0.17099,0,0,5930,{"$f":"IF((G1591*ALBE+H1591*ALDE+I1591*AT+J1591*BE+K1591*DE+L1591*FR+M1591*NL)>(N1591),1,0)","v":0},null,{"$f":"IF((C$6*G1591+D$6*H1591+E$6*I1591+F$6*J1591+G$6*K1591+H$6*L1591+I$6*M1591)>(N1591),1,0)","v":0}]
[null,1512,"[D2-AT] Pleinting - St. Peter 258 [DIR] [D2]_LTA_corner#05_#12","10T-AT-DE-000037","[D2-AT] Y - St. Peter (- Altheim - Simbach) 234/230","10T-AT-DE-000045",0,0,-0.98287000000000002,0,0.17852999999999999,4.573E-2,0,6002,{"$f":"IF((G1592*ALBE+H1592*ALDE+I1592*AT+J1592*BE+K1592*DE+L1592*FR+M1592*NL)>(N1592),1,0)","v":0},null,{"$f":"IF((C$6*G1592+D$6*H1592+E$6*I1592+F$6*J1592+G$6*K1592+H$6*L1592+I$6*M1592)>(N1592),1,0)","v":0}]
[null,1513,"[D2-AT] Pleinting - St. Peter 258 [DIR] [AT]_LTA_corner#15_#7","10T-AT-DE-000037","[D2-D2] Pirach - Pleinting 257","11TD2L000000201H",0,0,-0.99726000000000004,-2.6530000000000001E-2,-6.3729999999999995E-2,-2.6530000000000001E-2,0,4658,{"$f":"IF((G1593*ALBE+H1593*ALDE+I1593*AT+J1593*BE+K1593*DE+L1593*FR+M1593*NL)>(N1593),1,0)","v":0},null,{"$f":"IF((C$6*G1593+D$6*H1593+E$6*I1593+F$6*J1593+G$6*K1593+H$6*L1593+I$6*M1593)>(N1593),1,0)","v":0}]
[null,1514,"[D7-D4] Hoheneck - Pulverdingen weiss [DIR] [D4]_LTA_corner#09_#11","11T-D4-D7-00014N","[D4-D7] Y - Herbertingen - Hoheneck - Metzingen schwarz","11TD40000A546-S0",0,0,-0.82310000000000005,-9.1319999999999998E-2,-0.28533999999999998,-0.48243999999999998,0,3483,{"$f":"IF((G1594*ALBE+H1594*ALDE+I1594*AT+J1594*BE+K1594*DE+L1594*FR+M1594*NL)>(N1594),1,0)","v":0},null,{"$f":"IF((C$6*G1594+D$6*H1594+E$6*I1594+F$6*J1594+G$6*K1594+H$6*L1594+I$6*M1594)>(N1594),1,0)","v":0}]
[null,1515,"[BE-BE] PST_ZANDV_2 [N - S]_LTA_corner#13_#1","22T20161020---56","[NL-BE] Rilland - Zandvliet 380 White/30","10T-BE-NL-00004C",0,0,-0.30939,-0.80115999999999998,-0.24775,-0.44838,0,2040,{"$f":"IF((G1595*ALBE+H1595*ALDE+I1595*AT+J1595*BE+K1595*DE+L1595*FR+M1595*NL)>(N1595),1,0)","v":0},null,{"$f":"IF((C$6*G1595+D$6*H1595+E$6*I1595+F$6*J1595+G$6*K1595+H$6*L1595+I$6*M1595)>(N1595),1,0)","v":0}]
[null,1516,"[D2-AT] Pleinting - St. Peter 258 [DIR] [D2]_LTA_corner#09_#4","10T-AT-DE-000037","[D2-AT] Y - St. Peter (- Altheim - Simbach) 234/230","10T-AT-DE-000045",0,0,-0.95530000000000004,-0.11445,-0.19273999999999999,-0.19273999999999999,0,4073,{"$f":"IF((G1596*ALBE+H1596*ALDE+I1596*AT+J1596*BE+K1596*DE+L1596*FR+M1596*NL)>(N1596),1,0)","v":0},null,{"$f":"IF((C$6*G1596+D$6*H1596+E$6*I1596+F$6*J1596+G$6*K1596+H$6*L1596+I$6*M1596)>(N1596),1,0)","v":0}]
[null,1517,"ALDE_import","N/A","BASECASE","N/A",0,-1,0,0,0,0,0,0,{"$f":"IF((G1597*ALBE+H1597*ALDE+I1597*AT+J1597*BE+K1597*DE+L1597*FR+M1597*NL)>(N1597),1,0)","v":0},null,{"$f":"IF((C$6*G1597+D$6*H1597+E$6*I1597+F$6*J1597+G$6*K1597+H$6*L1597+I$6*M1597)>(N1597),1,0)","v":0}]
[null,1518,"[D2-AT] Pleinting - St. Peter 258 [DIR] [AT]_LTA_corner#02_#6","10T-AT-DE-000037","[D2-D2] Pirach - Pleinting 257","11TD2L000000201H",0,0,-0.99695999999999996,7.6869999999999994E-2,-9.2200000000000008E-3,-9.2200000000000008E-3,0,4874,{"$f":"IF((G1598*ALBE+H1598*ALDE+I1598*AT+J1598*BE+K1598*DE+L1598*FR+M1598*NL)>(N1598),1,0)","v":0},null,{"$f":"IF((C$6*G1598+D$6*H1598+E$6*I1598+F$6*J1598+G$6*K1598+H$6*L1598+I$6*M1598)>(N1598),1,0)","v":0}]
[null,1519,"[BE-FR] Achene - Lonny 380.19 [DIR] [BE]_LTA_corner#02_#4","10T-BE-FR-000015","[BE-BE] Avelgem - Horta 380.102","22T20161020---1E",0,0,-0.43202000000000002,0.34675,-0.31337999999999999,-0.77131000000000005,0,2344,{"$f":"IF((G1599*ALBE+H1599*ALDE+I1599*AT+J1599*BE+K1599*DE+L1599*FR+M1599*NL)>(N1599),1,0)","v":0},null,{"$f":"IF((C$6*G1599+D$6*H1599+E$6*I1599+F$6*J1599+G$6*K1599+H$6*L1599+I$6*M1599)>(N1599),1,0)","v":0}]
[null,1520,"[D2-AT] Pleinting - St. Peter 258 [DIR] [AT]_LTA_corner#12_#6","10T-AT-DE-000037","[D2-D2] Pirach - Pleinting 257","11TD2L000000201H",0,0,-0.99702000000000002,-1.5100000000000001E-3,0,7.7130000000000004E-2,0,5045,{"$f":"IF((G1600*ALBE+H1600*ALDE+I1600*AT+J1600*BE+K1600*DE+L1600*FR+M1600*NL)>(N1600),1,0)","v":0},null,{"$f":"IF((C$6*G1600+D$6*H1600+E$6*I1600+F$6*J1600+G$6*K1600+H$6*L1600+I$6*M1600)>(N1600),1,0)","v":0}]
[null,1521,"[BE-BE] PST_ZANDV_2 [N - S]_LTA_corner#13_#13","22T20161020---56","[NL-BE] Rilland - Zandvliet 380 White/30","10T-BE-NL-00004C",0,0,-0.40558,-0.65598000000000001,-0.34466000000000002,-0.53517000000000003,0,1655,{"$f":"IF((G1601*ALBE+H1601*ALDE+I1601*AT+J1601*BE+K1601*DE+L1601*FR+M1601*NL)>(N1601),1,0)","v":0},null,{"$f":"IF((C$6*G1601+D$6*H1601+E$6*I1601+F$6*J1601+G$6*K1601+H$6*L1601+I$6*M1601)>(N1601),1,0)","v":0}]
[null,1522,"[D2-NL] Diele - Meeden 380 Black [DIR] [NL]_LTA_corner#05_#37","10T-DE-NL-00001V","[D2-NL] Diele - Meeden 380 White","10T-DE-NL-00002T",0,0,0.55362,0.27833000000000002,0.66356000000000004,0.41921000000000003,0,1904,{"$f":"IF((G1602*ALBE+H1602*ALDE+I1602*AT+J1602*BE+K1602*DE+L1602*FR+M1602*NL)>(N1602),1,0)","v":0},null,{"$f":"IF((C$6*G1602+D$6*H1602+E$6*I1602+F$6*J1602+G$6*K1602+H$6*L1602+I$6*M1602)>(N1602),1,0)","v":0}]
[null,1523,"[D7-D4] Hoheneck - Pulverdingen weiss [DIR] [D4]_LTA_corner#09_#26","11T-D4-D7-00014N","[D4-D7] Y - Herbertingen - Hoheneck - Metzingen schwarz","11TD40000A546-S0",0,0,-0.84404999999999997,-9.4780000000000003E-2,-0.31235000000000002,-0.42548999999999998,0,3374,{"$f":"IF((G1603*ALBE+H1603*ALDE+I1603*AT+J1603*BE+K1603*DE+L1603*FR+M1603*NL)>(N1603),1,0)","v":0},null,{"$f":"IF((C$6*G1603+D$6*H1603+E$6*I1603+F$6*J1603+G$6*K1603+H$6*L1603+I$6*M1603)>(N1603),1,0)","v":0}]
[null,1524,"[AT-AT] Westtirol Transformer WTRHU41 [OPP]_LTA_corner#17_#3","14T-38220-WT041O","BASECASE","N/A",0,0,0.98314999999999997,0,0.16175,-8.516E-2,0,4431,{"$f":"IF((G1604*ALBE+H1604*ALDE+I1604*AT+J1604*BE+K1604*DE+L1604*FR+M1604*NL)>(N1604),1,0)","v":0},null,{"$f":"IF((C$6*G1604+D$6*H1604+E$6*I1604+F$6*J1604+G$6*K1604+H$6*L1604+I$6*M1604)>(N1604),1,0)","v":0}]
[null,1525,"[D4-AT] Buers - Westtirol 421 weiss [OPP] [D4]_LTA_corner#17_#8","10T-AT-DE-000061","[AT-AT] Westtirol Transformer WTRHU41","14T-38220-WT041O",0,0,0.98629,0,0.14882999999999999,-7.127E-2,0,4459,{"$f":"IF((G1605*ALBE+H1605*ALDE+I1605*AT+J1605*BE+K1605*DE+L1605*FR+M1605*NL)>(N1605),1,0)","v":0},null,{"$f":"IF((C$6*G1605+D$6*H1605+E$6*I1605+F$6*J1605+G$6*K1605+H$6*L1605+I$6*M1605)>(N1605),1,0)","v":0}]
[null,1526,"[D2-AT] Pleinting - St. Peter 258 [DIR] [AT]_LTA_corner#02_#4","10T-AT-DE-000037","[D2-D2] Pirach - Pleinting 257","11TD2L000000201H",0,0,-0.997,0,-5.475E-2,-5.475E-2,0,4650,{"$f":"IF((G1606*ALBE+H1606*ALDE+I1606*AT+J1606*BE+K1606*DE+L1606*FR+M1606*NL)>(N1606),1,0)","v":0},null,{"$f":"IF((C$6*G1606+D$6*H1606+E$6*I1606+F$6*J1606+G$6*K1606+H$6*L1606+I$6*M1606)>(N1606),1,0)","v":0}]
[null,1527,"[BE-FR] Achene - Lonny 380.19 [DIR] [BE]_LTA_corner#09_#9","10T-BE-FR-000015","[BE-BE] Avelgem - Horta 380.102","22T20161020---1E",0,0,-0.41134999999999999,-0.60233999999999999,-0.32428000000000001,-0.60233999999999999,0,1595,{"$f":"IF((G1607*ALBE+H1607*ALDE+I1607*AT+J1607*BE+K1607*DE+L1607*FR+M1607*NL)>(N1607),1,0)","v":0},null,{"$f":"IF((C$6*G1607+D$6*H1607+E$6*I1607+F$6*J1607+G$6*K1607+H$6*L1607+I$6*M1607)>(N1607),1,0)","v":0}]
[null,1528,"[BE-FR] Achene - Lonny 380.19 [DIR] [BE]_LTA_corner#09_#8","10T-BE-FR-000015","[BE-BE] Avelgem - Horta 380.102","22T20161020---1E",0,0,-0.42,-0.59787999999999997,-0.32965,-0.59787999999999997,0,1605,{"$f":"IF((G1608*ALBE+H1608*ALDE+I1608*AT+J1608*BE+K1608*DE+L1608*FR+M1608*NL)>(N1608),1,0)","v":0},null,{"$f":"IF((C$6*G1608+D$6*H1608+E$6*I1608+F$6*J1608+G$6*K1608+H$6*L1608+I$6*M1608)>(N1608),1,0)","v":0}]
[null,1529,"[D2-AT] Pleinting - St. Peter 258 [DIR] [AT]_LTA_corner#01_#0","10T-AT-DE-000037","[D2-D2] Pirach - Pleinting 257","11TD2L000000201H",0,0,-0.99751000000000001,7.0569999999999994E-2,0,0,0,4895,{"$f":"IF((G1609*ALBE+H1609*ALDE+I1609*AT+J1609*BE+K1609*DE+L1609*FR+M1609*NL)>(N1609),1,0)","v":0},null,{"$f":"IF((C$6*G1609+D$6*H1609+E$6*I1609+F$6*J1609+G$6*K1609+H$6*L1609+I$6*M1609)>(N1609),1,0)","v":0}]
[null,1530,"[D4-AT] Buers - Westtirol 421 weiss [OPP] [D4]_LTA_corner#20_#42","10T-AT-DE-000061","[AT-AT] Westtirol Transformer WTRHU41","14T-38220-WT041O",0,0,0.97270000000000001,-5.6259999999999998E-2,0.12973999999999999,-0.18398,0,4635,{"$f":"IF((G1610*ALBE+H1610*ALDE+I1610*AT+J1610*BE+K1610*DE+L1610*FR+M1610*NL)>(N1610),1,0)","v":0},null,{"$f":"IF((C$6*G1610+D$6*H1610+E$6*I1610+F$6*J1610+G$6*K1610+H$6*L1610+I$6*M1610)>(N1610),1,0)","v":0}]
[null,1531,"[D2-NL] Diele - Meeden 380 Black [DIR] [NL]_LTA_corner#05_#33","10T-DE-NL-00001V","[D2-NL] Diele - Meeden 380 White","10T-DE-NL-00002T",0,0,0.55717000000000005,0.25531999999999999,0.67147000000000001,0.41654000000000002,0,1964,{"$f":"IF((G1611*ALBE+H1611*ALDE+I1611*AT+J1611*BE+K1611*DE+L1611*FR+M1611*NL)>(N1611),1,0)","v":0},null,{"$f":"IF((C$6*G1611+D$6*H1611+E$6*I1611+F$6*J1611+G$6*K1611+H$6*L1611+I$6*M1611)>(N1611),1,0)","v":0}]
[null,1532,"[D2-AT] Pleinting - St. Peter 258 [DIR] [D2]_LTA_corner#04_#8","10T-AT-DE-000037","[D2-AT] Y - St. Peter (- Altheim - Simbach) 234/230","10T-AT-DE-000045",0,0,-0.99599000000000004,-6.3270000000000007E-2,0,-6.3270000000000007E-2,0,4913,{"$f":"IF((G1612*ALBE+H1612*ALDE+I1612*AT+J1612*BE+K1612*DE+L1612*FR+M1612*NL)>(N1612),1,0)","v":0},null,{"$f":"IF((C$6*G1612+D$6*H1612+E$6*I1612+F$6*J1612+G$6*K1612+H$6*L1612+I$6*M1612)>(N1612),1,0)","v":0}]
[null,1533,"[D2-AT] Pleinting - St. Peter 258 [DIR] [AT]_LTA_corner#06_#21","10T-AT-DE-000037","[D2-D2] Pirach - Pleinting 257","11TD2L000000201H",0,0,-0.99475000000000002,-0.10013,0,-2.1160000000000002E-2,0,5026,{"$f":"IF((G1613*ALBE+H1613*ALDE+I1613*AT+J1613*BE+K1613*DE+L1613*FR+M1613*NL)>(N1613),1,0)","v":0},null,{"$f":"IF((C$6*G1613+D$6*H1613+E$6*I1613+F$6*J1613+G$6*K1613+H$6*L1613+I$6*M1613)>(N1613),1,0)","v":0}]
[null,1534,"[D2-AT] Pleinting - St. Peter 258 [DIR] [AT]_LTA_corner#01_#15","10T-AT-DE-000037","[D2-D2] Pirach - Pleinting 257","11TD2L000000201H",0,0,-0.98975000000000002,0,0.10878,-9.2539999999999997E-2,0,5670,{"$f":"IF((G1614*ALBE+H1614*ALDE+I1614*AT+J1614*BE+K1614*DE+L1614*FR+M1614*NL)>(N1614),1,0)","v":0},null,{"$f":"IF((C$6*G1614+D$6*H1614+E$6*I1614+F$6*J1614+G$6*K1614+H$6*L1614+I$6*M1614)>(N1614),1,0)","v":0}]
[null,1535,"[AT-AT] Westtirol Transformer WTRHU41 [OPP]_LTA_corner#20_#9","14T-38220-WT041O","BASECASE","N/A",0,0,0.99589000000000005,-2.2000000000000001E-3,9.0240000000000001E-2,-7.6499999999999997E-3,0,4565,{"$f":"IF((G1615*ALBE+H1615*ALDE+I1615*AT+J1615*BE+K1615*DE+L1615*FR+M1615*NL)>(N1615),1,0)","v":0},null,{"$f":"IF((C$6*G1615+D$6*H1615+E$6*I1615+F$6*J1615+G$6*K1615+H$6*L1615+I$6*M1615)>(N1615),1,0)","v":0}]
[null,1536,"[AT-AT] Westtirol Transformer WTRHU41 [OPP]_LTA_corner#20_#21","14T-38220-WT041O","BASECASE","N/A",0,0,0.98731000000000002,-6.6439999999999999E-2,0.12801999999999999,-6.6439999999999999E-2,0,4524,{"$f":"IF((G1616*ALBE+H1616*ALDE+I1616*AT+J1616*BE+K1616*DE+L1616*FR+M1616*NL)>(N1616),1,0)","v":0},null,{"$f":"IF((C$6*G1616+D$6*H1616+E$6*I1616+F$6*J1616+G$6*K1616+H$6*L1616+I$6*M1616)>(N1616),1,0)","v":0}]
[null,1537,"[D2-AT] Pleinting - St. Peter 258 [DIR] [D2]_LTA_corner#11_#12","10T-AT-DE-000037","[D2-AT] Y - St. Peter (- Altheim - Simbach) 234/230","10T-AT-DE-000045",0,0,-0.99999000000000005,0,-4.1700000000000001E-3,0,0,4812,{"$f":"IF((G1617*ALBE+H1617*ALDE+I1617*AT+J1617*BE+K1617*DE+L1617*FR+M1617*NL)>(N1617),1,0)","v":0},null,{"$f":"IF((C$6*G1617+D$6*H1617+E$6*I1617+F$6*J1617+G$6*K1617+H$6*L1617+I$6*M1617)>(N1617),1,0)","v":0}]
[null,1538,"[AT-AT] Westtirol Transformer WTRHU41 [OPP]_LTA_corner#20_#18","14T-38220-WT041O","BASECASE","N/A",0,0,0.99023000000000005,-1.874E-2,0.13689999999999999,-1.874E-2,0,4430,{"$f":"IF((G1618*ALBE+H1618*ALDE+I1618*AT+J1618*BE+K1618*DE+L1618*FR+M1618*NL)>(N1618),1,0)","v":0},null,{"$f":"IF((C$6*G1618+D$6*H1618+E$6*I1618+F$6*J1618+G$6*K1618+H$6*L1618+I$6*M1618)>(N1618),1,0)","v":0}]
[null,1539,"[BE-BE] PST_ZANDV_2 [N - S]_LTA_corner#13_#8","22T20161020---56","[NL-BE] Rilland - Zandvliet 380 White/30","10T-BE-NL-00004C",0,0,-0.31436999999999998,-0.80744000000000005,-0.26746999999999999,-0.42149999999999999,0,2010,{"$f":"IF((G1619*ALBE+H1619*ALDE+I1619*AT+J1619*BE+K1619*DE+L1619*FR+M1619*NL)>(N1619),1,0)","v":0},null,{"$f":"IF((C$6*G1619+D$6*H1619+E$6*I1619+F$6*J1619+G$6*K1619+H$6*L1619+I$6*M1619)>(N1619),1,0)","v":0}]
[null,1540,"[D2-AT] Pleinting - St. Peter 258 [DIR] [AT]_LTA_corner#04_#0","10T-AT-DE-000037","[D2-D2] Pirach - Pleinting 257","11TD2L000000201H",0,0,-0.99607000000000001,-6.2649999999999997E-2,0,-6.2649999999999997E-2,0,4912,{"$f":"IF((G1620*ALBE+H1620*ALDE+I1620*AT+J1620*BE+K1620*DE+L1620*FR+M1620*NL)>(N1620),1,0)","v":0},null,{"$f":"IF((C$6*G1620+D$6*H1620+E$6*I1620+F$6*J1620+G$6*K1620+H$6*L1620+I$6*M1620)>(N1620),1,0)","v":0}]
[null,1541,"[D2-AT] Pleinting - St. Peter 258 [DIR] [AT]_LTA_corner#11_#13","10T-AT-DE-000037","[D2-D2] Pirach - Pleinting 257","11TD2L000000201H",0,0,-0.99741000000000002,2.2100000000000002E-2,-6.4850000000000005E-2,2.2100000000000002E-2,0,4716,{"$f":"IF((G1621*ALBE+H1621*ALDE+I1621*AT+J1621*BE+K1621*DE+L1621*FR+M1621*NL)>(N1621),1,0)","v":0},null,{"$f":"IF((C$6*G1621+D$6*H1621+E$6*I1621+F$6*J1621+G$6*K1621+H$6*L1621+I$6*M1621)>(N1621),1,0)","v":0}]
[null,1542,"[D2-AT] Pleinting - St. Peter 258 [DIR] [AT]_LTA_corner#11_#6","10T-AT-DE-000037","[D2-D2] Pirach - Pleinting 257","11TD2L000000201H",0,0,-0.99629999999999996,0,-8.1720000000000001E-2,-2.6509999999999999E-2,0,4611,{"$f":"IF((G1622*ALBE+H1622*ALDE+I1622*AT+J1622*BE+K1622*DE+L1622*FR+M1622*NL)>(N1622),1,0)","v":0},null,{"$f":"IF((C$6*G1622+D$6*H1622+E$6*I1622+F$6*J1622+G$6*K1622+H$6*L1622+I$6*M1622)>(N1622),1,0)","v":0}]
[null,1543,"[D2-AT] Pleinting - St. Peter 258 [DIR] [AT]_LTA_corner#09_#9","10T-AT-DE-000037","[D2-D2] Pirach - Pleinting 257","11TD2L000000201H",0,0,-0.99766999999999995,-3.943E-2,-3.943E-2,-3.943E-2,0,4703,{"$f":"IF((G1623*ALBE+H1623*ALDE+I1623*AT+J1623*BE+K1623*DE+L1623*FR+M1623*NL)>(N1623),1,0)","v":0},null,{"$f":"IF((C$6*G1623+D$6*H1623+E$6*I1623+F$6*J1623+G$6*K1623+H$6*L1623+I$6*M1623)>(N1623),1,0)","v":0}]
[null,1544,"[D7-FR] Ensdorf - Vigy 2S [OPP] [D7]","10T-DE-FR-000068","[D7-FR] Ensdorf - Vigy 1N","10T-DE-FR-00005A",6.5579999999999999E-2,-6.2429999999999999E-2,2.0150000000000001E-2,8.1589999999999996E-2,-2.01E-2,0.18273,1.23E-2,736,{"$f":"IF((G1624*ALBE+H1624*ALDE+I1624*AT+J1624*BE+K1624*DE+L1624*FR+M1624*NL)>(N1624),1,0)","v":0},null,{"$f":"IF((C$6*G1624+D$6*H1624+E$6*I1624+F$6*J1624+G$6*K1624+H$6*L1624+I$6*M1624)>(N1624),1,0)","v":0}]
[null,1545,"[D2-AT] Pleinting - St. Peter 258 [DIR] [AT]_LTA_corner#01_#4","10T-AT-DE-000037","[D2-D2] Pirach - Pleinting 257","11TD2L000000201H",0,0,-0.99426999999999999,0.10331,7.9500000000000005E-3,-2.6450000000000001E-2,0,5016,{"$f":"IF((G1625*ALBE+H1625*ALDE+I1625*AT+J1625*BE+K1625*DE+L1625*FR+M1625*NL)>(N1625),1,0)","v":0},null,{"$f":"IF((C$6*G1625+D$6*H1625+E$6*I1625+F$6*J1625+G$6*K1625+H$6*L1625+I$6*M1625)>(N1625),1,0)","v":0}]
[null,1546,"[AT-AT] Westtirol Transformer WTRHU41 [OPP]_LTA_corner#20_#14","14T-38220-WT041O","BASECASE","N/A",0,0,0.98982999999999999,-2.01E-2,0.13941999999999999,-2.01E-2,0,4423,{"$f":"IF((G1626*ALBE+H1626*ALDE+I1626*AT+J1626*BE+K1626*DE+L1626*FR+M1626*NL)>(N1626),1,0)","v":0},null,{"$f":"IF((C$6*G1626+D$6*H1626+E$6*I1626+F$6*J1626+G$6*K1626+H$6*L1626+I$6*M1626)>(N1626),1,0)","v":0}]
[null,1547,"[D2-AT] Pleinting - St. Peter 258 [DIR] [AT]_LTA_corner#01_#14","10T-AT-DE-000037","[D2-D2] Pirach - Pleinting 257","11TD2L000000201H",0,0,-0.99138000000000004,0,7.92E-3,-0.13077,0,5043,{"$f":"IF((G1627*ALBE+H1627*ALDE+I1627*AT+J1627*BE+K1627*DE+L1627*FR+M1627*NL)>(N1627),1,0)","v":0},null,{"$f":"IF((C$6*G1627+D$6*H1627+E$6*I1627+F$6*J1627+G$6*K1627+H$6*L1627+I$6*M1627)>(N1627),1,0)","v":0}]
[null,1548,"[D2-AT] Pleinting - St. Peter 258 [DIR] [AT]_LTA_corner#14_#2","10T-AT-DE-000037","[D2-D2] Pirach - Pleinting 257","11TD2L000000201H",0,0,-0.99743999999999999,1.319E-2,-5.7930000000000002E-2,3.9849999999999997E-2,0,4794,{"$f":"IF((G1628*ALBE+H1628*ALDE+I1628*AT+J1628*BE+K1628*DE+L1628*FR+M1628*NL)>(N1628),1,0)","v":0},null,{"$f":"IF((C$6*G1628+D$6*H1628+E$6*I1628+F$6*J1628+G$6*K1628+H$6*L1628+I$6*M1628)>(N1628),1,0)","v":0}]
[null,1549,"[D2-AT] Pleinting - St. Peter 258 [DIR] [AT]_LTA_corner#04_#4","10T-AT-DE-000037","[D2-D2] Pirach - Pleinting 257","11TD2L000000201H",0,0,-0.99224000000000001,-3.5100000000000001E-3,0,-0.12431,0,4983,{"$f":"IF((G1629*ALBE+H1629*ALDE+I1629*AT+J1629*BE+K1629*DE+L1629*FR+M1629*NL)>(N1629),1,0)","v":0},null,{"$f":"IF((C$6*G1629+D$6*H1629+E$6*I1629+F$6*J1629+G$6*K1629+H$6*L1629+I$6*M1629)>(N1629),1,0)","v":0}]
[null,1550,"[D2-AT] Pleinting - St. Peter 258 [DIR] [D2]_LTA_corner#01_#5","10T-AT-DE-000037","[D2-AT] Y - St. Peter (- Altheim - Simbach) 234/230","10T-AT-DE-000045",0,0,-1,0,0,0,0,4821,{"$f":"IF((G1630*ALBE+H1630*ALDE+I1630*AT+J1630*BE+K1630*DE+L1630*FR+M1630*NL)>(N1630),1,0)","v":0},null,{"$f":"IF((C$6*G1630+D$6*H1630+E$6*I1630+F$6*J1630+G$6*K1630+H$6*L1630+I$6*M1630)>(N1630),1,0)","v":0}]
[null,1551,"[D2-AT] Pleinting - St. Peter 258 [DIR] [D2]_LTA_corner#01_#6","10T-AT-DE-000037","[D2-AT] Y - St. Peter (- Altheim - Simbach) 234/230","10T-AT-DE-000045",0,0,-0.99502000000000002,0,0,-9.9720000000000003E-2,0,4956,{"$f":"IF((G1631*ALBE+H1631*ALDE+I1631*AT+J1631*BE+K1631*DE+L1631*FR+M1631*NL)>(N1631),1,0)","v":0},null,{"$f":"IF((C$6*G1631+D$6*H1631+E$6*I1631+F$6*J1631+G$6*K1631+H$6*L1631+I$6*M1631)>(N1631),1,0)","v":0}]
[null,1552,"[BE-FR] Achene - Lonny 380.19 [DIR] [BE]_LTA_corner#09_#2","10T-BE-FR-000015","[BE-BE] Avelgem - Horta 380.102","22T20161020---1E",0,0,-0.41349000000000002,-0.59774000000000005,-0.33829999999999999,-0.59774000000000005,0,1535,{"$f":"IF((G1632*ALBE+H1632*ALDE+I1632*AT+J1632*BE+K1632*DE+L1632*FR+M1632*NL)>(N1632),1,0)","v":0},null,{"$f":"IF((C$6*G1632+D$6*H1632+E$6*I1632+F$6*J1632+G$6*K1632+H$6*L1632+I$6*M1632)>(N1632),1,0)","v":0}]
[null,1553,"[BE-BE] PST_ZANDV_2 [N - S]_LTA_corner#13_#4","22T20161020---56","[NL-BE] Rilland - Zandvliet 380 White/30","10T-BE-NL-00004C",0,0,-0.31952999999999998,-0.80700000000000005,-0.27683000000000002,-0.41232000000000002,0,1998,{"$f":"IF((G1633*ALBE+H1633*ALDE+I1633*AT+J1633*BE+K1633*DE+L1633*FR+M1633*NL)>(N1633),1,0)","v":0},null,{"$f":"IF((C$6*G1633+D$6*H1633+E$6*I1633+F$6*J1633+G$6*K1633+H$6*L1633+I$6*M1633)>(N1633),1,0)","v":0}]
[null,1554,"[BE-FR] Achene - Lonny 380.19 [DIR] [BE]_LTA_corner#02_#1","10T-BE-FR-000015","[BE-BE] Avelgem - Horta 380.102","22T20161020---1E",0,0,-0.39466000000000001,0.54288000000000003,-0.25712000000000002,-0.69528000000000001,0,2532,{"$f":"IF((G1634*ALBE+H1634*ALDE+I1634*AT+J1634*BE+K1634*DE+L1634*FR+M1634*NL)>(N1634),1,0)","v":0},null,{"$f":"IF((C$6*G1634+D$6*H1634+E$6*I1634+F$6*J1634+G$6*K1634+H$6*L1634+I$6*M1634)>(N1634),1,0)","v":0}]
[null,1555,"[D2-AT] Pleinting - St. Peter 258 [DIR] [AT]_LTA_corner#01_#5","10T-AT-DE-000037","[D2-D2] Pirach - Pleinting 257","11TD2L000000201H",0,0,-0.99570000000000003,9.0719999999999995E-2,0,-1.848E-2,0,4940,{"$f":"IF((G1635*ALBE+H1635*ALDE+I1635*AT+J1635*BE+K1635*DE+L1635*FR+M1635*NL)>(N1635),1,0)","v":0},null,{"$f":"IF((C$6*G1635+D$6*H1635+E$6*I1635+F$6*J1635+G$6*K1635+H$6*L1635+I$6*M1635)>(N1635),1,0)","v":0}]
[null,1556,"[D2-AT] Pleinting - St. Peter 258 [DIR] [AT]_LTA_corner#11_#5","10T-AT-DE-000037","[D2-D2] Pirach - Pleinting 257","11TD2L000000201H",0,0,-0.99648000000000003,0,-8.2869999999999999E-2,-1.2409999999999999E-2,0,4620,{"$f":"IF((G1636*ALBE+H1636*ALDE+I1636*AT+J1636*BE+K1636*DE+L1636*FR+M1636*NL)>(N1636),1,0)","v":0},null,{"$f":"IF((C$6*G1636+D$6*H1636+E$6*I1636+F$6*J1636+G$6*K1636+H$6*L1636+I$6*M1636)>(N1636),1,0)","v":0}]
[null,1557,"[D2-AT] Pleinting - St. Peter 258 [DIR] [AT]_LTA_corner#07_#0","10T-AT-DE-000037","[D2-D2] Pirach - Pleinting 257","11TD2L000000201H",0,0,-0.99685999999999997,0,7.9699999999999997E-3,7.8820000000000001E-2,0,5082,{"$f":"IF((G1637*ALBE+H1637*ALDE+I1637*AT+J1637*BE+K1637*DE+L1637*FR+M1637*NL)>(N1637),1,0)","v":0},null,{"$f":"IF((C$6*G1637+D$6*H1637+E$6*I1637+F$6*J1637+G$6*K1637+H$6*L1637+I$6*M1637)>(N1637),1,0)","v":0}]
[null,1558,"[NL-D7] Maasbracht - Siersdorf 380 black [DIR] [D7]","10T-DE-NL-00006L","[BE-BE] Avelgem - Horta 380.102","22T20161020---1E",0.32580999999999999,-0.15622,-2.3400000000000001E-3,0.31319999999999998,1.545E-2,3.9489999999999997E-2,0.28401999999999999,923,{"$f":"IF((G1638*ALBE+H1638*ALDE+I1638*AT+J1638*BE+K1638*DE+L1638*FR+M1638*NL)>(N1638),1,0)","v":0},null,{"$f":"IF((C$6*G1638+D$6*H1638+E$6*I1638+F$6*J1638+G$6*K1638+H$6*L1638+I$6*M1638)>(N1638),1,0)","v":0}]
[null,1559,"[D2-AT] Pleinting - St. Peter 258 [DIR] [D2]_LTA_corner#05_#4","10T-AT-DE-000037","[D2-AT] Y - St. Peter (- Altheim - Simbach) 234/230","10T-AT-DE-000045",0,0,0.56579000000000002,0.26532,0.66212000000000004,0.41361999999999999,0,1845,{"$f":"IF((G1639*ALBE+H1639*ALDE+I1639*AT+J1639*BE+K1639*DE+L1639*FR+M1639*NL)>(N1639),1,0)","v":0},null,{"$f":"IF((C$6*G1639+D$6*H1639+E$6*I1639+F$6*J1639+G$6*K1639+H$6*L1639+I$6*M1639)>(N1639),1,0)","v":0}]
[null,1560,"[AT-AT] Westtirol Transformer WTRHU41 [OPP]_LTA_corner#17_#5","14T-38220-WT041O","BASECASE","N/A",0,0,0.98763999999999996,3.5139999999999998E-2,0.13653999999999999,-6.8519999999999998E-2,0,4538,{"$f":"IF((G1640*ALBE+H1640*ALDE+I1640*AT+J1640*BE+K1640*DE+L1640*FR+M1640*NL)>(N1640),1,0)","v":0},null,{"$f":"IF((C$6*G1640+D$6*H1640+E$6*I1640+F$6*J1640+G$6*K1640+H$6*L1640+I$6*M1640)>(N1640),1,0)","v":0}]
[null,1561,"[D2-AT] Pleinting - St. Peter 258 [DIR] [AT]_LTA_corner#06_#1","10T-AT-DE-000037","[D2-D2] Pirach - Pleinting 257","11TD2L000000201H",0,0,-0.99697000000000002,-7.7009999999999995E-2,7.9699999999999997E-3,7.9699999999999997E-3,0,5056,{"$f":"IF((G1641*ALBE+H1641*ALDE+I1641*AT+J1641*BE+K1641*DE+L1641*FR+M1641*NL)>(N1641),1,0)","v":0},null,{"$f":"IF((C$6*G1641+D$6*H1641+E$6*I1641+F$6*J1641+G$6*K1641+H$6*L1641+I$6*M1641)>(N1641),1,0)","v":0}]
[null,1562,"[D4-AT] Buers - Westtirol 421 weiss [OPP] [D4]_LTA_corner#20_#12","10T-AT-DE-000061","[AT-AT] Westtirol Transformer WTRHU41","14T-38220-WT041O",0,0,0.98778999999999995,-2.775E-2,0.14624999999999999,-4.5960000000000001E-2,0,4437,{"$f":"IF((G1642*ALBE+H1642*ALDE+I1642*AT+J1642*BE+K1642*DE+L1642*FR+M1642*NL)>(N1642),1,0)","v":0},null,{"$f":"IF((C$6*G1642+D$6*H1642+E$6*I1642+F$6*J1642+G$6*K1642+H$6*L1642+I$6*M1642)>(N1642),1,0)","v":0}]
[null,1563,"[BE-FR] Achene - Lonny 380.19 [DIR] [BE]_LTA_corner#02_#25","10T-BE-FR-000015","[BE-BE] Avelgem - Horta 380.102","22T20161020---1E",0,0,-0.50348999999999999,0,-0.37690000000000001,-0.77746000000000004,0,1993,{"$f":"IF((G1643*ALBE+H1643*ALDE+I1643*AT+J1643*BE+K1643*DE+L1643*FR+M1643*NL)>(N1643),1,0)","v":0},null,{"$f":"IF((C$6*G1643+D$6*H1643+E$6*I1643+F$6*J1643+G$6*K1643+H$6*L1643+I$6*M1643)>(N1643),1,0)","v":0}]
[null,1564,"[D2-NL] Diele - Meeden 380 Black [DIR] [NL]_LTA_corner#05_#5","10T-DE-NL-00001V","[D2-NL] Diele - Meeden 380 White","10T-DE-NL-00002T",0,0,0.55764000000000002,0.25126999999999999,0.67591000000000001,0.41115000000000002,0,1993,{"$f":"IF((G1644*ALBE+H1644*ALDE+I1644*AT+J1644*BE+K1644*DE+L1644*FR+M1644*NL)>(N1644),1,0)","v":0},null,{"$f":"IF((C$6*G1644+D$6*H1644+E$6*I1644+F$6*J1644+G$6*K1644+H$6*L1644+I$6*M1644)>(N1644),1,0)","v":0}]
[null,1565,"[AT-AT] Westtirol Transformer WTRHU41 [OPP]_LTA_corner#20_#26","14T-38220-WT041O","BASECASE","N/A",0,0,0.99436999999999998,-2.019E-2,7.7799999999999994E-2,-6.8989999999999996E-2,0,4692,{"$f":"IF((G1645*ALBE+H1645*ALDE+I1645*AT+J1645*BE+K1645*DE+L1645*FR+M1645*NL)>(N1645),1,0)","v":0},null,{"$f":"IF((C$6*G1645+D$6*H1645+E$6*I1645+F$6*J1645+G$6*K1645+H$6*L1645+I$6*M1645)>(N1645),1,0)","v":0}]
[null,1566,"[D4-AT] Buers - Westtirol 421 weiss [OPP] [D4]_LTA_corner#20_#4","10T-AT-DE-000061","[AT-AT] Westtirol Transformer WTRHU41","14T-38220-WT041O",0,0,0.97357000000000005,-5.527E-2,9.8269999999999996E-2,-0.19861000000000001,0,4749,{"$f":"IF((G1646*ALBE+H1646*ALDE+I1646*AT+J1646*BE+K1646*DE+L1646*FR+M1646*NL)>(N1646),1,0)","v":0},null,{"$f":"IF((C$6*G1646+D$6*H1646+E$6*I1646+F$6*J1646+G$6*K1646+H$6*L1646+I$6*M1646)>(N1646),1,0)","v":0}]
[null,1567,"[D2-AT] Pleinting - St. Peter 258 [DIR] [AT]_LTA_corner#02_#1","10T-AT-DE-000037","[D2-D2] Pirach - Pleinting 257","11TD2L000000201H",0,0,-0.99739,6.1650000000000003E-2,-2.6540000000000001E-2,-2.6540000000000001E-2,0,4808,{"$f":"IF((G1647*ALBE+H1647*ALDE+I1647*AT+J1647*BE+K1647*DE+L1647*FR+M1647*NL)>(N1647),1,0)","v":0},null,{"$f":"IF((C$6*G1647+D$6*H1647+E$6*I1647+F$6*J1647+G$6*K1647+H$6*L1647+I$6*M1647)>(N1647),1,0)","v":0}]
[null,1568,"[BE-FR] Achene - Lonny 380.19 [DIR] [BE]_LTA_corner#02_#0","10T-BE-FR-000015","[BE-BE] Avelgem - Horta 380.102","22T20161020---1E",0,0,-0.45723999999999998,0.22367000000000001,-0.29948000000000002,-0.80698000000000003,0,2435,{"$f":"IF((G1648*ALBE+H1648*ALDE+I1648*AT+J1648*BE+K1648*DE+L1648*FR+M1648*NL)>(N1648),1,0)","v":0},null,{"$f":"IF((C$6*G1648+D$6*H1648+E$6*I1648+F$6*J1648+G$6*K1648+H$6*L1648+I$6*M1648)>(N1648),1,0)","v":0}]
[null,1569,"[D2-AT] Pleinting - St. Peter 258 [DIR] [AT]_LTA_corner#04_#12","10T-AT-DE-000037","[D2-D2] Pirach - Pleinting 257","11TD2L000000201H",0,0,-0.98970999999999998,-3.5000000000000001E-3,0.14061000000000001,-2.6329999999999999E-2,0,5784,{"$f":"IF((G1649*ALBE+H1649*ALDE+I1649*AT+J1649*BE+K1649*DE+L1649*FR+M1649*NL)>(N1649),1,0)","v":0},null,{"$f":"IF((C$6*G1649+D$6*H1649+E$6*I1649+F$6*J1649+G$6*K1649+H$6*L1649+I$6*M1649)>(N1649),1,0)","v":0}]
[null,1570,"[D2-AT] Pleinting - St. Peter 258 [DIR] [AT]_LTA_corner#04_#6","10T-AT-DE-000037","[D2-D2] Pirach - Pleinting 257","11TD2L000000201H",0,0,-0.98494000000000004,-2.385E-2,0.13275999999999999,-0.10818,0,5841,{"$f":"IF((G1650*ALBE+H1650*ALDE+I1650*AT+J1650*BE+K1650*DE+L1650*FR+M1650*NL)>(N1650),1,0)","v":0},null,{"$f":"IF((C$6*G1650+D$6*H1650+E$6*I1650+F$6*J1650+G$6*K1650+H$6*L1650+I$6*M1650)>(N1650),1,0)","v":0}]
[null,1571,"[D2-AT] Pleinting - St. Peter 258 [DIR] [AT]_LTA_corner#03_#1","10T-AT-DE-000037","[D2-D2] Pirach - Pleinting 257","11TD2L000000201H",0,0,-0.99861999999999995,3.6670000000000001E-2,7.9799999999999992E-3,3.6670000000000001E-2,0,4923,{"$f":"IF((G1651*ALBE+H1651*ALDE+I1651*AT+J1651*BE+K1651*DE+L1651*FR+M1651*NL)>(N1651),1,0)","v":0},null,{"$f":"IF((C$6*G1651+D$6*H1651+E$6*I1651+F$6*J1651+G$6*K1651+H$6*L1651+I$6*M1651)>(N1651),1,0)","v":0}]
[null,1572,"[BE-BE] PST_VANYK_2 [S - N]","22T-BE-PST--002U","[BE-BE] Y - Courcelles (- Gramme - Tergnee) 380.31","22T-BE-IN-LI019P",0.48897000000000002,-4.3270000000000003E-2,1.089E-2,0.22714999999999999,-1.9740000000000001E-2,8.0729999999999996E-2,-3.3790000000000001E-2,969,{"$f":"IF((G1652*ALBE+H1652*ALDE+I1652*AT+J1652*BE+K1652*DE+L1652*FR+M1652*NL)>(N1652),1,0)","v":0},null,{"$f":"IF((C$6*G1652+D$6*H1652+E$6*I1652+F$6*J1652+G$6*K1652+H$6*L1652+I$6*M1652)>(N1652),1,0)","v":0}]
[null,1573,"[D4-AT] Buers - Westtirol 421 weiss [OPP] [D4]_LTA_corner#20_#10","10T-AT-DE-000061","[AT-AT] Westtirol Transformer WTRHU41","14T-38220-WT041O",0,0,0.99314000000000002,-1.8400000000000001E-3,0.11525000000000001,-1.9800000000000002E-2,0,4502,{"$f":"IF((G1653*ALBE+H1653*ALDE+I1653*AT+J1653*BE+K1653*DE+L1653*FR+M1653*NL)>(N1653),1,0)","v":0},null,{"$f":"IF((C$6*G1653+D$6*H1653+E$6*I1653+F$6*J1653+G$6*K1653+H$6*L1653+I$6*M1653)>(N1653),1,0)","v":0}]
[null,1574,"[D2-AT] Pleinting - St. Peter 258 [DIR] [AT]_LTA_corner#14_#8","10T-AT-DE-000037","[D2-D2] Pirach - Pleinting 257","11TD2L000000201H",0,0,-0.99729999999999996,0,-5.9500000000000004E-3,7.3249999999999996E-2,0,5019,{"$f":"IF((G1654*ALBE+H1654*ALDE+I1654*AT+J1654*BE+K1654*DE+L1654*FR+M1654*NL)>(N1654),1,0)","v":0},null,{"$f":"IF((C$6*G1654+D$6*H1654+E$6*I1654+F$6*J1654+G$6*K1654+H$6*L1654+I$6*M1654)>(N1654),1,0)","v":0}]
[null,1575,"[BE-FR] Achene - Lonny 380.19 [DIR] [BE]_LTA_corner#09_#11","10T-BE-FR-000015","[BE-BE] Avelgem - Horta 380.102","22T20161020---1E",0,0,-0.42484,-0.59094999999999998,-0.34794999999999998,-0.59094999999999998,0,1535,{"$f":"IF((G1655*ALBE+H1655*ALDE+I1655*AT+J1655*BE+K1655*DE+L1655*FR+M1655*NL)>(N1655),1,0)","v":0},null,{"$f":"IF((C$6*G1655+D$6*H1655+E$6*I1655+F$6*J1655+G$6*K1655+H$6*L1655+I$6*M1655)>(N1655),1,0)","v":0}]
[null,1576,"[D2-AT] Pleinting - St. Peter 258 [DIR] [D2]_LTA_corner#09_#25","10T-AT-DE-000037","[D2-AT] Y - St. Peter (- Altheim - Simbach) 234/230","10T-AT-DE-000045",0,0,-0.98312999999999995,-5.185E-2,-0.12401,-0.12401,0,4394,{"$f":"IF((G1656*ALBE+H1656*ALDE+I1656*AT+J1656*BE+K1656*DE+L1656*FR+M1656*NL)>(N1656),1,0)","v":0},null,{"$f":"IF((C$6*G1656+D$6*H1656+E$6*I1656+F$6*J1656+G$6*K1656+H$6*L1656+I$6*M1656)>(N1656),1,0)","v":0}]
[null,1577,"ALBE_import","N/A","BASECASE","N/A",-1,0,0,0,0,0,0,0,{"$f":"IF((G1657*ALBE+H1657*ALDE+I1657*AT+J1657*BE+K1657*DE+L1657*FR+M1657*NL)>(N1657),1,0)","v":0},null,{"$f":"IF((C$6*G1657+D$6*H1657+E$6*I1657+F$6*J1657+G$6*K1657+H$6*L1657+I$6*M1657)>(N1657),1,0)","v":0}]
[null,1578,"[D2-AT] Pleinting - St. Peter 258 [DIR] [AT]_LTA_corner#01_#24","10T-AT-DE-000037","[D2-D2] Pirach - Pleinting 257","11TD2L000000201H",0,0,-0.99883,2.793E-2,2.793E-2,2.793E-2,0,4997,{"$f":"IF((G1658*ALBE+H1658*ALDE+I1658*AT+J1658*BE+K1658*DE+L1658*FR+M1658*NL)>(N1658),1,0)","v":0},null,{"$f":"IF((C$6*G1658+D$6*H1658+E$6*I1658+F$6*J1658+G$6*K1658+H$6*L1658+I$6*M1658)>(N1658),1,0)","v":0}]
[null,1579,"[D2-AT] Pleinting - St. Peter 258 [DIR] [AT]_LTA_corner#02_#11","10T-AT-DE-000037","[D2-D2] Pirach - Pleinting 257","11TD2L000000201H",0,0,-0.99680000000000002,7.7920000000000003E-2,-1.2710000000000001E-2,-1.2710000000000001E-2,0,4864,{"$f":"IF((G1659*ALBE+H1659*ALDE+I1659*AT+J1659*BE+K1659*DE+L1659*FR+M1659*NL)>(N1659),1,0)","v":0},null,{"$f":"IF((C$6*G1659+D$6*H1659+E$6*I1659+F$6*J1659+G$6*K1659+H$6*L1659+I$6*M1659)>(N1659),1,0)","v":0}]
[null,1580,"[D4-AT] Buers - Westtirol 421 weiss [OPP] [D4]_LTA_corner#17_#13","10T-AT-DE-000061","[AT-AT] Westtirol Transformer WTRHU41","14T-38220-WT041O",0,0,0.98545000000000005,0,0.13963999999999999,-9.6879999999999994E-2,0,4521,{"$f":"IF((G1660*ALBE+H1660*ALDE+I1660*AT+J1660*BE+K1660*DE+L1660*FR+M1660*NL)>(N1660),1,0)","v":0},null,{"$f":"IF((C$6*G1660+D$6*H1660+E$6*I1660+F$6*J1660+G$6*K1660+H$6*L1660+I$6*M1660)>(N1660),1,0)","v":0}]
[null,1581,"[D4-AT] Buers - Westtirol 421 weiss [OPP] [D4]_LTA_corner#20_#39","10T-AT-DE-000061","[AT-AT] Westtirol Transformer WTRHU41","14T-38220-WT041O",0,0,0.97641999999999995,-4.3709999999999999E-2,0.16419,-0.13317999999999999,0,4475,{"$f":"IF((G1661*ALBE+H1661*ALDE+I1661*AT+J1661*BE+K1661*DE+L1661*FR+M1661*NL)>(N1661),1,0)","v":0},null,{"$f":"IF((C$6*G1661+D$6*H1661+E$6*I1661+F$6*J1661+G$6*K1661+H$6*L1661+I$6*M1661)>(N1661),1,0)","v":0}]
[null,1582,"[D2-AT] Pleinting - St. Peter 258 [DIR] [D2]_LTA_corner#07_#12","10T-AT-DE-000037","[D2-AT] Y - St. Peter (- Altheim - Simbach) 234/230","10T-AT-DE-000045",0,0,-0.99999000000000005,0,0,4.9699999999999996E-3,0,4836,{"$f":"IF((G1662*ALBE+H1662*ALDE+I1662*AT+J1662*BE+K1662*DE+L1662*FR+M1662*NL)>(N1662),1,0)","v":0},null,{"$f":"IF((C$6*G1662+D$6*H1662+E$6*I1662+F$6*J1662+G$6*K1662+H$6*L1662+I$6*M1662)>(N1662),1,0)","v":0}]
[null,1583,"[AT-AT] Westtirol Transformer WTRHU41 [OPP]_LTA_corner#17_#11","14T-38220-WT041O","BASECASE","N/A",0,0,0.99260999999999999,0,9.9949999999999997E-2,-6.8870000000000001E-2,0,4620,{"$f":"IF((G1663*ALBE+H1663*ALDE+I1663*AT+J1663*BE+K1663*DE+L1663*FR+M1663*NL)>(N1663),1,0)","v":0},null,{"$f":"IF((C$6*G1663+D$6*H1663+E$6*I1663+F$6*J1663+G$6*K1663+H$6*L1663+I$6*M1663)>(N1663),1,0)","v":0}]
[null,1584,"ALDE_export","N/A","BASECASE","N/A",0,1,0,0,0,0,0,0,{"$f":"IF((G1664*ALBE+H1664*ALDE+I1664*AT+J1664*BE+K1664*DE+L1664*FR+M1664*NL)>(N1664),1,0)","v":0},null,{"$f":"IF((C$6*G1664+D$6*H1664+E$6*I1664+F$6*J1664+G$6*K1664+H$6*L1664+I$6*M1664)>(N1664),1,0)","v":0}]
[null,1585,"[D2-AT] Pleinting - St. Peter 258 [DIR] [AT]_LTA_corner#06_#2","10T-AT-DE-000037","[D2-D2] Pirach - Pleinting 257","11TD2L000000201H",0,0,-0.99317999999999995,-0.11327,7.9399999999999991E-3,-2.6419999999999999E-2,0,5102,{"$f":"IF((G1665*ALBE+H1665*ALDE+I1665*AT+J1665*BE+K1665*DE+L1665*FR+M1665*NL)>(N1665),1,0)","v":0},null,{"$f":"IF((C$6*G1665+D$6*H1665+E$6*I1665+F$6*J1665+G$6*K1665+H$6*L1665+I$6*M1665)>(N1665),1,0)","v":0}]
[null,1586,"[D2-AT] Pleinting - St. Peter 258 [DIR] [AT]_LTA_corner#03_#0","10T-AT-DE-000037","[D2-D2] Pirach - Pleinting 257","11TD2L000000201H",0,0,-0.99877000000000005,3.5040000000000002E-2,0,3.5040000000000002E-2,0,4884,{"$f":"IF((G1666*ALBE+H1666*ALDE+I1666*AT+J1666*BE+K1666*DE+L1666*FR+M1666*NL)>(N1666),1,0)","v":0},null,{"$f":"IF((C$6*G1666+D$6*H1666+E$6*I1666+F$6*J1666+G$6*K1666+H$6*L1666+I$6*M1666)>(N1666),1,0)","v":0}]
[null,1587,"ALBE_export","N/A","BASECASE","N/A",1,0,0,0,0,0,0,0,{"$f":"IF((G1667*ALBE+H1667*ALDE+I1667*AT+J1667*BE+K1667*DE+L1667*FR+M1667*NL)>(N1667),1,0)","v":0},null,{"$f":"IF((C$6*G1667+D$6*H1667+E$6*I1667+F$6*J1667+G$6*K1667+H$6*L1667+I$6*M1667)>(N1667),1,0)","v":0}]
[null,1588,"[AT-AT] Westtirol Transformer WTRHU41 [OPP]_LTA_corner#20_#4","14T-38220-WT041O","BASECASE","N/A",0,0,0.98026999999999997,-1.9900000000000001E-2,0.18451000000000001,-6.8010000000000001E-2,0,4331,{"$f":"IF((G1668*ALBE+H1668*ALDE+I1668*AT+J1668*BE+K1668*DE+L1668*FR+M1668*NL)>(N1668),1,0)","v":0},null,{"$f":"IF((C$6*G1668+D$6*H1668+E$6*I1668+F$6*J1668+G$6*K1668+H$6*L1668+I$6*M1668)>(N1668),1,0)","v":0}]
[null,1589,"[D2-AT] Pleinting - St. Peter 258 [DIR] [AT]_LTA_corner#06_#12","10T-AT-DE-000037","[D2-D2] Pirach - Pleinting 257","11TD2L000000201H",0,0,-0.99434999999999996,-0.10276,0,-2.6460000000000001E-2,0,5027,{"$f":"IF((G1669*ALBE+H1669*ALDE+I1669*AT+J1669*BE+K1669*DE+L1669*FR+M1669*NL)>(N1669),1,0)","v":0},null,{"$f":"IF((C$6*G1669+D$6*H1669+E$6*I1669+F$6*J1669+G$6*K1669+H$6*L1669+I$6*M1669)>(N1669),1,0)","v":0}]
[null,1590,"[BE-BE] PST_VANYK_2 [S - N]","22T-BE-PST--002U","[NL-BE] Maasbracht - Van Eyck 380 Black/27","10T-BE-NL-00002G",0.48527999999999999,-5.117E-2,1.2489999999999999E-2,0.27063999999999999,-2.2509999999999999E-2,9.4960000000000003E-2,-2.5729999999999999E-2,1110,{"$f":"IF((G1670*ALBE+H1670*ALDE+I1670*AT+J1670*BE+K1670*DE+L1670*FR+M1670*NL)>(N1670),1,0)","v":0},null,{"$f":"IF((C$6*G1670+D$6*H1670+E$6*I1670+F$6*J1670+G$6*K1670+H$6*L1670+I$6*M1670)>(N1670),1,0)","v":0}]
[null,1591,"[BE-FR] Achene - Lonny 380.19 [DIR] [BE]_LTA_corner#02_#18","10T-BE-FR-000015","[BE-BE] Avelgem - Horta 380.102","22T20161020---1E",0,0,-0.46389999999999998,0.17054,-0.30519000000000002,-0.81398999999999999,0,2388,{"$f":"IF((G1671*ALBE+H1671*ALDE+I1671*AT+J1671*BE+K1671*DE+L1671*FR+M1671*NL)>(N1671),1,0)","v":0},null,{"$f":"IF((C$6*G1671+D$6*H1671+E$6*I1671+F$6*J1671+G$6*K1671+H$6*L1671+I$6*M1671)>(N1671),1,0)","v":0}]
[null,1592,"[D2-AT] Pleinting - St. Peter 258 [DIR] [D2]_LTA_corner#09_#5","10T-AT-DE-000037","[D2-AT] Y - St. Peter (- Altheim - Simbach) 234/230","10T-AT-DE-000045",0,0,-0.96128999999999998,-0.11089,-0.17835999999999999,-0.17835999999999999,0,4143,{"$f":"IF((G1672*ALBE+H1672*ALDE+I1672*AT+J1672*BE+K1672*DE+L1672*FR+M1672*NL)>(N1672),1,0)","v":0},null,{"$f":"IF((C$6*G1672+D$6*H1672+E$6*I1672+F$6*J1672+G$6*K1672+H$6*L1672+I$6*M1672)>(N1672),1,0)","v":0}]
[null,1593,"[BE-FR] Achene - Lonny 380.19 [DIR] [BE]_LTA_corner#02_#12","10T-BE-FR-000015","[BE-BE] Avelgem - Horta 380.102","22T20161020---1E",0,0,-0.45669999999999999,0.34638999999999998,-0.27882000000000001,-0.77051999999999998,0,2615,{"$f":"IF((G1673*ALBE+H1673*ALDE+I1673*AT+J1673*BE+K1673*DE+L1673*FR+M1673*NL)>(N1673),1,0)","v":0},null,{"$f":"IF((C$6*G1673+D$6*H1673+E$6*I1673+F$6*J1673+G$6*K1673+H$6*L1673+I$6*M1673)>(N1673),1,0)","v":0}]
[null,1594,"[AT-AT] Westtirol Transformer WTRHU41 [OPP]_LTA_corner#22_#4","14T-38220-WT041O","BASECASE","N/A",0,0,0.99023000000000005,-2.01E-2,0.13689999999999999,-1.7219999999999999E-2,0,4434,{"$f":"IF((G1674*ALBE+H1674*ALDE+I1674*AT+J1674*BE+K1674*DE+L1674*FR+M1674*NL)>(N1674),1,0)","v":0},null,{"$f":"IF((C$6*G1674+D$6*H1674+E$6*I1674+F$6*J1674+G$6*K1674+H$6*L1674+I$6*M1674)>(N1674),1,0)","v":0}]
[null,1595,"[D2-AT] Pleinting - St. Peter 258 [DIR] [D2]_LTA_corner#04_#0","10T-AT-DE-000037","[D2-AT] Y - St. Peter (- Altheim - Simbach) 234/230","10T-AT-DE-000045",0,0,-0.98243000000000003,-5.5539999999999999E-2,2.5329999999999998E-2,-0.17635000000000001,0,5202,{"$f":"IF((G1675*ALBE+H1675*ALDE+I1675*AT+J1675*BE+K1675*DE+L1675*FR+M1675*NL)>(N1675),1,0)","v":0},null,{"$f":"IF((C$6*G1675+D$6*H1675+E$6*I1675+F$6*J1675+G$6*K1675+H$6*L1675+I$6*M1675)>(N1675),1,0)","v":0}]
[null,1596,"[AT-AT] Westtirol Transformer WTRHU41 [OPP]_LTA_corner#20_#13","14T-38220-WT041O","BASECASE","N/A",0,0,0.98553000000000002,-7.127E-2,0.13625000000000001,-7.127E-2,0,4501,{"$f":"IF((G1676*ALBE+H1676*ALDE+I1676*AT+J1676*BE+K1676*DE+L1676*FR+M1676*NL)>(N1676),1,0)","v":0},null,{"$f":"IF((C$6*G1676+D$6*H1676+E$6*I1676+F$6*J1676+G$6*K1676+H$6*L1676+I$6*M1676)>(N1676),1,0)","v":0}]
[null,1597,"[D4-AT] Buers - Westtirol 421 weiss [OPP] [D4]_LTA_corner#17_#1","10T-AT-DE-000061","[AT-AT] Westtirol Transformer WTRHU41","14T-38220-WT041O",0,0,0.98480000000000001,0,0.14846000000000001,-9.0179999999999996E-2,0,4483,{"$f":"IF((G1677*ALBE+H1677*ALDE+I1677*AT+J1677*BE+K1677*DE+L1677*FR+M1677*NL)>(N1677),1,0)","v":0},null,{"$f":"IF((C$6*G1677+D$6*H1677+E$6*I1677+F$6*J1677+G$6*K1677+H$6*L1677+I$6*M1677)>(N1677),1,0)","v":0}]
[null,1598,"[D2-NL] Diele - Meeden 380 Black [DIR] [NL]_LTA_corner#05_#27","10T-DE-NL-00001V","[D2-NL] Diele - Meeden 380 White","10T-DE-NL-00002T",0,0,0.55693000000000004,0.26177,0.66752,0.41920000000000002,0,1933,{"$f":"IF((G1678*ALBE+H1678*ALDE+I1678*AT+J1678*BE+K1678*DE+L1678*FR+M1678*NL)>(N1678),1,0)","v":0},null,{"$f":"IF((C$6*G1678+D$6*H1678+E$6*I1678+F$6*J1678+G$6*K1678+H$6*L1678+I$6*M1678)>(N1678),1,0)","v":0}]
[null,1599,"[D2-AT] Pleinting - St. Peter 258 [DIR] [AT]_LTA_corner#01_#18","10T-AT-DE-000037","[D2-D2] Pirach - Pleinting 257","11TD2L000000201H",0,0,-0.99777000000000005,6.5769999999999995E-2,7.9699999999999997E-3,7.9699999999999997E-3,0,4933,{"$f":"IF((G1679*ALBE+H1679*ALDE+I1679*AT+J1679*BE+K1679*DE+L1679*FR+M1679*NL)>(N1679),1,0)","v":0},null,{"$f":"IF((C$6*G1679+D$6*H1679+E$6*I1679+F$6*J1679+G$6*K1679+H$6*L1679+I$6*M1679)>(N1679),1,0)","v":0}]
[null,1600,"[D2-AT] Pleinting - St. Peter 258 [DIR] [AT]_LTA_corner#05_#7","10T-AT-DE-000037","[D2-D2] Pirach - Pleinting 257","11TD2L000000201H",0,0,-0.99802000000000002,0,4.446E-2,4.446E-2,0,5149,{"$f":"IF((G1680*ALBE+H1680*ALDE+I1680*AT+J1680*BE+K1680*DE+L1680*FR+M1680*NL)>(N1680),1,0)","v":0},null,{"$f":"IF((C$6*G1680+D$6*H1680+E$6*I1680+F$6*J1680+G$6*K1680+H$6*L1680+I$6*M1680)>(N1680),1,0)","v":0}]
[null,1601,"[D4-AT] Buers - Westtirol 421 weiss [OPP] [D4]_LTA_corner#20_#9","10T-AT-DE-000061","[AT-AT] Westtirol Transformer WTRHU41","14T-38220-WT041O",0,0,0.98394999999999999,-6.4390000000000003E-2,0.14568999999999999,-8.0490000000000006E-2,0,4481,{"$f":"IF((G1681*ALBE+H1681*ALDE+I1681*AT+J1681*BE+K1681*DE+L1681*FR+M1681*NL)>(N1681),1,0)","v":0},null,{"$f":"IF((C$6*G1681+D$6*H1681+E$6*I1681+F$6*J1681+G$6*K1681+H$6*L1681+I$6*M1681)>(N1681),1,0)","v":0}]
[null,1602,"[BE-FR] Achene - Lonny 380.19 [DIR] [BE]_LTA_corner#09_#10","10T-BE-FR-000015","[BE-BE] Avelgem - Horta 380.102","22T20161020---1E",0,0,-0.41786000000000001,-0.59484000000000004,-0.34310000000000002,-0.59484000000000004,0,1530,{"$f":"IF((G1682*ALBE+H1682*ALDE+I1682*AT+J1682*BE+K1682*DE+L1682*FR+M1682*NL)>(N1682),1,0)","v":0},null,{"$f":"IF((C$6*G1682+D$6*H1682+E$6*I1682+F$6*J1682+G$6*K1682+H$6*L1682+I$6*M1682)>(N1682),1,0)","v":0}]
[null,1603,"[NL-NL] Krimpen a/d IJssel - Geertruidenberg 380 Zwart [OPP]","49T0000000000282","[NL-NL] Diemen - Lelystad 380 Wit","49T0000000000096",0.11631,2.1829999999999999E-2,1.1690000000000001E-2,0.13722000000000001,-2.359E-2,6.3119999999999996E-2,-0.26061000000000001,1828,{"$f":"IF((G1683*ALBE+H1683*ALDE+I1683*AT+J1683*BE+K1683*DE+L1683*FR+M1683*NL)>(N1683),1,0)","v":0},null,{"$f":"IF((C$6*G1683+D$6*H1683+E$6*I1683+F$6*J1683+G$6*K1683+H$6*L1683+I$6*M1683)>(N1683),1,0)","v":0}]
[null,1604,"[D7-D4] Hoheneck - Pulverdingen weiss [DIR] [D4]_LTA_corner#09_#46","11T-D4-D7-00014N","[D4-D7] Y - Herbertingen - Hoheneck - Metzingen schwarz","11TD40000A546-S0",0,0,-0.81503999999999999,-0.11738999999999999,-0.30614999999999998,-0.47771000000000002,0,3348,{"$f":"IF((G1684*ALBE+H1684*ALDE+I1684*AT+J1684*BE+K1684*DE+L1684*FR+M1684*NL)>(N1684),1,0)","v":0},null,{"$f":"IF((C$6*G1684+D$6*H1684+E$6*I1684+F$6*J1684+G$6*K1684+H$6*L1684+I$6*M1684)>(N1684),1,0)","v":0}]
[null,1605,"[D2-AT] Pleinting - St. Peter 258 [DIR] [AT]_LTA_corner#13_#6","10T-AT-DE-000037","[D2-D2] Pirach - Pleinting 257","11TD2L000000201H",0,0,-0.99661,-7.9920000000000005E-2,-1.387E-2,-1.387E-2,0,4929,{"$f":"IF((G1685*ALBE+H1685*ALDE+I1685*AT+J1685*BE+K1685*DE+L1685*FR+M1685*NL)>(N1685),1,0)","v":0},null,{"$f":"IF((C$6*G1685+D$6*H1685+E$6*I1685+F$6*J1685+G$6*K1685+H$6*L1685+I$6*M1685)>(N1685),1,0)","v":0}]
[null,1606,"[D2-AT] Pleinting - St. Peter 258 [DIR] [D2]_LTA_corner#05_#14","10T-AT-DE-000037","[D2-AT] Y - St. Peter (- Altheim - Simbach) 234/230","10T-AT-DE-000045",0,0,-0.98248000000000002,0,0.17391000000000001,6.6960000000000006E-2,0,5983,{"$f":"IF((G1686*ALBE+H1686*ALDE+I1686*AT+J1686*BE+K1686*DE+L1686*FR+M1686*NL)>(N1686),1,0)","v":0},null,{"$f":"IF((C$6*G1686+D$6*H1686+E$6*I1686+F$6*J1686+G$6*K1686+H$6*L1686+I$6*M1686)>(N1686),1,0)","v":0}]
[null,1607,"[AT-AT] Westtirol Transformer WTRHU41 [OPP]_LTA_corner#20_#20","14T-38220-WT041O","BASECASE","N/A",0,0,0.98675000000000002,-6.8459999999999993E-2,0.13022,-6.8459999999999993E-2,0,4519,{"$f":"IF((G1687*ALBE+H1687*ALDE+I1687*AT+J1687*BE+K1687*DE+L1687*FR+M1687*NL)>(N1687),1,0)","v":0},null,{"$f":"IF((C$6*G1687+D$6*H1687+E$6*I1687+F$6*J1687+G$6*K1687+H$6*L1687+I$6*M1687)>(N1687),1,0)","v":0}]
[null,1608,"[AT-AT] Westtirol Transformer WTRHU41 [OPP]_LTA_corner#20_#16","14T-38220-WT041O","BASECASE","N/A",0,0,0.98523000000000005,-6.8360000000000004E-2,0.14136000000000001,-6.8360000000000004E-2,0,4481,{"$f":"IF((G1688*ALBE+H1688*ALDE+I1688*AT+J1688*BE+K1688*DE+L1688*FR+M1688*NL)>(N1688),1,0)","v":0},null,{"$f":"IF((C$6*G1688+D$6*H1688+E$6*I1688+F$6*J1688+G$6*K1688+H$6*L1688+I$6*M1688)>(N1688),1,0)","v":0}]
[null,1609,"[D2-AT] Pleinting - St. Peter 258 [DIR] [D2]_LTA_corner#15_#0","10T-AT-DE-000037","[D2-AT] Y - St. Peter (- Altheim - Simbach) 234/230","10T-AT-DE-000045",0,0,-0.95004999999999995,-0.12071,-0.21753,-0.18842999999999999,0,4000,{"$f":"IF((G1689*ALBE+H1689*ALDE+I1689*AT+J1689*BE+K1689*DE+L1689*FR+M1689*NL)>(N1689),1,0)","v":0},null,{"$f":"IF((C$6*G1689+D$6*H1689+E$6*I1689+F$6*J1689+G$6*K1689+H$6*L1689+I$6*M1689)>(N1689),1,0)","v":0}]
[null,1610,"[D2-AT] Pleinting - St. Peter 258 [DIR] [AT]_LTA_corner#14_#1","10T-AT-DE-000037","[D2-D2] Pirach - Pleinting 257","11TD2L000000201H",0,0,-0.99656999999999996,1.1180000000000001E-2,-7.6350000000000001E-2,2.98E-2,0,4723,{"$f":"IF((G1690*ALBE+H1690*ALDE+I1690*AT+J1690*BE+K1690*DE+L1690*FR+M1690*NL)>(N1690),1,0)","v":0},null,{"$f":"IF((C$6*G1690+D$6*H1690+E$6*I1690+F$6*J1690+G$6*K1690+H$6*L1690+I$6*M1690)>(N1690),1,0)","v":0}]
[null,1611,"[D2-AT] Pleinting - St. Peter 258 [DIR] [AT]_LTA_corner#01_#10","10T-AT-DE-000037","[D2-D2] Pirach - Pleinting 257","11TD2L000000201H",0,0,-0.99543000000000004,9.3149999999999997E-2,0,-2.1170000000000001E-2,0,4946,{"$f":"IF((G1691*ALBE+H1691*ALDE+I1691*AT+J1691*BE+K1691*DE+L1691*FR+M1691*NL)>(N1691),1,0)","v":0},null,{"$f":"IF((C$6*G1691+D$6*H1691+E$6*I1691+F$6*J1691+G$6*K1691+H$6*L1691+I$6*M1691)>(N1691),1,0)","v":0}]
[null,1612,"[D2-AT] Pleinting - St. Peter 258 [DIR] [D2]_LTA_corner#05_#21","10T-AT-DE-000037","[D2-AT] Y - St. Peter (- Altheim - Simbach) 234/230","10T-AT-DE-000045",0,0,0.55376999999999998,0.26696999999999999,0.66678000000000004,0.42126999999999998,0,1939,{"$f":"IF((G1692*ALBE+H1692*ALDE+I1692*AT+J1692*BE+K1692*DE+L1692*FR+M1692*NL)>(N1692),1,0)","v":0},null,{"$f":"IF((C$6*G1692+D$6*H1692+E$6*I1692+F$6*J1692+G$6*K1692+H$6*L1692+I$6*M1692)>(N1692),1,0)","v":0}]
[null,1613,"[D2-AT] Pleinting - St. Peter 258 [DIR] [AT]_LTA_corner#11_#12","10T-AT-DE-000037","[D2-D2] Pirach - Pleinting 257","11TD2L000000201H",0,0,-0.99728000000000006,1.813E-2,-6.9150000000000003E-2,1.813E-2,0,4698,{"$f":"IF((G1693*ALBE+H1693*ALDE+I1693*AT+J1693*BE+K1693*DE+L1693*FR+M1693*NL)>(N1693),1,0)","v":0},null,{"$f":"IF((C$6*G1693+D$6*H1693+E$6*I1693+F$6*J1693+G$6*K1693+H$6*L1693+I$6*M1693)>(N1693),1,0)","v":0}]
[null,1614,"[D2-NL] Diele - Meeden 380 Black [DIR] [NL]_LTA_corner#05_#8","10T-DE-NL-00001V","[D2-NL] Diele - Meeden 380 White","10T-DE-NL-00002T",0,0,0.55727000000000004,0.26080999999999999,0.66778999999999999,0.41892000000000001,0,1934,{"$f":"IF((G1694*ALBE+H1694*ALDE+I1694*AT+J1694*BE+K1694*DE+L1694*FR+M1694*NL)>(N1694),1,0)","v":0},null,{"$f":"IF((C$6*G1694+D$6*H1694+E$6*I1694+F$6*J1694+G$6*K1694+H$6*L1694+I$6*M1694)>(N1694),1,0)","v":0}]
[null,1615,"[D7-D4] Hoheneck - Pulverdingen weiss [DIR] [D4]_LTA_corner#09_#29","11T-D4-D7-00014N","[D4-D7] Y - Herbertingen - Hoheneck - Metzingen schwarz","11TD40000A546-S0",0,0,-0.84404999999999997,-9.4769999999999993E-2,-0.31235000000000002,-0.42548999999999998,0,3374,{"$f":"IF((G1695*ALBE+H1695*ALDE+I1695*AT+J1695*BE+K1695*DE+L1695*FR+M1695*NL)>(N1695),1,0)","v":0},null,{"$f":"IF((C$6*G1695+D$6*H1695+E$6*I1695+F$6*J1695+G$6*K1695+H$6*L1695+I$6*M1695)>(N1695),1,0)","v":0}]
[null,1616,"[BE-FR] Achene - Lonny 380.19 [DIR] [BE]_LTA_corner#02_#20","10T-BE-FR-000015","[BE-BE] Avelgem - Horta 380.102","22T20161020---1E",0,0,-0.48723,0,-0.36220000000000002,-0.79461999999999999,0,2008,{"$f":"IF((G1696*ALBE+H1696*ALDE+I1696*AT+J1696*BE+K1696*DE+L1696*FR+M1696*NL)>(N1696),1,0)","v":0},null,{"$f":"IF((C$6*G1696+D$6*H1696+E$6*I1696+F$6*J1696+G$6*K1696+H$6*L1696+I$6*M1696)>(N1696),1,0)","v":0}]
[null,1617,"[D2-AT] Pleinting - St. Peter 258 [DIR] [D2]_LTA_corner#01_#11","10T-AT-DE-000037","[D2-AT] Y - St. Peter (- Altheim - Simbach) 234/230","10T-AT-DE-000045",0,0,-0.99866999999999995,4.02E-2,0,-3.2390000000000002E-2,0,4915,{"$f":"IF((G1697*ALBE+H1697*ALDE+I1697*AT+J1697*BE+K1697*DE+L1697*FR+M1697*NL)>(N1697),1,0)","v":0},null,{"$f":"IF((C$6*G1697+D$6*H1697+E$6*I1697+F$6*J1697+G$6*K1697+H$6*L1697+I$6*M1697)>(N1697),1,0)","v":0}]
[null,1618,"[D2-AT] Pleinting - St. Peter 258 [DIR] [AT]_LTA_corner#07_#1","10T-AT-DE-000037","[D2-D2] Pirach - Pleinting 257","11TD2L000000201H",0,0,-0.99716000000000005,0,0,7.5329999999999994E-2,0,5037,{"$f":"IF((G1698*ALBE+H1698*ALDE+I1698*AT+J1698*BE+K1698*DE+L1698*FR+M1698*NL)>(N1698),1,0)","v":0},null,{"$f":"IF((C$6*G1698+D$6*H1698+E$6*I1698+F$6*J1698+G$6*K1698+H$6*L1698+I$6*M1698)>(N1698),1,0)","v":0}]
[null,1619,"[D2-AT] Pleinting - St. Peter 258 [DIR] [AT]_LTA_corner#12_#0","10T-AT-DE-000037","[D2-D2] Pirach - Pleinting 257","11TD2L000000201H",0,0,-0.99651000000000001,-3.5300000000000002E-3,7.9600000000000001E-3,8.3040000000000003E-2,0,5102,{"$f":"IF((G1699*ALBE+H1699*ALDE+I1699*AT+J1699*BE+K1699*DE+L1699*FR+M1699*NL)>(N1699),1,0)","v":0},null,{"$f":"IF((C$6*G1699+D$6*H1699+E$6*I1699+F$6*J1699+G$6*K1699+H$6*L1699+I$6*M1699)>(N1699),1,0)","v":0}]
[null,1620,"[D2-AT] Pleinting - St. Peter 258 [DIR] [AT]_LTA_corner#14_#7","10T-AT-DE-000037","[D2-D2] Pirach - Pleinting 257","11TD2L000000201H",0,0,-0.99750000000000005,0,-1.227E-2,6.9650000000000004E-2,0,4995,{"$f":"IF((G1700*ALBE+H1700*ALDE+I1700*AT+J1700*BE+K1700*DE+L1700*FR+M1700*NL)>(N1700),1,0)","v":0},null,{"$f":"IF((C$6*G1700+D$6*H1700+E$6*I1700+F$6*J1700+G$6*K1700+H$6*L1700+I$6*M1700)>(N1700),1,0)","v":0}]
[null,1621,"[BE-BE] PST_ZANDV_2 [N - S]_LTA_corner#13_#9","22T20161020---56","[NL-BE] Rilland - Zandvliet 380 White/30","10T-BE-NL-00004C",0,0,-0.39562000000000003,-0.68144000000000005,-0.34066999999999997,-0.51288999999999996,0,1703,{"$f":"IF((G1701*ALBE+H1701*ALDE+I1701*AT+J1701*BE+K1701*DE+L1701*FR+M1701*NL)>(N1701),1,0)","v":0},null,{"$f":"IF((C$6*G1701+D$6*H1701+E$6*I1701+F$6*J1701+G$6*K1701+H$6*L1701+I$6*M1701)>(N1701),1,0)","v":0}]
[null,1622,"[D2-AT] Pleinting - St. Peter 258 [DIR] [AT]_LTA_corner#01_#25","10T-AT-DE-000037","[D2-D2] Pirach - Pleinting 257","11TD2L000000201H",0,0,-0.99492999999999998,0,0.10054,0,0,5490,{"$f":"IF((G1702*ALBE+H1702*ALDE+I1702*AT+J1702*BE+K1702*DE+L1702*FR+M1702*NL)>(N1702),1,0)","v":0},null,{"$f":"IF((C$6*G1702+D$6*H1702+E$6*I1702+F$6*J1702+G$6*K1702+H$6*L1702+I$6*M1702)>(N1702),1,0)","v":0}]
[null,1623,"[BE-BE] PST_ZANDV_2 [N - S]_LTA_corner#13_#0","22T20161020---56","[NL-BE] Rilland - Zandvliet 380 White/30","10T-BE-NL-00004C",0,0,-0.37317,-0.72184999999999999,-0.28534999999999999,-0.50819000000000003,0,1943,{"$f":"IF((G1703*ALBE+H1703*ALDE+I1703*AT+J1703*BE+K1703*DE+L1703*FR+M1703*NL)>(N1703),1,0)","v":0},null,{"$f":"IF((C$6*G1703+D$6*H1703+E$6*I1703+F$6*J1703+G$6*K1703+H$6*L1703+I$6*M1703)>(N1703),1,0)","v":0}]
[null,1624,"[AT-AT] Westtirol Transformer WTRHU41 [OPP]_LTA_corner#22_#0","14T-38220-WT041O","BASECASE","N/A",0,0,0.98550000000000004,-7.4499999999999997E-2,0.13625000000000001,-6.8379999999999996E-2,0,4511,{"$f":"IF((G1704*ALBE+H1704*ALDE+I1704*AT+J1704*BE+K1704*DE+L1704*FR+M1704*NL)>(N1704),1,0)","v":0},null,{"$f":"IF((C$6*G1704+D$6*H1704+E$6*I1704+F$6*J1704+G$6*K1704+H$6*L1704+I$6*M1704)>(N1704),1,0)","v":0}]
[null,1625,"[BE-FR] Achene - Lonny 380.19 [DIR] [BE]_LTA_corner#02_#6","10T-BE-FR-000015","[BE-BE] Avelgem - Horta 380.102","22T20161020---1E",0,0,-0.44851999999999997,0.34018999999999999,-0.33239000000000002,-0.75671999999999995,0,2308,{"$f":"IF((G1705*ALBE+H1705*ALDE+I1705*AT+J1705*BE+K1705*DE+L1705*FR+M1705*NL)>(N1705),1,0)","v":0},null,{"$f":"IF((C$6*G1705+D$6*H1705+E$6*I1705+F$6*J1705+G$6*K1705+H$6*L1705+I$6*M1705)>(N1705),1,0)","v":0}]
[null,1626,"[D2-NL] Diele - Meeden 380 Black [DIR] [NL]_LTA_corner#05_#18","10T-DE-NL-00001V","[D2-NL] Diele - Meeden 380 White","10T-DE-NL-00002T",0,0,0.55315000000000003,0.27844999999999998,0.66551000000000005,0.41664000000000001,0,1918,{"$f":"IF((G1706*ALBE+H1706*ALDE+I1706*AT+J1706*BE+K1706*DE+L1706*FR+M1706*NL)>(N1706),1,0)","v":0},null,{"$f":"IF((C$6*G1706+D$6*H1706+E$6*I1706+F$6*J1706+G$6*K1706+H$6*L1706+I$6*M1706)>(N1706),1,0)","v":0}]
[null,1627,"[AT-AT] Westtirol Transformer WTRHU41 [OPP]_LTA_corner#17_#10","14T-38220-WT041O","BASECASE","N/A",0,0,0.99367000000000005,0,9.5740000000000006E-2,-5.885E-2,0,4620,{"$f":"IF((G1707*ALBE+H1707*ALDE+I1707*AT+J1707*BE+K1707*DE+L1707*FR+M1707*NL)>(N1707),1,0)","v":0},null,{"$f":"IF((C$6*G1707+D$6*H1707+E$6*I1707+F$6*J1707+G$6*K1707+H$6*L1707+I$6*M1707)>(N1707),1,0)","v":0}]
[null,1628,"[D2-AT] Pleinting - St. Peter 258 [DIR] [D2]_LTA_corner#05_#18","10T-AT-DE-000037","[D2-AT] Y - St. Peter (- Altheim - Simbach) 234/230","10T-AT-DE-000045",0,0,0.55674000000000001,0.26840000000000003,0.66586999999999996,0.41787000000000002,0,1914,{"$f":"IF((G1708*ALBE+H1708*ALDE+I1708*AT+J1708*BE+K1708*DE+L1708*FR+M1708*NL)>(N1708),1,0)","v":0},null,{"$f":"IF((C$6*G1708+D$6*H1708+E$6*I1708+F$6*J1708+G$6*K1708+H$6*L1708+I$6*M1708)>(N1708),1,0)","v":0}]
[null,1629,"[BE-BE] PST_ZANDV_2 [N - S]_LTA_corner#13_#2","22T20161020---56","[NL-BE] Rilland - Zandvliet 380 White/30","10T-BE-NL-00004C",0,0,-0.36810999999999999,-0.71206999999999998,-0.32580999999999999,-0.50129999999999997,0,1720,{"$f":"IF((G1709*ALBE+H1709*ALDE+I1709*AT+J1709*BE+K1709*DE+L1709*FR+M1709*NL)>(N1709),1,0)","v":0},null,{"$f":"IF((C$6*G1709+D$6*H1709+E$6*I1709+F$6*J1709+G$6*K1709+H$6*L1709+I$6*M1709)>(N1709),1,0)","v":0}]
[null,1630,"[D4-AT] Buers - Westtirol 421 weiss [OPP] [D4]_LTA_corner#20_#0","10T-AT-DE-000061","[AT-AT] Westtirol Transformer WTRHU41","14T-38220-WT041O",0,0,0.96765000000000001,-6.4079999999999998E-2,0.10070999999999999,-0.22228999999999999,0,4753,{"$f":"IF((G1710*ALBE+H1710*ALDE+I1710*AT+J1710*BE+K1710*DE+L1710*FR+M1710*NL)>(N1710),1,0)","v":0},null,{"$f":"IF((C$6*G1710+D$6*H1710+E$6*I1710+F$6*J1710+G$6*K1710+H$6*L1710+I$6*M1710)>(N1710),1,0)","v":0}]
[null,1631,"[AT-AT] Westtirol Transformer WTRHU41 [OPP]_LTA_corner#17_#2","14T-38220-WT041O","BASECASE","N/A",0,0,0.98363,0,0.16675000000000001,-6.8250000000000005E-2,0,4393,{"$f":"IF((G1711*ALBE+H1711*ALDE+I1711*AT+J1711*BE+K1711*DE+L1711*FR+M1711*NL)>(N1711),1,0)","v":0},null,{"$f":"IF((C$6*G1711+D$6*H1711+E$6*I1711+F$6*J1711+G$6*K1711+H$6*L1711+I$6*M1711)>(N1711),1,0)","v":0}]
[null,1632,"[D2-AT] Pleinting - St. Peter 258 [DIR] [AT]_LTA_corner#12_#5","10T-AT-DE-000037","[D2-D2] Pirach - Pleinting 257","11TD2L000000201H",0,0,-0.997,-2.14E-3,0,7.7340000000000006E-2,0,5048,{"$f":"IF((G1712*ALBE+H1712*ALDE+I1712*AT+J1712*BE+K1712*DE+L1712*FR+M1712*NL)>(N1712),1,0)","v":0},null,{"$f":"IF((C$6*G1712+D$6*H1712+E$6*I1712+F$6*J1712+G$6*K1712+H$6*L1712+I$6*M1712)>(N1712),1,0)","v":0}]
[null,1633,"[AT-AT] Westtirol Transformer WTRHU41 [OPP]_LTA_corner#20_#17","14T-38220-WT041O","BASECASE","N/A",0,0,0.98514999999999997,-7.0620000000000002E-2,0.13966000000000001,-7.0620000000000002E-2,0,4489,{"$f":"IF((G1713*ALBE+H1713*ALDE+I1713*AT+J1713*BE+K1713*DE+L1713*FR+M1713*NL)>(N1713),1,0)","v":0},null,{"$f":"IF((C$6*G1713+D$6*H1713+E$6*I1713+F$6*J1713+G$6*K1713+H$6*L1713+I$6*M1713)>(N1713),1,0)","v":0}]
[null,1634,"[D2-AT] Y - St. Peter (- Altheim - Simbach) 234/230 [OPP] [D2]","10T-AT-DE-000045","[D2-AT] Pirach - St. Peter 256","10T-AT-DE-000029",-4.4769999999999997E-2,-4.6170000000000003E-2,2.8330000000000001E-2,-4.4510000000000001E-2,-4.5749999999999999E-2,-4.1480000000000003E-2,-4.539E-2,407,{"$f":"IF((G1714*ALBE+H1714*ALDE+I1714*AT+J1714*BE+K1714*DE+L1714*FR+M1714*NL)>(N1714),1,0)","v":0},null,{"$f":"IF((C$6*G1714+D$6*H1714+E$6*I1714+F$6*J1714+G$6*K1714+H$6*L1714+I$6*M1714)>(N1714),1,0)","v":0}]
[null,1635,"[D2-AT] Pleinting - St. Peter 258 [DIR] [D2]_LTA_corner#15_#5","10T-AT-DE-000037","[D2-AT] Y - St. Peter (- Altheim - Simbach) 234/230","10T-AT-DE-000045",0,0,-0.95213000000000003,-0.11801,-0.2036,-0.19511000000000001,0,4034,{"$f":"IF((G1715*ALBE+H1715*ALDE+I1715*AT+J1715*BE+K1715*DE+L1715*FR+M1715*NL)>(N1715),1,0)","v":0},null,{"$f":"IF((C$6*G1715+D$6*H1715+E$6*I1715+F$6*J1715+G$6*K1715+H$6*L1715+I$6*M1715)>(N1715),1,0)","v":0}]
[null,1636,"[D7-D4] Hoheneck - Pulverdingen weiss [DIR] [D4]_LTA_corner#09_#27","11T-D4-D7-00014N","[D4-D7] Y - Herbertingen - Hoheneck - Metzingen schwarz","11TD40000A546-S0",0,0,-0.84136999999999995,-9.7619999999999998E-2,-0.31186999999999998,-0.43047000000000002,0,3371,{"$f":"IF((G1716*ALBE+H1716*ALDE+I1716*AT+J1716*BE+K1716*DE+L1716*FR+M1716*NL)>(N1716),1,0)","v":0},null,{"$f":"IF((C$6*G1716+D$6*H1716+E$6*I1716+F$6*J1716+G$6*K1716+H$6*L1716+I$6*M1716)>(N1716),1,0)","v":0}]
[null,1637,"[D2-AT] Pleinting - St. Peter 258 [DIR] [AT]_LTA_corner#13_#5","10T-AT-DE-000037","[D2-D2] Pirach - Pleinting 257","11TD2L000000201H",0,0,-0.99685000000000001,-6.9849999999999995E-2,-2.6519999999999998E-2,-2.6519999999999998E-2,0,4840,{"$f":"IF((G1717*ALBE+H1717*ALDE+I1717*AT+J1717*BE+K1717*DE+L1717*FR+M1717*NL)>(N1717),1,0)","v":0},null,{"$f":"IF((C$6*G1717+D$6*H1717+E$6*I1717+F$6*J1717+G$6*K1717+H$6*L1717+I$6*M1717)>(N1717),1,0)","v":0}]
[null,1638,"[D2-AT] Pleinting - St. Peter 258 [DIR] [AT]_LTA_corner#01_#1","10T-AT-DE-000037","[D2-D2] Pirach - Pleinting 257","11TD2L000000201H",0,0,-0.99529000000000001,9.3219999999999997E-2,0,-2.648E-2,0,4954,{"$f":"IF((G1718*ALBE+H1718*ALDE+I1718*AT+J1718*BE+K1718*DE+L1718*FR+M1718*NL)>(N1718),1,0)","v":0},null,{"$f":"IF((C$6*G1718+D$6*H1718+E$6*I1718+F$6*J1718+G$6*K1718+H$6*L1718+I$6*M1718)>(N1718),1,0)","v":0}]
[null,1639,"[D2-AT] Pleinting - St. Peter 258 [DIR] [D2]_LTA_corner#04_#2","10T-AT-DE-000037","[D2-AT] Y - St. Peter (- Altheim - Simbach) 234/230","10T-AT-DE-000045",0,0,-0.98279000000000005,-6.0830000000000002E-2,0,-0.1744,0,5026,{"$f":"IF((G1719*ALBE+H1719*ALDE+I1719*AT+J1719*BE+K1719*DE+L1719*FR+M1719*NL)>(N1719),1,0)","v":0},null,{"$f":"IF((C$6*G1719+D$6*H1719+E$6*I1719+F$6*J1719+G$6*K1719+H$6*L1719+I$6*M1719)>(N1719),1,0)","v":0}]
[null,1640,"[D2-AT] Pleinting - St. Peter 258 [DIR] [AT]_LTA_corner#14_#4","10T-AT-DE-000037","[D2-D2] Pirach - Pleinting 257","11TD2L000000201H",0,0,-0.99656999999999996,9.0299999999999998E-3,-7.8740000000000004E-2,2.3699999999999999E-2,0,4701,{"$f":"IF((G1720*ALBE+H1720*ALDE+I1720*AT+J1720*BE+K1720*DE+L1720*FR+M1720*NL)>(N1720),1,0)","v":0},null,{"$f":"IF((C$6*G1720+D$6*H1720+E$6*I1720+F$6*J1720+G$6*K1720+H$6*L1720+I$6*M1720)>(N1720),1,0)","v":0}]
[null,1641,"[D2-AT] Pleinting - St. Peter 258 [DIR] [D2]_LTA_corner#09_#0","10T-AT-DE-000037","[D2-AT] Y - St. Peter (- Altheim - Simbach) 234/230","10T-AT-DE-000045",0,0,-0.98011999999999999,-9.3770000000000006E-2,-0.12363,-0.12363,0,4387,{"$f":"IF((G1721*ALBE+H1721*ALDE+I1721*AT+J1721*BE+K1721*DE+L1721*FR+M1721*NL)>(N1721),1,0)","v":0},null,{"$f":"IF((C$6*G1721+D$6*H1721+E$6*I1721+F$6*J1721+G$6*K1721+H$6*L1721+I$6*M1721)>(N1721),1,0)","v":0}]
[null,1642,"[D2-AT] Pleinting - St. Peter 258 [DIR] [D2]_LTA_corner#06_#11","10T-AT-DE-000037","[D2-AT] Y - St. Peter (- Altheim - Simbach) 234/230","10T-AT-DE-000045",0,0,-0.99977000000000005,-1.8540000000000001E-2,7.3400000000000002E-3,7.3400000000000002E-3,0,4921,{"$f":"IF((G1722*ALBE+H1722*ALDE+I1722*AT+J1722*BE+K1722*DE+L1722*FR+M1722*NL)>(N1722),1,0)","v":0},null,{"$f":"IF((C$6*G1722+D$6*H1722+E$6*I1722+F$6*J1722+G$6*K1722+H$6*L1722+I$6*M1722)>(N1722),1,0)","v":0}]
[null,1643,"[D2-NL] Diele - Meeden 380 Black [DIR] [NL]_LTA_corner#05_#1","10T-DE-NL-00001V","[D2-NL] Diele - Meeden 380 White","10T-DE-NL-00002T",0,0,0.55366000000000004,0.27784999999999999,0.66291999999999995,0.42046,0,1901,{"$f":"IF((G1723*ALBE+H1723*ALDE+I1723*AT+J1723*BE+K1723*DE+L1723*FR+M1723*NL)>(N1723),1,0)","v":0},null,{"$f":"IF((C$6*G1723+D$6*H1723+E$6*I1723+F$6*J1723+G$6*K1723+H$6*L1723+I$6*M1723)>(N1723),1,0)","v":0}]
[null,1644,"[D2-AT] Pleinting - St. Peter 258 [DIR] [AT]_LTA_corner#14_#14","10T-AT-DE-000037","[D2-D2] Pirach - Pleinting 257","11TD2L000000201H",0,0,-0.99722,0,-7.1910000000000002E-2,1.9730000000000001E-2,0,4716,{"$f":"IF((G1724*ALBE+H1724*ALDE+I1724*AT+J1724*BE+K1724*DE+L1724*FR+M1724*NL)>(N1724),1,0)","v":0},null,{"$f":"IF((C$6*G1724+D$6*H1724+E$6*I1724+F$6*J1724+G$6*K1724+H$6*L1724+I$6*M1724)>(N1724),1,0)","v":0}]
[null,1645,"[D7-D7] PST Gronau [OPP]","11T0-0000-0620-R","[D7-D7] Gronau - Kusenhorst Hamaland","11T0-0000-0618-7",-8.6940000000000003E-2,-4.3139999999999998E-2,-1.1509999999999999E-2,-8.5510000000000003E-2,2.5659999999999999E-2,-4.6289999999999998E-2,-0.12703999999999999,537,{"$f":"IF((G1725*ALBE+H1725*ALDE+I1725*AT+J1725*BE+K1725*DE+L1725*FR+M1725*NL)>(N1725),1,0)","v":0},null,{"$f":"IF((C$6*G1725+D$6*H1725+E$6*I1725+F$6*J1725+G$6*K1725+H$6*L1725+I$6*M1725)>(N1725),1,0)","v":0}]
[null,1646,"[D2-AT] Pleinting - St. Peter 258 [DIR] [AT]_LTA_corner#01_#3","10T-AT-DE-000037","[D2-D2] Pirach - Pleinting 257","11TD2L000000201H",0,0,-0.99270000000000003,0,0,-0.12063,0,4979,{"$f":"IF((G1726*ALBE+H1726*ALDE+I1726*AT+J1726*BE+K1726*DE+L1726*FR+M1726*NL)>(N1726),1,0)","v":0},null,{"$f":"IF((C$6*G1726+D$6*H1726+E$6*I1726+F$6*J1726+G$6*K1726+H$6*L1726+I$6*M1726)>(N1726),1,0)","v":0}]
[null,1647,"[D2-AT] Pleinting - St. Peter 258 [DIR] [AT]_LTA_corner#04_#5","10T-AT-DE-000037","[D2-D2] Pirach - Pleinting 257","11TD2L000000201H",0,0,-0.99089000000000005,-3.5100000000000001E-3,7.92E-3,-0.13442999999999999,0,5047,{"$f":"IF((G1727*ALBE+H1727*ALDE+I1727*AT+J1727*BE+K1727*DE+L1727*FR+M1727*NL)>(N1727),1,0)","v":0},null,{"$f":"IF((C$6*G1727+D$6*H1727+E$6*I1727+F$6*J1727+G$6*K1727+H$6*L1727+I$6*M1727)>(N1727),1,0)","v":0}]
[null,1648,"[BE-FR] Achene - Lonny 380.19 [DIR] [BE]_LTA_corner#02_#24","10T-BE-FR-000015","[BE-BE] Avelgem - Horta 380.102","22T20161020---1E",0,0,-0.49345,0,-0.36968000000000001,-0.7873,0,1992,{"$f":"IF((G1728*ALBE+H1728*ALDE+I1728*AT+J1728*BE+K1728*DE+L1728*FR+M1728*NL)>(N1728),1,0)","v":0},null,{"$f":"IF((C$6*G1728+D$6*H1728+E$6*I1728+F$6*J1728+G$6*K1728+H$6*L1728+I$6*M1728)>(N1728),1,0)","v":0}]
[null,1649,"[AT-AT] Westtirol Transformer WTRHU41 [OPP]_LTA_corner#20_#15","14T-38220-WT041O","BASECASE","N/A",0,0,0.99217999999999995,-3.7510000000000002E-2,0.11298,-3.7510000000000002E-2,0,4538,{"$f":"IF((G1729*ALBE+H1729*ALDE+I1729*AT+J1729*BE+K1729*DE+L1729*FR+M1729*NL)>(N1729),1,0)","v":0},null,{"$f":"IF((C$6*G1729+D$6*H1729+E$6*I1729+F$6*J1729+G$6*K1729+H$6*L1729+I$6*M1729)>(N1729),1,0)","v":0}]
[null,1650,"[D2-AT] Pleinting - St. Peter 258 [DIR] [AT]_LTA_corner#11_#7","10T-AT-DE-000037","[D2-D2] Pirach - Pleinting 257","11TD2L000000201H",0,0,-0.99673999999999996,4.1399999999999996E-3,-8.0519999999999994E-2,4.1399999999999996E-3,0,4644,{"$f":"IF((G1730*ALBE+H1730*ALDE+I1730*AT+J1730*BE+K1730*DE+L1730*FR+M1730*NL)>(N1730),1,0)","v":0},null,{"$f":"IF((C$6*G1730+D$6*H1730+E$6*I1730+F$6*J1730+G$6*K1730+H$6*L1730+I$6*M1730)>(N1730),1,0)","v":0}]
[null,1651,"[D4-AT] Buers - Westtirol 421 weiss [OPP] [D4]_LTA_corner#20_#35","10T-AT-DE-000061","[AT-AT] Westtirol Transformer WTRHU41","14T-38220-WT041O",0,0,0.97582999999999998,-5.0270000000000002E-2,0.15611,-0.1444,0,4514,{"$f":"IF((G1731*ALBE+H1731*ALDE+I1731*AT+J1731*BE+K1731*DE+L1731*FR+M1731*NL)>(N1731),1,0)","v":0},null,{"$f":"IF((C$6*G1731+D$6*H1731+E$6*I1731+F$6*J1731+G$6*K1731+H$6*L1731+I$6*M1731)>(N1731),1,0)","v":0}]
[null,1652,"[NL-NL] Borssele - Rilland 380 Zwart [DIR]","49T000000000059S","[NL-NL] Borssele - Rilland 380 Grijs","49T000000000057W",-5.1900000000000002E-3,2.2699999999999999E-3,-7.3999999999999999E-4,-1.357E-2,1.3500000000000001E-3,-5.6699999999999997E-3,0.14011000000000001,457,{"$f":"IF((G1732*ALBE+H1732*ALDE+I1732*AT+J1732*BE+K1732*DE+L1732*FR+M1732*NL)>(N1732),1,0)","v":0},null,{"$f":"IF((C$6*G1732+D$6*H1732+E$6*I1732+F$6*J1732+G$6*K1732+H$6*L1732+I$6*M1732)>(N1732),1,0)","v":0}]
[null,1653,"[D2-AT] Pleinting - St. Peter 258 [DIR] [AT]_LTA_corner#06_#0","10T-AT-DE-000037","[D2-D2] Pirach - Pleinting 257","11TD2L000000201H",0,0,-0.99782000000000004,-3.5300000000000002E-3,4.6640000000000001E-2,4.6640000000000001E-2,0,5174,{"$f":"IF((G1733*ALBE+H1733*ALDE+I1733*AT+J1733*BE+K1733*DE+L1733*FR+M1733*NL)>(N1733),1,0)","v":0},null,{"$f":"IF((C$6*G1733+D$6*H1733+E$6*I1733+F$6*J1733+G$6*K1733+H$6*L1733+I$6*M1733)>(N1733),1,0)","v":0}]
[null,1654,"[D4-AT] Buers - Westtirol 421 weiss [OPP] [D4]_LTA_corner#17_#7","10T-AT-DE-000061","[AT-AT] Westtirol Transformer WTRHU41","14T-38220-WT041O",0,0,0.98480000000000001,0,0.15386,-8.0560000000000007E-2,0,4453,{"$f":"IF((G1734*ALBE+H1734*ALDE+I1734*AT+J1734*BE+K1734*DE+L1734*FR+M1734*NL)>(N1734),1,0)","v":0},null,{"$f":"IF((C$6*G1734+D$6*H1734+E$6*I1734+F$6*J1734+G$6*K1734+H$6*L1734+I$6*M1734)>(N1734),1,0)","v":0}]
[null,1655,"[AT-AT] Westtirol Transformer WTRHU41 [OPP]_LTA_corner#20_#19","14T-38220-WT041O","BASECASE","N/A",0,0,0.99238000000000004,-1.422E-2,0.12157999999999999,-1.422E-2,0,4474,{"$f":"IF((G1735*ALBE+H1735*ALDE+I1735*AT+J1735*BE+K1735*DE+L1735*FR+M1735*NL)>(N1735),1,0)","v":0},null,{"$f":"IF((C$6*G1735+D$6*H1735+E$6*I1735+F$6*J1735+G$6*K1735+H$6*L1735+I$6*M1735)>(N1735),1,0)","v":0}]
["hour 14",2681,"[D2-AT] Pleinting - St. Peter 258 [DIR] [AT]_LTA_corner#02_#10","10T-AT-DE-000037","[D2-D2] Pirach - Pleinting 257","11TD2L000000201H",0,0,-0.99594000000000005,8.7809999999999999E-2,-1.4069999999999999E-2,-1.4069999999999999E-2,0,4868,{"$f":"IF((G1736*ALBE+H1736*ALDE+I1736*AT+J1736*BE+K1736*DE+L1736*FR+M1736*NL)>(N1736),1,0)","v":0},null,{"$f":"IF((C$6*G1736+D$6*H1736+E$6*I1736+F$6*J1736+G$6*K1736+H$6*L1736+I$6*M1736)>(N1736),1,0)","v":0}]
[null,2682,"[D2-AT] Pleinting - St. Peter 258 [DIR] [AT]_LTA_corner#01_#16","10T-AT-DE-000037","[D2-D2] Pirach - Pleinting 257","11TD2L000000201H",0,0,-0.99424000000000001,0.10378,0,-2.6950000000000002E-2,0,4963,{"$f":"IF((G1737*ALBE+H1737*ALDE+I1737*AT+J1737*BE+K1737*DE+L1737*FR+M1737*NL)>(N1737),1,0)","v":0},null,{"$f":"IF((C$6*G1737+D$6*H1737+E$6*I1737+F$6*J1737+G$6*K1737+H$6*L1737+I$6*M1737)>(N1737),1,0)","v":0}]
[null,2683,"[BE-BE] PST_ZANDV_2 [N - S]_LTA_corner#13_#8","22T20161020---56","[NL-BE] Rilland - Zandvliet 380 White/30","10T-BE-NL-00004C",0,0,-0.30868000000000001,-0.80206999999999995,-0.24696000000000001,-0.44768000000000002,0,2042,{"$f":"IF((G1738*ALBE+H1738*ALDE+I1738*AT+J1738*BE+K1738*DE+L1738*FR+M1738*NL)>(N1738),1,0)","v":0},null,{"$f":"IF((C$6*G1738+D$6*H1738+E$6*I1738+F$6*J1738+G$6*K1738+H$6*L1738+I$6*M1738)>(N1738),1,0)","v":0}]
[null,2684,"[BE-BE] PST_VANYK_2 [S - N]","22T-BE-PST--002U","[BE-BE] Y - Courcelles (- Gramme - Tergnee) 380.31","22T-BE-IN-LI019P",0.48897000000000002,-4.3299999999999998E-2,1.091E-2,0.22714999999999999,-1.976E-2,8.0750000000000002E-2,-3.3799999999999997E-2,971,{"$f":"IF((G1739*ALBE+H1739*ALDE+I1739*AT+J1739*BE+K1739*DE+L1739*FR+M1739*NL)>(N1739),1,0)","v":0},null,{"$f":"IF((C$6*G1739+D$6*H1739+E$6*I1739+F$6*J1739+G$6*K1739+H$6*L1739+I$6*M1739)>(N1739),1,0)","v":0}]
[null,2685,"[AT-AT] Westtirol Transformer WTRHU41 [OPP]_LTA_corner#20_#22","14T-38220-WT041O","BASECASE","N/A",0,0,0.99485999999999997,-1.7690000000000001E-2,8.251E-2,-5.5899999999999998E-2,0,4660,{"$f":"IF((G1740*ALBE+H1740*ALDE+I1740*AT+J1740*BE+K1740*DE+L1740*FR+M1740*NL)>(N1740),1,0)","v":0},null,{"$f":"IF((C$6*G1740+D$6*H1740+E$6*I1740+F$6*J1740+G$6*K1740+H$6*L1740+I$6*M1740)>(N1740),1,0)","v":0}]
[null,2686,"[D4-AT] Buers - Westtirol 421 weiss [OPP] [D4]_LTA_corner#20_#17","10T-AT-DE-000061","[AT-AT] Westtirol Transformer WTRHU41","14T-38220-WT041O",0,0,0.98707,-2.7730000000000001E-2,0.14615,-5.9700000000000003E-2,0,4456,{"$f":"IF((G1741*ALBE+H1741*ALDE+I1741*AT+J1741*BE+K1741*DE+L1741*FR+M1741*NL)>(N1741),1,0)","v":0},null,{"$f":"IF((C$6*G1741+D$6*H1741+E$6*I1741+F$6*J1741+G$6*K1741+H$6*L1741+I$6*M1741)>(N1741),1,0)","v":0}]
[null,2687,"[D4-AT] Buers - Westtirol 421 weiss [OPP] [D4]_LTA_corner#20_#21","10T-AT-DE-000061","[AT-AT] Westtirol Transformer WTRHU41","14T-38220-WT041O",0,0,0.97989999999999999,-4.2180000000000002E-2,0.15251999999999999,-0.1215,0,4505,{"$f":"IF((G1742*ALBE+H1742*ALDE+I1742*AT+J1742*BE+K1742*DE+L1742*FR+M1742*NL)>(N1742),1,0)","v":0},null,{"$f":"IF((C$6*G1742+D$6*H1742+E$6*I1742+F$6*J1742+G$6*K1742+H$6*L1742+I$6*M1742)>(N1742),1,0)","v":0}]
[null,2688,"[D2-AT] Pleinting - St. Peter 258 [DIR] [D2]_LTA_corner#09_#19","10T-AT-DE-000037","[D2-AT] Y - St. Peter (- Altheim - Simbach) 234/230","10T-AT-DE-000045",0,0,-0.99972000000000005,-1.354E-2,-1.354E-2,-1.354E-2,0,4783,{"$f":"IF((G1743*ALBE+H1743*ALDE+I1743*AT+J1743*BE+K1743*DE+L1743*FR+M1743*NL)>(N1743),1,0)","v":0},null,{"$f":"IF((C$6*G1743+D$6*H1743+E$6*I1743+F$6*J1743+G$6*K1743+H$6*L1743+I$6*M1743)>(N1743),1,0)","v":0}]
[null,2689,"[BE-FR] Achene - Lonny 380.19 [DIR] [BE]_LTA_corner#02_#21","10T-BE-FR-000015","[BE-BE] Avelgem - Horta 380.102","22T20161020---1E",0,0,-0.48720000000000002,0,-0.34308,-0.80308000000000002,0,2106,{"$f":"IF((G1744*ALBE+H1744*ALDE+I1744*AT+J1744*BE+K1744*DE+L1744*FR+M1744*NL)>(N1744),1,0)","v":0},null,{"$f":"IF((C$6*G1744+D$6*H1744+E$6*I1744+F$6*J1744+G$6*K1744+H$6*L1744+I$6*M1744)>(N1744),1,0)","v":0}]
[null,2690,"[AT-AT] Westtirol Transformer WTRHU41 [OPP]_LTA_corner#17_#4","14T-38220-WT041O","BASECASE","N/A",0,0,0.98658000000000001,0,0.13647999999999999,-8.9599999999999999E-2,0,4524,{"$f":"IF((G1745*ALBE+H1745*ALDE+I1745*AT+J1745*BE+K1745*DE+L1745*FR+M1745*NL)>(N1745),1,0)","v":0},null,{"$f":"IF((C$6*G1745+D$6*H1745+E$6*I1745+F$6*J1745+G$6*K1745+H$6*L1745+I$6*M1745)>(N1745),1,0)","v":0}]
[null,2691,"[BE-BE] PST_ZANDV_2 [N - S]_LTA_corner#13_#0","22T20161020---56","[NL-BE] Rilland - Zandvliet 380 White/30","10T-BE-NL-00004C",0,0,-0.39583000000000002,-0.68120000000000003,-0.34083999999999998,-0.51295000000000002,0,1703,{"$f":"IF((G1746*ALBE+H1746*ALDE+I1746*AT+J1746*BE+K1746*DE+L1746*FR+M1746*NL)>(N1746),1,0)","v":0},null,{"$f":"IF((C$6*G1746+D$6*H1746+E$6*I1746+F$6*J1746+G$6*K1746+H$6*L1746+I$6*M1746)>(N1746),1,0)","v":0}]
[null,2692,"[BE-FR] Achene - Lonny 380.19 [DIR] [BE]_LTA_corner#02_#5","10T-BE-FR-000015","[BE-BE] Avelgem - Horta 380.102","22T20161020---1E",0,0,-0.43414000000000003,0.34623999999999999,-0.31295000000000001,-0.77051999999999998,0,2354,{"$f":"IF((G1747*ALBE+H1747*ALDE+I1747*AT+J1747*BE+K1747*DE+L1747*FR+M1747*NL)>(N1747),1,0)","v":0},null,{"$f":"IF((C$6*G1747+D$6*H1747+E$6*I1747+F$6*J1747+G$6*K1747+H$6*L1747+I$6*M1747)>(N1747),1,0)","v":0}]
[null,2693,"[D2-AT] Pleinting - St. Peter 258 [DIR] [AT]_LTA_corner#04_#0","10T-AT-DE-000037","[D2-D2] Pirach - Pleinting 257","11TD2L000000201H",0,0,-0.98929,-3.5999999999999999E-3,8.0099999999999998E-3,-0.14568999999999999,0,5058,{"$f":"IF((G1748*ALBE+H1748*ALDE+I1748*AT+J1748*BE+K1748*DE+L1748*FR+M1748*NL)>(N1748),1,0)","v":0},null,{"$f":"IF((C$6*G1748+D$6*H1748+E$6*I1748+F$6*J1748+G$6*K1748+H$6*L1748+I$6*M1748)>(N1748),1,0)","v":0}]
[null,2694,"[D2-AT] Pleinting - St. Peter 258 [DIR] [AT]_LTA_corner#11_#14","10T-AT-DE-000037","[D2-D2] Pirach - Pleinting 257","11TD2L000000201H",0,0,-0.99651999999999996,2.2669999999999999E-2,-7.6960000000000001E-2,2.2669999999999999E-2,0,4687,{"$f":"IF((G1749*ALBE+H1749*ALDE+I1749*AT+J1749*BE+K1749*DE+L1749*FR+M1749*NL)>(N1749),1,0)","v":0},null,{"$f":"IF((C$6*G1749+D$6*H1749+E$6*I1749+F$6*J1749+G$6*K1749+H$6*L1749+I$6*M1749)>(N1749),1,0)","v":0}]
[null,2695,"[BE-BE] PST_ZANDV_2 [N - S]_LTA_corner#13_#15","22T20161020---56","[NL-BE] Rilland - Zandvliet 380 White/30","10T-BE-NL-00004C",0,0,-0.35393000000000002,-0.72126999999999997,-0.31086000000000003,-0.50780000000000003,0,1736,{"$f":"IF((G1750*ALBE+H1750*ALDE+I1750*AT+J1750*BE+K1750*DE+L1750*FR+M1750*NL)>(N1750),1,0)","v":0},null,{"$f":"IF((C$6*G1750+D$6*H1750+E$6*I1750+F$6*J1750+G$6*K1750+H$6*L1750+I$6*M1750)>(N1750),1,0)","v":0}]
[null,2696,"[D2-AT] Pleinting - St. Peter 258 [DIR] [AT]_LTA_corner#03_#12","10T-AT-DE-000037","[D2-D2] Pirach - Pleinting 257","11TD2L000000201H",0,0,-0.99822,4.1750000000000002E-2,8.0800000000000004E-3,4.1750000000000002E-2,0,4931,{"$f":"IF((G1751*ALBE+H1751*ALDE+I1751*AT+J1751*BE+K1751*DE+L1751*FR+M1751*NL)>(N1751),1,0)","v":0},null,{"$f":"IF((C$6*G1751+D$6*H1751+E$6*I1751+F$6*J1751+G$6*K1751+H$6*L1751+I$6*M1751)>(N1751),1,0)","v":0}]
[null,2697,"[D7-D4] Hoheneck - Pulverdingen weiss [DIR] [D4]_LTA_corner#09_#30","11T-D4-D7-00014N","[D4-D7] Y - Herbertingen - Hoheneck - Metzingen schwarz","11TD40000A546-S0",0,0,-0.84455000000000002,-9.4009999999999996E-2,-0.31319999999999998,-0.42403000000000002,0,3370,{"$f":"IF((G1752*ALBE+H1752*ALDE+I1752*AT+J1752*BE+K1752*DE+L1752*FR+M1752*NL)>(N1752),1,0)","v":0},null,{"$f":"IF((C$6*G1752+D$6*H1752+E$6*I1752+F$6*J1752+G$6*K1752+H$6*L1752+I$6*M1752)>(N1752),1,0)","v":0}]
[null,2698,"[D2-AT] Pleinting - St. Peter 258 [DIR] [AT]_LTA_corner#11_#12","10T-AT-DE-000037","[D2-D2] Pirach - Pleinting 257","11TD2L000000201H",0,0,-0.99756999999999996,3.3309999999999999E-2,-5.1360000000000003E-2,3.3309999999999999E-2,0,4767,{"$f":"IF((G1753*ALBE+H1753*ALDE+I1753*AT+J1753*BE+K1753*DE+L1753*FR+M1753*NL)>(N1753),1,0)","v":0},null,{"$f":"IF((C$6*G1753+D$6*H1753+E$6*I1753+F$6*J1753+G$6*K1753+H$6*L1753+I$6*M1753)>(N1753),1,0)","v":0}]
[null,2699,"[D2-AT] Pleinting - St. Peter 258 [DIR] [AT]_LTA_corner#06_#3","10T-AT-DE-000037","[D2-D2] Pirach - Pleinting 257","11TD2L000000201H",0,0,-0.99724999999999997,-3.63E-3,5.2359999999999997E-2,5.2359999999999997E-2,0,5215,{"$f":"IF((G1754*ALBE+H1754*ALDE+I1754*AT+J1754*BE+K1754*DE+L1754*FR+M1754*NL)>(N1754),1,0)","v":0},null,{"$f":"IF((C$6*G1754+D$6*H1754+E$6*I1754+F$6*J1754+G$6*K1754+H$6*L1754+I$6*M1754)>(N1754),1,0)","v":0}]
[null,2700,"[D2-AT] Pleinting - St. Peter 258 [DIR] [D2]_LTA_corner#09_#1","10T-AT-DE-000037","[D2-AT] Y - St. Peter (- Altheim - Simbach) 234/230","10T-AT-DE-000045",0,0,-0.96316999999999997,-8.7340000000000001E-2,-0.17982999999999999,-0.17982999999999999,0,4144,{"$f":"IF((G1755*ALBE+H1755*ALDE+I1755*AT+J1755*BE+K1755*DE+L1755*FR+M1755*NL)>(N1755),1,0)","v":0},null,{"$f":"IF((C$6*G1755+D$6*H1755+E$6*I1755+F$6*J1755+G$6*K1755+H$6*L1755+I$6*M1755)>(N1755),1,0)","v":0}]
[null,2701,"[D2-AT] Pleinting - St. Peter 258 [DIR] [AT]_LTA_corner#04_#1","10T-AT-DE-000037","[D2-D2] Pirach - Pleinting 257","11TD2L000000201H",0,0,-0.99077000000000004,-3.6099999999999999E-3,0,-0.13549,0,4994,{"$f":"IF((G1756*ALBE+H1756*ALDE+I1756*AT+J1756*BE+K1756*DE+L1756*FR+M1756*NL)>(N1756),1,0)","v":0},null,{"$f":"IF((C$6*G1756+D$6*H1756+E$6*I1756+F$6*J1756+G$6*K1756+H$6*L1756+I$6*M1756)>(N1756),1,0)","v":0}]
[null,2702,"[BE-FR] Achene - Lonny 380.19 [DIR] [BE]_LTA_corner#02_#22","10T-BE-FR-000015","[BE-BE] Avelgem - Horta 380.102","22T20161020---1E",0,0,-0.44897999999999999,0.34033999999999998,-0.33008999999999999,-0.75738000000000005,0,2321,{"$f":"IF((G1757*ALBE+H1757*ALDE+I1757*AT+J1757*BE+K1757*DE+L1757*FR+M1757*NL)>(N1757),1,0)","v":0},null,{"$f":"IF((C$6*G1757+D$6*H1757+E$6*I1757+F$6*J1757+G$6*K1757+H$6*L1757+I$6*M1757)>(N1757),1,0)","v":0}]
[null,2703,"ALDE_export","N/A","BASECASE","N/A",0,1,0,0,0,0,0,0,{"$f":"IF((G1758*ALBE+H1758*ALDE+I1758*AT+J1758*BE+K1758*DE+L1758*FR+M1758*NL)>(N1758),1,0)","v":0},null,{"$f":"IF((C$6*G1758+D$6*H1758+E$6*I1758+F$6*J1758+G$6*K1758+H$6*L1758+I$6*M1758)>(N1758),1,0)","v":0}]
[null,2704,"[D2-AT] Pleinting - St. Peter 258 [DIR] [AT]_LTA_corner#14_#12","10T-AT-DE-000037","[D2-D2] Pirach - Pleinting 257","11TD2L000000201H",0,0,-0.99543000000000004,1.0659999999999999E-2,-8.9950000000000002E-2,3.0280000000000001E-2,0,4691,{"$f":"IF((G1759*ALBE+H1759*ALDE+I1759*AT+J1759*BE+K1759*DE+L1759*FR+M1759*NL)>(N1759),1,0)","v":0},null,{"$f":"IF((C$6*G1759+D$6*H1759+E$6*I1759+F$6*J1759+G$6*K1759+H$6*L1759+I$6*M1759)>(N1759),1,0)","v":0}]
[null,2705,"[AT-AT] Westtirol Transformer WTRHU41 [OPP]_LTA_corner#17_#0","14T-38220-WT041O","BASECASE","N/A",0,0,0.98562000000000005,0,0.15432000000000001,-6.8790000000000004E-2,0,4437,{"$f":"IF((G1760*ALBE+H1760*ALDE+I1760*AT+J1760*BE+K1760*DE+L1760*FR+M1760*NL)>(N1760),1,0)","v":0},null,{"$f":"IF((C$6*G1760+D$6*H1760+E$6*I1760+F$6*J1760+G$6*K1760+H$6*L1760+I$6*M1760)>(N1760),1,0)","v":0}]
[null,2706,"[D2-AT] Pleinting - St. Peter 258 [DIR] [AT]_LTA_corner#01_#25","10T-AT-DE-000037","[D2-D2] Pirach - Pleinting 257","11TD2L000000201H",0,0,-0.99434999999999996,0.10394,0,-2.155E-2,0,4955,{"$f":"IF((G1761*ALBE+H1761*ALDE+I1761*AT+J1761*BE+K1761*DE+L1761*FR+M1761*NL)>(N1761),1,0)","v":0},null,{"$f":"IF((C$6*G1761+D$6*H1761+E$6*I1761+F$6*J1761+G$6*K1761+H$6*L1761+I$6*M1761)>(N1761),1,0)","v":0}]
[null,2707,"[D2-AT] Pleinting - St. Peter 258 [DIR] [D2]_LTA_corner#15_#18","10T-AT-DE-000037","[D2-AT] Y - St. Peter (- Altheim - Simbach) 234/230","10T-AT-DE-000045",0,0,-0.99404999999999999,-5.1130000000000002E-2,-8.1490000000000007E-2,-5.1130000000000002E-2,0,4590,{"$f":"IF((G1762*ALBE+H1762*ALDE+I1762*AT+J1762*BE+K1762*DE+L1762*FR+M1762*NL)>(N1762),1,0)","v":0},null,{"$f":"IF((C$6*G1762+D$6*H1762+E$6*I1762+F$6*J1762+G$6*K1762+H$6*L1762+I$6*M1762)>(N1762),1,0)","v":0}]
[null,2708,"[BE-FR] Achene - Lonny 380.19 [DIR] [BE]_LTA_corner#02_#25","10T-BE-FR-000015","[BE-BE] Avelgem - Horta 380.102","22T20161020---1E",0,0,-0.50216000000000005,0,-0.37390000000000001,-0.77976999999999996,0,2004,{"$f":"IF((G1763*ALBE+H1763*ALDE+I1763*AT+J1763*BE+K1763*DE+L1763*FR+M1763*NL)>(N1763),1,0)","v":0},null,{"$f":"IF((C$6*G1763+D$6*H1763+E$6*I1763+F$6*J1763+G$6*K1763+H$6*L1763+I$6*M1763)>(N1763),1,0)","v":0}]
[null,2709,"[D7-D4] Hoheneck - Pulverdingen weiss [DIR] [D4]_LTA_corner#09_#28","11T-D4-D7-00014N","[D4-D7] Y - Herbertingen - Hoheneck - Metzingen schwarz","11TD40000A546-S0",0,0,-0.84187000000000001,-9.6829999999999999E-2,-0.31280999999999998,-0.42897999999999997,0,3367,{"$f":"IF((G1764*ALBE+H1764*ALDE+I1764*AT+J1764*BE+K1764*DE+L1764*FR+M1764*NL)>(N1764),1,0)","v":0},null,{"$f":"IF((C$6*G1764+D$6*H1764+E$6*I1764+F$6*J1764+G$6*K1764+H$6*L1764+I$6*M1764)>(N1764),1,0)","v":0}]
[null,2710,"[D2-AT] Pleinting - St. Peter 258 [DIR] [AT]_LTA_corner#01_#4","10T-AT-DE-000037","[D2-D2] Pirach - Pleinting 257","11TD2L000000201H",0,0,-0.99356999999999995,0,0.11325,0,0,5571,{"$f":"IF((G1765*ALBE+H1765*ALDE+I1765*AT+J1765*BE+K1765*DE+L1765*FR+M1765*NL)>(N1765),1,0)","v":0},null,{"$f":"IF((C$6*G1765+D$6*H1765+E$6*I1765+F$6*J1765+G$6*K1765+H$6*L1765+I$6*M1765)>(N1765),1,0)","v":0}]
[null,2711,"[D2-AT] Pleinting - St. Peter 258 [DIR] [D2]_LTA_corner#01_#5","10T-AT-DE-000037","[D2-AT] Y - St. Peter (- Altheim - Simbach) 234/230","10T-AT-DE-000045",0,0,-0.97624,0,0.21668000000000001,0,0,6202,{"$f":"IF((G1766*ALBE+H1766*ALDE+I1766*AT+J1766*BE+K1766*DE+L1766*FR+M1766*NL)>(N1766),1,0)","v":0},null,{"$f":"IF((C$6*G1766+D$6*H1766+E$6*I1766+F$6*J1766+G$6*K1766+H$6*L1766+I$6*M1766)>(N1766),1,0)","v":0}]
[null,2712,"[AT-AT] Westtirol Transformer WTRHU41 [OPP]_LTA_corner#20_#4","14T-38220-WT041O","BASECASE","N/A",0,0,0.98429,-1.9990000000000001E-2,0.13616,-0.11061,0,4550,{"$f":"IF((G1767*ALBE+H1767*ALDE+I1767*AT+J1767*BE+K1767*DE+L1767*FR+M1767*NL)>(N1767),1,0)","v":0},null,{"$f":"IF((C$6*G1767+D$6*H1767+E$6*I1767+F$6*J1767+G$6*K1767+H$6*L1767+I$6*M1767)>(N1767),1,0)","v":0}]
[null,2713,"[D7-D7] Gronau - Hanekenfaehr Gronau W [OPP]","11T0-0000-0617-A","[D7-D7] Y - Hanekenfaehr - Kottigerhook - Kusenhorst Muensterland","11T0-0000-0679-H",-7.6310000000000003E-2,-5.5829999999999998E-2,-1.371E-2,-7.4079999999999993E-2,2.512E-2,-4.5990000000000003E-2,-9.418E-2,510,{"$f":"IF((G1768*ALBE+H1768*ALDE+I1768*AT+J1768*BE+K1768*DE+L1768*FR+M1768*NL)>(N1768),1,0)","v":0},null,{"$f":"IF((C$6*G1768+D$6*H1768+E$6*I1768+F$6*J1768+G$6*K1768+H$6*L1768+I$6*M1768)>(N1768),1,0)","v":0}]
[null,2714,"[D2-NL] Diele - Meeden 380 Black [DIR] [NL]_LTA_corner#05_#28","10T-DE-NL-00001V","[D2-NL] Diele - Meeden 380 White","10T-DE-NL-00002T",0,0,0.54998999999999998,0.30164999999999997,0.64983999999999997,0.42921999999999999,0,1808,{"$f":"IF((G1769*ALBE+H1769*ALDE+I1769*AT+J1769*BE+K1769*DE+L1769*FR+M1769*NL)>(N1769),1,0)","v":0},null,{"$f":"IF((C$6*G1769+D$6*H1769+E$6*I1769+F$6*J1769+G$6*K1769+H$6*L1769+I$6*M1769)>(N1769),1,0)","v":0}]
[null,2715,"[BE-FR] Achene - Lonny 380.19 [DIR] [BE]_LTA_corner#09_#1","10T-BE-FR-000015","[BE-BE] Avelgem - Horta 380.102","22T20161020---1E",0,0,-0.41383999999999999,-0.59765000000000001,-0.33817999999999998,-0.59765000000000001,0,1537,{"$f":"IF((G1770*ALBE+H1770*ALDE+I1770*AT+J1770*BE+K1770*DE+L1770*FR+M1770*NL)>(N1770),1,0)","v":0},null,{"$f":"IF((C$6*G1770+D$6*H1770+E$6*I1770+F$6*J1770+G$6*K1770+H$6*L1770+I$6*M1770)>(N1770),1,0)","v":0}]
[null,2716,"[D7-D4] Hoheneck - Pulverdingen weiss [DIR] [D4]_LTA_corner#09_#31","11T-D4-D7-00014N","[D4-D7] Y - Herbertingen - Hoheneck - Metzingen schwarz","11TD40000A546-S0",0,0,-0.84455000000000002,-9.4020000000000006E-2,-0.31319999999999998,-0.42403999999999997,0,3370,{"$f":"IF((G1771*ALBE+H1771*ALDE+I1771*AT+J1771*BE+K1771*DE+L1771*FR+M1771*NL)>(N1771),1,0)","v":0},null,{"$f":"IF((C$6*G1771+D$6*H1771+E$6*I1771+F$6*J1771+G$6*K1771+H$6*L1771+I$6*M1771)>(N1771),1,0)","v":0}]
[null,2717,"[BE-FR] Achene - Lonny 380.19 [DIR] [BE]_LTA_corner#02_#19","10T-BE-FR-000015","[BE-BE] Avelgem - Horta 380.102","22T20161020---1E",0,0,-0.48875999999999997,0,-0.36174000000000001,-0.79388999999999998,0,2016,{"$f":"IF((G1772*ALBE+H1772*ALDE+I1772*AT+J1772*BE+K1772*DE+L1772*FR+M1772*NL)>(N1772),1,0)","v":0},null,{"$f":"IF((C$6*G1772+D$6*H1772+E$6*I1772+F$6*J1772+G$6*K1772+H$6*L1772+I$6*M1772)>(N1772),1,0)","v":0}]
[null,2718,"[D2-AT] Pleinting - St. Peter 258 [DIR] [AT]_LTA_corner#02_#0","10T-AT-DE-000037","[D2-D2] Pirach - Pleinting 257","11TD2L000000201H",0,0,-0.99668999999999996,7.1690000000000004E-2,-2.7019999999999999E-2,-2.7019999999999999E-2,0,4815,{"$f":"IF((G1773*ALBE+H1773*ALDE+I1773*AT+J1773*BE+K1773*DE+L1773*FR+M1773*NL)>(N1773),1,0)","v":0},null,{"$f":"IF((C$6*G1773+D$6*H1773+E$6*I1773+F$6*J1773+G$6*K1773+H$6*L1773+I$6*M1773)>(N1773),1,0)","v":0}]
[null,2719,"[D2-AT] Pleinting - St. Peter 258 [DIR] [AT]_LTA_corner#14_#1","10T-AT-DE-000037","[D2-D2] Pirach - Pleinting 257","11TD2L000000201H",0,0,-0.99641999999999997,1.549E-2,-6.6970000000000002E-2,4.9189999999999998E-2,0,4796,{"$f":"IF((G1774*ALBE+H1774*ALDE+I1774*AT+J1774*BE+K1774*DE+L1774*FR+M1774*NL)>(N1774),1,0)","v":0},null,{"$f":"IF((C$6*G1774+D$6*H1774+E$6*I1774+F$6*J1774+G$6*K1774+H$6*L1774+I$6*M1774)>(N1774),1,0)","v":0}]
[null,2720,"[D2-AT] Pleinting - St. Peter 258 [DIR] [D2]_LTA_corner#06_#17","10T-AT-DE-000037","[D2-AT] Y - St. Peter (- Altheim - Simbach) 234/230","10T-AT-DE-000045",0,0,-0.99941999999999998,-3.3939999999999998E-2,0,0,0,4901,{"$f":"IF((G1775*ALBE+H1775*ALDE+I1775*AT+J1775*BE+K1775*DE+L1775*FR+M1775*NL)>(N1775),1,0)","v":0},null,{"$f":"IF((C$6*G1775+D$6*H1775+E$6*I1775+F$6*J1775+G$6*K1775+H$6*L1775+I$6*M1775)>(N1775),1,0)","v":0}]
[null,2721,"[D2-AT] Pleinting - St. Peter 258 [DIR] [D2]_LTA_corner#15_#14","10T-AT-DE-000037","[D2-AT] Y - St. Peter (- Altheim - Simbach) 234/230","10T-AT-DE-000045",0,0,-0.92254000000000003,-0.14946999999999999,-0.26590999999999998,-0.23637,0,3734,{"$f":"IF((G1776*ALBE+H1776*ALDE+I1776*AT+J1776*BE+K1776*DE+L1776*FR+M1776*NL)>(N1776),1,0)","v":0},null,{"$f":"IF((C$6*G1776+D$6*H1776+E$6*I1776+F$6*J1776+G$6*K1776+H$6*L1776+I$6*M1776)>(N1776),1,0)","v":0}]
[null,2722,"[D2-AT] Pleinting - St. Peter 258 [DIR] [D2]_LTA_corner#05_#7","10T-AT-DE-000037","[D2-AT] Y - St. Peter (- Altheim - Simbach) 234/230","10T-AT-DE-000045",0,0,0.57647999999999999,0.26296999999999998,0.65569999999999995,0.41058,0,1750,{"$f":"IF((G1777*ALBE+H1777*ALDE+I1777*AT+J1777*BE+K1777*DE+L1777*FR+M1777*NL)>(N1777),1,0)","v":0},null,{"$f":"IF((C$6*G1777+D$6*H1777+E$6*I1777+F$6*J1777+G$6*K1777+H$6*L1777+I$6*M1777)>(N1777),1,0)","v":0}]
[null,2723,"[D2-AT] Pleinting - St. Peter 258 [DIR] [AT]_LTA_corner#01_#9","10T-AT-DE-000037","[D2-D2] Pirach - Pleinting 257","11TD2L000000201H",0,0,-0.99670000000000003,8.1159999999999996E-2,0,0,0,4904,{"$f":"IF((G1778*ALBE+H1778*ALDE+I1778*AT+J1778*BE+K1778*DE+L1778*FR+M1778*NL)>(N1778),1,0)","v":0},null,{"$f":"IF((C$6*G1778+D$6*H1778+E$6*I1778+F$6*J1778+G$6*K1778+H$6*L1778+I$6*M1778)>(N1778),1,0)","v":0}]
[null,2724,"[D2-NL] Diele - Meeden 380 Black [DIR] [NL]_LTA_corner#05_#37","10T-DE-NL-00001V","[D2-NL] Diele - Meeden 380 White","10T-DE-NL-00002T",0,0,0.54979,0.30358000000000002,0.65181,0.42510999999999999,0,1818,{"$f":"IF((G1779*ALBE+H1779*ALDE+I1779*AT+J1779*BE+K1779*DE+L1779*FR+M1779*NL)>(N1779),1,0)","v":0},null,{"$f":"IF((C$6*G1779+D$6*H1779+E$6*I1779+F$6*J1779+G$6*K1779+H$6*L1779+I$6*M1779)>(N1779),1,0)","v":0}]
[null,2725,"[D2-AT] Pleinting - St. Peter 258 [DIR] [D2]_LTA_corner#05_#18","10T-AT-DE-000037","[D2-AT] Y - St. Peter (- Altheim - Simbach) 234/230","10T-AT-DE-000045",0,0,-0.99782999999999999,0,4.6580000000000003E-2,4.6580000000000003E-2,0,5164,{"$f":"IF((G1780*ALBE+H1780*ALDE+I1780*AT+J1780*BE+K1780*DE+L1780*FR+M1780*NL)>(N1780),1,0)","v":0},null,{"$f":"IF((C$6*G1780+D$6*H1780+E$6*I1780+F$6*J1780+G$6*K1780+H$6*L1780+I$6*M1780)>(N1780),1,0)","v":0}]
[null,2726,"ALBE_export","N/A","BASECASE","N/A",1,0,0,0,0,0,0,0,{"$f":"IF((G1781*ALBE+H1781*ALDE+I1781*AT+J1781*BE+K1781*DE+L1781*FR+M1781*NL)>(N1781),1,0)","v":0},null,{"$f":"IF((C$6*G1781+D$6*H1781+E$6*I1781+F$6*J1781+G$6*K1781+H$6*L1781+I$6*M1781)>(N1781),1,0)","v":0}]
[null,2727,"[D2-AT] Pleinting - St. Peter 258 [DIR] [AT]_LTA_corner#13_#1","10T-AT-DE-000037","[D2-D2] Pirach - Pleinting 257","11TD2L000000201H",0,0,-0.99561999999999995,-9.1399999999999995E-2,-1.406E-2,-1.406E-2,0,4951,{"$f":"IF((G1782*ALBE+H1782*ALDE+I1782*AT+J1782*BE+K1782*DE+L1782*FR+M1782*NL)>(N1782),1,0)","v":0},null,{"$f":"IF((C$6*G1782+D$6*H1782+E$6*I1782+F$6*J1782+G$6*K1782+H$6*L1782+I$6*M1782)>(N1782),1,0)","v":0}]
[null,2728,"[AT-AT] Westtirol Transformer WTRHU41 [OPP]_LTA_corner#20_#3","14T-38220-WT041O","BASECASE","N/A",0,0,0.98643000000000003,-0.06,0.13644999999999999,-6.8839999999999998E-2,0,4499,{"$f":"IF((G1783*ALBE+H1783*ALDE+I1783*AT+J1783*BE+K1783*DE+L1783*FR+M1783*NL)>(N1783),1,0)","v":0},null,{"$f":"IF((C$6*G1783+D$6*H1783+E$6*I1783+F$6*J1783+G$6*K1783+H$6*L1783+I$6*M1783)>(N1783),1,0)","v":0}]
[null,2729,"[D4-AT] Buers - Westtirol 421 weiss [OPP] [D4]_LTA_corner#20_#7","10T-AT-DE-000061","[AT-AT] Westtirol Transformer WTRHU41","14T-38220-WT041O",0,0,0.98079000000000005,-4.3560000000000001E-2,0.11883000000000001,-0.14845,0,4645,{"$f":"IF((G1784*ALBE+H1784*ALDE+I1784*AT+J1784*BE+K1784*DE+L1784*FR+M1784*NL)>(N1784),1,0)","v":0},null,{"$f":"IF((C$6*G1784+D$6*H1784+E$6*I1784+F$6*J1784+G$6*K1784+H$6*L1784+I$6*M1784)>(N1784),1,0)","v":0}]
[null,2730,"[D2-AT] Pleinting - St. Peter 258 [DIR] [AT]_LTA_corner#01_#8","10T-AT-DE-000037","[D2-D2] Pirach - Pleinting 257","11TD2L000000201H",0,0,-0.99465000000000003,0.10162,0,-1.8790000000000001E-2,0,4949,{"$f":"IF((G1785*ALBE+H1785*ALDE+I1785*AT+J1785*BE+K1785*DE+L1785*FR+M1785*NL)>(N1785),1,0)","v":0},null,{"$f":"IF((C$6*G1785+D$6*H1785+E$6*I1785+F$6*J1785+G$6*K1785+H$6*L1785+I$6*M1785)>(N1785),1,0)","v":0}]
[null,2731,"[D2-AT] Pleinting - St. Peter 258 [DIR] [D2]_LTA_corner#01_#0","10T-AT-DE-000037","[D2-AT] Y - St. Peter (- Altheim - Simbach) 234/230","10T-AT-DE-000045",0,0,-0.71177000000000001,0.28764000000000001,0.57264000000000004,0.28764000000000001,0,7274,{"$f":"IF((G1786*ALBE+H1786*ALDE+I1786*AT+J1786*BE+K1786*DE+L1786*FR+M1786*NL)>(N1786),1,0)","v":0},null,{"$f":"IF((C$6*G1786+D$6*H1786+E$6*I1786+F$6*J1786+G$6*K1786+H$6*L1786+I$6*M1786)>(N1786),1,0)","v":0}]
[null,2732,"[D2-AT] Pleinting - St. Peter 258 [DIR] [D2]_LTA_corner#04_#3","10T-AT-DE-000037","[D2-AT] Y - St. Peter (- Altheim - Simbach) 234/230","10T-AT-DE-000045",0,0,-0.97355000000000003,-6.9440000000000002E-2,3.1940000000000003E-2,-0.21529999999999999,0,5269,{"$f":"IF((G1787*ALBE+H1787*ALDE+I1787*AT+J1787*BE+K1787*DE+L1787*FR+M1787*NL)>(N1787),1,0)","v":0},null,{"$f":"IF((C$6*G1787+D$6*H1787+E$6*I1787+F$6*J1787+G$6*K1787+H$6*L1787+I$6*M1787)>(N1787),1,0)","v":0}]
[null,2733,"[D4-AT] Buers - Westtirol 421 weiss [OPP] [D4]_LTA_corner#20_#34","10T-AT-DE-000061","[AT-AT] Westtirol Transformer WTRHU41","14T-38220-WT041O",0,0,0.97841999999999996,-4.82E-2,0.12094000000000001,-0.16045000000000001,0,4648,{"$f":"IF((G1788*ALBE+H1788*ALDE+I1788*AT+J1788*BE+K1788*DE+L1788*FR+M1788*NL)>(N1788),1,0)","v":0},null,{"$f":"IF((C$6*G1788+D$6*H1788+E$6*I1788+F$6*J1788+G$6*K1788+H$6*L1788+I$6*M1788)>(N1788),1,0)","v":0}]
[null,2734,"[D2-AT] Pleinting - St. Peter 258 [DIR] [AT]_LTA_corner#01_#24","10T-AT-DE-000037","[D2-D2] Pirach - Pleinting 257","11TD2L000000201H",0,0,-0.99431999999999998,0.10403999999999999,0,-2.2249999999999999E-2,0,4956,{"$f":"IF((G1789*ALBE+H1789*ALDE+I1789*AT+J1789*BE+K1789*DE+L1789*FR+M1789*NL)>(N1789),1,0)","v":0},null,{"$f":"IF((C$6*G1789+D$6*H1789+E$6*I1789+F$6*J1789+G$6*K1789+H$6*L1789+I$6*M1789)>(N1789),1,0)","v":0}]
[null,2735,"[D2-AT] Pleinting - St. Peter 258 [DIR] [AT]_LTA_corner#06_#4","10T-AT-DE-000037","[D2-D2] Pirach - Pleinting 257","11TD2L000000201H",0,0,-0.99607999999999997,-8.7770000000000001E-2,8.0599999999999995E-3,8.0599999999999995E-3,0,5078,{"$f":"IF((G1790*ALBE+H1790*ALDE+I1790*AT+J1790*BE+K1790*DE+L1790*FR+M1790*NL)>(N1790),1,0)","v":0},null,{"$f":"IF((C$6*G1790+D$6*H1790+E$6*I1790+F$6*J1790+G$6*K1790+H$6*L1790+I$6*M1790)>(N1790),1,0)","v":0}]
[null,2736,"[D2-AT] Pleinting - St. Peter 258 [DIR] [AT]_LTA_corner#12_#4","10T-AT-DE-000037","[D2-D2] Pirach - Pleinting 257","11TD2L000000201H",0,0,-0.99607000000000001,-2.2200000000000002E-3,0,8.8550000000000004E-2,0,5077,{"$f":"IF((G1791*ALBE+H1791*ALDE+I1791*AT+J1791*BE+K1791*DE+L1791*FR+M1791*NL)>(N1791),1,0)","v":0},null,{"$f":"IF((C$6*G1791+D$6*H1791+E$6*I1791+F$6*J1791+G$6*K1791+H$6*L1791+I$6*M1791)>(N1791),1,0)","v":0}]
[null,2737,"[D2-AT] Pleinting - St. Peter 258 [DIR] [D2]_LTA_corner#09_#14","10T-AT-DE-000037","[D2-AT] Y - St. Peter (- Altheim - Simbach) 234/230","10T-AT-DE-000045",0,0,-0.93596999999999997,-0.13769000000000001,-0.22913,-0.22913,0,3880,{"$f":"IF((G1792*ALBE+H1792*ALDE+I1792*AT+J1792*BE+K1792*DE+L1792*FR+M1792*NL)>(N1792),1,0)","v":0},null,{"$f":"IF((C$6*G1792+D$6*H1792+E$6*I1792+F$6*J1792+G$6*K1792+H$6*L1792+I$6*M1792)>(N1792),1,0)","v":0}]
[null,2738,"[AT-AT] Westtirol Transformer WTRHU41 [OPP]_LTA_corner#20_#18","14T-38220-WT041O","BASECASE","N/A",0,0,0.98987999999999998,-2.01E-2,0.13693,-3.1199999999999999E-2,0,4448,{"$f":"IF((G1793*ALBE+H1793*ALDE+I1793*AT+J1793*BE+K1793*DE+L1793*FR+M1793*NL)>(N1793),1,0)","v":0},null,{"$f":"IF((C$6*G1793+D$6*H1793+E$6*I1793+F$6*J1793+G$6*K1793+H$6*L1793+I$6*M1793)>(N1793),1,0)","v":0}]
[null,2739,"[D2-AT] Pleinting - St. Peter 258 [DIR] [AT]_LTA_corner#01_#6","10T-AT-DE-000037","[D2-D2] Pirach - Pleinting 257","11TD2L000000201H",0,0,-0.98984000000000005,0,8.0099999999999998E-3,-0.14194000000000001,0,5054,{"$f":"IF((G1794*ALBE+H1794*ALDE+I1794*AT+J1794*BE+K1794*DE+L1794*FR+M1794*NL)>(N1794),1,0)","v":0},null,{"$f":"IF((C$6*G1794+D$6*H1794+E$6*I1794+F$6*J1794+G$6*K1794+H$6*L1794+I$6*M1794)>(N1794),1,0)","v":0}]
[null,2740,"[NL-D7] Maasbracht - Siersdorf 380 black [DIR] [D7]","10T-DE-NL-00006L","[BE-BE] Avelgem - Horta 380.102","22T20161020---1E",0.32579999999999998,-0.15626000000000001,-2.32E-3,0.31319000000000002,1.5429999999999999E-2,3.9530000000000003E-2,0.28399999999999997,893,{"$f":"IF((G1795*ALBE+H1795*ALDE+I1795*AT+J1795*BE+K1795*DE+L1795*FR+M1795*NL)>(N1795),1,0)","v":0},null,{"$f":"IF((C$6*G1795+D$6*H1795+E$6*I1795+F$6*J1795+G$6*K1795+H$6*L1795+I$6*M1795)>(N1795),1,0)","v":0}]
[null,2741,"[D2-AT] Pleinting - St. Peter 258 [DIR] [AT]_LTA_corner#11_#18","10T-AT-DE-000037","[D2-D2] Pirach - Pleinting 257","11TD2L000000201H",0,0,-0.99558999999999997,0,-9.2950000000000005E-2,-1.2460000000000001E-2,0,4595,{"$f":"IF((G1796*ALBE+H1796*ALDE+I1796*AT+J1796*BE+K1796*DE+L1796*FR+M1796*NL)>(N1796),1,0)","v":0},null,{"$f":"IF((C$6*G1796+D$6*H1796+E$6*I1796+F$6*J1796+G$6*K1796+H$6*L1796+I$6*M1796)>(N1796),1,0)","v":0}]
[null,2742,"[D2-AT] Pleinting - St. Peter 258 [DIR] [D2]_LTA_corner#06_#13","10T-AT-DE-000037","[D2-AT] Y - St. Peter (- Altheim - Simbach) 234/230","10T-AT-DE-000045",0,0,-0.99533000000000005,-7.6660000000000006E-2,0,-5.8619999999999998E-2,0,4945,{"$f":"IF((G1797*ALBE+H1797*ALDE+I1797*AT+J1797*BE+K1797*DE+L1797*FR+M1797*NL)>(N1797),1,0)","v":0},null,{"$f":"IF((C$6*G1797+D$6*H1797+E$6*I1797+F$6*J1797+G$6*K1797+H$6*L1797+I$6*M1797)>(N1797),1,0)","v":0}]
[null,2743,"[D2-AT] Pleinting - St. Peter 258 [DIR] [D2]_LTA_corner#11_#3","10T-AT-DE-000037","[D2-AT] Y - St. Peter (- Altheim - Simbach) 234/230","10T-AT-DE-000045",0,0,-0.99848999999999999,0,-4.4060000000000002E-2,-3.2870000000000003E-2,0,4696,{"$f":"IF((G1798*ALBE+H1798*ALDE+I1798*AT+J1798*BE+K1798*DE+L1798*FR+M1798*NL)>(N1798),1,0)","v":0},null,{"$f":"IF((C$6*G1798+D$6*H1798+E$6*I1798+F$6*J1798+G$6*K1798+H$6*L1798+I$6*M1798)>(N1798),1,0)","v":0}]
[null,2744,"[D2-AT] Pleinting - St. Peter 258 [DIR] [AT]_LTA_corner#06_#16","10T-AT-DE-000037","[D2-D2] Pirach - Pleinting 257","11TD2L000000201H",0,0,-0.99312,-0.11393,0,-2.6919999999999999E-2,0,5048,{"$f":"IF((G1799*ALBE+H1799*ALDE+I1799*AT+J1799*BE+K1799*DE+L1799*FR+M1799*NL)>(N1799),1,0)","v":0},null,{"$f":"IF((C$6*G1799+D$6*H1799+E$6*I1799+F$6*J1799+G$6*K1799+H$6*L1799+I$6*M1799)>(N1799),1,0)","v":0}]
[null,2745,"ALBE_import","N/A","BASECASE","N/A",-1,0,0,0,0,0,0,0,{"$f":"IF((G1800*ALBE+H1800*ALDE+I1800*AT+J1800*BE+K1800*DE+L1800*FR+M1800*NL)>(N1800),1,0)","v":0},null,{"$f":"IF((C$6*G1800+D$6*H1800+E$6*I1800+F$6*J1800+G$6*K1800+H$6*L1800+I$6*M1800)>(N1800),1,0)","v":0}]
[null,2746,"[D2-AT] Pleinting - St. Peter 258 [DIR] [AT]_LTA_corner#04_#17","10T-AT-DE-000037","[D2-D2] Pirach - Pleinting 257","11TD2L000000201H",0,0,-0.99204000000000003,-7.1379999999999999E-2,7.5249999999999997E-2,-7.1379999999999999E-2,0,5427,{"$f":"IF((G1801*ALBE+H1801*ALDE+I1801*AT+J1801*BE+K1801*DE+L1801*FR+M1801*NL)>(N1801),1,0)","v":0},null,{"$f":"IF((C$6*G1801+D$6*H1801+E$6*I1801+F$6*J1801+G$6*K1801+H$6*L1801+I$6*M1801)>(N1801),1,0)","v":0}]
[null,2747,"[D2-AT] Pleinting - St. Peter 258 [DIR] [AT]_LTA_corner#01_#5","10T-AT-DE-000037","[D2-D2] Pirach - Pleinting 257","11TD2L000000201H",0,0,-0.99851000000000001,3.1489999999999997E-2,3.1489999999999997E-2,3.1489999999999997E-2,0,5019,{"$f":"IF((G1802*ALBE+H1802*ALDE+I1802*AT+J1802*BE+K1802*DE+L1802*FR+M1802*NL)>(N1802),1,0)","v":0},null,{"$f":"IF((C$6*G1802+D$6*H1802+E$6*I1802+F$6*J1802+G$6*K1802+H$6*L1802+I$6*M1802)>(N1802),1,0)","v":0}]
[null,2748,"[D2-AT] Pleinting - St. Peter 258 [DIR] [AT]_LTA_corner#11_#15","10T-AT-DE-000037","[D2-D2] Pirach - Pleinting 257","11TD2L000000201H",0,0,-0.99580999999999997,4.1399999999999996E-3,-9.1259999999999994E-2,4.1399999999999996E-3,0,4617,{"$f":"IF((G1803*ALBE+H1803*ALDE+I1803*AT+J1803*BE+K1803*DE+L1803*FR+M1803*NL)>(N1803),1,0)","v":0},null,{"$f":"IF((C$6*G1803+D$6*H1803+E$6*I1803+F$6*J1803+G$6*K1803+H$6*L1803+I$6*M1803)>(N1803),1,0)","v":0}]
[null,2749,"[D2-AT] Pleinting - St. Peter 258 [DIR] [D2]_LTA_corner#04_#1","10T-AT-DE-000037","[D2-AT] Y - St. Peter (- Altheim - Simbach) 234/230","10T-AT-DE-000045",0,0,-0.99448999999999999,-7.3910000000000003E-2,7.5599999999999999E-3,-7.3910000000000003E-2,0,4976,{"$f":"IF((G1804*ALBE+H1804*ALDE+I1804*AT+J1804*BE+K1804*DE+L1804*FR+M1804*NL)>(N1804),1,0)","v":0},null,{"$f":"IF((C$6*G1804+D$6*H1804+E$6*I1804+F$6*J1804+G$6*K1804+H$6*L1804+I$6*M1804)>(N1804),1,0)","v":0}]
[null,2750,"[BE-FR] Achene - Lonny 380.19 [DIR] [BE]_LTA_corner#09_#11","10T-BE-FR-000015","[BE-BE] Avelgem - Horta 380.102","22T20161020---1E",0,0,-0.42453999999999997,-0.59125000000000005,-0.34728999999999999,-0.59125000000000005,0,1537,{"$f":"IF((G1805*ALBE+H1805*ALDE+I1805*AT+J1805*BE+K1805*DE+L1805*FR+M1805*NL)>(N1805),1,0)","v":0},null,{"$f":"IF((C$6*G1805+D$6*H1805+E$6*I1805+F$6*J1805+G$6*K1805+H$6*L1805+I$6*M1805)>(N1805),1,0)","v":0}]
[null,2751,"[BE-BE] PST_ZANDV_2 [N - S]_LTA_corner#13_#13","22T20161020---56","[NL-BE] Rilland - Zandvliet 380 White/30","10T-BE-NL-00004C",0,0,-0.31317,-0.80918000000000001,-0.26651000000000002,-0.41966999999999999,0,2014,{"$f":"IF((G1806*ALBE+H1806*ALDE+I1806*AT+J1806*BE+K1806*DE+L1806*FR+M1806*NL)>(N1806),1,0)","v":0},null,{"$f":"IF((C$6*G1806+D$6*H1806+E$6*I1806+F$6*J1806+G$6*K1806+H$6*L1806+I$6*M1806)>(N1806),1,0)","v":0}]
[null,2752,"[BE-BE] PST_ZANDV_2 [N - S]_LTA_corner#13_#3","22T20161020---56","[NL-BE] Rilland - Zandvliet 380 White/30","10T-BE-NL-00004C",0,0,-0.31822,-0.80903999999999998,-0.27594000000000002,-0.40994000000000003,0,2003,{"$f":"IF((G1807*ALBE+H1807*ALDE+I1807*AT+J1807*BE+K1807*DE+L1807*FR+M1807*NL)>(N1807),1,0)","v":0},null,{"$f":"IF((C$6*G1807+D$6*H1807+E$6*I1807+F$6*J1807+G$6*K1807+H$6*L1807+I$6*M1807)>(N1807),1,0)","v":0}]
[null,2753,"[D7-D4] Hoheneck - Pulverdingen weiss [DIR] [D4]_LTA_corner#09_#23","11T-D4-D7-00014N","[D4-D7] Y - Herbertingen - Hoheneck - Metzingen schwarz","11TD40000A546-S0",0,0,-0.78195000000000003,-0.13199,-0.29366999999999999,-0.53374999999999995,0,3336,{"$f":"IF((G1808*ALBE+H1808*ALDE+I1808*AT+J1808*BE+K1808*DE+L1808*FR+M1808*NL)>(N1808),1,0)","v":0},null,{"$f":"IF((C$6*G1808+D$6*H1808+E$6*I1808+F$6*J1808+G$6*K1808+H$6*L1808+I$6*M1808)>(N1808),1,0)","v":0}]
[null,2754,"[D2-AT] Pleinting - St. Peter 258 [DIR] [AT]_LTA_corner#01_#1","10T-AT-DE-000037","[D2-D2] Pirach - Pleinting 257","11TD2L000000201H",0,0,-0.99309000000000003,0.11396000000000001,8.0400000000000003E-3,-2.6919999999999999E-2,0,5025,{"$f":"IF((G1809*ALBE+H1809*ALDE+I1809*AT+J1809*BE+K1809*DE+L1809*FR+M1809*NL)>(N1809),1,0)","v":0},null,{"$f":"IF((C$6*G1809+D$6*H1809+E$6*I1809+F$6*J1809+G$6*K1809+H$6*L1809+I$6*M1809)>(N1809),1,0)","v":0}]
[null,2755,"[D2-AT] Pleinting - St. Peter 258 [DIR] [D2]_LTA_corner#15_#20","10T-AT-DE-000037","[D2-AT] Y - St. Peter (- Altheim - Simbach) 234/230","10T-AT-DE-000045",0,0,-0.99968000000000001,-5.45E-3,-2.4219999999999998E-2,-5.45E-3,0,4765,{"$f":"IF((G1810*ALBE+H1810*ALDE+I1810*AT+J1810*BE+K1810*DE+L1810*FR+M1810*NL)>(N1810),1,0)","v":0},null,{"$f":"IF((C$6*G1810+D$6*H1810+E$6*I1810+F$6*J1810+G$6*K1810+H$6*L1810+I$6*M1810)>(N1810),1,0)","v":0}]
[null,2756,"[D2-AT] Pleinting - St. Peter 258 [DIR] [AT]_LTA_corner#03_#13","10T-AT-DE-000037","[D2-D2] Pirach - Pleinting 257","11TD2L000000201H",0,0,-0.99836999999999998,4.0320000000000002E-2,0,4.0320000000000002E-2,0,4893,{"$f":"IF((G1811*ALBE+H1811*ALDE+I1811*AT+J1811*BE+K1811*DE+L1811*FR+M1811*NL)>(N1811),1,0)","v":0},null,{"$f":"IF((C$6*G1811+D$6*H1811+E$6*I1811+F$6*J1811+G$6*K1811+H$6*L1811+I$6*M1811)>(N1811),1,0)","v":0}]
[null,2757,"[D2-AT] Pleinting - St. Peter 258 [DIR] [AT]_LTA_corner#01_#0","10T-AT-DE-000037","[D2-D2] Pirach - Pleinting 257","11TD2L000000201H",0,0,-0.98843000000000003,0,0.14932000000000001,-2.6800000000000001E-2,0,5838,{"$f":"IF((G1812*ALBE+H1812*ALDE+I1812*AT+J1812*BE+K1812*DE+L1812*FR+M1812*NL)>(N1812),1,0)","v":0},null,{"$f":"IF((C$6*G1812+D$6*H1812+E$6*I1812+F$6*J1812+G$6*K1812+H$6*L1812+I$6*M1812)>(N1812),1,0)","v":0}]
[null,2758,"[BE-FR] Achene - Lonny 380.19 [DIR] [BE]_LTA_corner#02_#4","10T-BE-FR-000015","[BE-BE] Avelgem - Horta 380.102","22T20161020---1E",0,0,-0.45712999999999998,0.23663999999999999,-0.30074000000000001,-0.80286000000000002,0,2438,{"$f":"IF((G1813*ALBE+H1813*ALDE+I1813*AT+J1813*BE+K1813*DE+L1813*FR+M1813*NL)>(N1813),1,0)","v":0},null,{"$f":"IF((C$6*G1813+D$6*H1813+E$6*I1813+F$6*J1813+G$6*K1813+H$6*L1813+I$6*M1813)>(N1813),1,0)","v":0}]
[null,2759,"[D2-AT] Pleinting - St. Peter 258 [DIR] [AT]_LTA_corner#11_#16","10T-AT-DE-000037","[D2-D2] Pirach - Pleinting 257","11TD2L000000201H",0,0,-0.99605999999999995,0,-8.8690000000000005E-2,0,0,4615,{"$f":"IF((G1814*ALBE+H1814*ALDE+I1814*AT+J1814*BE+K1814*DE+L1814*FR+M1814*NL)>(N1814),1,0)","v":0},null,{"$f":"IF((C$6*G1814+D$6*H1814+E$6*I1814+F$6*J1814+G$6*K1814+H$6*L1814+I$6*M1814)>(N1814),1,0)","v":0}]
[null,2760,"[BE-BE] PST_VANYK_2 [S - N]","22T-BE-PST--002U","[NL-BE] Maasbracht - Van Eyck 380 Black/27","10T-BE-NL-00002G",0.48527999999999999,-5.1209999999999999E-2,1.251E-2,0.27065,-2.2540000000000001E-2,9.4979999999999995E-2,-2.5749999999999999E-2,1105,{"$f":"IF((G1815*ALBE+H1815*ALDE+I1815*AT+J1815*BE+K1815*DE+L1815*FR+M1815*NL)>(N1815),1,0)","v":0},null,{"$f":"IF((C$6*G1815+D$6*H1815+E$6*I1815+F$6*J1815+G$6*K1815+H$6*L1815+I$6*M1815)>(N1815),1,0)","v":0}]
[null,2761,"[D2-AT] Pleinting - St. Peter 258 [DIR] [D2]_LTA_corner#01_#3","10T-AT-DE-000037","[D2-AT] Y - St. Peter (- Altheim - Simbach) 234/230","10T-AT-DE-000045",0,0,-0.96633000000000002,0,0.22772000000000001,-0.1198,0,6422,{"$f":"IF((G1816*ALBE+H1816*ALDE+I1816*AT+J1816*BE+K1816*DE+L1816*FR+M1816*NL)>(N1816),1,0)","v":0},null,{"$f":"IF((C$6*G1816+D$6*H1816+E$6*I1816+F$6*J1816+G$6*K1816+H$6*L1816+I$6*M1816)>(N1816),1,0)","v":0}]
[null,2762,"[D2-AT] Pleinting - St. Peter 258 [DIR] [D2]_LTA_corner#01_#1","10T-AT-DE-000037","[D2-AT] Y - St. Peter (- Altheim - Simbach) 234/230","10T-AT-DE-000045",0,0,-0.76844000000000001,0.27344000000000002,0.50987000000000005,0.27344000000000002,0,7119,{"$f":"IF((G1817*ALBE+H1817*ALDE+I1817*AT+J1817*BE+K1817*DE+L1817*FR+M1817*NL)>(N1817),1,0)","v":0},null,{"$f":"IF((C$6*G1817+D$6*H1817+E$6*I1817+F$6*J1817+G$6*K1817+H$6*L1817+I$6*M1817)>(N1817),1,0)","v":0}]
[null,2763,"[D2-AT] Pleinting - St. Peter 258 [DIR] [D2]_LTA_corner#04_#0","10T-AT-DE-000037","[D2-AT] Y - St. Peter (- Altheim - Simbach) 234/230","10T-AT-DE-000045",0,0,-0.97430000000000005,-7.5819999999999999E-2,0,-0.21213000000000001,0,5048,{"$f":"IF((G1818*ALBE+H1818*ALDE+I1818*AT+J1818*BE+K1818*DE+L1818*FR+M1818*NL)>(N1818),1,0)","v":0},null,{"$f":"IF((C$6*G1818+D$6*H1818+E$6*I1818+F$6*J1818+G$6*K1818+H$6*L1818+I$6*M1818)>(N1818),1,0)","v":0}]
[null,2764,"[D2-AT] Pleinting - St. Peter 258 [DIR] [D2]_LTA_corner#05_#8","10T-AT-DE-000037","[D2-AT] Y - St. Peter (- Altheim - Simbach) 234/230","10T-AT-DE-000045",0,0,0.55962000000000001,0.26103999999999999,0.68057000000000001,0.39434000000000002,0,1994,{"$f":"IF((G1819*ALBE+H1819*ALDE+I1819*AT+J1819*BE+K1819*DE+L1819*FR+M1819*NL)>(N1819),1,0)","v":0},null,{"$f":"IF((C$6*G1819+D$6*H1819+E$6*I1819+F$6*J1819+G$6*K1819+H$6*L1819+I$6*M1819)>(N1819),1,0)","v":0}]
[null,2765,"[D2-AT] Pleinting - St. Peter 258 [DIR] [D2]_LTA_corner#09_#15","10T-AT-DE-000037","[D2-AT] Y - St. Peter (- Altheim - Simbach) 234/230","10T-AT-DE-000045",0,0,-0.95931999999999995,-0.12467,-0.17910999999999999,-0.17910999999999999,0,4133,{"$f":"IF((G1820*ALBE+H1820*ALDE+I1820*AT+J1820*BE+K1820*DE+L1820*FR+M1820*NL)>(N1820),1,0)","v":0},null,{"$f":"IF((C$6*G1820+D$6*H1820+E$6*I1820+F$6*J1820+G$6*K1820+H$6*L1820+I$6*M1820)>(N1820),1,0)","v":0}]
[null,2766,"[BE-FR] Achene - Lonny 380.19 [DIR] [BE]_LTA_corner#02_#24","10T-BE-FR-000015","[BE-BE] Avelgem - Horta 380.102","22T20161020---1E",0,0,-0.49386000000000002,0,-0.3679,-0.78786999999999996,0,2003,{"$f":"IF((G1821*ALBE+H1821*ALDE+I1821*AT+J1821*BE+K1821*DE+L1821*FR+M1821*NL)>(N1821),1,0)","v":0},null,{"$f":"IF((C$6*G1821+D$6*H1821+E$6*I1821+F$6*J1821+G$6*K1821+H$6*L1821+I$6*M1821)>(N1821),1,0)","v":0}]
[null,2767,"[D2-AT] Pleinting - St. Peter 258 [DIR] [AT]_LTA_corner#12_#3","10T-AT-DE-000037","[D2-D2] Pirach - Pleinting 257","11TD2L000000201H",0,0,-0.99607000000000001,-1.57E-3,0,8.8499999999999995E-2,0,5076,{"$f":"IF((G1822*ALBE+H1822*ALDE+I1822*AT+J1822*BE+K1822*DE+L1822*FR+M1822*NL)>(N1822),1,0)","v":0},null,{"$f":"IF((C$6*G1822+D$6*H1822+E$6*I1822+F$6*J1822+G$6*K1822+H$6*L1822+I$6*M1822)>(N1822),1,0)","v":0}]
[null,2768,"[D2-AT] Pleinting - St. Peter 258 [DIR] [AT]_LTA_corner#07_#10","10T-AT-DE-000037","[D2-D2] Pirach - Pleinting 257","11TD2L000000201H",0,0,-0.99594000000000005,0,8.0599999999999995E-3,8.9690000000000006E-2,0,5111,{"$f":"IF((G1823*ALBE+H1823*ALDE+I1823*AT+J1823*BE+K1823*DE+L1823*FR+M1823*NL)>(N1823),1,0)","v":0},null,{"$f":"IF((C$6*G1823+D$6*H1823+E$6*I1823+F$6*J1823+G$6*K1823+H$6*L1823+I$6*M1823)>(N1823),1,0)","v":0}]
[null,2769,"[D2-AT] Pleinting - St. Peter 258 [DIR] [AT]_LTA_corner#02_#2","10T-AT-DE-000037","[D2-D2] Pirach - Pleinting 257","11TD2L000000201H",0,0,-0.99602999999999997,8.8029999999999997E-2,-9.3399999999999993E-3,-9.3399999999999993E-3,0,4883,{"$f":"IF((G1824*ALBE+H1824*ALDE+I1824*AT+J1824*BE+K1824*DE+L1824*FR+M1824*NL)>(N1824),1,0)","v":0},null,{"$f":"IF((C$6*G1824+D$6*H1824+E$6*I1824+F$6*J1824+G$6*K1824+H$6*L1824+I$6*M1824)>(N1824),1,0)","v":0}]
[null,2770,"[D2-AT] Pleinting - St. Peter 258 [DIR] [AT]_LTA_corner#07_#0","10T-AT-DE-000037","[D2-D2] Pirach - Pleinting 257","11TD2L000000201H",0,0,-0.99624000000000001,0,0,8.6629999999999999E-2,0,5067,{"$f":"IF((G1825*ALBE+H1825*ALDE+I1825*AT+J1825*BE+K1825*DE+L1825*FR+M1825*NL)>(N1825),1,0)","v":0},null,{"$f":"IF((C$6*G1825+D$6*H1825+E$6*I1825+F$6*J1825+G$6*K1825+H$6*L1825+I$6*M1825)>(N1825),1,0)","v":0}]
[null,2771,"[D2-AT] Pleinting - St. Peter 258 [DIR] [D2]_LTA_corner#09_#3","10T-AT-DE-000037","[D2-AT] Y - St. Peter (- Altheim - Simbach) 234/230","10T-AT-DE-000045",0,0,-0.98331000000000002,-4.0300000000000002E-2,-0.12544,-0.12544,0,4389,{"$f":"IF((G1826*ALBE+H1826*ALDE+I1826*AT+J1826*BE+K1826*DE+L1826*FR+M1826*NL)>(N1826),1,0)","v":0},null,{"$f":"IF((C$6*G1826+D$6*H1826+E$6*I1826+F$6*J1826+G$6*K1826+H$6*L1826+I$6*M1826)>(N1826),1,0)","v":0}]
[null,2772,"[D2-AT] Pleinting - St. Peter 258 [DIR] [D2]_LTA_corner#01_#14","10T-AT-DE-000037","[D2-AT] Y - St. Peter (- Altheim - Simbach) 234/230","10T-AT-DE-000045",0,0,-0.99321000000000004,0,0,-0.11636000000000001,0,4974,{"$f":"IF((G1827*ALBE+H1827*ALDE+I1827*AT+J1827*BE+K1827*DE+L1827*FR+M1827*NL)>(N1827),1,0)","v":0},null,{"$f":"IF((C$6*G1827+D$6*H1827+E$6*I1827+F$6*J1827+G$6*K1827+H$6*L1827+I$6*M1827)>(N1827),1,0)","v":0}]
[null,2773,"[AT-AT] Westtirol Transformer WTRHU41 [OPP]_LTA_corner#17_#1","14T-38220-WT041O","BASECASE","N/A",0,0,0.98538999999999999,0,0.15112,-7.8570000000000001E-2,0,4460,{"$f":"IF((G1828*ALBE+H1828*ALDE+I1828*AT+J1828*BE+K1828*DE+L1828*FR+M1828*NL)>(N1828),1,0)","v":0},null,{"$f":"IF((C$6*G1828+D$6*H1828+E$6*I1828+F$6*J1828+G$6*K1828+H$6*L1828+I$6*M1828)>(N1828),1,0)","v":0}]
[null,2774,"[D2-AT] Pleinting - St. Peter 258 [DIR] [D2]_LTA_corner#05_#5","10T-AT-DE-000037","[D2-AT] Y - St. Peter (- Altheim - Simbach) 234/230","10T-AT-DE-000045",0,0,-0.97174000000000005,0,0.21720999999999999,9.2469999999999997E-2,0,6248,{"$f":"IF((G1829*ALBE+H1829*ALDE+I1829*AT+J1829*BE+K1829*DE+L1829*FR+M1829*NL)>(N1829),1,0)","v":0},null,{"$f":"IF((C$6*G1829+D$6*H1829+E$6*I1829+F$6*J1829+G$6*K1829+H$6*L1829+I$6*M1829)>(N1829),1,0)","v":0}]
[null,2775,"[D2-NL] Diele - Meeden 380 Black [DIR] [NL]_LTA_corner#05_#10","10T-DE-NL-00001V","[D2-NL] Diele - Meeden 380 White","10T-DE-NL-00002T",0,0,0.56211999999999995,0.2233,0.67901,0.41604999999999998,0,2027,{"$f":"IF((G1830*ALBE+H1830*ALDE+I1830*AT+J1830*BE+K1830*DE+L1830*FR+M1830*NL)>(N1830),1,0)","v":0},null,{"$f":"IF((C$6*G1830+D$6*H1830+E$6*I1830+F$6*J1830+G$6*K1830+H$6*L1830+I$6*M1830)>(N1830),1,0)","v":0}]
[null,2776,"[NL-NL] Borssele - Rilland 380 Zwart [DIR]","49T000000000059S","[NL-NL] Borssele - Rilland 380 Grijs","49T000000000057W",-5.1900000000000002E-3,2.2699999999999999E-3,-7.3999999999999999E-4,-1.357E-2,1.3500000000000001E-3,-5.6699999999999997E-3,0.14011000000000001,457,{"$f":"IF((G1831*ALBE+H1831*ALDE+I1831*AT+J1831*BE+K1831*DE+L1831*FR+M1831*NL)>(N1831),1,0)","v":0},null,{"$f":"IF((C$6*G1831+D$6*H1831+E$6*I1831+F$6*J1831+G$6*K1831+H$6*L1831+I$6*M1831)>(N1831),1,0)","v":0}]
[null,2777,"[D2-AT] Pleinting - St. Peter 258 [DIR] [D2]_LTA_corner#01_#2","10T-AT-DE-000037","[D2-AT] Y - St. Peter (- Altheim - Simbach) 234/230","10T-AT-DE-000045",0,0,-0.53310000000000002,0.22103,0.78619000000000006,0.22103,0,7911,{"$f":"IF((G1832*ALBE+H1832*ALDE+I1832*AT+J1832*BE+K1832*DE+L1832*FR+M1832*NL)>(N1832),1,0)","v":0},null,{"$f":"IF((C$6*G1832+D$6*H1832+E$6*I1832+F$6*J1832+G$6*K1832+H$6*L1832+I$6*M1832)>(N1832),1,0)","v":0}]
[null,2778,"[D2-AT] Pleinting - St. Peter 258 [DIR] [AT]_LTA_corner#02_#1","10T-AT-DE-000037","[D2-D2] Pirach - Pleinting 257","11TD2L000000201H",0,0,-0.99641000000000002,0,-5.9830000000000001E-2,-5.9830000000000001E-2,0,4633,{"$f":"IF((G1833*ALBE+H1833*ALDE+I1833*AT+J1833*BE+K1833*DE+L1833*FR+M1833*NL)>(N1833),1,0)","v":0},null,{"$f":"IF((C$6*G1833+D$6*H1833+E$6*I1833+F$6*J1833+G$6*K1833+H$6*L1833+I$6*M1833)>(N1833),1,0)","v":0}]
[null,2779,"[BE-FR] Achene - Lonny 380.19 [DIR] [BE]_LTA_corner#02_#10","10T-BE-FR-000015","[BE-BE] Avelgem - Horta 380.102","22T20161020---1E",0,0,-0.45635999999999999,0.34593000000000002,-0.28184999999999999,-0.76983000000000001,0,2598,{"$f":"IF((G1834*ALBE+H1834*ALDE+I1834*AT+J1834*BE+K1834*DE+L1834*FR+M1834*NL)>(N1834),1,0)","v":0},null,{"$f":"IF((C$6*G1834+D$6*H1834+E$6*I1834+F$6*J1834+G$6*K1834+H$6*L1834+I$6*M1834)>(N1834),1,0)","v":0}]
[null,2780,"[BE-BE] PST_ZANDV_2 [N - S]_LTA_corner#13_#32","22T20161020---56","[NL-BE] Rilland - Zandvliet 380 White/30","10T-BE-NL-00004C",0,0,-0.31891000000000003,-0.77727000000000002,-0.24515000000000001,-0.48377999999999999,0,2014,{"$f":"IF((G1835*ALBE+H1835*ALDE+I1835*AT+J1835*BE+K1835*DE+L1835*FR+M1835*NL)>(N1835),1,0)","v":0},null,{"$f":"IF((C$6*G1835+D$6*H1835+E$6*I1835+F$6*J1835+G$6*K1835+H$6*L1835+I$6*M1835)>(N1835),1,0)","v":0}]
[null,2781,"[BE-BE] PST_VANYK_2 [S - N]","22T-BE-PST--002U","[BE-FR] Achene - Lonny 380.19","10T-BE-FR-000015",0.57354000000000005,-2.5190000000000001E-2,5.47E-3,0.32013999999999998,-9.6399999999999993E-3,4.5909999999999999E-2,1.1990000000000001E-2,995,{"$f":"IF((G1836*ALBE+H1836*ALDE+I1836*AT+J1836*BE+K1836*DE+L1836*FR+M1836*NL)>(N1836),1,0)","v":0},null,{"$f":"IF((C$6*G1836+D$6*H1836+E$6*I1836+F$6*J1836+G$6*K1836+H$6*L1836+I$6*M1836)>(N1836),1,0)","v":0}]
[null,2782,"[D2-AT] Pleinting - St. Peter 258 [DIR] [AT]_LTA_corner#11_#13","10T-AT-DE-000037","[D2-D2] Pirach - Pleinting 257","11TD2L000000201H",0,0,-0.99665000000000004,2.7029999999999998E-2,-7.2330000000000005E-2,2.7029999999999998E-2,0,4706,{"$f":"IF((G1837*ALBE+H1837*ALDE+I1837*AT+J1837*BE+K1837*DE+L1837*FR+M1837*NL)>(N1837),1,0)","v":0},null,{"$f":"IF((C$6*G1837+D$6*H1837+E$6*I1837+F$6*J1837+G$6*K1837+H$6*L1837+I$6*M1837)>(N1837),1,0)","v":0}]
[null,2783,"[BE-FR] Achene - Lonny 380.19 [DIR] [BE]_LTA_corner#09_#5","10T-BE-FR-000015","[BE-BE] Avelgem - Horta 380.102","22T20161020---1E",0,0,-0.41191,-0.60192000000000001,-0.32512999999999997,-0.60192000000000001,0,1594,{"$f":"IF((G1838*ALBE+H1838*ALDE+I1838*AT+J1838*BE+K1838*DE+L1838*FR+M1838*NL)>(N1838),1,0)","v":0},null,{"$f":"IF((C$6*G1838+D$6*H1838+E$6*I1838+F$6*J1838+G$6*K1838+H$6*L1838+I$6*M1838)>(N1838),1,0)","v":0}]
[null,2784,"[D7-FR] Ensdorf - Vigy 2S [OPP] [D7]","10T-DE-FR-000068","[D7-D7] Ensdorf - Uchtelfangen Taubental N","11T0-0000-0604-N",6.5589999999999996E-2,-6.2460000000000002E-2,2.0160000000000001E-2,8.1600000000000006E-2,-2.0109999999999999E-2,0.18268999999999999,1.2290000000000001E-2,728,{"$f":"IF((G1839*ALBE+H1839*ALDE+I1839*AT+J1839*BE+K1839*DE+L1839*FR+M1839*NL)>(N1839),1,0)","v":0},null,{"$f":"IF((C$6*G1839+D$6*H1839+E$6*I1839+F$6*J1839+G$6*K1839+H$6*L1839+I$6*M1839)>(N1839),1,0)","v":0}]
[null,2785,"[AT-AT] Westtirol Transformer WTRHU41 [OPP]_LTA_corner#20_#0","14T-38220-WT041O","BASECASE","N/A",0,0,0.98246999999999995,-1.9949999999999999E-2,0.17219999999999999,-6.8570000000000006E-2,0,4376,{"$f":"IF((G1840*ALBE+H1840*ALDE+I1840*AT+J1840*BE+K1840*DE+L1840*FR+M1840*NL)>(N1840),1,0)","v":0},null,{"$f":"IF((C$6*G1840+D$6*H1840+E$6*I1840+F$6*J1840+G$6*K1840+H$6*L1840+I$6*M1840)>(N1840),1,0)","v":0}]
[null,2786,"[D2-AT] Pleinting - St. Peter 258 [DIR] [D2]_LTA_corner#12_#7","10T-AT-DE-000037","[D2-AT] Y - St. Peter (- Altheim - Simbach) 234/230","10T-AT-DE-000045",0,0,-0.99970999999999999,-5.45E-3,0,2.3390000000000001E-2,0,4904,{"$f":"IF((G1841*ALBE+H1841*ALDE+I1841*AT+J1841*BE+K1841*DE+L1841*FR+M1841*NL)>(N1841),1,0)","v":0},null,{"$f":"IF((C$6*G1841+D$6*H1841+E$6*I1841+F$6*J1841+G$6*K1841+H$6*L1841+I$6*M1841)>(N1841),1,0)","v":0}]
[null,2787,"[BE-FR] Achene - Lonny 380.19 [DIR] [BE]_LTA_corner#09_#4","10T-BE-FR-000015","[BE-BE] Avelgem - Horta 380.102","22T20161020---1E",0,0,-0.41998000000000002,-0.59779000000000004,-0.33002999999999999,-0.59779000000000004,0,1603,{"$f":"IF((G1842*ALBE+H1842*ALDE+I1842*AT+J1842*BE+K1842*DE+L1842*FR+M1842*NL)>(N1842),1,0)","v":0},null,{"$f":"IF((C$6*G1842+D$6*H1842+E$6*I1842+F$6*J1842+G$6*K1842+H$6*L1842+I$6*M1842)>(N1842),1,0)","v":0}]
[null,2788,"[AT-AT] Westtirol Transformer WTRHU41 [OPP]_LTA_corner#17_#3","14T-38220-WT041O","BASECASE","N/A",0,0,0.98931000000000002,0,0.13685,-5.0349999999999999E-2,0,4473,{"$f":"IF((G1843*ALBE+H1843*ALDE+I1843*AT+J1843*BE+K1843*DE+L1843*FR+M1843*NL)>(N1843),1,0)","v":0},null,{"$f":"IF((C$6*G1843+D$6*H1843+E$6*I1843+F$6*J1843+G$6*K1843+H$6*L1843+I$6*M1843)>(N1843),1,0)","v":0}]
[null,2789,"[D2-AT] Pleinting - St. Peter 258 [DIR] [AT]_LTA_corner#06_#20","10T-AT-DE-000037","[D2-D2] Pirach - Pleinting 257","11TD2L000000201H",0,0,-0.99353000000000002,-0.11151999999999999,0,-2.1530000000000001E-2,0,5048,{"$f":"IF((G1844*ALBE+H1844*ALDE+I1844*AT+J1844*BE+K1844*DE+L1844*FR+M1844*NL)>(N1844),1,0)","v":0},null,{"$f":"IF((C$6*G1844+D$6*H1844+E$6*I1844+F$6*J1844+G$6*K1844+H$6*L1844+I$6*M1844)>(N1844),1,0)","v":0}]
[null,2790,"[BE-FR] Achene - Lonny 380.19 [DIR] [BE]_LTA_corner#09_#10","10T-BE-FR-000015","[BE-BE] Avelgem - Horta 380.102","22T20161020---1E",0,0,-0.41796,-0.59492,-0.34271000000000001,-0.59492,0,1532,{"$f":"IF((G1845*ALBE+H1845*ALDE+I1845*AT+J1845*BE+K1845*DE+L1845*FR+M1845*NL)>(N1845),1,0)","v":0},null,{"$f":"IF((C$6*G1845+D$6*H1845+E$6*I1845+F$6*J1845+G$6*K1845+H$6*L1845+I$6*M1845)>(N1845),1,0)","v":0}]
[null,2791,"[D2-AT] Pleinting - St. Peter 258 [DIR] [D2]_LTA_corner#03_#4","10T-AT-DE-000037","[D2-AT] Y - St. Peter (- Altheim - Simbach) 234/230","10T-AT-DE-000045",0,0,-0.99994000000000005,7.8200000000000006E-3,0,7.8200000000000006E-3,0,4836,{"$f":"IF((G1846*ALBE+H1846*ALDE+I1846*AT+J1846*BE+K1846*DE+L1846*FR+M1846*NL)>(N1846),1,0)","v":0},null,{"$f":"IF((C$6*G1846+D$6*H1846+E$6*I1846+F$6*J1846+G$6*K1846+H$6*L1846+I$6*M1846)>(N1846),1,0)","v":0}]
[null,2792,"[BE-FR] Achene - Lonny 380.19 [DIR] [BE]_LTA_corner#02_#7","10T-BE-FR-000015","[BE-BE] Avelgem - Horta 380.102","22T20161020---1E",0,0,-0.40318999999999999,0.58689999999999998,-0.29215999999999998,-0.63846999999999998,0,2380,{"$f":"IF((G1847*ALBE+H1847*ALDE+I1847*AT+J1847*BE+K1847*DE+L1847*FR+M1847*NL)>(N1847),1,0)","v":0},null,{"$f":"IF((C$6*G1847+D$6*H1847+E$6*I1847+F$6*J1847+G$6*K1847+H$6*L1847+I$6*M1847)>(N1847),1,0)","v":0}]
[null,2793,"[D2-AT] Pleinting - St. Peter 258 [DIR] [D2]_LTA_corner#02_#2","10T-AT-DE-000037","[D2-AT] Y - St. Peter (- Altheim - Simbach) 234/230","10T-AT-DE-000045",0,0,-0.99358999999999997,0,-7.1209999999999996E-2,-8.7790000000000007E-2,0,4613,{"$f":"IF((G1848*ALBE+H1848*ALDE+I1848*AT+J1848*BE+K1848*DE+L1848*FR+M1848*NL)>(N1848),1,0)","v":0},null,{"$f":"IF((C$6*G1848+D$6*H1848+E$6*I1848+F$6*J1848+G$6*K1848+H$6*L1848+I$6*M1848)>(N1848),1,0)","v":0}]
[null,2794,"[D2-AT] Pleinting - St. Peter 258 [DIR] [AT]_LTA_corner#06_#1","10T-AT-DE-000037","[D2-D2] Pirach - Pleinting 257","11TD2L000000201H",0,0,-0.99604999999999999,-8.8840000000000002E-2,0,0,0,5020,{"$f":"IF((G1849*ALBE+H1849*ALDE+I1849*AT+J1849*BE+K1849*DE+L1849*FR+M1849*NL)>(N1849),1,0)","v":0},null,{"$f":"IF((C$6*G1849+D$6*H1849+E$6*I1849+F$6*J1849+G$6*K1849+H$6*L1849+I$6*M1849)>(N1849),1,0)","v":0}]
[null,2795,"[D2-NL] Diele - Meeden 380 Black [DIR] [NL]_LTA_corner#05_#8","10T-DE-NL-00001V","[D2-NL] Diele - Meeden 380 White","10T-DE-NL-00002T",0,0,0.56220000000000003,0.24496000000000001,0.66632000000000002,0.42420000000000002,0,1921,{"$f":"IF((G1850*ALBE+H1850*ALDE+I1850*AT+J1850*BE+K1850*DE+L1850*FR+M1850*NL)>(N1850),1,0)","v":0},null,{"$f":"IF((C$6*G1850+D$6*H1850+E$6*I1850+F$6*J1850+G$6*K1850+H$6*L1850+I$6*M1850)>(N1850),1,0)","v":0}]
[null,2796,"[D2-NL] Diele - Meeden 380 Black [DIR] [NL]_LTA_corner#05_#11","10T-DE-NL-00001V","[D2-NL] Diele - Meeden 380 White","10T-DE-NL-00002T",0,0,0.54813999999999996,0.28860999999999998,0.67115000000000002,0.40720000000000001,0,1963,{"$f":"IF((G1851*ALBE+H1851*ALDE+I1851*AT+J1851*BE+K1851*DE+L1851*FR+M1851*NL)>(N1851),1,0)","v":0},null,{"$f":"IF((C$6*G1851+D$6*H1851+E$6*I1851+F$6*J1851+G$6*K1851+H$6*L1851+I$6*M1851)>(N1851),1,0)","v":0}]
[null,2797,"[D2-AT] Pleinting - St. Peter 258 [DIR] [AT]_LTA_corner#11_#20","10T-AT-DE-000037","[D2-D2] Pirach - Pleinting 257","11TD2L000000201H",0,0,-0.99546999999999997,0,-9.1179999999999997E-2,-2.699E-2,0,4587,{"$f":"IF((G1852*ALBE+H1852*ALDE+I1852*AT+J1852*BE+K1852*DE+L1852*FR+M1852*NL)>(N1852),1,0)","v":0},null,{"$f":"IF((C$6*G1852+D$6*H1852+E$6*I1852+F$6*J1852+G$6*K1852+H$6*L1852+I$6*M1852)>(N1852),1,0)","v":0}]
[null,2798,"[AT-AT] Westtirol Transformer WTRHU41 [OPP]_LTA_corner#17_#5","14T-38220-WT041O","BASECASE","N/A",0,0,0.98799999999999999,2.0500000000000001E-2,0.13667000000000001,-6.8949999999999997E-2,0,4522,{"$f":"IF((G1853*ALBE+H1853*ALDE+I1853*AT+J1853*BE+K1853*DE+L1853*FR+M1853*NL)>(N1853),1,0)","v":0},null,{"$f":"IF((C$6*G1853+D$6*H1853+E$6*I1853+F$6*J1853+G$6*K1853+H$6*L1853+I$6*M1853)>(N1853),1,0)","v":0}]
[null,2799,"[D2-AT] Pleinting - St. Peter 258 [DIR] [D2]_LTA_corner#09_#5","10T-AT-DE-000037","[D2-AT] Y - St. Peter (- Altheim - Simbach) 234/230","10T-AT-DE-000045",0,0,-0.97848000000000002,-0.10682999999999999,-0.12482,-0.12482,0,4378,{"$f":"IF((G1854*ALBE+H1854*ALDE+I1854*AT+J1854*BE+K1854*DE+L1854*FR+M1854*NL)>(N1854),1,0)","v":0},null,{"$f":"IF((C$6*G1854+D$6*H1854+E$6*I1854+F$6*J1854+G$6*K1854+H$6*L1854+I$6*M1854)>(N1854),1,0)","v":0}]
[null,2800,"[D2-AT] Pleinting - St. Peter 258 [DIR] [AT]_LTA_corner#06_#11","10T-AT-DE-000037","[D2-D2] Pirach - Pleinting 257","11TD2L000000201H",0,0,-0.99182000000000003,-0.12453,8.0300000000000007E-3,-2.6890000000000001E-2,0,5123,{"$f":"IF((G1855*ALBE+H1855*ALDE+I1855*AT+J1855*BE+K1855*DE+L1855*FR+M1855*NL)>(N1855),1,0)","v":0},null,{"$f":"IF((C$6*G1855+D$6*H1855+E$6*I1855+F$6*J1855+G$6*K1855+H$6*L1855+I$6*M1855)>(N1855),1,0)","v":0}]
[null,2801,"[D2-NL] Diele - Meeden 380 Black [DIR] [NL]_LTA_corner#05_#5","10T-DE-NL-00001V","[D2-NL] Diele - Meeden 380 White","10T-DE-NL-00002T",0,0,0.54795000000000005,0.30543999999999999,0.65800999999999998,0.41649999999999998,0,1862,{"$f":"IF((G1856*ALBE+H1856*ALDE+I1856*AT+J1856*BE+K1856*DE+L1856*FR+M1856*NL)>(N1856),1,0)","v":0},null,{"$f":"IF((C$6*G1856+D$6*H1856+E$6*I1856+F$6*J1856+G$6*K1856+H$6*L1856+I$6*M1856)>(N1856),1,0)","v":0}]
[null,2802,"[D2-AT] Pleinting - St. Peter 258 [DIR] [D2]_LTA_corner#15_#5","10T-AT-DE-000037","[D2-AT] Y - St. Peter (- Altheim - Simbach) 234/230","10T-AT-DE-000045",0,0,-0.92051000000000005,-0.15135000000000001,-0.27745999999999998,-0.22969999999999999,0,3705,{"$f":"IF((G1857*ALBE+H1857*ALDE+I1857*AT+J1857*BE+K1857*DE+L1857*FR+M1857*NL)>(N1857),1,0)","v":0},null,{"$f":"IF((C$6*G1857+D$6*H1857+E$6*I1857+F$6*J1857+G$6*K1857+H$6*L1857+I$6*M1857)>(N1857),1,0)","v":0}]
[null,2803,"[D2-AT] Pleinting - St. Peter 258 [DIR] [D2]_LTA_corner#04_#2","10T-AT-DE-000037","[D2-AT] Y - St. Peter (- Altheim - Simbach) 234/230","10T-AT-DE-000045",0,0,-0.99429000000000001,-7.5429999999999997E-2,0,-7.5429999999999997E-2,0,4926,{"$f":"IF((G1858*ALBE+H1858*ALDE+I1858*AT+J1858*BE+K1858*DE+L1858*FR+M1858*NL)>(N1858),1,0)","v":0},null,{"$f":"IF((C$6*G1858+D$6*H1858+E$6*I1858+F$6*J1858+G$6*K1858+H$6*L1858+I$6*M1858)>(N1858),1,0)","v":0}]
[null,2804,"[BE-BE] PST_ZANDV_2 [N - S]_LTA_corner#13_#7","22T20161020---56","[NL-BE] Rilland - Zandvliet 380 White/30","10T-BE-NL-00004C",0,0,-0.40544000000000002,-0.65630999999999995,-0.34443000000000001,-0.53502000000000005,0,1656,{"$f":"IF((G1859*ALBE+H1859*ALDE+I1859*AT+J1859*BE+K1859*DE+L1859*FR+M1859*NL)>(N1859),1,0)","v":0},null,{"$f":"IF((C$6*G1859+D$6*H1859+E$6*I1859+F$6*J1859+G$6*K1859+H$6*L1859+I$6*M1859)>(N1859),1,0)","v":0}]
[null,2805,"[AT-AT] Westtirol Transformer WTRHU41 [OPP]_LTA_corner#17_#2","14T-38220-WT041O","BASECASE","N/A",0,0,0.99385999999999997,0,0.10668999999999999,-2.9309999999999999E-2,0,4544,{"$f":"IF((G1860*ALBE+H1860*ALDE+I1860*AT+J1860*BE+K1860*DE+L1860*FR+M1860*NL)>(N1860),1,0)","v":0},null,{"$f":"IF((C$6*G1860+D$6*H1860+E$6*I1860+F$6*J1860+G$6*K1860+H$6*L1860+I$6*M1860)>(N1860),1,0)","v":0}]
[null,2806,"[D2-AT] Pleinting - St. Peter 258 [DIR] [D2]_LTA_corner#01_#18","10T-AT-DE-000037","[D2-AT] Y - St. Peter (- Altheim - Simbach) 234/230","10T-AT-DE-000045",0,0,-1,0,0,0,0,4821,{"$f":"IF((G1861*ALBE+H1861*ALDE+I1861*AT+J1861*BE+K1861*DE+L1861*FR+M1861*NL)>(N1861),1,0)","v":0},null,{"$f":"IF((C$6*G1861+D$6*H1861+E$6*I1861+F$6*J1861+G$6*K1861+H$6*L1861+I$6*M1861)>(N1861),1,0)","v":0}]
[null,2807,"[D2-NL] Diele - Meeden 380 Black [DIR] [NL]_LTA_corner#05_#21","10T-DE-NL-00001V","[D2-NL] Diele - Meeden 380 White","10T-DE-NL-00002T",0,0,0.56111,0.24806,0.66544000000000003,0.42520000000000002,0,1918,{"$f":"IF((G1862*ALBE+H1862*ALDE+I1862*AT+J1862*BE+K1862*DE+L1862*FR+M1862*NL)>(N1862),1,0)","v":0},null,{"$f":"IF((C$6*G1862+D$6*H1862+E$6*I1862+F$6*J1862+G$6*K1862+H$6*L1862+I$6*M1862)>(N1862),1,0)","v":0}]
[null,2808,"[D2-AT] Pleinting - St. Peter 258 [DIR] [D2]_LTA_corner#09_#13","10T-AT-DE-000037","[D2-AT] Y - St. Peter (- Altheim - Simbach) 234/230","10T-AT-DE-000045",0,0,-0.99146999999999996,-8.7239999999999998E-2,-4.2130000000000001E-2,-8.7239999999999998E-2,0,4745,{"$f":"IF((G1863*ALBE+H1863*ALDE+I1863*AT+J1863*BE+K1863*DE+L1863*FR+M1863*NL)>(N1863),1,0)","v":0},null,{"$f":"IF((C$6*G1863+D$6*H1863+E$6*I1863+F$6*J1863+G$6*K1863+H$6*L1863+I$6*M1863)>(N1863),1,0)","v":0}]
[null,2809,"[BE-FR] Achene - Lonny 380.19 [OPP] [BE]","10T-BE-FR-000015","[BE-BE] Avelgem - Horta 380.102","22T20161020---1E",-0.31165999999999999,-6.8489999999999995E-2,2.0760000000000001E-2,-0.30770999999999998,-3.807E-2,0.14910000000000001,-0.16608000000000001,2034,{"$f":"IF((G1864*ALBE+H1864*ALDE+I1864*AT+J1864*BE+K1864*DE+L1864*FR+M1864*NL)>(N1864),1,0)","v":0},null,{"$f":"IF((C$6*G1864+D$6*H1864+E$6*I1864+F$6*J1864+G$6*K1864+H$6*L1864+I$6*M1864)>(N1864),1,0)","v":0}]
[null,2810,"[D2-AT] Pleinting - St. Peter 258 [DIR] [AT]_LTA_corner#14_#2","10T-AT-DE-000037","[D2-D2] Pirach - Pleinting 257","11TD2L000000201H",0,0,-0.99638000000000004,0,-6.1700000000000001E-3,8.4830000000000003E-2,0,5049,{"$f":"IF((G1865*ALBE+H1865*ALDE+I1865*AT+J1865*BE+K1865*DE+L1865*FR+M1865*NL)>(N1865),1,0)","v":0},null,{"$f":"IF((C$6*G1865+D$6*H1865+E$6*I1865+F$6*J1865+G$6*K1865+H$6*L1865+I$6*M1865)>(N1865),1,0)","v":0}]
[null,2811,"[BE-FR] Achene - Lonny 380.19 [DIR] [BE]_LTA_corner#02_#16","10T-BE-FR-000015","[BE-BE] Avelgem - Horta 380.102","22T20161020---1E",0,0,-0.46349000000000001,0.18794,-0.30599999999999999,-0.81006999999999996,0,2397,{"$f":"IF((G1866*ALBE+H1866*ALDE+I1866*AT+J1866*BE+K1866*DE+L1866*FR+M1866*NL)>(N1866),1,0)","v":0},null,{"$f":"IF((C$6*G1866+D$6*H1866+E$6*I1866+F$6*J1866+G$6*K1866+H$6*L1866+I$6*M1866)>(N1866),1,0)","v":0}]
[null,2812,"[D2-AT] Pleinting - St. Peter 258 [DIR] [AT]_LTA_corner#02_#11","10T-AT-DE-000037","[D2-D2] Pirach - Pleinting 257","11TD2L000000201H",0,0,-0.99587000000000003,8.8889999999999997E-2,-1.29E-2,-1.29E-2,0,4873,{"$f":"IF((G1867*ALBE+H1867*ALDE+I1867*AT+J1867*BE+K1867*DE+L1867*FR+M1867*NL)>(N1867),1,0)","v":0},null,{"$f":"IF((C$6*G1867+D$6*H1867+E$6*I1867+F$6*J1867+G$6*K1867+H$6*L1867+I$6*M1867)>(N1867),1,0)","v":0}]
[null,2813,"[D2-AT] Pleinting - St. Peter 258 [DIR] [AT]_LTA_corner#04_#18","10T-AT-DE-000037","[D2-D2] Pirach - Pleinting 257","11TD2L000000201H",0,0,-0.99533000000000005,-6.8220000000000003E-2,0,-6.8220000000000003E-2,0,4918,{"$f":"IF((G1868*ALBE+H1868*ALDE+I1868*AT+J1868*BE+K1868*DE+L1868*FR+M1868*NL)>(N1868),1,0)","v":0},null,{"$f":"IF((C$6*G1868+D$6*H1868+E$6*I1868+F$6*J1868+G$6*K1868+H$6*L1868+I$6*M1868)>(N1868),1,0)","v":0}]
[null,2814,"[AT-AT] Westtirol Transformer WTRHU41 [OPP]_LTA_corner#20_#16","14T-38220-WT041O","BASECASE","N/A",0,0,0.99495999999999996,-5.3400000000000001E-3,9.8449999999999996E-2,-1.8489999999999999E-2,0,4556,{"$f":"IF((G1869*ALBE+H1869*ALDE+I1869*AT+J1869*BE+K1869*DE+L1869*FR+M1869*NL)>(N1869),1,0)","v":0},null,{"$f":"IF((C$6*G1869+D$6*H1869+E$6*I1869+F$6*J1869+G$6*K1869+H$6*L1869+I$6*M1869)>(N1869),1,0)","v":0}]
[null,2815,"[D2-AT] Pleinting - St. Peter 258 [DIR] [D2]_LTA_corner#05_#32","10T-AT-DE-000037","[D2-AT] Y - St. Peter (- Altheim - Simbach) 234/230","10T-AT-DE-000045",0,0,-0.99404999999999999,2.1430000000000001E-2,7.5539999999999996E-2,7.5539999999999996E-2,0,5343,{"$f":"IF((G1870*ALBE+H1870*ALDE+I1870*AT+J1870*BE+K1870*DE+L1870*FR+M1870*NL)>(N1870),1,0)","v":0},null,{"$f":"IF((C$6*G1870+D$6*H1870+E$6*I1870+F$6*J1870+G$6*K1870+H$6*L1870+I$6*M1870)>(N1870),1,0)","v":0}]
[null,2816,"[D2-AT] Pleinting - St. Peter 258 [DIR] [AT]_LTA_corner#01_#12","10T-AT-DE-000037","[D2-D2] Pirach - Pleinting 257","11TD2L000000201H",0,0,-0.99129,0,0,-0.13173000000000001,0,4990,{"$f":"IF((G1871*ALBE+H1871*ALDE+I1871*AT+J1871*BE+K1871*DE+L1871*FR+M1871*NL)>(N1871),1,0)","v":0},null,{"$f":"IF((C$6*G1871+D$6*H1871+E$6*I1871+F$6*J1871+G$6*K1871+H$6*L1871+I$6*M1871)>(N1871),1,0)","v":0}]
[null,2817,"[D2-AT] Pleinting - St. Peter 258 [DIR] [AT]_LTA_corner#14_#4","10T-AT-DE-000037","[D2-D2] Pirach - Pleinting 257","11TD2L000000201H",0,0,-0.99539,1.3089999999999999E-2,-8.7429999999999994E-2,3.721E-2,0,4714,{"$f":"IF((G1872*ALBE+H1872*ALDE+I1872*AT+J1872*BE+K1872*DE+L1872*FR+M1872*NL)>(N1872),1,0)","v":0},null,{"$f":"IF((C$6*G1872+D$6*H1872+E$6*I1872+F$6*J1872+G$6*K1872+H$6*L1872+I$6*M1872)>(N1872),1,0)","v":0}]
[null,2818,"[D2-AT] Pleinting - St. Peter 258 [DIR] [D2]_LTA_corner#09_#18","10T-AT-DE-000037","[D2-AT] Y - St. Peter (- Altheim - Simbach) 234/230","10T-AT-DE-000045",0,0,-0.99043999999999999,-7.9640000000000002E-2,-7.9640000000000002E-2,-7.9640000000000002E-2,0,4560,{"$f":"IF((G1873*ALBE+H1873*ALDE+I1873*AT+J1873*BE+K1873*DE+L1873*FR+M1873*NL)>(N1873),1,0)","v":0},null,{"$f":"IF((C$6*G1873+D$6*H1873+E$6*I1873+F$6*J1873+G$6*K1873+H$6*L1873+I$6*M1873)>(N1873),1,0)","v":0}]
[null,2819,"[D2-AT] Pleinting - St. Peter 258 [DIR] [AT]_LTA_corner#14_#9","10T-AT-DE-000037","[D2-D2] Pirach - Pleinting 257","11TD2L000000201H",0,0,-0.99650000000000005,0,-7.7799999999999994E-2,3.0710000000000001E-2,0,4734,{"$f":"IF((G1874*ALBE+H1874*ALDE+I1874*AT+J1874*BE+K1874*DE+L1874*FR+M1874*NL)>(N1874),1,0)","v":0},null,{"$f":"IF((C$6*G1874+D$6*H1874+E$6*I1874+F$6*J1874+G$6*K1874+H$6*L1874+I$6*M1874)>(N1874),1,0)","v":0}]
[null,2820,"[D2-AT] Pleinting - St. Peter 258 [DIR] [AT]_LTA_corner#01_#3","10T-AT-DE-000037","[D2-D2] Pirach - Pleinting 257","11TD2L000000201H",0,0,-0.99704999999999999,7.5880000000000003E-2,8.0700000000000008E-3,8.0700000000000008E-3,0,4942,{"$f":"IF((G1875*ALBE+H1875*ALDE+I1875*AT+J1875*BE+K1875*DE+L1875*FR+M1875*NL)>(N1875),1,0)","v":0},null,{"$f":"IF((C$6*G1875+D$6*H1875+E$6*I1875+F$6*J1875+G$6*K1875+H$6*L1875+I$6*M1875)>(N1875),1,0)","v":0}]
[null,2821,"[BE-BE] PST_ZANDV_2 [N - S]_LTA_corner#13_#2","22T20161020---56","[NL-BE] Rilland - Zandvliet 380 White/30","10T-BE-NL-00004C",0,0,-0.36814999999999998,-0.71204000000000001,-0.32583000000000001,-0.50129999999999997,0,1720,{"$f":"IF((G1876*ALBE+H1876*ALDE+I1876*AT+J1876*BE+K1876*DE+L1876*FR+M1876*NL)>(N1876),1,0)","v":0},null,{"$f":"IF((C$6*G1876+D$6*H1876+E$6*I1876+F$6*J1876+G$6*K1876+H$6*L1876+I$6*M1876)>(N1876),1,0)","v":0}]
[null,2822,"[D2-AT] Pleinting - St. Peter 258 [DIR] [AT]_LTA_corner#14_#5","10T-AT-DE-000037","[D2-D2] Pirach - Pleinting 257","11TD2L000000201H",0,0,-0.99663000000000002,0,-1.2670000000000001E-2,8.1070000000000003E-2,0,5025,{"$f":"IF((G1877*ALBE+H1877*ALDE+I1877*AT+J1877*BE+K1877*DE+L1877*FR+M1877*NL)>(N1877),1,0)","v":0},null,{"$f":"IF((C$6*G1877+D$6*H1877+E$6*I1877+F$6*J1877+G$6*K1877+H$6*L1877+I$6*M1877)>(N1877),1,0)","v":0}]
[null,2823,"[BE-FR] Achene - Lonny 380.19 [DIR] [BE]_LTA_corner#02_#20","10T-BE-FR-000015","[BE-BE] Avelgem - Horta 380.102","22T20161020---1E",0,0,-0.49758999999999998,0,-0.34963,-0.79383000000000004,0,2112,{"$f":"IF((G1878*ALBE+H1878*ALDE+I1878*AT+J1878*BE+K1878*DE+L1878*FR+M1878*NL)>(N1878),1,0)","v":0},null,{"$f":"IF((C$6*G1878+D$6*H1878+E$6*I1878+F$6*J1878+G$6*K1878+H$6*L1878+I$6*M1878)>(N1878),1,0)","v":0}]
[null,2824,"[D2-AT] Pleinting - St. Peter 258 [DIR] [AT]_LTA_corner#14_#13","10T-AT-DE-000037","[D2-D2] Pirach - Pleinting 257","11TD2L000000201H",0,0,-0.99633000000000005,0,-8.1739999999999993E-2,2.547E-2,0,4709,{"$f":"IF((G1879*ALBE+H1879*ALDE+I1879*AT+J1879*BE+K1879*DE+L1879*FR+M1879*NL)>(N1879),1,0)","v":0},null,{"$f":"IF((C$6*G1879+D$6*H1879+E$6*I1879+F$6*J1879+G$6*K1879+H$6*L1879+I$6*M1879)>(N1879),1,0)","v":0}]
[null,2825,"[D2-NL] Diele - Meeden 380 Black [DIR] [NL]_LTA_corner#05_#13","10T-DE-NL-00001V","[D2-NL] Diele - Meeden 380 White","10T-DE-NL-00002T",0,0,0.56367999999999996,0.20502000000000001,0.69579999999999997,0.39507999999999999,0,2140,{"$f":"IF((G1880*ALBE+H1880*ALDE+I1880*AT+J1880*BE+K1880*DE+L1880*FR+M1880*NL)>(N1880),1,0)","v":0},null,{"$f":"IF((C$6*G1880+D$6*H1880+E$6*I1880+F$6*J1880+G$6*K1880+H$6*L1880+I$6*M1880)>(N1880),1,0)","v":0}]
[null,2826,"[AT-AT] Westtirol Transformer WTRHU41 [OPP]_LTA_corner#20_#5","14T-38220-WT041O","BASECASE","N/A",0,0,0.98092999999999997,-2.5499999999999998E-2,0.16980000000000001,-9.103E-2,0,4412,{"$f":"IF((G1881*ALBE+H1881*ALDE+I1881*AT+J1881*BE+K1881*DE+L1881*FR+M1881*NL)>(N1881),1,0)","v":0},null,{"$f":"IF((C$6*G1881+D$6*H1881+E$6*I1881+F$6*J1881+G$6*K1881+H$6*L1881+I$6*M1881)>(N1881),1,0)","v":0}]
[null,2827,"[D2-AT] Pleinting - St. Peter 258 [DIR] [AT]_LTA_corner#12_#0","10T-AT-DE-000037","[D2-D2] Pirach - Pleinting 257","11TD2L000000201H",0,0,-0.99553000000000003,-3.63E-3,8.0599999999999995E-3,9.4020000000000006E-2,0,5132,{"$f":"IF((G1882*ALBE+H1882*ALDE+I1882*AT+J1882*BE+K1882*DE+L1882*FR+M1882*NL)>(N1882),1,0)","v":0},null,{"$f":"IF((C$6*G1882+D$6*H1882+E$6*I1882+F$6*J1882+G$6*K1882+H$6*L1882+I$6*M1882)>(N1882),1,0)","v":0}]
[null,2828,"[BE-FR] Achene - Lonny 380.19 [DIR] [BE]_LTA_corner#02_#0","10T-BE-FR-000015","[BE-BE] Avelgem - Horta 380.102","22T20161020---1E",0,0,-0.40183999999999997,0.52276999999999996,-0.26328000000000001,-0.70421,0,2529,{"$f":"IF((G1883*ALBE+H1883*ALDE+I1883*AT+J1883*BE+K1883*DE+L1883*FR+M1883*NL)>(N1883),1,0)","v":0},null,{"$f":"IF((C$6*G1883+D$6*H1883+E$6*I1883+F$6*J1883+G$6*K1883+H$6*L1883+I$6*M1883)>(N1883),1,0)","v":0}]
[null,2829,"[D2-AT] Pleinting - St. Peter 258 [DIR] [AT]_LTA_corner#05_#13","10T-AT-DE-000037","[D2-D2] Pirach - Pleinting 257","11TD2L000000201H",0,0,-0.99748000000000003,0,5.0119999999999998E-2,5.0119999999999998E-2,0,5190,{"$f":"IF((G1884*ALBE+H1884*ALDE+I1884*AT+J1884*BE+K1884*DE+L1884*FR+M1884*NL)>(N1884),1,0)","v":0},null,{"$f":"IF((C$6*G1884+D$6*H1884+E$6*I1884+F$6*J1884+G$6*K1884+H$6*L1884+I$6*M1884)>(N1884),1,0)","v":0}]
[null,2830,"ALDE_import","N/A","BASECASE","N/A",0,-1,0,0,0,0,0,0,{"$f":"IF((G1885*ALBE+H1885*ALDE+I1885*AT+J1885*BE+K1885*DE+L1885*FR+M1885*NL)>(N1885),1,0)","v":0},null,{"$f":"IF((C$6*G1885+D$6*H1885+E$6*I1885+F$6*J1885+G$6*K1885+H$6*L1885+I$6*M1885)>(N1885),1,0)","v":0}]
[null,2831,"[NL-NL] Krimpen a/d IJssel - Geertruidenberg 380 Zwart [OPP]","49T0000000000282","[NL-NL] Diemen - Lelystad 380 Wit","49T0000000000096",0.11631,2.1819999999999999E-2,1.17E-2,0.13722000000000001,-2.3609999999999999E-2,6.3119999999999996E-2,-0.26061000000000001,1837,{"$f":"IF((G1886*ALBE+H1886*ALDE+I1886*AT+J1886*BE+K1886*DE+L1886*FR+M1886*NL)>(N1886),1,0)","v":0},null,{"$f":"IF((C$6*G1886+D$6*H1886+E$6*I1886+F$6*J1886+G$6*K1886+H$6*L1886+I$6*M1886)>(N1886),1,0)","v":0}]
[null,2832,"[D2-AT] Pleinting - St. Peter 258 [DIR] [D2]_LTA_corner#05_#4","10T-AT-DE-000037","[D2-AT] Y - St. Peter (- Altheim - Simbach) 234/230","10T-AT-DE-000045",0,0,-0.97182999999999997,0,0.22436,7.2220000000000006E-2,0,6284,{"$f":"IF((G1887*ALBE+H1887*ALDE+I1887*AT+J1887*BE+K1887*DE+L1887*FR+M1887*NL)>(N1887),1,0)","v":0},null,{"$f":"IF((C$6*G1887+D$6*H1887+E$6*I1887+F$6*J1887+G$6*K1887+H$6*L1887+I$6*M1887)>(N1887),1,0)","v":0}]
[null,2833,"[AT-AT] Westtirol Transformer WTRHU41 [OPP]_LTA_corner#17_#10","14T-38220-WT041O","BASECASE","N/A",0,0,0.99217999999999995,0,0.10829,-6.2129999999999998E-2,0,4584,{"$f":"IF((G1888*ALBE+H1888*ALDE+I1888*AT+J1888*BE+K1888*DE+L1888*FR+M1888*NL)>(N1888),1,0)","v":0},null,{"$f":"IF((C$6*G1888+D$6*H1888+E$6*I1888+F$6*J1888+G$6*K1888+H$6*L1888+I$6*M1888)>(N1888),1,0)","v":0}]
["hour 15",2339,"[D2-AT] Pleinting - St. Peter 258 [DIR] [AT]_LTA_corner#14_#1","10T-AT-DE-000037","[D2-D2] Pirach - Pleinting 257","11TD2L000000201H",0,0,-0.99463000000000001,1.422E-2,-9.3729999999999994E-2,4.1489999999999999E-2,0,4709,{"$f":"IF((G1889*ALBE+H1889*ALDE+I1889*AT+J1889*BE+K1889*DE+L1889*FR+M1889*NL)>(N1889),1,0)","v":0},null,{"$f":"IF((C$6*G1889+D$6*H1889+E$6*I1889+F$6*J1889+G$6*K1889+H$6*L1889+I$6*M1889)>(N1889),1,0)","v":0}]
[null,2340,"[BE-BE] PST_ZANDV_2 [N - S]_LTA_corner#13_#6","22T20161020---56","[NL-BE] Rilland - Zandvliet 380 White/30","10T-BE-NL-00004C",0,0,-0.31087999999999999,-0.81996000000000002,-0.27124999999999999,-0.39678999999999998,0,2024,{"$f":"IF((G1890*ALBE+H1890*ALDE+I1890*AT+J1890*BE+K1890*DE+L1890*FR+M1890*NL)>(N1890),1,0)","v":0},null,{"$f":"IF((C$6*G1890+D$6*H1890+E$6*I1890+F$6*J1890+G$6*K1890+H$6*L1890+I$6*M1890)>(N1890),1,0)","v":0}]
[null,2341,"[D2-AT] Pleinting - St. Peter 258 [DIR] [AT]_LTA_corner#01_#28","10T-AT-DE-000037","[D2-D2] Pirach - Pleinting 257","11TD2L000000201H",0,0,-0.99400999999999995,0.10604,0,-2.665E-2,0,4964,{"$f":"IF((G1891*ALBE+H1891*ALDE+I1891*AT+J1891*BE+K1891*DE+L1891*FR+M1891*NL)>(N1891),1,0)","v":0},null,{"$f":"IF((C$6*G1891+D$6*H1891+E$6*I1891+F$6*J1891+G$6*K1891+H$6*L1891+I$6*M1891)>(N1891),1,0)","v":0}]
[null,2342,"[D2-AT] Pleinting - St. Peter 258 [DIR] [AT]_LTA_corner#06_#0","10T-AT-DE-000037","[D2-D2] Pirach - Pleinting 257","11TD2L000000201H",0,0,-0.99156999999999995,-0.12655,7.92E-3,-2.6579999999999999E-2,0,5127,{"$f":"IF((G1892*ALBE+H1892*ALDE+I1892*AT+J1892*BE+K1892*DE+L1892*FR+M1892*NL)>(N1892),1,0)","v":0},null,{"$f":"IF((C$6*G1892+D$6*H1892+E$6*I1892+F$6*J1892+G$6*K1892+H$6*L1892+I$6*M1892)>(N1892),1,0)","v":0}]
[null,2343,"[D2-AT] Pleinting - St. Peter 258 [DIR] [AT]_LTA_corner#06_#13","10T-AT-DE-000037","[D2-D2] Pirach - Pleinting 257","11TD2L000000201H",0,0,-0.99712000000000001,-3.5300000000000002E-3,5.3609999999999998E-2,5.3609999999999998E-2,0,5223,{"$f":"IF((G1893*ALBE+H1893*ALDE+I1893*AT+J1893*BE+K1893*DE+L1893*FR+M1893*NL)>(N1893),1,0)","v":0},null,{"$f":"IF((C$6*G1893+D$6*H1893+E$6*I1893+F$6*J1893+G$6*K1893+H$6*L1893+I$6*M1893)>(N1893),1,0)","v":0}]
[null,2344,"[D2-AT] Pleinting - St. Peter 258 [DIR] [AT]_LTA_corner#02_#7","10T-AT-DE-000037","[D2-D2] Pirach - Pleinting 257","11TD2L000000201H",0,0,-0.99575000000000002,9.1109999999999997E-2,-9.2700000000000005E-3,-9.2700000000000005E-3,0,4885,{"$f":"IF((G1894*ALBE+H1894*ALDE+I1894*AT+J1894*BE+K1894*DE+L1894*FR+M1894*NL)>(N1894),1,0)","v":0},null,{"$f":"IF((C$6*G1894+D$6*H1894+E$6*I1894+F$6*J1894+G$6*K1894+H$6*L1894+I$6*M1894)>(N1894),1,0)","v":0}]
[null,2345,"[D2-AT] Pleinting - St. Peter 258 [DIR] [D2]_LTA_corner#05_#17","10T-AT-DE-000037","[D2-AT] Y - St. Peter (- Altheim - Simbach) 234/230","10T-AT-DE-000045",0,0,0.55889999999999995,0.26918999999999998,0.66268000000000005,0.41954000000000002,0,1882,{"$f":"IF((G1895*ALBE+H1895*ALDE+I1895*AT+J1895*BE+K1895*DE+L1895*FR+M1895*NL)>(N1895),1,0)","v":0},null,{"$f":"IF((C$6*G1895+D$6*H1895+E$6*I1895+F$6*J1895+G$6*K1895+H$6*L1895+I$6*M1895)>(N1895),1,0)","v":0}]
[null,2346,"[D2-AT] Pleinting - St. Peter 258 [DIR] [AT]_LTA_corner#04_#1","10T-AT-DE-000037","[D2-D2] Pirach - Pleinting 257","11TD2L000000201H",0,0,-0.99446999999999997,-7.4079999999999993E-2,7.9500000000000005E-3,-7.4079999999999993E-2,0,4979,{"$f":"IF((G1896*ALBE+H1896*ALDE+I1896*AT+J1896*BE+K1896*DE+L1896*FR+M1896*NL)>(N1896),1,0)","v":0},null,{"$f":"IF((C$6*G1896+D$6*H1896+E$6*I1896+F$6*J1896+G$6*K1896+H$6*L1896+I$6*M1896)>(N1896),1,0)","v":0}]
[null,2347,"[BE-BE] PST_VANYK_2 [S - N]","22T-BE-PST--002U","[BE-BE] Y - Courcelles (- Gramme - Tergnee) 380.31","22T-BE-IN-LI019P",0.48896000000000001,-4.3279999999999999E-2,1.089E-2,0.22714000000000001,-1.976E-2,8.0549999999999997E-2,-3.3820000000000003E-2,998,{"$f":"IF((G1897*ALBE+H1897*ALDE+I1897*AT+J1897*BE+K1897*DE+L1897*FR+M1897*NL)>(N1897),1,0)","v":0},null,{"$f":"IF((C$6*G1897+D$6*H1897+E$6*I1897+F$6*J1897+G$6*K1897+H$6*L1897+I$6*M1897)>(N1897),1,0)","v":0}]
[null,2348,"ALDE_import","N/A","BASECASE","N/A",0,-1,0,0,0,0,0,0,{"$f":"IF((G1898*ALBE+H1898*ALDE+I1898*AT+J1898*BE+K1898*DE+L1898*FR+M1898*NL)>(N1898),1,0)","v":0},null,{"$f":"IF((C$6*G1898+D$6*H1898+E$6*I1898+F$6*J1898+G$6*K1898+H$6*L1898+I$6*M1898)>(N1898),1,0)","v":0}]
[null,2349,"[BE-BE] PST_ZANDV_2 [N - S]_LTA_corner#13_#1","22T20161020---56","[NL-BE] Rilland - Zandvliet 380 White/30","10T-BE-NL-00004C",0,0,-0.30549999999999999,-0.81972999999999996,-0.26085000000000003,-0.40826000000000001,0,2036,{"$f":"IF((G1899*ALBE+H1899*ALDE+I1899*AT+J1899*BE+K1899*DE+L1899*FR+M1899*NL)>(N1899),1,0)","v":0},null,{"$f":"IF((C$6*G1899+D$6*H1899+E$6*I1899+F$6*J1899+G$6*K1899+H$6*L1899+I$6*M1899)>(N1899),1,0)","v":0}]
[null,2350,"[BE-BE] PST_ZANDV_2 [N - S]_LTA_corner#09_#10","22T20161020---56","[NL-BE] Rilland - Zandvliet 380 White/30","10T-BE-NL-00004C",0,0,-0.42803000000000002,-0.59326999999999996,-0.33594000000000002,-0.59326999999999996,0,1608,{"$f":"IF((G1900*ALBE+H1900*ALDE+I1900*AT+J1900*BE+K1900*DE+L1900*FR+M1900*NL)>(N1900),1,0)","v":0},null,{"$f":"IF((C$6*G1900+D$6*H1900+E$6*I1900+F$6*J1900+G$6*K1900+H$6*L1900+I$6*M1900)>(N1900),1,0)","v":0}]
[null,2351,"[D7-D7] Gronau - Hanekenfaehr Gronau W [OPP]_LTA_corner#05_#4","11T0-0000-0617-A","[D7-D7] Y - Hanekenfaehr - Kottigerhook - Kusenhorst Muensterland","11T0-0000-0679-H",0,0,0.52337,0.12562000000000001,0.78452,0.30796000000000001,0,2971,{"$f":"IF((G1901*ALBE+H1901*ALDE+I1901*AT+J1901*BE+K1901*DE+L1901*FR+M1901*NL)>(N1901),1,0)","v":0},null,{"$f":"IF((C$6*G1901+D$6*H1901+E$6*I1901+F$6*J1901+G$6*K1901+H$6*L1901+I$6*M1901)>(N1901),1,0)","v":0}]
[null,2352,"[BE-BE] PST_ZANDV_2 [N - S]_LTA_corner#13_#15","22T20161020---56","[NL-BE] Rilland - Zandvliet 380 White/30","10T-BE-NL-00004C",0,0,-0.39906999999999998,-0.67656000000000005,-0.34500999999999998,-0.51378000000000001,0,1688,{"$f":"IF((G1902*ALBE+H1902*ALDE+I1902*AT+J1902*BE+K1902*DE+L1902*FR+M1902*NL)>(N1902),1,0)","v":0},null,{"$f":"IF((C$6*G1902+D$6*H1902+E$6*I1902+F$6*J1902+G$6*K1902+H$6*L1902+I$6*M1902)>(N1902),1,0)","v":0}]
[null,2353,"[D2-AT] Pleinting - St. Peter 258 [DIR] [D2]_LTA_corner#09_#5","10T-AT-DE-000037","[D2-AT] Y - St. Peter (- Altheim - Simbach) 234/230","10T-AT-DE-000045",0,0,-0.97897000000000001,-0.1048,-0.12377000000000001,-0.12377000000000001,0,4383,{"$f":"IF((G1903*ALBE+H1903*ALDE+I1903*AT+J1903*BE+K1903*DE+L1903*FR+M1903*NL)>(N1903),1,0)","v":0},null,{"$f":"IF((C$6*G1903+D$6*H1903+E$6*I1903+F$6*J1903+G$6*K1903+H$6*L1903+I$6*M1903)>(N1903),1,0)","v":0}]
[null,2354,"[D2-AT] Pleinting - St. Peter 258 [DIR] [D2]_LTA_corner#01_#24","10T-AT-DE-000037","[D2-AT] Y - St. Peter (- Altheim - Simbach) 234/230","10T-AT-DE-000045",0,0,-0.99243000000000003,0,1.583E-2,-0.12179,0,5088,{"$f":"IF((G1904*ALBE+H1904*ALDE+I1904*AT+J1904*BE+K1904*DE+L1904*FR+M1904*NL)>(N1904),1,0)","v":0},null,{"$f":"IF((C$6*G1904+D$6*H1904+E$6*I1904+F$6*J1904+G$6*K1904+H$6*L1904+I$6*M1904)>(N1904),1,0)","v":0}]
[null,2355,"[D2-AT] Pleinting - St. Peter 258 [DIR] [D2]_LTA_corner#11_#0","10T-AT-DE-000037","[D2-AT] Y - St. Peter (- Altheim - Simbach) 234/230","10T-AT-DE-000045",0,0,-0.99848999999999999,0,-4.4150000000000002E-2,-3.2579999999999998E-2,0,4696,{"$f":"IF((G1905*ALBE+H1905*ALDE+I1905*AT+J1905*BE+K1905*DE+L1905*FR+M1905*NL)>(N1905),1,0)","v":0},null,{"$f":"IF((C$6*G1905+D$6*H1905+E$6*I1905+F$6*J1905+G$6*K1905+H$6*L1905+I$6*M1905)>(N1905),1,0)","v":0}]
[null,2356,"[D7-FR] Ensdorf - Vigy 2S [OPP] [D7]_LTA_corner#30_#0","10T-DE-FR-000068","[D7-D7] Ensdorf - Uchtelfangen Taubental N","11T0-0000-0604-N",0,0,8.8100000000000001E-3,0.38174999999999998,-0.20877999999999999,0.90032999999999996,0,3949,{"$f":"IF((G1906*ALBE+H1906*ALDE+I1906*AT+J1906*BE+K1906*DE+L1906*FR+M1906*NL)>(N1906),1,0)","v":0},null,{"$f":"IF((C$6*G1906+D$6*H1906+E$6*I1906+F$6*J1906+G$6*K1906+H$6*L1906+I$6*M1906)>(N1906),1,0)","v":0}]
[null,2357,"[D2-AT] Pleinting - St. Peter 258 [DIR] [AT]_LTA_corner#11_#3","10T-AT-DE-000037","[D2-D2] Pirach - Pleinting 257","11TD2L000000201H",0,0,-0.99551999999999996,4.6299999999999996E-3,-9.4329999999999997E-2,4.6299999999999996E-3,0,4610,{"$f":"IF((G1907*ALBE+H1907*ALDE+I1907*AT+J1907*BE+K1907*DE+L1907*FR+M1907*NL)>(N1907),1,0)","v":0},null,{"$f":"IF((C$6*G1907+D$6*H1907+E$6*I1907+F$6*J1907+G$6*K1907+H$6*L1907+I$6*M1907)>(N1907),1,0)","v":0}]
[null,2358,"[D7-D7] Gronau - Hanekenfaehr Gronau W [OPP]_LTA_corner#05_#20","11T0-0000-0617-A","[D7-D7] Y - Hanekenfaehr - Kottigerhook - Kusenhorst Muensterland","11T0-0000-0679-H",0,0,0.52459,0.12381,0.78315999999999997,0.31006,0,2959,{"$f":"IF((G1908*ALBE+H1908*ALDE+I1908*AT+J1908*BE+K1908*DE+L1908*FR+M1908*NL)>(N1908),1,0)","v":0},null,{"$f":"IF((C$6*G1908+D$6*H1908+E$6*I1908+F$6*J1908+G$6*K1908+H$6*L1908+I$6*M1908)>(N1908),1,0)","v":0}]
[null,2359,"[AT-AT] Westtirol Transformer WTRHU41 [OPP]_LTA_corner#20_#0","14T-38220-WT041O","BASECASE","N/A",0,0,0.98668999999999996,-5.5829999999999998E-2,0.13643,-6.8690000000000001E-2,0,4500,{"$f":"IF((G1909*ALBE+H1909*ALDE+I1909*AT+J1909*BE+K1909*DE+L1909*FR+M1909*NL)>(N1909),1,0)","v":0},null,{"$f":"IF((C$6*G1909+D$6*H1909+E$6*I1909+F$6*J1909+G$6*K1909+H$6*L1909+I$6*M1909)>(N1909),1,0)","v":0}]
[null,2360,"[AT-AT] Westtirol Transformer WTRHU41 [OPP]_LTA_corner#17_#2","14T-38220-WT041O","BASECASE","N/A",0,0,0.99387999999999999,0,0.10659,-2.9159999999999998E-2,0,4544,{"$f":"IF((G1910*ALBE+H1910*ALDE+I1910*AT+J1910*BE+K1910*DE+L1910*FR+M1910*NL)>(N1910),1,0)","v":0},null,{"$f":"IF((C$6*G1910+D$6*H1910+E$6*I1910+F$6*J1910+G$6*K1910+H$6*L1910+I$6*M1910)>(N1910),1,0)","v":0}]
[null,2361,"[D2-AT] Pleinting - St. Peter 258 [DIR] [D2]_LTA_corner#02_#5","10T-AT-DE-000037","[D2-AT] Y - St. Peter (- Altheim - Simbach) 234/230","10T-AT-DE-000045",0,0,-0.99346000000000001,0,-5.8200000000000002E-2,-9.819E-2,0,4687,{"$f":"IF((G1911*ALBE+H1911*ALDE+I1911*AT+J1911*BE+K1911*DE+L1911*FR+M1911*NL)>(N1911),1,0)","v":0},null,{"$f":"IF((C$6*G1911+D$6*H1911+E$6*I1911+F$6*J1911+G$6*K1911+H$6*L1911+I$6*M1911)>(N1911),1,0)","v":0}]
[null,2362,"[BE-FR] Achene - Lonny 380.19 [DIR] [BE]_LTA_corner#02_#13","10T-BE-FR-000015","[BE-BE] Avelgem - Horta 380.102","22T20161020---1E",0,0,-0.48864999999999997,0,-0.36212,-0.79378000000000004,0,2013,{"$f":"IF((G1912*ALBE+H1912*ALDE+I1912*AT+J1912*BE+K1912*DE+L1912*FR+M1912*NL)>(N1912),1,0)","v":0},null,{"$f":"IF((C$6*G1912+D$6*H1912+E$6*I1912+F$6*J1912+G$6*K1912+H$6*L1912+I$6*M1912)>(N1912),1,0)","v":0}]
[null,2363,"[D2-AT] Pleinting - St. Peter 258 [DIR] [D2]_LTA_corner#02_#1","10T-AT-DE-000037","[D2-AT] Y - St. Peter (- Altheim - Simbach) 234/230","10T-AT-DE-000045",0,0,-0.99375000000000002,0,-7.0199999999999999E-2,-8.6760000000000004E-2,0,4617,{"$f":"IF((G1913*ALBE+H1913*ALDE+I1913*AT+J1913*BE+K1913*DE+L1913*FR+M1913*NL)>(N1913),1,0)","v":0},null,{"$f":"IF((C$6*G1913+D$6*H1913+E$6*I1913+F$6*J1913+G$6*K1913+H$6*L1913+I$6*M1913)>(N1913),1,0)","v":0}]
[null,2364,"[AT-AT] Westtirol Transformer WTRHU41 [OPP]_LTA_corner#17_#5","14T-38220-WT041O","BASECASE","N/A",0,0,0.98809999999999998,1.627E-2,0.13661999999999999,-6.8790000000000004E-2,0,4517,{"$f":"IF((G1914*ALBE+H1914*ALDE+I1914*AT+J1914*BE+K1914*DE+L1914*FR+M1914*NL)>(N1914),1,0)","v":0},null,{"$f":"IF((C$6*G1914+D$6*H1914+E$6*I1914+F$6*J1914+G$6*K1914+H$6*L1914+I$6*M1914)>(N1914),1,0)","v":0}]
[null,2365,"[D2-AT] Pleinting - St. Peter 258 [DIR] [D2]_LTA_corner#01_#6","10T-AT-DE-000037","[D2-AT] Y - St. Peter (- Altheim - Simbach) 234/230","10T-AT-DE-000045",0,0,-1,0,0,0,0,4821,{"$f":"IF((G1915*ALBE+H1915*ALDE+I1915*AT+J1915*BE+K1915*DE+L1915*FR+M1915*NL)>(N1915),1,0)","v":0},null,{"$f":"IF((C$6*G1915+D$6*H1915+E$6*I1915+F$6*J1915+G$6*K1915+H$6*L1915+I$6*M1915)>(N1915),1,0)","v":0}]
[null,2366,"[D2-AT] Pleinting - St. Peter 258 [DIR] [AT]_LTA_corner#07_#7","10T-AT-DE-000037","[D2-D2] Pirach - Pleinting 257","11TD2L000000201H",0,0,-0.99597999999999998,0,0,8.9609999999999995E-2,0,5075,{"$f":"IF((G1916*ALBE+H1916*ALDE+I1916*AT+J1916*BE+K1916*DE+L1916*FR+M1916*NL)>(N1916),1,0)","v":0},null,{"$f":"IF((C$6*G1916+D$6*H1916+E$6*I1916+F$6*J1916+G$6*K1916+H$6*L1916+I$6*M1916)>(N1916),1,0)","v":0}]
[null,2367,"[D2-AT] Pleinting - St. Peter 258 [DIR] [D2]_LTA_corner#03_#4","10T-AT-DE-000037","[D2-AT] Y - St. Peter (- Altheim - Simbach) 234/230","10T-AT-DE-000045",0,0,-0.99994000000000005,8.0099999999999998E-3,0,8.0099999999999998E-3,0,4836,{"$f":"IF((G1917*ALBE+H1917*ALDE+I1917*AT+J1917*BE+K1917*DE+L1917*FR+M1917*NL)>(N1917),1,0)","v":0},null,{"$f":"IF((C$6*G1917+D$6*H1917+E$6*I1917+F$6*J1917+G$6*K1917+H$6*L1917+I$6*M1917)>(N1917),1,0)","v":0}]
[null,2368,"[D7-D7] Gronau - Hanekenfaehr Gronau W [OPP]_LTA_corner#05_#31","11T0-0000-0617-A","[D7-D7] Y - Hanekenfaehr - Kottigerhook - Kusenhorst Muensterland","11T0-0000-0679-H",0,0,0.52373999999999998,0.12587999999999999,0.78273000000000004,0.31174000000000002,0,2959,{"$f":"IF((G1918*ALBE+H1918*ALDE+I1918*AT+J1918*BE+K1918*DE+L1918*FR+M1918*NL)>(N1918),1,0)","v":0},null,{"$f":"IF((C$6*G1918+D$6*H1918+E$6*I1918+F$6*J1918+G$6*K1918+H$6*L1918+I$6*M1918)>(N1918),1,0)","v":0}]
[null,2369,"[D2-AT] Pleinting - St. Peter 258 [DIR] [D2]_LTA_corner#09_#0","10T-AT-DE-000037","[D2-AT] Y - St. Peter (- Altheim - Simbach) 234/230","10T-AT-DE-000045",0,0,-0.96314999999999995,-9.0329999999999994E-2,-0.17913000000000001,-0.17913000000000001,0,4146,{"$f":"IF((G1919*ALBE+H1919*ALDE+I1919*AT+J1919*BE+K1919*DE+L1919*FR+M1919*NL)>(N1919),1,0)","v":0},null,{"$f":"IF((C$6*G1919+D$6*H1919+E$6*I1919+F$6*J1919+G$6*K1919+H$6*L1919+I$6*M1919)>(N1919),1,0)","v":0}]
[null,2370,"[D2-AT] Pleinting - St. Peter 258 [DIR] [D2]_LTA_corner#02_#0","10T-AT-DE-000037","[D2-AT] Y - St. Peter (- Altheim - Simbach) 234/230","10T-AT-DE-000045",0,0,-0.99707999999999997,0,-5.3969999999999997E-2,-5.3969999999999997E-2,0,4653,{"$f":"IF((G1920*ALBE+H1920*ALDE+I1920*AT+J1920*BE+K1920*DE+L1920*FR+M1920*NL)>(N1920),1,0)","v":0},null,{"$f":"IF((C$6*G1920+D$6*H1920+E$6*I1920+F$6*J1920+G$6*K1920+H$6*L1920+I$6*M1920)>(N1920),1,0)","v":0}]
[null,2371,"[BE-FR] Achene - Lonny 380.19 [DIR] [BE]_LTA_corner#02_#16","10T-BE-FR-000015","[BE-BE] Avelgem - Horta 380.102","22T20161020---1E",0,0,-0.48720000000000002,0,-0.34283999999999998,-0.80318000000000001,0,2107,{"$f":"IF((G1921*ALBE+H1921*ALDE+I1921*AT+J1921*BE+K1921*DE+L1921*FR+M1921*NL)>(N1921),1,0)","v":0},null,{"$f":"IF((C$6*G1921+D$6*H1921+E$6*I1921+F$6*J1921+G$6*K1921+H$6*L1921+I$6*M1921)>(N1921),1,0)","v":0}]
[null,2372,"[D2-AT] Pleinting - St. Peter 258 [DIR] [AT]_LTA_corner#11_#6","10T-AT-DE-000037","[D2-D2] Pirach - Pleinting 257","11TD2L000000201H",0,0,-0.99529000000000001,0,-9.3229999999999993E-2,-2.6679999999999999E-2,0,4582,{"$f":"IF((G1922*ALBE+H1922*ALDE+I1922*AT+J1922*BE+K1922*DE+L1922*FR+M1922*NL)>(N1922),1,0)","v":0},null,{"$f":"IF((C$6*G1922+D$6*H1922+E$6*I1922+F$6*J1922+G$6*K1922+H$6*L1922+I$6*M1922)>(N1922),1,0)","v":0}]
[null,2373,"[D2-AT] Pleinting - St. Peter 258 [DIR] [D2]_LTA_corner#07_#4","10T-AT-DE-000037","[D2-AT] Y - St. Peter (- Altheim - Simbach) 234/230","10T-AT-DE-000045",0,0,-0.99892000000000003,0,2.095E-2,4.1459999999999997E-2,0,5037,{"$f":"IF((G1923*ALBE+H1923*ALDE+I1923*AT+J1923*BE+K1923*DE+L1923*FR+M1923*NL)>(N1923),1,0)","v":0},null,{"$f":"IF((C$6*G1923+D$6*H1923+E$6*I1923+F$6*J1923+G$6*K1923+H$6*L1923+I$6*M1923)>(N1923),1,0)","v":0}]
[null,2374,"[BE-BE] PST_ZANDV_2 [N - S]_LTA_corner#09_#7","22T20161020---56","[NL-BE] Rilland - Zandvliet 380 White/30","10T-BE-NL-00004C",0,0,-0.41782000000000002,-0.59440999999999999,-0.34464,-0.59440999999999999,0,1522,{"$f":"IF((G1924*ALBE+H1924*ALDE+I1924*AT+J1924*BE+K1924*DE+L1924*FR+M1924*NL)>(N1924),1,0)","v":0},null,{"$f":"IF((C$6*G1924+D$6*H1924+E$6*I1924+F$6*J1924+G$6*K1924+H$6*L1924+I$6*M1924)>(N1924),1,0)","v":0}]
[null,2375,"[BE-FR] Achene - Lonny 380.19 [DIR] [BE]_LTA_corner#02_#21","10T-BE-FR-000015","[BE-BE] Avelgem - Horta 380.102","22T20161020---1E",0,0,-0.40760000000000002,0.50444999999999995,-0.26761000000000001,-0.71258999999999995,0,2529,{"$f":"IF((G1925*ALBE+H1925*ALDE+I1925*AT+J1925*BE+K1925*DE+L1925*FR+M1925*NL)>(N1925),1,0)","v":0},null,{"$f":"IF((C$6*G1925+D$6*H1925+E$6*I1925+F$6*J1925+G$6*K1925+H$6*L1925+I$6*M1925)>(N1925),1,0)","v":0}]
[null,2376,"[D2-NL] Diele - Meeden 380 Black [DIR] [NL]_LTA_corner#05_#15","10T-DE-NL-00001V","[D2-NL] Diele - Meeden 380 White","10T-DE-NL-00002T",0,0,0.56276999999999999,0.24661,0.66788000000000003,0.42000999999999999,0,1924,{"$f":"IF((G1926*ALBE+H1926*ALDE+I1926*AT+J1926*BE+K1926*DE+L1926*FR+M1926*NL)>(N1926),1,0)","v":0},null,{"$f":"IF((C$6*G1926+D$6*H1926+E$6*I1926+F$6*J1926+G$6*K1926+H$6*L1926+I$6*M1926)>(N1926),1,0)","v":0}]
[null,2377,"[D2-AT] Pleinting - St. Peter 258 [DIR] [D2]_LTA_corner#15_#1","10T-AT-DE-000037","[D2-AT] Y - St. Peter (- Altheim - Simbach) 234/230","10T-AT-DE-000045",0,0,-0.99436000000000002,-4.981E-2,-7.9240000000000005E-2,-4.981E-2,0,4597,{"$f":"IF((G1927*ALBE+H1927*ALDE+I1927*AT+J1927*BE+K1927*DE+L1927*FR+M1927*NL)>(N1927),1,0)","v":0},null,{"$f":"IF((C$6*G1927+D$6*H1927+E$6*I1927+F$6*J1927+G$6*K1927+H$6*L1927+I$6*M1927)>(N1927),1,0)","v":0}]
[null,2378,"[D2-AT] Pleinting - St. Peter 258 [DIR] [D2]_LTA_corner#04_#3","10T-AT-DE-000037","[D2-AT] Y - St. Peter (- Altheim - Simbach) 234/230","10T-AT-DE-000045",0,0,-0.99458000000000002,-7.3499999999999996E-2,0,-7.3499999999999996E-2,0,4924,{"$f":"IF((G1928*ALBE+H1928*ALDE+I1928*AT+J1928*BE+K1928*DE+L1928*FR+M1928*NL)>(N1928),1,0)","v":0},null,{"$f":"IF((C$6*G1928+D$6*H1928+E$6*I1928+F$6*J1928+G$6*K1928+H$6*L1928+I$6*M1928)>(N1928),1,0)","v":0}]
[null,2379,"[BE-FR] Achene - Lonny 380.19 [DIR] [BE]_LTA_corner#02_#5","10T-BE-FR-000015","[BE-BE] Avelgem - Horta 380.102","22T20161020---1E",0,0,-0.44925999999999999,0.34068999999999999,-0.32993,-0.75712000000000002,0,2324,{"$f":"IF((G1929*ALBE+H1929*ALDE+I1929*AT+J1929*BE+K1929*DE+L1929*FR+M1929*NL)>(N1929),1,0)","v":0},null,{"$f":"IF((C$6*G1929+D$6*H1929+E$6*I1929+F$6*J1929+G$6*K1929+H$6*L1929+I$6*M1929)>(N1929),1,0)","v":0}]
[null,2380,"[D2-AT] Pleinting - St. Peter 258 [DIR] [D2]_LTA_corner#01_#20","10T-AT-DE-000037","[D2-AT] Y - St. Peter (- Altheim - Simbach) 234/230","10T-AT-DE-000045",0,0,-0.99331000000000003,0,0,-0.11547,0,4973,{"$f":"IF((G1930*ALBE+H1930*ALDE+I1930*AT+J1930*BE+K1930*DE+L1930*FR+M1930*NL)>(N1930),1,0)","v":0},null,{"$f":"IF((C$6*G1930+D$6*H1930+E$6*I1930+F$6*J1930+G$6*K1930+H$6*L1930+I$6*M1930)>(N1930),1,0)","v":0}]
[null,2381,"[D7-FR] Ensdorf - Vigy 2S [OPP] [D7]_LTA_corner#30_#21","10T-DE-FR-000068","[D7-D7] Ensdorf - Uchtelfangen Taubental N","11T0-0000-0604-N",0,0,4.6699999999999998E-2,0.36341000000000001,-0.16897000000000001,0.91498999999999997,0,3896,{"$f":"IF((G1931*ALBE+H1931*ALDE+I1931*AT+J1931*BE+K1931*DE+L1931*FR+M1931*NL)>(N1931),1,0)","v":0},null,{"$f":"IF((C$6*G1931+D$6*H1931+E$6*I1931+F$6*J1931+G$6*K1931+H$6*L1931+I$6*M1931)>(N1931),1,0)","v":0}]
[null,2382,"[D2-AT] Pleinting - St. Peter 258 [DIR] [AT]_LTA_corner#02_#3","10T-AT-DE-000037","[D2-D2] Pirach - Pleinting 257","11TD2L000000201H",0,0,-0.99651999999999996,7.4329999999999993E-2,-2.6710000000000001E-2,-2.6710000000000001E-2,0,4819,{"$f":"IF((G1932*ALBE+H1932*ALDE+I1932*AT+J1932*BE+K1932*DE+L1932*FR+M1932*NL)>(N1932),1,0)","v":0},null,{"$f":"IF((C$6*G1932+D$6*H1932+E$6*I1932+F$6*J1932+G$6*K1932+H$6*L1932+I$6*M1932)>(N1932),1,0)","v":0}]
[null,2383,"[D2-NL] Diele - Meeden 380 Black [DIR] [NL]_LTA_corner#05_#23","10T-DE-NL-00001V","[D2-NL] Diele - Meeden 380 White","10T-DE-NL-00002T",0,0,0.54959000000000002,0.30343999999999999,0.64892000000000005,0.42986000000000002,0,1803,{"$f":"IF((G1933*ALBE+H1933*ALDE+I1933*AT+J1933*BE+K1933*DE+L1933*FR+M1933*NL)>(N1933),1,0)","v":0},null,{"$f":"IF((C$6*G1933+D$6*H1933+E$6*I1933+F$6*J1933+G$6*K1933+H$6*L1933+I$6*M1933)>(N1933),1,0)","v":0}]
[null,2384,"[D7-D7] Gronau - Hanekenfaehr Gronau W [OPP]_LTA_corner#05_#16","11T0-0000-0617-A","[D7-D7] Y - Hanekenfaehr - Kottigerhook - Kusenhorst Muensterland","11T0-0000-0679-H",0,0,0.52395999999999998,0.12441000000000001,0.78449000000000002,0.3075,0,2969,{"$f":"IF((G1934*ALBE+H1934*ALDE+I1934*AT+J1934*BE+K1934*DE+L1934*FR+M1934*NL)>(N1934),1,0)","v":0},null,{"$f":"IF((C$6*G1934+D$6*H1934+E$6*I1934+F$6*J1934+G$6*K1934+H$6*L1934+I$6*M1934)>(N1934),1,0)","v":0}]
[null,2385,"[D7-FR] Ensdorf - Vigy 2S [OPP] [D7]_LTA_corner#30_#29","10T-DE-FR-000068","[D7-D7] Ensdorf - Uchtelfangen Taubental N","11T0-0000-0604-N",0,0,5.8200000000000002E-2,0.37206,-0.15171999999999999,0.91386999999999996,0,3809,{"$f":"IF((G1935*ALBE+H1935*ALDE+I1935*AT+J1935*BE+K1935*DE+L1935*FR+M1935*NL)>(N1935),1,0)","v":0},null,{"$f":"IF((C$6*G1935+D$6*H1935+E$6*I1935+F$6*J1935+G$6*K1935+H$6*L1935+I$6*M1935)>(N1935),1,0)","v":0}]
[null,2386,"[D7-FR] Ensdorf - Vigy 2S [OPP] [D7]_LTA_corner#30_#25","10T-DE-FR-000068","[D7-D7] Ensdorf - Uchtelfangen Taubental N","11T0-0000-0604-N",0,0,1.308E-2,0.37647999999999998,-0.20530000000000001,0.90329000000000004,0,3958,{"$f":"IF((G1936*ALBE+H1936*ALDE+I1936*AT+J1936*BE+K1936*DE+L1936*FR+M1936*NL)>(N1936),1,0)","v":0},null,{"$f":"IF((C$6*G1936+D$6*H1936+E$6*I1936+F$6*J1936+G$6*K1936+H$6*L1936+I$6*M1936)>(N1936),1,0)","v":0}]
[null,2387,"[D2-AT] Pleinting - St. Peter 258 [DIR] [D2]_LTA_corner#09_#1","10T-AT-DE-000037","[D2-AT] Y - St. Peter (- Altheim - Simbach) 234/230","10T-AT-DE-000045",0,0,-0.98357000000000006,-4.0820000000000002E-2,-0.12436,-0.12436,0,4393,{"$f":"IF((G1937*ALBE+H1937*ALDE+I1937*AT+J1937*BE+K1937*DE+L1937*FR+M1937*NL)>(N1937),1,0)","v":0},null,{"$f":"IF((C$6*G1937+D$6*H1937+E$6*I1937+F$6*J1937+G$6*K1937+H$6*L1937+I$6*M1937)>(N1937),1,0)","v":0}]
[null,2388,"[D2-AT] Pleinting - St. Peter 258 [DIR] [AT]_LTA_corner#14_#20","10T-AT-DE-000037","[D2-D2] Pirach - Pleinting 257","11TD2L000000201H",0,0,-0.99609000000000003,0,-5.9699999999999996E-3,8.8109999999999994E-2,0,5058,{"$f":"IF((G1938*ALBE+H1938*ALDE+I1938*AT+J1938*BE+K1938*DE+L1938*FR+M1938*NL)>(N1938),1,0)","v":0},null,{"$f":"IF((C$6*G1938+D$6*H1938+E$6*I1938+F$6*J1938+G$6*K1938+H$6*L1938+I$6*M1938)>(N1938),1,0)","v":0}]
[null,2389,"[BE-FR] Achene - Lonny 380.19 [DIR] [BE]_LTA_corner#02_#0","10T-BE-FR-000015","[BE-BE] Avelgem - Horta 380.102","22T20161020---1E",0,0,-0.43474000000000002,0.34648000000000001,-0.31313999999999997,-0.76998999999999995,0,2356,{"$f":"IF((G1939*ALBE+H1939*ALDE+I1939*AT+J1939*BE+K1939*DE+L1939*FR+M1939*NL)>(N1939),1,0)","v":0},null,{"$f":"IF((C$6*G1939+D$6*H1939+E$6*I1939+F$6*J1939+G$6*K1939+H$6*L1939+I$6*M1939)>(N1939),1,0)","v":0}]
[null,2390,"[D7-FR] Ensdorf - Vigy 2S [OPP] [D7]_LTA_corner#30_#1","10T-DE-FR-000068","[D7-D7] Ensdorf - Uchtelfangen Taubental N","11T0-0000-0604-N",0,0,5.5809999999999998E-2,0.37111,-0.17135,0.91093999999999997,0,3937,{"$f":"IF((G1940*ALBE+H1940*ALDE+I1940*AT+J1940*BE+K1940*DE+L1940*FR+M1940*NL)>(N1940),1,0)","v":0},null,{"$f":"IF((C$6*G1940+D$6*H1940+E$6*I1940+F$6*J1940+G$6*K1940+H$6*L1940+I$6*M1940)>(N1940),1,0)","v":0}]
[null,2391,"[D2-AT] Pleinting - St. Peter 258 [DIR] [AT]_LTA_corner#01_#16","10T-AT-DE-000037","[D2-D2] Pirach - Pleinting 257","11TD2L000000201H",0,0,-0.99102000000000001,0,0,-0.13370000000000001,0,4992,{"$f":"IF((G1941*ALBE+H1941*ALDE+I1941*AT+J1941*BE+K1941*DE+L1941*FR+M1941*NL)>(N1941),1,0)","v":0},null,{"$f":"IF((C$6*G1941+D$6*H1941+E$6*I1941+F$6*J1941+G$6*K1941+H$6*L1941+I$6*M1941)>(N1941),1,0)","v":0}]
[null,2392,"[D2-AT] Pleinting - St. Peter 258 [DIR] [D2]_LTA_corner#05_#1","10T-AT-DE-000037","[D2-AT] Y - St. Peter (- Altheim - Simbach) 234/230","10T-AT-DE-000045",0,0,-0.99383999999999995,2.1989999999999999E-2,7.6789999999999997E-2,7.6789999999999997E-2,0,5351,{"$f":"IF((G1942*ALBE+H1942*ALDE+I1942*AT+J1942*BE+K1942*DE+L1942*FR+M1942*NL)>(N1942),1,0)","v":0},null,{"$f":"IF((C$6*G1942+D$6*H1942+E$6*I1942+F$6*J1942+G$6*K1942+H$6*L1942+I$6*M1942)>(N1942),1,0)","v":0}]
[null,2393,"[D2-AT] Pleinting - St. Peter 258 [DIR] [AT]_LTA_corner#11_#0","10T-AT-DE-000037","[D2-D2] Pirach - Pleinting 257","11TD2L000000201H",0,0,-0.99621999999999999,2.9659999999999999E-2,-7.6130000000000003E-2,2.9659999999999999E-2,0,4701,{"$f":"IF((G1943*ALBE+H1943*ALDE+I1943*AT+J1943*BE+K1943*DE+L1943*FR+M1943*NL)>(N1943),1,0)","v":0},null,{"$f":"IF((C$6*G1943+D$6*H1943+E$6*I1943+F$6*J1943+G$6*K1943+H$6*L1943+I$6*M1943)>(N1943),1,0)","v":0}]
[null,2394,"[AT-AT] Westtirol Transformer WTRHU41 [OPP]_LTA_corner#20_#1","14T-38220-WT041O","BASECASE","N/A",0,0,0.98311999999999999,-1.9910000000000001E-2,0.16850000000000001,-6.8440000000000001E-2,0,4389,{"$f":"IF((G1944*ALBE+H1944*ALDE+I1944*AT+J1944*BE+K1944*DE+L1944*FR+M1944*NL)>(N1944),1,0)","v":0},null,{"$f":"IF((C$6*G1944+D$6*H1944+E$6*I1944+F$6*J1944+G$6*K1944+H$6*L1944+I$6*M1944)>(N1944),1,0)","v":0}]
[null,2395,"[D7-FR] Ensdorf - Vigy 2S [OPP] [D7]_LTA_corner#30_#9","10T-DE-FR-000068","[D7-D7] Ensdorf - Uchtelfangen Taubental N","11T0-0000-0604-N",0,0,4.249E-2,0.37657000000000002,-0.17227999999999999,0.90924000000000005,0,3869,{"$f":"IF((G1945*ALBE+H1945*ALDE+I1945*AT+J1945*BE+K1945*DE+L1945*FR+M1945*NL)>(N1945),1,0)","v":0},null,{"$f":"IF((C$6*G1945+D$6*H1945+E$6*I1945+F$6*J1945+G$6*K1945+H$6*L1945+I$6*M1945)>(N1945),1,0)","v":0}]
[null,2396,"[D2-AT] Pleinting - St. Peter 258 [DIR] [AT]_LTA_corner#03_#0","10T-AT-DE-000037","[D2-D2] Pirach - Pleinting 257","11TD2L000000201H",0,0,-0.99826000000000004,4.1709999999999997E-2,0,4.1709999999999997E-2,0,4895,{"$f":"IF((G1946*ALBE+H1946*ALDE+I1946*AT+J1946*BE+K1946*DE+L1946*FR+M1946*NL)>(N1946),1,0)","v":0},null,{"$f":"IF((C$6*G1946+D$6*H1946+E$6*I1946+F$6*J1946+G$6*K1946+H$6*L1946+I$6*M1946)>(N1946),1,0)","v":0}]
[null,2397,"[NL-NL] Borssele - Rilland 380 Zwart [DIR]","49T000000000059S","[NL-NL] Borssele - Rilland 380 Grijs","49T000000000057W",-5.1900000000000002E-3,2.2699999999999999E-3,-7.3999999999999999E-4,-1.357E-2,1.3500000000000001E-3,-5.6600000000000001E-3,0.14011000000000001,457,{"$f":"IF((G1947*ALBE+H1947*ALDE+I1947*AT+J1947*BE+K1947*DE+L1947*FR+M1947*NL)>(N1947),1,0)","v":0},null,{"$f":"IF((C$6*G1947+D$6*H1947+E$6*I1947+F$6*J1947+G$6*K1947+H$6*L1947+I$6*M1947)>(N1947),1,0)","v":0}]
[null,2398,"[BE-FR] Achene - Lonny 380.19 [DIR] [BE]_LTA_corner#02_#14","10T-BE-FR-000015","[BE-BE] Avelgem - Horta 380.102","22T20161020---1E",0,0,-0.46367999999999998,0.19081000000000001,-0.30642999999999998,-0.80913000000000002,0,2398,{"$f":"IF((G1948*ALBE+H1948*ALDE+I1948*AT+J1948*BE+K1948*DE+L1948*FR+M1948*NL)>(N1948),1,0)","v":0},null,{"$f":"IF((C$6*G1948+D$6*H1948+E$6*I1948+F$6*J1948+G$6*K1948+H$6*L1948+I$6*M1948)>(N1948),1,0)","v":0}]
[null,2399,"[D2-AT] Pleinting - St. Peter 258 [DIR] [AT]_LTA_corner#04_#4","10T-AT-DE-000037","[D2-D2] Pirach - Pleinting 257","11TD2L000000201H",0,0,-0.99197000000000002,-7.1489999999999998E-2,7.603E-2,-7.1489999999999998E-2,0,5432,{"$f":"IF((G1949*ALBE+H1949*ALDE+I1949*AT+J1949*BE+K1949*DE+L1949*FR+M1949*NL)>(N1949),1,0)","v":0},null,{"$f":"IF((C$6*G1949+D$6*H1949+E$6*I1949+F$6*J1949+G$6*K1949+H$6*L1949+I$6*M1949)>(N1949),1,0)","v":0}]
[null,2400,"[D2-AT] Pleinting - St. Peter 258 [DIR] [D2]_LTA_corner#05_#11","10T-AT-DE-000037","[D2-AT] Y - St. Peter (- Altheim - Simbach) 234/230","10T-AT-DE-000045",0,0,0.56042000000000003,0.25940999999999997,0.68320999999999998,0.38968999999999998,0,2006,{"$f":"IF((G1950*ALBE+H1950*ALDE+I1950*AT+J1950*BE+K1950*DE+L1950*FR+M1950*NL)>(N1950),1,0)","v":0},null,{"$f":"IF((C$6*G1950+D$6*H1950+E$6*I1950+F$6*J1950+G$6*K1950+H$6*L1950+I$6*M1950)>(N1950),1,0)","v":0}]
[null,2401,"[D2-AT] Pleinting - St. Peter 258 [DIR] [AT]_LTA_corner#06_#3","10T-AT-DE-000037","[D2-D2] Pirach - Pleinting 257","11TD2L000000201H",0,0,-0.99324000000000001,-0.11414000000000001,0,-2.1309999999999999E-2,0,5053,{"$f":"IF((G1951*ALBE+H1951*ALDE+I1951*AT+J1951*BE+K1951*DE+L1951*FR+M1951*NL)>(N1951),1,0)","v":0},null,{"$f":"IF((C$6*G1951+D$6*H1951+E$6*I1951+F$6*J1951+G$6*K1951+H$6*L1951+I$6*M1951)>(N1951),1,0)","v":0}]
[null,2402,"[D2-AT] Pleinting - St. Peter 258 [DIR] [AT]_LTA_corner#07_#8","10T-AT-DE-000037","[D2-D2] Pirach - Pleinting 257","11TD2L000000201H",0,0,-0.99570000000000003,0,7.9600000000000001E-3,9.2329999999999995E-2,0,5118,{"$f":"IF((G1952*ALBE+H1952*ALDE+I1952*AT+J1952*BE+K1952*DE+L1952*FR+M1952*NL)>(N1952),1,0)","v":0},null,{"$f":"IF((C$6*G1952+D$6*H1952+E$6*I1952+F$6*J1952+G$6*K1952+H$6*L1952+I$6*M1952)>(N1952),1,0)","v":0}]
[null,2403,"[D7-D4] Hoheneck - Pulverdingen weiss [DIR] [D4]_LTA_corner#09_#4","11T-D4-D7-00014N","[D4-D7] Y - Herbertingen - Hoheneck - Metzingen schwarz","11TD40000A546-S0",0,0,-0.84445000000000003,-9.3820000000000001E-2,-0.31324999999999997,-0.42423,0,3369,{"$f":"IF((G1953*ALBE+H1953*ALDE+I1953*AT+J1953*BE+K1953*DE+L1953*FR+M1953*NL)>(N1953),1,0)","v":0},null,{"$f":"IF((C$6*G1953+D$6*H1953+E$6*I1953+F$6*J1953+G$6*K1953+H$6*L1953+I$6*M1953)>(N1953),1,0)","v":0}]
[null,2404,"[D2-AT] Pleinting - St. Peter 258 [DIR] [AT]_LTA_corner#02_#0","10T-AT-DE-000037","[D2-D2] Pirach - Pleinting 257","11TD2L000000201H",0,0,-0.99629999999999996,0,-6.0740000000000002E-2,-6.0740000000000002E-2,0,4630,{"$f":"IF((G1954*ALBE+H1954*ALDE+I1954*AT+J1954*BE+K1954*DE+L1954*FR+M1954*NL)>(N1954),1,0)","v":0},null,{"$f":"IF((C$6*G1954+D$6*H1954+E$6*I1954+F$6*J1954+G$6*K1954+H$6*L1954+I$6*M1954)>(N1954),1,0)","v":0}]
[null,2405,"[D7-D7] Gronau - Hanekenfaehr Gronau W [OPP]_LTA_corner#05_#22","11T0-0000-0617-A","[D7-D7] Y - Hanekenfaehr - Kottigerhook - Kusenhorst Muensterland","11T0-0000-0679-H",0,0,0.52476,0.12453,0.78359999999999996,0.30836999999999998,0,2960,{"$f":"IF((G1955*ALBE+H1955*ALDE+I1955*AT+J1955*BE+K1955*DE+L1955*FR+M1955*NL)>(N1955),1,0)","v":0},null,{"$f":"IF((C$6*G1955+D$6*H1955+E$6*I1955+F$6*J1955+G$6*K1955+H$6*L1955+I$6*M1955)>(N1955),1,0)","v":0}]
[null,2406,"[D7-D7] Gronau - Hanekenfaehr Gronau W [OPP]_LTA_corner#05_#5","11T0-0000-0617-A","[D7-D7] Y - Hanekenfaehr - Kottigerhook - Kusenhorst Muensterland","11T0-0000-0679-H",0,0,0.52339999999999998,0.12429,0.78498999999999997,0.30724000000000001,0,2975,{"$f":"IF((G1956*ALBE+H1956*ALDE+I1956*AT+J1956*BE+K1956*DE+L1956*FR+M1956*NL)>(N1956),1,0)","v":0},null,{"$f":"IF((C$6*G1956+D$6*H1956+E$6*I1956+F$6*J1956+G$6*K1956+H$6*L1956+I$6*M1956)>(N1956),1,0)","v":0}]
[null,2407,"[BE-FR] Achene - Lonny 380.19 [DIR] [BE]_LTA_corner#02_#9","10T-BE-FR-000015","[BE-BE] Avelgem - Horta 380.102","22T20161020---1E",0,0,-0.45650000000000002,0.34617999999999999,-0.28270000000000001,-0.76932,0,2595,{"$f":"IF((G1957*ALBE+H1957*ALDE+I1957*AT+J1957*BE+K1957*DE+L1957*FR+M1957*NL)>(N1957),1,0)","v":0},null,{"$f":"IF((C$6*G1957+D$6*H1957+E$6*I1957+F$6*J1957+G$6*K1957+H$6*L1957+I$6*M1957)>(N1957),1,0)","v":0}]
[null,2408,"[D7-FR] Ensdorf - Vigy 2S [OPP] [D7]_LTA_corner#30_#2","10T-DE-FR-000068","[D7-D7] Ensdorf - Uchtelfangen Taubental N","11T0-0000-0604-N",0,0,3.4729999999999997E-2,0.37108999999999998,-0.17433999999999999,0.91142000000000001,0,3860,{"$f":"IF((G1958*ALBE+H1958*ALDE+I1958*AT+J1958*BE+K1958*DE+L1958*FR+M1958*NL)>(N1958),1,0)","v":0},null,{"$f":"IF((C$6*G1958+D$6*H1958+E$6*I1958+F$6*J1958+G$6*K1958+H$6*L1958+I$6*M1958)>(N1958),1,0)","v":0}]
[null,2409,"[D2-AT] Pleinting - St. Peter 258 [DIR] [AT]_LTA_corner#13_#15","10T-AT-DE-000037","[D2-D2] Pirach - Pleinting 257","11TD2L000000201H",0,0,-0.99529999999999996,-9.5180000000000001E-2,-1.278E-2,-1.278E-2,0,4966,{"$f":"IF((G1959*ALBE+H1959*ALDE+I1959*AT+J1959*BE+K1959*DE+L1959*FR+M1959*NL)>(N1959),1,0)","v":0},null,{"$f":"IF((C$6*G1959+D$6*H1959+E$6*I1959+F$6*J1959+G$6*K1959+H$6*L1959+I$6*M1959)>(N1959),1,0)","v":0}]
[null,2410,"[BE-BE] PST_ZANDV_2 [N - S]_LTA_corner#09_#11","22T20161020---56","[NL-BE] Rilland - Zandvliet 380 White/30","10T-BE-NL-00004C",0,0,-0.42670999999999998,-0.58936999999999995,-0.35102,-0.58936999999999995,0,1528,{"$f":"IF((G1960*ALBE+H1960*ALDE+I1960*AT+J1960*BE+K1960*DE+L1960*FR+M1960*NL)>(N1960),1,0)","v":0},null,{"$f":"IF((C$6*G1960+D$6*H1960+E$6*I1960+F$6*J1960+G$6*K1960+H$6*L1960+I$6*M1960)>(N1960),1,0)","v":0}]
[null,2411,"[D2-AT] Pleinting - St. Peter 258 [DIR] [D2]_LTA_corner#01_#16","10T-AT-DE-000037","[D2-AT] Y - St. Peter (- Altheim - Simbach) 234/230","10T-AT-DE-000045",0,0,-0.49576999999999999,0.22616,0.80742000000000003,0.22616,0,7876,{"$f":"IF((G1961*ALBE+H1961*ALDE+I1961*AT+J1961*BE+K1961*DE+L1961*FR+M1961*NL)>(N1961),1,0)","v":0},null,{"$f":"IF((C$6*G1961+D$6*H1961+E$6*I1961+F$6*J1961+G$6*K1961+H$6*L1961+I$6*M1961)>(N1961),1,0)","v":0}]
[null,2412,"[BE-BE] PST_VANYK_2 [S - N]","22T-BE-PST--002U","[BE-FR] Achene - Lonny 380.19","10T-BE-FR-000015",0.57354000000000005,-2.5170000000000001E-2,5.4599999999999996E-3,0.32013999999999998,-9.6399999999999993E-3,4.5830000000000003E-2,1.1979999999999999E-2,995,{"$f":"IF((G1962*ALBE+H1962*ALDE+I1962*AT+J1962*BE+K1962*DE+L1962*FR+M1962*NL)>(N1962),1,0)","v":0},null,{"$f":"IF((C$6*G1962+D$6*H1962+E$6*I1962+F$6*J1962+G$6*K1962+H$6*L1962+I$6*M1962)>(N1962),1,0)","v":0}]
[null,2413,"[D2-AT] Pleinting - St. Peter 258 [DIR] [D2]_LTA_corner#09_#3","10T-AT-DE-000037","[D2-AT] Y - St. Peter (- Altheim - Simbach) 234/230","10T-AT-DE-000045",0,0,-0.96006999999999998,-0.12045,-0.17856,-0.17856,0,4138,{"$f":"IF((G1963*ALBE+H1963*ALDE+I1963*AT+J1963*BE+K1963*DE+L1963*FR+M1963*NL)>(N1963),1,0)","v":0},null,{"$f":"IF((C$6*G1963+D$6*H1963+E$6*I1963+F$6*J1963+G$6*K1963+H$6*L1963+I$6*M1963)>(N1963),1,0)","v":0}]
[null,2414,"[BE-FR] Achene - Lonny 380.19 [DIR] [BE]_LTA_corner#02_#23","10T-BE-FR-000015","[BE-BE] Avelgem - Horta 380.102","22T20161020---1E",0,0,-0.40455000000000002,0.51573000000000002,-0.26574999999999999,-0.70692999999999995,0,2527,{"$f":"IF((G1964*ALBE+H1964*ALDE+I1964*AT+J1964*BE+K1964*DE+L1964*FR+M1964*NL)>(N1964),1,0)","v":0},null,{"$f":"IF((C$6*G1964+D$6*H1964+E$6*I1964+F$6*J1964+G$6*K1964+H$6*L1964+I$6*M1964)>(N1964),1,0)","v":0}]
[null,2415,"[BE-BE] PST_ZANDV_2 [N - S]_LTA_corner#13_#21","22T20161020---56","[NL-BE] Rilland - Zandvliet 380 White/30","10T-BE-NL-00004C",0,0,-0.40988000000000002,-0.64815,-0.34904000000000002,-0.53857999999999995,0,1635,{"$f":"IF((G1965*ALBE+H1965*ALDE+I1965*AT+J1965*BE+K1965*DE+L1965*FR+M1965*NL)>(N1965),1,0)","v":0},null,{"$f":"IF((C$6*G1965+D$6*H1965+E$6*I1965+F$6*J1965+G$6*K1965+H$6*L1965+I$6*M1965)>(N1965),1,0)","v":0}]
[null,2416,"[D2-AT] Pleinting - St. Peter 258 [DIR] [AT]_LTA_corner#02_#5","10T-AT-DE-000037","[D2-D2] Pirach - Pleinting 257","11TD2L000000201H",0,0,-0.99556,9.2350000000000002E-2,-1.2789999999999999E-2,-1.2789999999999999E-2,0,4876,{"$f":"IF((G1966*ALBE+H1966*ALDE+I1966*AT+J1966*BE+K1966*DE+L1966*FR+M1966*NL)>(N1966),1,0)","v":0},null,{"$f":"IF((C$6*G1966+D$6*H1966+E$6*I1966+F$6*J1966+G$6*K1966+H$6*L1966+I$6*M1966)>(N1966),1,0)","v":0}]
[null,2417,"[AT-AT] Westtirol Transformer WTRHU41 [OPP]_LTA_corner#20_#16","14T-38220-WT041O","BASECASE","N/A",0,0,0.99433000000000005,-1.789E-2,8.7870000000000004E-2,-5.7119999999999997E-2,0,4645,{"$f":"IF((G1967*ALBE+H1967*ALDE+I1967*AT+J1967*BE+K1967*DE+L1967*FR+M1967*NL)>(N1967),1,0)","v":0},null,{"$f":"IF((C$6*G1967+D$6*H1967+E$6*I1967+F$6*J1967+G$6*K1967+H$6*L1967+I$6*M1967)>(N1967),1,0)","v":0}]
[null,2418,"[D2-AT] Pleinting - St. Peter 258 [DIR] [AT]_LTA_corner#01_#0","10T-AT-DE-000037","[D2-D2] Pirach - Pleinting 257","11TD2L000000201H",0,0,-0.98958000000000002,0,7.9100000000000004E-3,-0.14377999999999999,0,5055,{"$f":"IF((G1968*ALBE+H1968*ALDE+I1968*AT+J1968*BE+K1968*DE+L1968*FR+M1968*NL)>(N1968),1,0)","v":0},null,{"$f":"IF((C$6*G1968+D$6*H1968+E$6*I1968+F$6*J1968+G$6*K1968+H$6*L1968+I$6*M1968)>(N1968),1,0)","v":0}]
[null,2419,"[D2-AT] Pleinting - St. Peter 258 [DIR] [AT]_LTA_corner#01_#29","10T-AT-DE-000037","[D2-D2] Pirach - Pleinting 257","11TD2L000000201H",0,0,-0.99407000000000001,0.1066,0,-2.1319999999999999E-2,0,4956,{"$f":"IF((G1969*ALBE+H1969*ALDE+I1969*AT+J1969*BE+K1969*DE+L1969*FR+M1969*NL)>(N1969),1,0)","v":0},null,{"$f":"IF((C$6*G1969+D$6*H1969+E$6*I1969+F$6*J1969+G$6*K1969+H$6*L1969+I$6*M1969)>(N1969),1,0)","v":0}]
[null,2420,"[D2-AT] Pleinting - St. Peter 258 [DIR] [D2]_LTA_corner#06_#6","10T-AT-DE-000037","[D2-AT] Y - St. Peter (- Altheim - Simbach) 234/230","10T-AT-DE-000045",0,0,-0.99573999999999996,-7.3550000000000004E-2,4.4200000000000003E-3,-5.5480000000000002E-2,0,4972,{"$f":"IF((G1970*ALBE+H1970*ALDE+I1970*AT+J1970*BE+K1970*DE+L1970*FR+M1970*NL)>(N1970),1,0)","v":0},null,{"$f":"IF((C$6*G1970+D$6*H1970+E$6*I1970+F$6*J1970+G$6*K1970+H$6*L1970+I$6*M1970)>(N1970),1,0)","v":0}]
[null,2421,"[BE-BE] PST_ZANDV_2 [N - S]_LTA_corner#13_#29","22T20161020---56","[NL-BE] Rilland - Zandvliet 380 White/30","10T-BE-NL-00004C",0,0,-0.31358999999999998,-0.78305999999999998,-0.23871999999999999,-0.48113,0,2033,{"$f":"IF((G1971*ALBE+H1971*ALDE+I1971*AT+J1971*BE+K1971*DE+L1971*FR+M1971*NL)>(N1971),1,0)","v":0},null,{"$f":"IF((C$6*G1971+D$6*H1971+E$6*I1971+F$6*J1971+G$6*K1971+H$6*L1971+I$6*M1971)>(N1971),1,0)","v":0}]
[null,2422,"[BE-FR] Achene - Lonny 380.19 [DIR] [BE]_LTA_corner#02_#1","10T-BE-FR-000015","[BE-BE] Avelgem - Horta 380.102","22T20161020---1E",0,0,-0.50290999999999997,0,-0.37526999999999999,-0.77861999999999998,0,1999,{"$f":"IF((G1972*ALBE+H1972*ALDE+I1972*AT+J1972*BE+K1972*DE+L1972*FR+M1972*NL)>(N1972),1,0)","v":0},null,{"$f":"IF((C$6*G1972+D$6*H1972+E$6*I1972+F$6*J1972+G$6*K1972+H$6*L1972+I$6*M1972)>(N1972),1,0)","v":0}]
[null,2423,"[D2-AT] Pleinting - St. Peter 258 [DIR] [D2]_LTA_corner#01_#3","10T-AT-DE-000037","[D2-AT] Y - St. Peter (- Altheim - Simbach) 234/230","10T-AT-DE-000045",0,0,-0.99978999999999996,1.7510000000000001E-2,7.3400000000000002E-3,7.3400000000000002E-3,0,4880,{"$f":"IF((G1973*ALBE+H1973*ALDE+I1973*AT+J1973*BE+K1973*DE+L1973*FR+M1973*NL)>(N1973),1,0)","v":0},null,{"$f":"IF((C$6*G1973+D$6*H1973+E$6*I1973+F$6*J1973+G$6*K1973+H$6*L1973+I$6*M1973)>(N1973),1,0)","v":0}]
[null,2424,"[D2-AT] Pleinting - St. Peter 258 [DIR] [AT]_LTA_corner#05_#3","10T-AT-DE-000037","[D2-D2] Pirach - Pleinting 257","11TD2L000000201H",0,0,-0.99734999999999996,0,5.144E-2,5.144E-2,0,5199,{"$f":"IF((G1974*ALBE+H1974*ALDE+I1974*AT+J1974*BE+K1974*DE+L1974*FR+M1974*NL)>(N1974),1,0)","v":0},null,{"$f":"IF((C$6*G1974+D$6*H1974+E$6*I1974+F$6*J1974+G$6*K1974+H$6*L1974+I$6*M1974)>(N1974),1,0)","v":0}]
[null,2425,"[D2-NL] Diele - Meeden 380 Black [DIR] [NL]_LTA_corner#05_#39","10T-DE-NL-00001V","[D2-NL] Diele - Meeden 380 White","10T-DE-NL-00002T",0,0,0.54930999999999996,0.30591000000000002,0.65080000000000005,0.42559999999999998,0,1811,{"$f":"IF((G1975*ALBE+H1975*ALDE+I1975*AT+J1975*BE+K1975*DE+L1975*FR+M1975*NL)>(N1975),1,0)","v":0},null,{"$f":"IF((C$6*G1975+D$6*H1975+E$6*I1975+F$6*J1975+G$6*K1975+H$6*L1975+I$6*M1975)>(N1975),1,0)","v":0}]
[null,2426,"[AT-AT] Westtirol Transformer WTRHU41 [OPP]_LTA_corner#20_#24","14T-38220-WT041O","BASECASE","N/A",0,0,0.99511000000000005,-4.8300000000000001E-3,9.7189999999999999E-2,-1.6820000000000002E-2,0,4557,{"$f":"IF((G1976*ALBE+H1976*ALDE+I1976*AT+J1976*BE+K1976*DE+L1976*FR+M1976*NL)>(N1976),1,0)","v":0},null,{"$f":"IF((C$6*G1976+D$6*H1976+E$6*I1976+F$6*J1976+G$6*K1976+H$6*L1976+I$6*M1976)>(N1976),1,0)","v":0}]
[null,2427,"[D2-AT] Pleinting - St. Peter 258 [DIR] [AT]_LTA_corner#06_#11","10T-AT-DE-000037","[D2-D2] Pirach - Pleinting 257","11TD2L000000201H",0,0,-0.99578999999999995,-9.171E-2,0,0,0,5025,{"$f":"IF((G1977*ALBE+H1977*ALDE+I1977*AT+J1977*BE+K1977*DE+L1977*FR+M1977*NL)>(N1977),1,0)","v":0},null,{"$f":"IF((C$6*G1977+D$6*H1977+E$6*I1977+F$6*J1977+G$6*K1977+H$6*L1977+I$6*M1977)>(N1977),1,0)","v":0}]
[null,2428,"[D7-FR] Ensdorf - Vigy 2S [OPP] [D7]_LTA_corner#30_#38","10T-DE-FR-000068","[D7-D7] Ensdorf - Uchtelfangen Taubental N","11T0-0000-0604-N",0,0,2.768E-2,0.37226999999999999,-0.18264,0.90956000000000004,0,3881,{"$f":"IF((G1978*ALBE+H1978*ALDE+I1978*AT+J1978*BE+K1978*DE+L1978*FR+M1978*NL)>(N1978),1,0)","v":0},null,{"$f":"IF((C$6*G1978+D$6*H1978+E$6*I1978+F$6*J1978+G$6*K1978+H$6*L1978+I$6*M1978)>(N1978),1,0)","v":0}]
[null,2429,"[D2-AT] Pleinting - St. Peter 258 [DIR] [D2]_LTA_corner#01_#15","10T-AT-DE-000037","[D2-AT] Y - St. Peter (- Altheim - Simbach) 234/230","10T-AT-DE-000045",0,0,-0.99726000000000004,4.5060000000000003E-2,0,-5.8590000000000003E-2,0,4956,{"$f":"IF((G1979*ALBE+H1979*ALDE+I1979*AT+J1979*BE+K1979*DE+L1979*FR+M1979*NL)>(N1979),1,0)","v":0},null,{"$f":"IF((C$6*G1979+D$6*H1979+E$6*I1979+F$6*J1979+G$6*K1979+H$6*L1979+I$6*M1979)>(N1979),1,0)","v":0}]
[null,2430,"[D2-AT] Pleinting - St. Peter 258 [DIR] [AT]_LTA_corner#12_#16","10T-AT-DE-000037","[D2-D2] Pirach - Pleinting 257","11TD2L000000201H",0,0,-0.99580000000000002,-2.14E-3,0,9.1560000000000002E-2,0,5085,{"$f":"IF((G1980*ALBE+H1980*ALDE+I1980*AT+J1980*BE+K1980*DE+L1980*FR+M1980*NL)>(N1980),1,0)","v":0},null,{"$f":"IF((C$6*G1980+D$6*H1980+E$6*I1980+F$6*J1980+G$6*K1980+H$6*L1980+I$6*M1980)>(N1980),1,0)","v":0}]
[null,2431,"[D2-AT] Pleinting - St. Peter 258 [DIR] [AT]_LTA_corner#04_#6","10T-AT-DE-000037","[D2-D2] Pirach - Pleinting 257","11TD2L000000201H",0,0,-0.98734999999999995,-3.5000000000000001E-3,0.15629000000000001,-2.647E-2,0,5881,{"$f":"IF((G1981*ALBE+H1981*ALDE+I1981*AT+J1981*BE+K1981*DE+L1981*FR+M1981*NL)>(N1981),1,0)","v":0},null,{"$f":"IF((C$6*G1981+D$6*H1981+E$6*I1981+F$6*J1981+G$6*K1981+H$6*L1981+I$6*M1981)>(N1981),1,0)","v":0}]
[null,2432,"[D2-AT] Pleinting - St. Peter 258 [DIR] [AT]_LTA_corner#03_#1","10T-AT-DE-000037","[D2-D2] Pirach - Pleinting 257","11TD2L000000201H",0,0,-0.99812000000000001,4.299E-2,7.9799999999999992E-3,4.299E-2,0,4933,{"$f":"IF((G1982*ALBE+H1982*ALDE+I1982*AT+J1982*BE+K1982*DE+L1982*FR+M1982*NL)>(N1982),1,0)","v":0},null,{"$f":"IF((C$6*G1982+D$6*H1982+E$6*I1982+F$6*J1982+G$6*K1982+H$6*L1982+I$6*M1982)>(N1982),1,0)","v":0}]
[null,2433,"[BE-BE] PST_ZANDV_2 [N - S]_LTA_corner#13_#0","22T20161020---56","[NL-BE] Rilland - Zandvliet 380 White/30","10T-BE-NL-00004C",0,0,-0.35196,-0.72197,-0.31119000000000002,-0.50799000000000005,0,1726,{"$f":"IF((G1983*ALBE+H1983*ALDE+I1983*AT+J1983*BE+K1983*DE+L1983*FR+M1983*NL)>(N1983),1,0)","v":0},null,{"$f":"IF((C$6*G1983+D$6*H1983+E$6*I1983+F$6*J1983+G$6*K1983+H$6*L1983+I$6*M1983)>(N1983),1,0)","v":0}]
[null,2434,"[D7-D7] Gronau - Hanekenfaehr Gronau W [OPP]_LTA_corner#05_#18","11T0-0000-0617-A","[D7-D7] Y - Hanekenfaehr - Kottigerhook - Kusenhorst Muensterland","11T0-0000-0679-H",0,0,0.52424000000000004,0.12361,0.78408,0.30839,0,2967,{"$f":"IF((G1984*ALBE+H1984*ALDE+I1984*AT+J1984*BE+K1984*DE+L1984*FR+M1984*NL)>(N1984),1,0)","v":0},null,{"$f":"IF((C$6*G1984+D$6*H1984+E$6*I1984+F$6*J1984+G$6*K1984+H$6*L1984+I$6*M1984)>(N1984),1,0)","v":0}]
[null,2435,"[D2-AT] Pleinting - St. Peter 258 [DIR] [AT]_LTA_corner#12_#8","10T-AT-DE-000037","[D2-D2] Pirach - Pleinting 257","11TD2L000000201H",0,0,-0.99529000000000001,-3.5200000000000001E-3,7.9500000000000005E-3,9.6540000000000001E-2,0,5137,{"$f":"IF((G1985*ALBE+H1985*ALDE+I1985*AT+J1985*BE+K1985*DE+L1985*FR+M1985*NL)>(N1985),1,0)","v":0},null,{"$f":"IF((C$6*G1985+D$6*H1985+E$6*I1985+F$6*J1985+G$6*K1985+H$6*L1985+I$6*M1985)>(N1985),1,0)","v":0}]
[null,2436,"[BE-FR] Achene - Lonny 380.19 [OPP] [BE]","10T-BE-FR-000015","[BE-BE] Avelgem - Horta 380.102","22T20161020---1E",-0.31168000000000001,-6.8479999999999999E-2,2.0709999999999999E-2,-0.30773,-3.8059999999999997E-2,0.14871000000000001,-0.16608000000000001,2028,{"$f":"IF((G1986*ALBE+H1986*ALDE+I1986*AT+J1986*BE+K1986*DE+L1986*FR+M1986*NL)>(N1986),1,0)","v":0},null,{"$f":"IF((C$6*G1986+D$6*H1986+E$6*I1986+F$6*J1986+G$6*K1986+H$6*L1986+I$6*M1986)>(N1986),1,0)","v":0}]
[null,2437,"[D2-AT] Pleinting - St. Peter 258 [DIR] [AT]_LTA_corner#06_#12","10T-AT-DE-000037","[D2-D2] Pirach - Pleinting 257","11TD2L000000201H",0,0,-0.99585999999999997,-9.0240000000000001E-2,7.9600000000000001E-3,7.9600000000000001E-3,0,5083,{"$f":"IF((G1987*ALBE+H1987*ALDE+I1987*AT+J1987*BE+K1987*DE+L1987*FR+M1987*NL)>(N1987),1,0)","v":0},null,{"$f":"IF((C$6*G1987+D$6*H1987+E$6*I1987+F$6*J1987+G$6*K1987+H$6*L1987+I$6*M1987)>(N1987),1,0)","v":0}]
[null,2438,"[D2-AT] Pleinting - St. Peter 258 [DIR] [D2]_LTA_corner#04_#5","10T-AT-DE-000037","[D2-AT] Y - St. Peter (- Altheim - Simbach) 234/230","10T-AT-DE-000045",0,0,-0.97192000000000001,-7.1510000000000004E-2,3.3099999999999997E-2,-0.22173000000000001,0,5280,{"$f":"IF((G1988*ALBE+H1988*ALDE+I1988*AT+J1988*BE+K1988*DE+L1988*FR+M1988*NL)>(N1988),1,0)","v":0},null,{"$f":"IF((C$6*G1988+D$6*H1988+E$6*I1988+F$6*J1988+G$6*K1988+H$6*L1988+I$6*M1988)>(N1988),1,0)","v":0}]
[null,2439,"[D2-NL] Diele - Meeden 380 Black [DIR] [NL]_LTA_corner#05_#1","10T-DE-NL-00001V","[D2-NL] Diele - Meeden 380 White","10T-DE-NL-00002T",0,0,0.56322000000000005,0.21473,0.68106,0.41574,0,2045,{"$f":"IF((G1989*ALBE+H1989*ALDE+I1989*AT+J1989*BE+K1989*DE+L1989*FR+M1989*NL)>(N1989),1,0)","v":0},null,{"$f":"IF((C$6*G1989+D$6*H1989+E$6*I1989+F$6*J1989+G$6*K1989+H$6*L1989+I$6*M1989)>(N1989),1,0)","v":0}]
[null,2440,"[D2-AT] Pleinting - St. Peter 258 [DIR] [D2]_LTA_corner#01_#23","10T-AT-DE-000037","[D2-AT] Y - St. Peter (- Altheim - Simbach) 234/230","10T-AT-DE-000045",0,0,-0.96365000000000001,0,0.23662,-0.12404,0,6477,{"$f":"IF((G1990*ALBE+H1990*ALDE+I1990*AT+J1990*BE+K1990*DE+L1990*FR+M1990*NL)>(N1990),1,0)","v":0},null,{"$f":"IF((C$6*G1990+D$6*H1990+E$6*I1990+F$6*J1990+G$6*K1990+H$6*L1990+I$6*M1990)>(N1990),1,0)","v":0}]
[null,2441,"[D2-AT] Pleinting - St. Peter 258 [DIR] [AT]_LTA_corner#14_#19","10T-AT-DE-000037","[D2-D2] Pirach - Pleinting 257","11TD2L000000201H",0,0,-0.99631000000000003,0,-1.225E-2,8.498E-2,0,5036,{"$f":"IF((G1991*ALBE+H1991*ALDE+I1991*AT+J1991*BE+K1991*DE+L1991*FR+M1991*NL)>(N1991),1,0)","v":0},null,{"$f":"IF((C$6*G1991+D$6*H1991+E$6*I1991+F$6*J1991+G$6*K1991+H$6*L1991+I$6*M1991)>(N1991),1,0)","v":0}]
[null,2442,"[D7-FR] Ensdorf - Vigy 2S [OPP] [D7]_LTA_corner#30_#36","10T-DE-FR-000068","[D7-D7] Ensdorf - Uchtelfangen Taubental N","11T0-0000-0604-N",0,0,1.1169999999999999E-2,0.37775999999999998,-0.20663999999999999,0.90247999999999995,0,3955,{"$f":"IF((G1992*ALBE+H1992*ALDE+I1992*AT+J1992*BE+K1992*DE+L1992*FR+M1992*NL)>(N1992),1,0)","v":0},null,{"$f":"IF((C$6*G1992+D$6*H1992+E$6*I1992+F$6*J1992+G$6*K1992+H$6*L1992+I$6*M1992)>(N1992),1,0)","v":0}]
[null,2443,"[D2-AT] Pleinting - St. Peter 258 [DIR] [AT]_LTA_corner#14_#18","10T-AT-DE-000037","[D2-D2] Pirach - Pleinting 257","11TD2L000000201H",0,0,-0.99597000000000002,0,-8.2860000000000003E-2,3.4169999999999999E-2,0,4731,{"$f":"IF((G1993*ALBE+H1993*ALDE+I1993*AT+J1993*BE+K1993*DE+L1993*FR+M1993*NL)>(N1993),1,0)","v":0},null,{"$f":"IF((C$6*G1993+D$6*H1993+E$6*I1993+F$6*J1993+G$6*K1993+H$6*L1993+I$6*M1993)>(N1993),1,0)","v":0}]
[null,2444,"[D2-AT] Pleinting - St. Peter 258 [DIR] [D2]_LTA_corner#01_#4","10T-AT-DE-000037","[D2-AT] Y - St. Peter (- Altheim - Simbach) 234/230","10T-AT-DE-000045",0,0,-0.99987000000000004,1.6160000000000001E-2,0,0,0,4840,{"$f":"IF((G1994*ALBE+H1994*ALDE+I1994*AT+J1994*BE+K1994*DE+L1994*FR+M1994*NL)>(N1994),1,0)","v":0},null,{"$f":"IF((C$6*G1994+D$6*H1994+E$6*I1994+F$6*J1994+G$6*K1994+H$6*L1994+I$6*M1994)>(N1994),1,0)","v":0}]
[null,2445,"[D2-AT] Y - St. Peter (- Altheim - Simbach) 234/230 [OPP] [D2]","10T-AT-DE-000045","[D2-AT] Pirach - St. Peter 256","10T-AT-DE-000029",-4.478E-2,-4.6179999999999999E-2,2.8320000000000001E-2,-4.453E-2,-4.5760000000000002E-2,-4.147E-2,-4.5400000000000003E-2,423,{"$f":"IF((G1995*ALBE+H1995*ALDE+I1995*AT+J1995*BE+K1995*DE+L1995*FR+M1995*NL)>(N1995),1,0)","v":0},null,{"$f":"IF((C$6*G1995+D$6*H1995+E$6*I1995+F$6*J1995+G$6*K1995+H$6*L1995+I$6*M1995)>(N1995),1,0)","v":0}]
[null,2446,"[D2-AT] Pleinting - St. Peter 258 [DIR] [AT]_LTA_corner#06_#2","10T-AT-DE-000037","[D2-D2] Pirach - Pleinting 257","11TD2L000000201H",0,0,-0.99287999999999998,-0.11609,0,-2.6620000000000001E-2,0,5053,{"$f":"IF((G1996*ALBE+H1996*ALDE+I1996*AT+J1996*BE+K1996*DE+L1996*FR+M1996*NL)>(N1996),1,0)","v":0},null,{"$f":"IF((C$6*G1996+D$6*H1996+E$6*I1996+F$6*J1996+G$6*K1996+H$6*L1996+I$6*M1996)>(N1996),1,0)","v":0}]
[null,2447,"[D7-D7] Gronau - Hanekenfaehr Gronau W [OPP]_LTA_corner#05_#1","11T0-0000-0617-A","[D7-D7] Y - Hanekenfaehr - Kottigerhook - Kusenhorst Muensterland","11T0-0000-0679-H",0,0,0.52366999999999997,0.12374,0.78459000000000001,0.30802000000000002,0,2972,{"$f":"IF((G1997*ALBE+H1997*ALDE+I1997*AT+J1997*BE+K1997*DE+L1997*FR+M1997*NL)>(N1997),1,0)","v":0},null,{"$f":"IF((C$6*G1997+D$6*H1997+E$6*I1997+F$6*J1997+G$6*K1997+H$6*L1997+I$6*M1997)>(N1997),1,0)","v":0}]
[null,2448,"[D2-AT] Pleinting - St. Peter 258 [DIR] [D2]_LTA_corner#04_#6","10T-AT-DE-000037","[D2-AT] Y - St. Peter (- Altheim - Simbach) 234/230","10T-AT-DE-000045",0,0,-0.97335000000000005,-7.714E-2,0,-0.21598000000000001,0,5050,{"$f":"IF((G1998*ALBE+H1998*ALDE+I1998*AT+J1998*BE+K1998*DE+L1998*FR+M1998*NL)>(N1998),1,0)","v":0},null,{"$f":"IF((C$6*G1998+D$6*H1998+E$6*I1998+F$6*J1998+G$6*K1998+H$6*L1998+I$6*M1998)>(N1998),1,0)","v":0}]
[null,2449,"[D2-AT] Pleinting - St. Peter 258 [DIR] [AT]_LTA_corner#14_#0","10T-AT-DE-000037","[D2-D2] Pirach - Pleinting 257","11TD2L000000201H",0,0,-0.99597000000000002,1.6369999999999999E-2,-7.0599999999999996E-2,5.2789999999999997E-2,0,4796,{"$f":"IF((G1999*ALBE+H1999*ALDE+I1999*AT+J1999*BE+K1999*DE+L1999*FR+M1999*NL)>(N1999),1,0)","v":0},null,{"$f":"IF((C$6*G1999+D$6*H1999+E$6*I1999+F$6*J1999+G$6*K1999+H$6*L1999+I$6*M1999)>(N1999),1,0)","v":0}]
[null,2450,"[AT-AT] Westtirol Transformer WTRHU41 [OPP]_LTA_corner#20_#6","14T-38220-WT041O","BASECASE","N/A",0,0,0.98477999999999999,-1.9939999999999999E-2,0.13616,-0.10616,0,4546,{"$f":"IF((G2000*ALBE+H2000*ALDE+I2000*AT+J2000*BE+K2000*DE+L2000*FR+M2000*NL)>(N2000),1,0)","v":0},null,{"$f":"IF((C$6*G2000+D$6*H2000+E$6*I2000+F$6*J2000+G$6*K2000+H$6*L2000+I$6*M2000)>(N2000),1,0)","v":0}]
[null,2451,"[D2-AT] Pleinting - St. Peter 258 [DIR] [D2]_LTA_corner#01_#17","10T-AT-DE-000037","[D2-AT] Y - St. Peter (- Altheim - Simbach) 234/230","10T-AT-DE-000045",0,0,-0.97646999999999995,0,0.21565999999999999,0,0,6196,{"$f":"IF((G2001*ALBE+H2001*ALDE+I2001*AT+J2001*BE+K2001*DE+L2001*FR+M2001*NL)>(N2001),1,0)","v":0},null,{"$f":"IF((C$6*G2001+D$6*H2001+E$6*I2001+F$6*J2001+G$6*K2001+H$6*L2001+I$6*M2001)>(N2001),1,0)","v":0}]
[null,2452,"[D2-AT] Pleinting - St. Peter 258 [DIR] [D2]_LTA_corner#15_#2","10T-AT-DE-000037","[D2-AT] Y - St. Peter (- Altheim - Simbach) 234/230","10T-AT-DE-000045",0,0,-0.93284999999999996,-0.13919000000000001,-0.24615000000000001,-0.22320000000000001,0,3834,{"$f":"IF((G2002*ALBE+H2002*ALDE+I2002*AT+J2002*BE+K2002*DE+L2002*FR+M2002*NL)>(N2002),1,0)","v":0},null,{"$f":"IF((C$6*G2002+D$6*H2002+E$6*I2002+F$6*J2002+G$6*K2002+H$6*L2002+I$6*M2002)>(N2002),1,0)","v":0}]
[null,2453,"[D2-AT] Pleinting - St. Peter 258 [DIR] [AT]_LTA_corner#11_#1","10T-AT-DE-000037","[D2-D2] Pirach - Pleinting 257","11TD2L000000201H",0,0,-0.99731999999999998,3.5369999999999999E-2,-5.3409999999999999E-2,3.5369999999999999E-2,0,4765,{"$f":"IF((G2003*ALBE+H2003*ALDE+I2003*AT+J2003*BE+K2003*DE+L2003*FR+M2003*NL)>(N2003),1,0)","v":0},null,{"$f":"IF((C$6*G2003+D$6*H2003+E$6*I2003+F$6*J2003+G$6*K2003+H$6*L2003+I$6*M2003)>(N2003),1,0)","v":0}]
[null,2454,"[BE-FR] Achene - Lonny 380.19 [DIR] [BE]_LTA_corner#02_#18","10T-BE-FR-000015","[BE-BE] Avelgem - Horta 380.102","22T20161020---1E",0,0,-0.40448000000000001,0.58311000000000002,-0.29285,-0.64078999999999997,0,2382,{"$f":"IF((G2004*ALBE+H2004*ALDE+I2004*AT+J2004*BE+K2004*DE+L2004*FR+M2004*NL)>(N2004),1,0)","v":0},null,{"$f":"IF((C$6*G2004+D$6*H2004+E$6*I2004+F$6*J2004+G$6*K2004+H$6*L2004+I$6*M2004)>(N2004),1,0)","v":0}]
[null,2455,"[D2-AT] Pleinting - St. Peter 258 [DIR] [AT]_LTA_corner#04_#14","10T-AT-DE-000037","[D2-D2] Pirach - Pleinting 257","11TD2L000000201H",0,0,-0.99051999999999996,-3.5100000000000001E-3,0,-0.13736000000000001,0,4995,{"$f":"IF((G2005*ALBE+H2005*ALDE+I2005*AT+J2005*BE+K2005*DE+L2005*FR+M2005*NL)>(N2005),1,0)","v":0},null,{"$f":"IF((C$6*G2005+D$6*H2005+E$6*I2005+F$6*J2005+G$6*K2005+H$6*L2005+I$6*M2005)>(N2005),1,0)","v":0}]
[null,2456,"[BE-BE] PST_ZANDV_2 [N - S]_LTA_corner#13_#9","22T20161020---56","[NL-BE] Rilland - Zandvliet 380 White/30","10T-BE-NL-00004C",0,0,-0.36788999999999999,-0.71162000000000003,-0.32794000000000001,-0.50070999999999999,0,1708,{"$f":"IF((G2006*ALBE+H2006*ALDE+I2006*AT+J2006*BE+K2006*DE+L2006*FR+M2006*NL)>(N2006),1,0)","v":0},null,{"$f":"IF((C$6*G2006+D$6*H2006+E$6*I2006+F$6*J2006+G$6*K2006+H$6*L2006+I$6*M2006)>(N2006),1,0)","v":0}]
[null,2457,"[AT-AT] Westtirol Transformer WTRHU41 [OPP]_LTA_corner#17_#6","14T-38220-WT041O","BASECASE","N/A",0,0,0.99145000000000005,0,0.11402,-6.3390000000000002E-2,0,4567,{"$f":"IF((G2007*ALBE+H2007*ALDE+I2007*AT+J2007*BE+K2007*DE+L2007*FR+M2007*NL)>(N2007),1,0)","v":0},null,{"$f":"IF((C$6*G2007+D$6*H2007+E$6*I2007+F$6*J2007+G$6*K2007+H$6*L2007+I$6*M2007)>(N2007),1,0)","v":0}]
[null,2458,"[D2-AT] Pleinting - St. Peter 258 [DIR] [D2]_LTA_corner#11_#4","10T-AT-DE-000037","[D2-AT] Y - St. Peter (- Altheim - Simbach) 234/230","10T-AT-DE-000045",0,0,-0.99990000000000001,0,-1.4489999999999999E-2,0,0,4790,{"$f":"IF((G2008*ALBE+H2008*ALDE+I2008*AT+J2008*BE+K2008*DE+L2008*FR+M2008*NL)>(N2008),1,0)","v":0},null,{"$f":"IF((C$6*G2008+D$6*H2008+E$6*I2008+F$6*J2008+G$6*K2008+H$6*L2008+I$6*M2008)>(N2008),1,0)","v":0}]
[null,2459,"[BE-BE] PST_ZANDV_2 [N - S]_LTA_corner#13_#2","22T20161020---56","[NL-BE] Rilland - Zandvliet 380 White/30","10T-BE-NL-00004C",0,0,-0.30092000000000002,-0.81145999999999996,-0.23932,-0.44011,0,2067,{"$f":"IF((G2009*ALBE+H2009*ALDE+I2009*AT+J2009*BE+K2009*DE+L2009*FR+M2009*NL)>(N2009),1,0)","v":0},null,{"$f":"IF((C$6*G2009+D$6*H2009+E$6*I2009+F$6*J2009+G$6*K2009+H$6*L2009+I$6*M2009)>(N2009),1,0)","v":0}]
[null,2460,"ALBE_export","N/A","BASECASE","N/A",1,0,0,0,0,0,0,0,{"$f":"IF((G2010*ALBE+H2010*ALDE+I2010*AT+J2010*BE+K2010*DE+L2010*FR+M2010*NL)>(N2010),1,0)","v":0},null,{"$f":"IF((C$6*G2010+D$6*H2010+E$6*I2010+F$6*J2010+G$6*K2010+H$6*L2010+I$6*M2010)>(N2010),1,0)","v":0}]
[null,2461,"[AT-AT] Westtirol Transformer WTRHU41 [OPP]_LTA_corner#17_#7","14T-38220-WT041O","BASECASE","N/A",0,0,0.99041000000000001,0,0.11973,-6.8949999999999997E-2,0,4555,{"$f":"IF((G2011*ALBE+H2011*ALDE+I2011*AT+J2011*BE+K2011*DE+L2011*FR+M2011*NL)>(N2011),1,0)","v":0},null,{"$f":"IF((C$6*G2011+D$6*H2011+E$6*I2011+F$6*J2011+G$6*K2011+H$6*L2011+I$6*M2011)>(N2011),1,0)","v":0}]
[null,2462,"[D2-AT] Pleinting - St. Peter 258 [DIR] [D2]_LTA_corner#06_#15","10T-AT-DE-000037","[D2-AT] Y - St. Peter (- Altheim - Simbach) 234/230","10T-AT-DE-000045",0,0,-0.99551999999999996,-7.4230000000000004E-2,0,-5.849E-2,0,4940,{"$f":"IF((G2012*ALBE+H2012*ALDE+I2012*AT+J2012*BE+K2012*DE+L2012*FR+M2012*NL)>(N2012),1,0)","v":0},null,{"$f":"IF((C$6*G2012+D$6*H2012+E$6*I2012+F$6*J2012+G$6*K2012+H$6*L2012+I$6*M2012)>(N2012),1,0)","v":0}]
[null,2463,"[D2-AT] Pleinting - St. Peter 258 [DIR] [AT]_LTA_corner#01_#11","10T-AT-DE-000037","[D2-D2] Pirach - Pleinting 257","11TD2L000000201H",0,0,-0.99843000000000004,3.2320000000000002E-2,3.2320000000000002E-2,3.2320000000000002E-2,0,5024,{"$f":"IF((G2013*ALBE+H2013*ALDE+I2013*AT+J2013*BE+K2013*DE+L2013*FR+M2013*NL)>(N2013),1,0)","v":0},null,{"$f":"IF((C$6*G2013+D$6*H2013+E$6*I2013+F$6*J2013+G$6*K2013+H$6*L2013+I$6*M2013)>(N2013),1,0)","v":0}]
[null,2464,"[BE-BE] PST_ZANDV_2 [N - S]_LTA_corner#09_#6","22T20161020---56","[NL-BE] Rilland - Zandvliet 380 White/30","10T-BE-NL-00004C",0,0,-0.41234999999999999,-0.59804000000000002,-0.33862999999999999,-0.59804000000000002,0,1529,{"$f":"IF((G2014*ALBE+H2014*ALDE+I2014*AT+J2014*BE+K2014*DE+L2014*FR+M2014*NL)>(N2014),1,0)","v":0},null,{"$f":"IF((C$6*G2014+D$6*H2014+E$6*I2014+F$6*J2014+G$6*K2014+H$6*L2014+I$6*M2014)>(N2014),1,0)","v":0}]
[null,2465,"[D7-FR] Ensdorf - Vigy 2S [OPP] [D7]_LTA_corner#30_#43","10T-DE-FR-000068","[D7-D7] Ensdorf - Uchtelfangen Taubental N","11T0-0000-0604-N",0,0,3.474E-2,0.37107000000000001,-0.17435999999999999,0.91142999999999996,0,3860,{"$f":"IF((G2015*ALBE+H2015*ALDE+I2015*AT+J2015*BE+K2015*DE+L2015*FR+M2015*NL)>(N2015),1,0)","v":0},null,{"$f":"IF((C$6*G2015+D$6*H2015+E$6*I2015+F$6*J2015+G$6*K2015+H$6*L2015+I$6*M2015)>(N2015),1,0)","v":0}]
[null,2466,"[D2-NL] Diele - Meeden 380 Black [DIR] [NL]_LTA_corner#05_#20","10T-DE-NL-00001V","[D2-NL] Diele - Meeden 380 White","10T-DE-NL-00002T",0,0,0.56194,0.24479000000000001,0.66518999999999995,0.42642000000000002,0,1916,{"$f":"IF((G2016*ALBE+H2016*ALDE+I2016*AT+J2016*BE+K2016*DE+L2016*FR+M2016*NL)>(N2016),1,0)","v":0},null,{"$f":"IF((C$6*G2016+D$6*H2016+E$6*I2016+F$6*J2016+G$6*K2016+H$6*L2016+I$6*M2016)>(N2016),1,0)","v":0}]
[null,2467,"[D2-AT] Pleinting - St. Peter 258 [DIR] [D2]_LTA_corner#01_#1","10T-AT-DE-000037","[D2-AT] Y - St. Peter (- Altheim - Simbach) 234/230","10T-AT-DE-000045",0,0,-0.99953999999999998,1.754E-2,1.754E-2,1.754E-2,0,4933,{"$f":"IF((G2017*ALBE+H2017*ALDE+I2017*AT+J2017*BE+K2017*DE+L2017*FR+M2017*NL)>(N2017),1,0)","v":0},null,{"$f":"IF((C$6*G2017+D$6*H2017+E$6*I2017+F$6*J2017+G$6*K2017+H$6*L2017+I$6*M2017)>(N2017),1,0)","v":0}]
[null,2468,"[D2-AT] Pleinting - St. Peter 258 [DIR] [D2]_LTA_corner#09_#19","10T-AT-DE-000037","[D2-AT] Y - St. Peter (- Altheim - Simbach) 234/230","10T-AT-DE-000045",0,0,-0.99972000000000005,-1.354E-2,-1.354E-2,-1.354E-2,0,4783,{"$f":"IF((G2018*ALBE+H2018*ALDE+I2018*AT+J2018*BE+K2018*DE+L2018*FR+M2018*NL)>(N2018),1,0)","v":0},null,{"$f":"IF((C$6*G2018+D$6*H2018+E$6*I2018+F$6*J2018+G$6*K2018+H$6*L2018+I$6*M2018)>(N2018),1,0)","v":0}]
[null,2469,"[AT-AT] Westtirol Transformer WTRHU41 [OPP]_LTA_corner#17_#3","14T-38220-WT041O","BASECASE","N/A",0,0,0.98912999999999995,0,0.13675999999999999,-5.4030000000000002E-2,0,4479,{"$f":"IF((G2019*ALBE+H2019*ALDE+I2019*AT+J2019*BE+K2019*DE+L2019*FR+M2019*NL)>(N2019),1,0)","v":0},null,{"$f":"IF((C$6*G2019+D$6*H2019+E$6*I2019+F$6*J2019+G$6*K2019+H$6*L2019+I$6*M2019)>(N2019),1,0)","v":0}]
[null,2470,"[D2-AT] Pleinting - St. Peter 258 [DIR] [AT]_LTA_corner#01_#9","10T-AT-DE-000037","[D2-D2] Pirach - Pleinting 257","11TD2L000000201H",0,0,-0.99322999999999995,0,0.11620999999999999,0,0,5590,{"$f":"IF((G2020*ALBE+H2020*ALDE+I2020*AT+J2020*BE+K2020*DE+L2020*FR+M2020*NL)>(N2020),1,0)","v":0},null,{"$f":"IF((C$6*G2020+D$6*H2020+E$6*I2020+F$6*J2020+G$6*K2020+H$6*L2020+I$6*M2020)>(N2020),1,0)","v":0}]
[null,2471,"ALBE_import","N/A","BASECASE","N/A",-1,0,0,0,0,0,0,0,{"$f":"IF((G2021*ALBE+H2021*ALDE+I2021*AT+J2021*BE+K2021*DE+L2021*FR+M2021*NL)>(N2021),1,0)","v":0},null,{"$f":"IF((C$6*G2021+D$6*H2021+E$6*I2021+F$6*J2021+G$6*K2021+H$6*L2021+I$6*M2021)>(N2021),1,0)","v":0}]
[null,2472,"[D2-AT] Pleinting - St. Peter 258 [DIR] [AT]_LTA_corner#01_#4","10T-AT-DE-000037","[D2-D2] Pirach - Pleinting 257","11TD2L000000201H",0,0,-0.99685000000000001,7.8469999999999998E-2,7.9699999999999997E-3,7.9699999999999997E-3,0,4944,{"$f":"IF((G2022*ALBE+H2022*ALDE+I2022*AT+J2022*BE+K2022*DE+L2022*FR+M2022*NL)>(N2022),1,0)","v":0},null,{"$f":"IF((C$6*G2022+D$6*H2022+E$6*I2022+F$6*J2022+G$6*K2022+H$6*L2022+I$6*M2022)>(N2022),1,0)","v":0}]
[null,2473,"[D2-AT] Pleinting - St. Peter 258 [DIR] [D2]_LTA_corner#01_#2","10T-AT-DE-000037","[D2-AT] Y - St. Peter (- Altheim - Simbach) 234/230","10T-AT-DE-000045",0,0,-0.99756,6.1249999999999999E-2,7.3200000000000001E-3,-3.2550000000000003E-2,0,4986,{"$f":"IF((G2023*ALBE+H2023*ALDE+I2023*AT+J2023*BE+K2023*DE+L2023*FR+M2023*NL)>(N2023),1,0)","v":0},null,{"$f":"IF((C$6*G2023+D$6*H2023+E$6*I2023+F$6*J2023+G$6*K2023+H$6*L2023+I$6*M2023)>(N2023),1,0)","v":0}]
[null,2474,"[D2-AT] Pleinting - St. Peter 258 [DIR] [AT]_LTA_corner#01_#1","10T-AT-DE-000037","[D2-D2] Pirach - Pleinting 257","11TD2L000000201H",0,0,-0.99285000000000001,0.11609,7.9299999999999995E-3,-2.6620000000000001E-2,0,5025,{"$f":"IF((G2024*ALBE+H2024*ALDE+I2024*AT+J2024*BE+K2024*DE+L2024*FR+M2024*NL)>(N2024),1,0)","v":0},null,{"$f":"IF((C$6*G2024+D$6*H2024+E$6*I2024+F$6*J2024+G$6*K2024+H$6*L2024+I$6*M2024)>(N2024),1,0)","v":0}]
[null,2475,"[AT-AT] Westtirol Transformer WTRHU41 [OPP]_LTA_corner#17_#0","14T-38220-WT041O","BASECASE","N/A",0,0,0.98619999999999997,0,0.15062999999999999,-6.8659999999999999E-2,0,4450,{"$f":"IF((G2025*ALBE+H2025*ALDE+I2025*AT+J2025*BE+K2025*DE+L2025*FR+M2025*NL)>(N2025),1,0)","v":0},null,{"$f":"IF((C$6*G2025+D$6*H2025+E$6*I2025+F$6*J2025+G$6*K2025+H$6*L2025+I$6*M2025)>(N2025),1,0)","v":0}]
[null,2476,"[D2-AT] Pleinting - St. Peter 258 [DIR] [D2]_LTA_corner#01_#5","10T-AT-DE-000037","[D2-AT] Y - St. Peter (- Altheim - Simbach) 234/230","10T-AT-DE-000045",0,0,-0.71869000000000005,0.28420000000000001,0.56740000000000002,0.28420000000000001,0,7272,{"$f":"IF((G2026*ALBE+H2026*ALDE+I2026*AT+J2026*BE+K2026*DE+L2026*FR+M2026*NL)>(N2026),1,0)","v":0},null,{"$f":"IF((C$6*G2026+D$6*H2026+E$6*I2026+F$6*J2026+G$6*K2026+H$6*L2026+I$6*M2026)>(N2026),1,0)","v":0}]
[null,2477,"[D2-AT] Pleinting - St. Peter 258 [DIR] [D2]_LTA_corner#15_#0","10T-AT-DE-000037","[D2-AT] Y - St. Peter (- Altheim - Simbach) 234/230","10T-AT-DE-000045",0,0,-0.92803999999999998,-0.14405000000000001,-0.26378000000000001,-0.22003,0,3776,{"$f":"IF((G2027*ALBE+H2027*ALDE+I2027*AT+J2027*BE+K2027*DE+L2027*FR+M2027*NL)>(N2027),1,0)","v":0},null,{"$f":"IF((C$6*G2027+D$6*H2027+E$6*I2027+F$6*J2027+G$6*K2027+H$6*L2027+I$6*M2027)>(N2027),1,0)","v":0}]
[null,2478,"[D7-FR] Ensdorf - Vigy 2S [OPP] [D7]_LTA_corner#30_#22","10T-DE-FR-000068","[D7-D7] Ensdorf - Uchtelfangen Taubental N","11T0-0000-0604-N",0,0,5.3069999999999999E-2,0.37180000000000002,-0.15576999999999999,0.91361000000000003,0,3814,{"$f":"IF((G2028*ALBE+H2028*ALDE+I2028*AT+J2028*BE+K2028*DE+L2028*FR+M2028*NL)>(N2028),1,0)","v":0},null,{"$f":"IF((C$6*G2028+D$6*H2028+E$6*I2028+F$6*J2028+G$6*K2028+H$6*L2028+I$6*M2028)>(N2028),1,0)","v":0}]
[null,2479,"[AT-AT] Westtirol Transformer WTRHU41 [OPP]_LTA_corner#17_#1","14T-38220-WT041O","BASECASE","N/A",0,0,0.98604000000000003,0,0.14796999999999999,-7.6310000000000003E-2,0,4469,{"$f":"IF((G2029*ALBE+H2029*ALDE+I2029*AT+J2029*BE+K2029*DE+L2029*FR+M2029*NL)>(N2029),1,0)","v":0},null,{"$f":"IF((C$6*G2029+D$6*H2029+E$6*I2029+F$6*J2029+G$6*K2029+H$6*L2029+I$6*M2029)>(N2029),1,0)","v":0}]
[null,2480,"[BE-BE] PST_ZANDV_2 [N - S]_LTA_corner#09_#8","22T20161020---56","[NL-BE] Rilland - Zandvliet 380 White/30","10T-BE-NL-00004C",0,0,-0.40995999999999999,-0.60353999999999997,-0.32158999999999999,-0.60353999999999997,0,1603,{"$f":"IF((G2030*ALBE+H2030*ALDE+I2030*AT+J2030*BE+K2030*DE+L2030*FR+M2030*NL)>(N2030),1,0)","v":0},null,{"$f":"IF((C$6*G2030+D$6*H2030+E$6*I2030+F$6*J2030+G$6*K2030+H$6*L2030+I$6*M2030)>(N2030),1,0)","v":0}]
[null,2481,"[D7-D4] Hoheneck - Pulverdingen weiss [DIR] [D4]_LTA_corner#09_#0","11T-D4-D7-00014N","[D4-D7] Y - Herbertingen - Hoheneck - Metzingen schwarz","11TD40000A546-S0",0,0,-0.81732000000000005,-0.14524999999999999,-0.28327999999999998,-0.48024,0,3469,{"$f":"IF((G2031*ALBE+H2031*ALDE+I2031*AT+J2031*BE+K2031*DE+L2031*FR+M2031*NL)>(N2031),1,0)","v":0},null,{"$f":"IF((C$6*G2031+D$6*H2031+E$6*I2031+F$6*J2031+G$6*K2031+H$6*L2031+I$6*M2031)>(N2031),1,0)","v":0}]
[null,2482,"[D2-AT] Pleinting - St. Peter 258 [DIR] [D2]_LTA_corner#01_#0","10T-AT-DE-000037","[D2-AT] Y - St. Peter (- Altheim - Simbach) 234/230","10T-AT-DE-000045",0,0,-0.76512999999999998,0.27542,0.51271,0.27542,0,7122,{"$f":"IF((G2032*ALBE+H2032*ALDE+I2032*AT+J2032*BE+K2032*DE+L2032*FR+M2032*NL)>(N2032),1,0)","v":0},null,{"$f":"IF((C$6*G2032+D$6*H2032+E$6*I2032+F$6*J2032+G$6*K2032+H$6*L2032+I$6*M2032)>(N2032),1,0)","v":0}]
[null,2483,"[D7-D7] Gronau - Hanekenfaehr Gronau W [OPP]_LTA_corner#05_#26","11T0-0000-0617-A","[D7-D7] Y - Hanekenfaehr - Kottigerhook - Kusenhorst Muensterland","11T0-0000-0679-H",0,0,0.52395999999999998,0.12421,0.78449000000000002,0.30759999999999998,0,2969,{"$f":"IF((G2033*ALBE+H2033*ALDE+I2033*AT+J2033*BE+K2033*DE+L2033*FR+M2033*NL)>(N2033),1,0)","v":0},null,{"$f":"IF((C$6*G2033+D$6*H2033+E$6*I2033+F$6*J2033+G$6*K2033+H$6*L2033+I$6*M2033)>(N2033),1,0)","v":0}]
[null,2484,"[D2-AT] Pleinting - St. Peter 258 [DIR] [D2]_LTA_corner#05_#25","10T-AT-DE-000037","[D2-AT] Y - St. Peter (- Altheim - Simbach) 234/230","10T-AT-DE-000045",0,0,-0.97133000000000003,0,0.21856999999999999,9.3549999999999994E-2,0,6256,{"$f":"IF((G2034*ALBE+H2034*ALDE+I2034*AT+J2034*BE+K2034*DE+L2034*FR+M2034*NL)>(N2034),1,0)","v":0},null,{"$f":"IF((C$6*G2034+D$6*H2034+E$6*I2034+F$6*J2034+G$6*K2034+H$6*L2034+I$6*M2034)>(N2034),1,0)","v":0}]
[null,2485,"[D7-FR] Ensdorf - Vigy 2S [OPP] [D7]_LTA_corner#30_#48","10T-DE-FR-000068","[D7-D7] Ensdorf - Uchtelfangen Taubental N","11T0-0000-0604-N",0,0,1.538E-2,0.37207000000000001,-0.20238999999999999,0.90573999999999999,0,3959,{"$f":"IF((G2035*ALBE+H2035*ALDE+I2035*AT+J2035*BE+K2035*DE+L2035*FR+M2035*NL)>(N2035),1,0)","v":0},null,{"$f":"IF((C$6*G2035+D$6*H2035+E$6*I2035+F$6*J2035+G$6*K2035+H$6*L2035+I$6*M2035)>(N2035),1,0)","v":0}]
[null,2486,"[AT-AT] Westtirol Transformer WTRHU41 [OPP]_LTA_corner#20_#5","14T-38220-WT041O","BASECASE","N/A",0,0,0.98185999999999996,-2.479E-2,0.16594999999999999,-8.8260000000000005E-2,0,4422,{"$f":"IF((G2036*ALBE+H2036*ALDE+I2036*AT+J2036*BE+K2036*DE+L2036*FR+M2036*NL)>(N2036),1,0)","v":0},null,{"$f":"IF((C$6*G2036+D$6*H2036+E$6*I2036+F$6*J2036+G$6*K2036+H$6*L2036+I$6*M2036)>(N2036),1,0)","v":0}]
[null,2487,"[D2-NL] Diele - Meeden 380 Black [DIR] [NL]_LTA_corner#05_#32","10T-DE-NL-00001V","[D2-NL] Diele - Meeden 380 White","10T-DE-NL-00002T",0,0,0.54673000000000005,0.31089,0.65659000000000001,0.41632000000000002,0,1852,{"$f":"IF((G2037*ALBE+H2037*ALDE+I2037*AT+J2037*BE+K2037*DE+L2037*FR+M2037*NL)>(N2037),1,0)","v":0},null,{"$f":"IF((C$6*G2037+D$6*H2037+E$6*I2037+F$6*J2037+G$6*K2037+H$6*L2037+I$6*M2037)>(N2037),1,0)","v":0}]
[null,2488,"[D2-AT] Pleinting - St. Peter 258 [DIR] [AT]_LTA_corner#01_#7","10T-AT-DE-000037","[D2-D2] Pirach - Pleinting 257","11TD2L000000201H",0,0,-0.98804999999999998,0,0.15182999999999999,-2.649E-2,0,5853,{"$f":"IF((G2038*ALBE+H2038*ALDE+I2038*AT+J2038*BE+K2038*DE+L2038*FR+M2038*NL)>(N2038),1,0)","v":0},null,{"$f":"IF((C$6*G2038+D$6*H2038+E$6*I2038+F$6*J2038+G$6*K2038+H$6*L2038+I$6*M2038)>(N2038),1,0)","v":0}]
[null,2489,"[BE-FR] Achene - Lonny 380.19 [DIR] [BE]_LTA_corner#02_#6","10T-BE-FR-000015","[BE-BE] Avelgem - Horta 380.102","22T20161020---1E",0,0,-0.49402000000000001,0,-0.36860999999999999,-0.78744000000000003,0,2000,{"$f":"IF((G2039*ALBE+H2039*ALDE+I2039*AT+J2039*BE+K2039*DE+L2039*FR+M2039*NL)>(N2039),1,0)","v":0},null,{"$f":"IF((C$6*G2039+D$6*H2039+E$6*I2039+F$6*J2039+G$6*K2039+H$6*L2039+I$6*M2039)>(N2039),1,0)","v":0}]
[null,2490,"[BE-BE] PST_VANYK_2 [S - N]","22T-BE-PST--002U","[NL-BE] Maasbracht - Van Eyck 380 Black/27","10T-BE-NL-00002G",0.48526999999999998,-5.1180000000000003E-2,1.248E-2,0.27062999999999998,-2.2530000000000001E-2,9.4759999999999997E-2,-2.5760000000000002E-2,1112,{"$f":"IF((G2040*ALBE+H2040*ALDE+I2040*AT+J2040*BE+K2040*DE+L2040*FR+M2040*NL)>(N2040),1,0)","v":0},null,{"$f":"IF((C$6*G2040+D$6*H2040+E$6*I2040+F$6*J2040+G$6*K2040+H$6*L2040+I$6*M2040)>(N2040),1,0)","v":0}]
[null,2491,"[AT-AT] Westtirol Transformer WTRHU41 [OPP]_LTA_corner#17_#4","14T-38220-WT041O","BASECASE","N/A",0,0,0.98697999999999997,0,0.13647000000000001,-8.5180000000000006E-2,0,4519,{"$f":"IF((G2041*ALBE+H2041*ALDE+I2041*AT+J2041*BE+K2041*DE+L2041*FR+M2041*NL)>(N2041),1,0)","v":0},null,{"$f":"IF((C$6*G2041+D$6*H2041+E$6*I2041+F$6*J2041+G$6*K2041+H$6*L2041+I$6*M2041)>(N2041),1,0)","v":0}]
[null,2492,"[D2-AT] Pleinting - St. Peter 258 [DIR] [AT]_LTA_corner#01_#30","10T-AT-DE-000037","[D2-D2] Pirach - Pleinting 257","11TD2L000000201H",0,0,-0.99438000000000004,0.10421999999999999,0,-1.8620000000000001E-2,0,4951,{"$f":"IF((G2042*ALBE+H2042*ALDE+I2042*AT+J2042*BE+K2042*DE+L2042*FR+M2042*NL)>(N2042),1,0)","v":0},null,{"$f":"IF((C$6*G2042+D$6*H2042+E$6*I2042+F$6*J2042+G$6*K2042+H$6*L2042+I$6*M2042)>(N2042),1,0)","v":0}]
[null,2493,"[D7-FR] Ensdorf - Vigy 2S [OPP] [D7]_LTA_corner#30_#19","10T-DE-FR-000068","[D7-D7] Ensdorf - Uchtelfangen Taubental N","11T0-0000-0604-N",0,0,5.7389999999999997E-2,0.36514999999999997,-0.15698999999999999,0.91581999999999997,0,3858,{"$f":"IF((G2043*ALBE+H2043*ALDE+I2043*AT+J2043*BE+K2043*DE+L2043*FR+M2043*NL)>(N2043),1,0)","v":0},null,{"$f":"IF((C$6*G2043+D$6*H2043+E$6*I2043+F$6*J2043+G$6*K2043+H$6*L2043+I$6*M2043)>(N2043),1,0)","v":0}]
[null,2494,"[D2-NL] Diele - Meeden 380 Black [DIR] [NL]_LTA_corner#05_#16","10T-DE-NL-00001V","[D2-NL] Diele - Meeden 380 White","10T-DE-NL-00002T",0,0,0.56518999999999997,0.18966,0.70201999999999998,0.38957000000000003,0,2188,{"$f":"IF((G2044*ALBE+H2044*ALDE+I2044*AT+J2044*BE+K2044*DE+L2044*FR+M2044*NL)>(N2044),1,0)","v":0},null,{"$f":"IF((C$6*G2044+D$6*H2044+E$6*I2044+F$6*J2044+G$6*K2044+H$6*L2044+I$6*M2044)>(N2044),1,0)","v":0}]
[null,2495,"[D2-AT] Pleinting - St. Peter 258 [DIR] [D2]_LTA_corner#09_#14","10T-AT-DE-000037","[D2-AT] Y - St. Peter (- Altheim - Simbach) 234/230","10T-AT-DE-000045",0,0,-0.99246999999999996,-8.2849999999999993E-2,-3.5860000000000003E-2,-8.2849999999999993E-2,0,4770,{"$f":"IF((G2045*ALBE+H2045*ALDE+I2045*AT+J2045*BE+K2045*DE+L2045*FR+M2045*NL)>(N2045),1,0)","v":0},null,{"$f":"IF((C$6*G2045+D$6*H2045+E$6*I2045+F$6*J2045+G$6*K2045+H$6*L2045+I$6*M2045)>(N2045),1,0)","v":0}]
[null,2496,"[D2-NL] Diele - Meeden 380 Black [DIR] [NL]_LTA_corner#05_#24","10T-DE-NL-00001V","[D2-NL] Diele - Meeden 380 White","10T-DE-NL-00002T",0,0,0.54671999999999998,0.29224,0.67191000000000001,0.40526000000000001,0,1970,{"$f":"IF((G2046*ALBE+H2046*ALDE+I2046*AT+J2046*BE+K2046*DE+L2046*FR+M2046*NL)>(N2046),1,0)","v":0},null,{"$f":"IF((C$6*G2046+D$6*H2046+E$6*I2046+F$6*J2046+G$6*K2046+H$6*L2046+I$6*M2046)>(N2046),1,0)","v":0}]
[null,2497,"ALDE_export","N/A","BASECASE","N/A",0,1,0,0,0,0,0,0,{"$f":"IF((G2047*ALBE+H2047*ALDE+I2047*AT+J2047*BE+K2047*DE+L2047*FR+M2047*NL)>(N2047),1,0)","v":0},null,{"$f":"IF((C$6*G2047+D$6*H2047+E$6*I2047+F$6*J2047+G$6*K2047+H$6*L2047+I$6*M2047)>(N2047),1,0)","v":0}]
[null,2498,"[AT-AT] Westtirol Transformer WTRHU41 [OPP]_LTA_corner#20_#18","14T-38220-WT041O","BASECASE","N/A",0,0,0.99260000000000004,-2.01E-2,9.776E-2,-6.9099999999999995E-2,0,4629,{"$f":"IF((G2048*ALBE+H2048*ALDE+I2048*AT+J2048*BE+K2048*DE+L2048*FR+M2048*NL)>(N2048),1,0)","v":0},null,{"$f":"IF((C$6*G2048+D$6*H2048+E$6*I2048+F$6*J2048+G$6*K2048+H$6*L2048+I$6*M2048)>(N2048),1,0)","v":0}]
[null,2499,"[D2-AT] Pleinting - St. Peter 258 [DIR] [AT]_LTA_corner#04_#16","10T-AT-DE-000037","[D2-D2] Pirach - Pleinting 257","11TD2L000000201H",0,0,-0.99521000000000004,-6.9099999999999995E-2,0,-6.9099999999999995E-2,0,4919,{"$f":"IF((G2049*ALBE+H2049*ALDE+I2049*AT+J2049*BE+K2049*DE+L2049*FR+M2049*NL)>(N2049),1,0)","v":0},null,{"$f":"IF((C$6*G2049+D$6*H2049+E$6*I2049+F$6*J2049+G$6*K2049+H$6*L2049+I$6*M2049)>(N2049),1,0)","v":0}]
[null,2500,"[D2-AT] Pleinting - St. Peter 258 [DIR] [AT]_LTA_corner#12_#17","10T-AT-DE-000037","[D2-D2] Pirach - Pleinting 257","11TD2L000000201H",0,0,-0.99580999999999997,-1.5100000000000001E-3,0,9.1410000000000005E-2,0,5083,{"$f":"IF((G2050*ALBE+H2050*ALDE+I2050*AT+J2050*BE+K2050*DE+L2050*FR+M2050*NL)>(N2050),1,0)","v":0},null,{"$f":"IF((C$6*G2050+D$6*H2050+E$6*I2050+F$6*J2050+G$6*K2050+H$6*L2050+I$6*M2050)>(N2050),1,0)","v":0}]
[null,2501,"[D2-AT] Pleinting - St. Peter 258 [DIR] [AT]_LTA_corner#01_#10","10T-AT-DE-000037","[D2-D2] Pirach - Pleinting 257","11TD2L000000201H",0,0,-0.99646999999999997,8.3960000000000007E-2,0,0,0,4906,{"$f":"IF((G2051*ALBE+H2051*ALDE+I2051*AT+J2051*BE+K2051*DE+L2051*FR+M2051*NL)>(N2051),1,0)","v":0},null,{"$f":"IF((C$6*G2051+D$6*H2051+E$6*I2051+F$6*J2051+G$6*K2051+H$6*L2051+I$6*M2051)>(N2051),1,0)","v":0}]
[null,2502,"[D2-AT] Pleinting - St. Peter 258 [DIR] [D2]_LTA_corner#09_#2","10T-AT-DE-000037","[D2-AT] Y - St. Peter (- Altheim - Simbach) 234/230","10T-AT-DE-000045",0,0,-0.94181000000000004,-0.13091,-0.21892,-0.21892,0,3936,{"$f":"IF((G2052*ALBE+H2052*ALDE+I2052*AT+J2052*BE+K2052*DE+L2052*FR+M2052*NL)>(N2052),1,0)","v":0},null,{"$f":"IF((C$6*G2052+D$6*H2052+E$6*I2052+F$6*J2052+G$6*K2052+H$6*L2052+I$6*M2052)>(N2052),1,0)","v":0}]
[null,2503,"[D2-AT] Pleinting - St. Peter 258 [DIR] [D2]_LTA_corner#02_#14","10T-AT-DE-000037","[D2-AT] Y - St. Peter (- Altheim - Simbach) 234/230","10T-AT-DE-000045",0,0,-0.99885000000000002,1.291E-2,-3.2590000000000001E-2,-3.2590000000000001E-2,0,4738,{"$f":"IF((G2053*ALBE+H2053*ALDE+I2053*AT+J2053*BE+K2053*DE+L2053*FR+M2053*NL)>(N2053),1,0)","v":0},null,{"$f":"IF((C$6*G2053+D$6*H2053+E$6*I2053+F$6*J2053+G$6*K2053+H$6*L2053+I$6*M2053)>(N2053),1,0)","v":0}]
[null,2504,"[D2-AT] Pleinting - St. Peter 258 [DIR] [D2]_LTA_corner#12_#7","10T-AT-DE-000037","[D2-AT] Y - St. Peter (- Altheim - Simbach) 234/230","10T-AT-DE-000045",0,0,-0.99963000000000002,-9.1199999999999996E-3,0,2.5479999999999999E-2,0,4919,{"$f":"IF((G2054*ALBE+H2054*ALDE+I2054*AT+J2054*BE+K2054*DE+L2054*FR+M2054*NL)>(N2054),1,0)","v":0},null,{"$f":"IF((C$6*G2054+D$6*H2054+E$6*I2054+F$6*J2054+G$6*K2054+H$6*L2054+I$6*M2054)>(N2054),1,0)","v":0}]
[null,2505,"[D2-AT] Pleinting - St. Peter 258 [DIR] [AT]_LTA_corner#11_#5","10T-AT-DE-000037","[D2-D2] Pirach - Pleinting 257","11TD2L000000201H",0,0,-0.99534,0,-9.5500000000000002E-2,-1.315E-2,0,4588,{"$f":"IF((G2055*ALBE+H2055*ALDE+I2055*AT+J2055*BE+K2055*DE+L2055*FR+M2055*NL)>(N2055),1,0)","v":0},null,{"$f":"IF((C$6*G2055+D$6*H2055+E$6*I2055+F$6*J2055+G$6*K2055+H$6*L2055+I$6*M2055)>(N2055),1,0)","v":0}]
[null,2506,"[D7-FR] Ensdorf - Vigy 2S [OPP] [D7]_LTA_corner#30_#10","10T-DE-FR-000068","[D7-D7] Ensdorf - Uchtelfangen Taubental N","11T0-0000-0604-N",0,0,5.765E-2,0.37343999999999999,-0.15137999999999999,0.91339999999999999,0,3801,{"$f":"IF((G2056*ALBE+H2056*ALDE+I2056*AT+J2056*BE+K2056*DE+L2056*FR+M2056*NL)>(N2056),1,0)","v":0},null,{"$f":"IF((C$6*G2056+D$6*H2056+E$6*I2056+F$6*J2056+G$6*K2056+H$6*L2056+I$6*M2056)>(N2056),1,0)","v":0}]
[null,2507,"[NL-D7] Maasbracht - Siersdorf 380 black [DIR] [D7]","10T-DE-NL-00006L","[BE-BE] Avelgem - Horta 380.102","22T20161020---1E",0.32584000000000002,-0.15617,-2.32E-3,0.31323000000000001,1.546E-2,3.9379999999999998E-2,0.28400999999999998,883,{"$f":"IF((G2057*ALBE+H2057*ALDE+I2057*AT+J2057*BE+K2057*DE+L2057*FR+M2057*NL)>(N2057),1,0)","v":0},null,{"$f":"IF((C$6*G2057+D$6*H2057+E$6*I2057+F$6*J2057+G$6*K2057+H$6*L2057+I$6*M2057)>(N2057),1,0)","v":0}]
[null,2508,"[AT-AT] Westtirol Transformer WTRHU41 [OPP]_LTA_corner#20_#20","14T-38220-WT041O","BASECASE","N/A",0,0,0.98977000000000004,-2.0039999999999999E-2,0.13685,-3.4939999999999999E-2,0,4454,{"$f":"IF((G2058*ALBE+H2058*ALDE+I2058*AT+J2058*BE+K2058*DE+L2058*FR+M2058*NL)>(N2058),1,0)","v":0},null,{"$f":"IF((C$6*G2058+D$6*H2058+E$6*I2058+F$6*J2058+G$6*K2058+H$6*L2058+I$6*M2058)>(N2058),1,0)","v":0}]
[null,2509,"[D2-AT] Pleinting - St. Peter 258 [DIR] [AT]_LTA_corner#15_#0","10T-AT-DE-000037","[D2-D2] Pirach - Pleinting 257","11TD2L000000201H",0,0,-0.99497000000000002,-3.5200000000000001E-3,-9.6509999999999999E-2,-2.6669999999999999E-2,0,4574,{"$f":"IF((G2059*ALBE+H2059*ALDE+I2059*AT+J2059*BE+K2059*DE+L2059*FR+M2059*NL)>(N2059),1,0)","v":0},null,{"$f":"IF((C$6*G2059+D$6*H2059+E$6*I2059+F$6*J2059+G$6*K2059+H$6*L2059+I$6*M2059)>(N2059),1,0)","v":0}]
[null,2510,"[D7-FR] Ensdorf - Vigy 2S [OPP] [D7]_LTA_corner#30_#5","10T-DE-FR-000068","[D7-D7] Ensdorf - Uchtelfangen Taubental N","11T0-0000-0604-N",0,0,5.6460000000000003E-2,0.37290000000000001,-0.15229000000000001,0.91354999999999997,0,3803,{"$f":"IF((G2060*ALBE+H2060*ALDE+I2060*AT+J2060*BE+K2060*DE+L2060*FR+M2060*NL)>(N2060),1,0)","v":0},null,{"$f":"IF((C$6*G2060+D$6*H2060+E$6*I2060+F$6*J2060+G$6*K2060+H$6*L2060+I$6*M2060)>(N2060),1,0)","v":0}]
[null,2511,"[D2-NL] Diele - Meeden 380 Black [DIR] [NL]_LTA_corner#05_#0","10T-DE-NL-00001V","[D2-NL] Diele - Meeden 380 White","10T-DE-NL-00002T",0,0,0.56316999999999995,0.24126,0.66618999999999995,0.42524000000000001,0,1920,{"$f":"IF((G2061*ALBE+H2061*ALDE+I2061*AT+J2061*BE+K2061*DE+L2061*FR+M2061*NL)>(N2061),1,0)","v":0},null,{"$f":"IF((C$6*G2061+D$6*H2061+E$6*I2061+F$6*J2061+G$6*K2061+H$6*L2061+I$6*M2061)>(N2061),1,0)","v":0}]
[null,2512,"[D2-AT] Pleinting - St. Peter 258 [DIR] [D2]_LTA_corner#09_#4","10T-AT-DE-000037","[D2-AT] Y - St. Peter (- Altheim - Simbach) 234/230","10T-AT-DE-000045",0,0,-0.99095,-7.7509999999999996E-2,-7.7509999999999996E-2,-7.7509999999999996E-2,0,4568,{"$f":"IF((G2062*ALBE+H2062*ALDE+I2062*AT+J2062*BE+K2062*DE+L2062*FR+M2062*NL)>(N2062),1,0)","v":0},null,{"$f":"IF((C$6*G2062+D$6*H2062+E$6*I2062+F$6*J2062+G$6*K2062+H$6*L2062+I$6*M2062)>(N2062),1,0)","v":0}]
[null,2513,"[D2-AT] Pleinting - St. Peter 258 [DIR] [D2]_LTA_corner#05_#9","10T-AT-DE-000037","[D2-AT] Y - St. Peter (- Altheim - Simbach) 234/230","10T-AT-DE-000045",0,0,0.57935000000000003,0.26201000000000002,0.65415999999999996,0.40961999999999998,0,1726,{"$f":"IF((G2063*ALBE+H2063*ALDE+I2063*AT+J2063*BE+K2063*DE+L2063*FR+M2063*NL)>(N2063),1,0)","v":0},null,{"$f":"IF((C$6*G2063+D$6*H2063+E$6*I2063+F$6*J2063+G$6*K2063+H$6*L2063+I$6*M2063)>(N2063),1,0)","v":0}]
[null,2514,"[D2-AT] Pleinting - St. Peter 258 [DIR] [D2]_LTA_corner#05_#14","10T-AT-DE-000037","[D2-AT] Y - St. Peter (- Altheim - Simbach) 234/230","10T-AT-DE-000045",0,0,-0.99778999999999995,0,4.6980000000000001E-2,4.6980000000000001E-2,0,5167,{"$f":"IF((G2064*ALBE+H2064*ALDE+I2064*AT+J2064*BE+K2064*DE+L2064*FR+M2064*NL)>(N2064),1,0)","v":0},null,{"$f":"IF((C$6*G2064+D$6*H2064+E$6*I2064+F$6*J2064+G$6*K2064+H$6*L2064+I$6*M2064)>(N2064),1,0)","v":0}]
[null,2515,"[BE-FR] Achene - Lonny 380.19 [DIR] [BE]_LTA_corner#02_#8","10T-BE-FR-000015","[BE-BE] Avelgem - Horta 380.102","22T20161020---1E",0,0,-0.45730999999999999,0.24168000000000001,-0.30151,-0.80096999999999996,0,2438,{"$f":"IF((G2065*ALBE+H2065*ALDE+I2065*AT+J2065*BE+K2065*DE+L2065*FR+M2065*NL)>(N2065),1,0)","v":0},null,{"$f":"IF((C$6*G2065+D$6*H2065+E$6*I2065+F$6*J2065+G$6*K2065+H$6*L2065+I$6*M2065)>(N2065),1,0)","v":0}]
[null,2516,"[D2-AT] Pleinting - St. Peter 258 [DIR] [AT]_LTA_corner#11_#7","10T-AT-DE-000037","[D2-D2] Pirach - Pleinting 257","11TD2L000000201H",0,0,-0.99582000000000004,0,-9.1329999999999995E-2,0,0,4609,{"$f":"IF((G2066*ALBE+H2066*ALDE+I2066*AT+J2066*BE+K2066*DE+L2066*FR+M2066*NL)>(N2066),1,0)","v":0},null,{"$f":"IF((C$6*G2066+D$6*H2066+E$6*I2066+F$6*J2066+G$6*K2066+H$6*L2066+I$6*M2066)>(N2066),1,0)","v":0}]
[null,2517,"[D7-FR] Ensdorf - Vigy 2S [OPP] [D7]_LTA_corner#30_#16","10T-DE-FR-000068","[D7-D7] Ensdorf - Uchtelfangen Taubental N","11T0-0000-0604-N",0,0,2.743E-2,0.36606,-0.19422,0.90968000000000004,0,3974,{"$f":"IF((G2067*ALBE+H2067*ALDE+I2067*AT+J2067*BE+K2067*DE+L2067*FR+M2067*NL)>(N2067),1,0)","v":0},null,{"$f":"IF((C$6*G2067+D$6*H2067+E$6*I2067+F$6*J2067+G$6*K2067+H$6*L2067+I$6*M2067)>(N2067),1,0)","v":0}]
["hour 16",669,"[D2-AT] Pleinting - St. Peter 258 [DIR] [AT]_LTA_corner#04_#2","10T-AT-DE-000037","[D2-D2] Pirach - Pleinting 257","11TD2L000000201H",0,0,-0.98746,-3.5999999999999999E-3,0.15556,-2.6599999999999999E-2,0,5877,{"$f":"IF((G2068*ALBE+H2068*ALDE+I2068*AT+J2068*BE+K2068*DE+L2068*FR+M2068*NL)>(N2068),1,0)","v":0},null,{"$f":"IF((C$6*G2068+D$6*H2068+E$6*I2068+F$6*J2068+G$6*K2068+H$6*L2068+I$6*M2068)>(N2068),1,0)","v":0}]
[null,670,"[BE-FR] Achene - Lonny 380.19 [DIR] [BE]_LTA_corner#02_#0","10T-BE-FR-000015","[BE-BE] Avelgem - Horta 380.102","22T20161020---1E",0,0,-0.40688000000000002,0.50509999999999999,-0.27665000000000001,-0.70906999999999998,0,2480,{"$f":"IF((G2069*ALBE+H2069*ALDE+I2069*AT+J2069*BE+K2069*DE+L2069*FR+M2069*NL)>(N2069),1,0)","v":0},null,{"$f":"IF((C$6*G2069+D$6*H2069+E$6*I2069+F$6*J2069+G$6*K2069+H$6*L2069+I$6*M2069)>(N2069),1,0)","v":0}]
[null,671,"[D2-AT] Pleinting - St. Peter 258 [DIR] [AT]_LTA_corner#11_#2","10T-AT-DE-000037","[D2-D2] Pirach - Pleinting 257","11TD2L000000201H",0,0,-0.99573999999999996,0,-9.2160000000000006E-2,0,0,4607,{"$f":"IF((G2070*ALBE+H2070*ALDE+I2070*AT+J2070*BE+K2070*DE+L2070*FR+M2070*NL)>(N2070),1,0)","v":0},null,{"$f":"IF((C$6*G2070+D$6*H2070+E$6*I2070+F$6*J2070+G$6*K2070+H$6*L2070+I$6*M2070)>(N2070),1,0)","v":0}]
[null,672,"[D2-AT] Pleinting - St. Peter 258 [DIR] [D2]_LTA_corner#05_#20","10T-AT-DE-000037","[D2-AT] Y - St. Peter (- Altheim - Simbach) 234/230","10T-AT-DE-000045",0,0,-0.99707999999999997,1.274E-2,5.3199999999999997E-2,5.3199999999999997E-2,0,5198,{"$f":"IF((G2071*ALBE+H2071*ALDE+I2071*AT+J2071*BE+K2071*DE+L2071*FR+M2071*NL)>(N2071),1,0)","v":0},null,{"$f":"IF((C$6*G2071+D$6*H2071+E$6*I2071+F$6*J2071+G$6*K2071+H$6*L2071+I$6*M2071)>(N2071),1,0)","v":0}]
[null,673,"[D2-AT] Pleinting - St. Peter 258 [DIR] [AT]_LTA_corner#03_#5","10T-AT-DE-000037","[D2-D2] Pirach - Pleinting 257","11TD2L000000201H",0,0,-0.99817999999999996,4.2200000000000001E-2,8.8000000000000005E-3,4.2200000000000001E-2,0,4935,{"$f":"IF((G2072*ALBE+H2072*ALDE+I2072*AT+J2072*BE+K2072*DE+L2072*FR+M2072*NL)>(N2072),1,0)","v":0},null,{"$f":"IF((C$6*G2072+D$6*H2072+E$6*I2072+F$6*J2072+G$6*K2072+H$6*L2072+I$6*M2072)>(N2072),1,0)","v":0}]
[null,674,"[D7-FR] Ensdorf - Vigy 2S [OPP] [D7]_LTA_corner#30_#52","10T-DE-FR-000068","[D7-FR] Ensdorf - Vigy 1N","10T-DE-FR-00005A",0,0,-2.205E-2,0.38529000000000002,-0.22620999999999999,0.89437,0,3910,{"$f":"IF((G2073*ALBE+H2073*ALDE+I2073*AT+J2073*BE+K2073*DE+L2073*FR+M2073*NL)>(N2073),1,0)","v":0},null,{"$f":"IF((C$6*G2073+D$6*H2073+E$6*I2073+F$6*J2073+G$6*K2073+H$6*L2073+I$6*M2073)>(N2073),1,0)","v":0}]
[null,675,"[D7-FR] Ensdorf - Vigy 2S [OPP] [D7]_LTA_corner#30_#27","10T-DE-FR-000068","[D7-FR] Ensdorf - Vigy 1N","10T-DE-FR-00005A",0,0,1.1379999999999999E-2,0.37426999999999999,-0.17780000000000001,0.91003999999999996,0,3766,{"$f":"IF((G2074*ALBE+H2074*ALDE+I2074*AT+J2074*BE+K2074*DE+L2074*FR+M2074*NL)>(N2074),1,0)","v":0},null,{"$f":"IF((C$6*G2074+D$6*H2074+E$6*I2074+F$6*J2074+G$6*K2074+H$6*L2074+I$6*M2074)>(N2074),1,0)","v":0}]
[null,676,"[D7-D4] Hoheneck - Pulverdingen weiss [DIR] [D4]_LTA_corner#09_#8","11T-D4-D7-00014N","[D4-D7] Y - Herbertingen - Hoheneck - Metzingen schwarz","11TD40000A546-S0",0,0,-0.82991000000000004,-9.8909999999999998E-2,-0.33823999999999999,-0.43251000000000001,0,3202,{"$f":"IF((G2075*ALBE+H2075*ALDE+I2075*AT+J2075*BE+K2075*DE+L2075*FR+M2075*NL)>(N2075),1,0)","v":0},null,{"$f":"IF((C$6*G2075+D$6*H2075+E$6*I2075+F$6*J2075+G$6*K2075+H$6*L2075+I$6*M2075)>(N2075),1,0)","v":0}]
[null,677,"[D2-AT] Pleinting - St. Peter 258 [DIR] [AT]_LTA_corner#11_#9","10T-AT-DE-000037","[D2-D2] Pirach - Pleinting 257","11TD2L000000201H",0,0,-0.99602000000000002,2.8840000000000001E-2,-7.9310000000000005E-2,2.8840000000000001E-2,0,4692,{"$f":"IF((G2076*ALBE+H2076*ALDE+I2076*AT+J2076*BE+K2076*DE+L2076*FR+M2076*NL)>(N2076),1,0)","v":0},null,{"$f":"IF((C$6*G2076+D$6*H2076+E$6*I2076+F$6*J2076+G$6*K2076+H$6*L2076+I$6*M2076)>(N2076),1,0)","v":0}]
[null,678,"[D2-AT] Pleinting - St. Peter 258 [DIR] [AT]_LTA_corner#06_#25","10T-AT-DE-000037","[D2-D2] Pirach - Pleinting 257","11TD2L000000201H",0,0,-0.99604000000000004,-8.8029999999999997E-2,8.7799999999999996E-3,8.7799999999999996E-3,0,5084,{"$f":"IF((G2077*ALBE+H2077*ALDE+I2077*AT+J2077*BE+K2077*DE+L2077*FR+M2077*NL)>(N2077),1,0)","v":0},null,{"$f":"IF((C$6*G2077+D$6*H2077+E$6*I2077+F$6*J2077+G$6*K2077+H$6*L2077+I$6*M2077)>(N2077),1,0)","v":0}]
[null,679,"[D2-AT] Pleinting - St. Peter 258 [DIR] [AT]_LTA_corner#07_#17","10T-AT-DE-000037","[D2-D2] Pirach - Pleinting 257","11TD2L000000201H",0,0,-0.99583999999999995,0,8.7799999999999996E-3,9.0660000000000004E-2,0,5117,{"$f":"IF((G2078*ALBE+H2078*ALDE+I2078*AT+J2078*BE+K2078*DE+L2078*FR+M2078*NL)>(N2078),1,0)","v":0},null,{"$f":"IF((C$6*G2078+D$6*H2078+E$6*I2078+F$6*J2078+G$6*K2078+H$6*L2078+I$6*M2078)>(N2078),1,0)","v":0}]
[null,680,"[D7-FR] Ensdorf - Vigy 2S [OPP] [D7]_LTA_corner#30_#18","10T-DE-FR-000068","[D7-FR] Ensdorf - Vigy 1N","10T-DE-FR-00005A",0,0,7.7130000000000004E-2,0.37314999999999998,-0.11133999999999999,0.91783000000000003,0,3607,{"$f":"IF((G2079*ALBE+H2079*ALDE+I2079*AT+J2079*BE+K2079*DE+L2079*FR+M2079*NL)>(N2079),1,0)","v":0},null,{"$f":"IF((C$6*G2079+D$6*H2079+E$6*I2079+F$6*J2079+G$6*K2079+H$6*L2079+I$6*M2079)>(N2079),1,0)","v":0}]
[null,681,"[D2-AT] Pleinting - St. Peter 258 [DIR] [D2]_LTA_corner#12_#17","10T-AT-DE-000037","[D2-AT] Y - St. Peter (- Altheim - Simbach) 234/230","10T-AT-DE-000045",0,0,-0.99985000000000002,-5.4599999999999996E-3,0,1.6660000000000001E-2,0,4884,{"$f":"IF((G2080*ALBE+H2080*ALDE+I2080*AT+J2080*BE+K2080*DE+L2080*FR+M2080*NL)>(N2080),1,0)","v":0},null,{"$f":"IF((C$6*G2080+D$6*H2080+E$6*I2080+F$6*J2080+G$6*K2080+H$6*L2080+I$6*M2080)>(N2080),1,0)","v":0}]
[null,682,"[D7-D4] Hoheneck - Pulverdingen weiss [DIR] [D4]_LTA_corner#09_#14","11T-D4-D7-00014N","[D4-D7] Y - Herbertingen - Hoheneck - Metzingen schwarz","11TD40000A546-S0",0,0,-0.82767000000000002,-0.10129000000000001,-0.33772999999999997,-0.43662000000000001,0,3200,{"$f":"IF((G2081*ALBE+H2081*ALDE+I2081*AT+J2081*BE+K2081*DE+L2081*FR+M2081*NL)>(N2081),1,0)","v":0},null,{"$f":"IF((C$6*G2081+D$6*H2081+E$6*I2081+F$6*J2081+G$6*K2081+H$6*L2081+I$6*M2081)>(N2081),1,0)","v":0}]
[null,683,"[D2-AT] Pleinting - St. Peter 258 [DIR] [D2]_LTA_corner#04_#0","10T-AT-DE-000037","[D2-AT] Y - St. Peter (- Altheim - Simbach) 234/230","10T-AT-DE-000045",0,0,-0.98831999999999998,-4.4380000000000003E-2,9.8300000000000002E-3,-0.14543,0,5072,{"$f":"IF((G2082*ALBE+H2082*ALDE+I2082*AT+J2082*BE+K2082*DE+L2082*FR+M2082*NL)>(N2082),1,0)","v":0},null,{"$f":"IF((C$6*G2082+D$6*H2082+E$6*I2082+F$6*J2082+G$6*K2082+H$6*L2082+I$6*M2082)>(N2082),1,0)","v":0}]
[null,684,"[D7-FR] Ensdorf - Vigy 2S [OPP] [D7]_LTA_corner#30_#36","10T-DE-FR-000068","[D7-FR] Ensdorf - Vigy 1N","10T-DE-FR-00005A",0,0,7.1730000000000002E-2,0.37480000000000002,-0.11521000000000001,0.91712000000000005,0,3606,{"$f":"IF((G2083*ALBE+H2083*ALDE+I2083*AT+J2083*BE+K2083*DE+L2083*FR+M2083*NL)>(N2083),1,0)","v":0},null,{"$f":"IF((C$6*G2083+D$6*H2083+E$6*I2083+F$6*J2083+G$6*K2083+H$6*L2083+I$6*M2083)>(N2083),1,0)","v":0}]
[null,685,"[D2-AT] Pleinting - St. Peter 258 [DIR] [AT]_LTA_corner#01_#4","10T-AT-DE-000037","[D2-D2] Pirach - Pleinting 257","11TD2L000000201H",0,0,-0.99846000000000001,3.2030000000000003E-2,3.2030000000000003E-2,3.2030000000000003E-2,0,5022,{"$f":"IF((G2084*ALBE+H2084*ALDE+I2084*AT+J2084*BE+K2084*DE+L2084*FR+M2084*NL)>(N2084),1,0)","v":0},null,{"$f":"IF((C$6*G2084+D$6*H2084+E$6*I2084+F$6*J2084+G$6*K2084+H$6*L2084+I$6*M2084)>(N2084),1,0)","v":0}]
[null,686,"[D2-AT] Pleinting - St. Peter 258 [DIR] [AT]_LTA_corner#11_#7","10T-AT-DE-000037","[D2-D2] Pirach - Pleinting 257","11TD2L000000201H",0,0,-0.99548000000000003,0,-9.1079999999999994E-2,-2.682E-2,0,4588,{"$f":"IF((G2085*ALBE+H2085*ALDE+I2085*AT+J2085*BE+K2085*DE+L2085*FR+M2085*NL)>(N2085),1,0)","v":0},null,{"$f":"IF((C$6*G2085+D$6*H2085+E$6*I2085+F$6*J2085+G$6*K2085+H$6*L2085+I$6*M2085)>(N2085),1,0)","v":0}]
[null,687,"[D7-FR] Ensdorf - Vigy 2S [OPP] [D7]_LTA_corner#30_#45","10T-DE-FR-000068","[D7-FR] Ensdorf - Vigy 1N","10T-DE-FR-00005A",0,0,7.0299999999999998E-3,0.36817,-0.20391000000000001,0.90710000000000002,0,3939,{"$f":"IF((G2086*ALBE+H2086*ALDE+I2086*AT+J2086*BE+K2086*DE+L2086*FR+M2086*NL)>(N2086),1,0)","v":0},null,{"$f":"IF((C$6*G2086+D$6*H2086+E$6*I2086+F$6*J2086+G$6*K2086+H$6*L2086+I$6*M2086)>(N2086),1,0)","v":0}]
[null,688,"[D2-AT] Pleinting - St. Peter 258 [DIR] [AT]_LTA_corner#14_#14","10T-AT-DE-000037","[D2-D2] Pirach - Pleinting 257","11TD2L000000201H",0,0,-0.99568999999999996,0,-8.319E-2,4.0899999999999999E-2,0,4750,{"$f":"IF((G2087*ALBE+H2087*ALDE+I2087*AT+J2087*BE+K2087*DE+L2087*FR+M2087*NL)>(N2087),1,0)","v":0},null,{"$f":"IF((C$6*G2087+D$6*H2087+E$6*I2087+F$6*J2087+G$6*K2087+H$6*L2087+I$6*M2087)>(N2087),1,0)","v":0}]
[null,689,"[D2-AT] Pleinting - St. Peter 258 [DIR] [AT]_LTA_corner#06_#22","10T-AT-DE-000037","[D2-D2] Pirach - Pleinting 257","11TD2L000000201H",0,0,-0.99343000000000004,-0.11247,0,-2.1229999999999999E-2,0,5050,{"$f":"IF((G2088*ALBE+H2088*ALDE+I2088*AT+J2088*BE+K2088*DE+L2088*FR+M2088*NL)>(N2088),1,0)","v":0},null,{"$f":"IF((C$6*G2088+D$6*H2088+E$6*I2088+F$6*J2088+G$6*K2088+H$6*L2088+I$6*M2088)>(N2088),1,0)","v":0}]
[null,690,"ALDE_export","N/A","BASECASE","N/A",0,1,0,0,0,0,0,0,{"$f":"IF((G2089*ALBE+H2089*ALDE+I2089*AT+J2089*BE+K2089*DE+L2089*FR+M2089*NL)>(N2089),1,0)","v":0},null,{"$f":"IF((C$6*G2089+D$6*H2089+E$6*I2089+F$6*J2089+G$6*K2089+H$6*L2089+I$6*M2089)>(N2089),1,0)","v":0}]
[null,691,"[D2-AT] Pleinting - St. Peter 258 [DIR] [D2]_LTA_corner#01_#26","10T-AT-DE-000037","[D2-AT] Y - St. Peter (- Altheim - Simbach) 234/230","10T-AT-DE-000045",0,0,-0.86417999999999995,0.21106,0.40509000000000001,0.21106,0,6881,{"$f":"IF((G2090*ALBE+H2090*ALDE+I2090*AT+J2090*BE+K2090*DE+L2090*FR+M2090*NL)>(N2090),1,0)","v":0},null,{"$f":"IF((C$6*G2090+D$6*H2090+E$6*I2090+F$6*J2090+G$6*K2090+H$6*L2090+I$6*M2090)>(N2090),1,0)","v":0}]
[null,692,"[AT-AT] Westtirol Transformer WTRHU41 [OPP]_LTA_corner#20_#0","14T-38220-WT041O","BASECASE","N/A",0,0,0.99587999999999999,-4.6699999999999997E-3,8.9179999999999995E-2,-1.6029999999999999E-2,0,4581,{"$f":"IF((G2091*ALBE+H2091*ALDE+I2091*AT+J2091*BE+K2091*DE+L2091*FR+M2091*NL)>(N2091),1,0)","v":0},null,{"$f":"IF((C$6*G2091+D$6*H2091+E$6*I2091+F$6*J2091+G$6*K2091+H$6*L2091+I$6*M2091)>(N2091),1,0)","v":0}]
[null,693,"[BE-BE] PST_ZANDV_2 [N - S]_LTA_corner#13_#4","22T20161020---56","[NL-BE] Rilland - Zandvliet 380 White/30","10T-BE-NL-00004C",0,0,-0.39639999999999997,-0.67898999999999998,-0.34516999999999998,-0.51254999999999995,0,1681,{"$f":"IF((G2092*ALBE+H2092*ALDE+I2092*AT+J2092*BE+K2092*DE+L2092*FR+M2092*NL)>(N2092),1,0)","v":0},null,{"$f":"IF((C$6*G2092+D$6*H2092+E$6*I2092+F$6*J2092+G$6*K2092+H$6*L2092+I$6*M2092)>(N2092),1,0)","v":0}]
[null,694,"[D2-AT] Pleinting - St. Peter 258 [DIR] [D2]_LTA_corner#05_#18","10T-AT-DE-000037","[D2-AT] Y - St. Peter (- Altheim - Simbach) 234/230","10T-AT-DE-000045",0,0,0.36659999999999998,0.30109000000000002,0.74865000000000004,0.46311000000000002,0,3398,{"$f":"IF((G2093*ALBE+H2093*ALDE+I2093*AT+J2093*BE+K2093*DE+L2093*FR+M2093*NL)>(N2093),1,0)","v":0},null,{"$f":"IF((C$6*G2093+D$6*H2093+E$6*I2093+F$6*J2093+G$6*K2093+H$6*L2093+I$6*M2093)>(N2093),1,0)","v":0}]
[null,695,"[AT-AT] Westtirol Transformer WTRHU41 [OPP]_LTA_corner#20_#13","14T-38220-WT041O","BASECASE","N/A",0,0,0.99068000000000001,-1.9900000000000001E-2,0.12268999999999999,-5.5750000000000001E-2,0,4530,{"$f":"IF((G2094*ALBE+H2094*ALDE+I2094*AT+J2094*BE+K2094*DE+L2094*FR+M2094*NL)>(N2094),1,0)","v":0},null,{"$f":"IF((C$6*G2094+D$6*H2094+E$6*I2094+F$6*J2094+G$6*K2094+H$6*L2094+I$6*M2094)>(N2094),1,0)","v":0}]
[null,696,"[D2-AT] Pleinting - St. Peter 258 [DIR] [AT]_LTA_corner#04_#17","10T-AT-DE-000037","[D2-D2] Pirach - Pleinting 257","11TD2L000000201H",0,0,-0.99378,-6.5360000000000001E-2,6.2179999999999999E-2,-6.5360000000000001E-2,0,5335,{"$f":"IF((G2095*ALBE+H2095*ALDE+I2095*AT+J2095*BE+K2095*DE+L2095*FR+M2095*NL)>(N2095),1,0)","v":0},null,{"$f":"IF((C$6*G2095+D$6*H2095+E$6*I2095+F$6*J2095+G$6*K2095+H$6*L2095+I$6*M2095)>(N2095),1,0)","v":0}]
[null,697,"[D2-AT] Pleinting - St. Peter 258 [DIR] [AT]_LTA_corner#13_#9","10T-AT-DE-000037","[D2-D2] Pirach - Pleinting 257","11TD2L000000201H",0,0,-0.99536000000000002,-9.4810000000000005E-2,-1.172E-2,-1.172E-2,0,4971,{"$f":"IF((G2096*ALBE+H2096*ALDE+I2096*AT+J2096*BE+K2096*DE+L2096*FR+M2096*NL)>(N2096),1,0)","v":0},null,{"$f":"IF((C$6*G2096+D$6*H2096+E$6*I2096+F$6*J2096+G$6*K2096+H$6*L2096+I$6*M2096)>(N2096),1,0)","v":0}]
[null,698,"[D2-AT] Y - St. Peter (- Altheim - Simbach) 234/230 [OPP] [D2]","10T-AT-DE-000045","[D2-AT] Pirach - St. Peter 256","10T-AT-DE-000029",-4.4679999999999997E-2,-4.6089999999999999E-2,2.8320000000000001E-2,-4.4429999999999997E-2,-4.5519999999999998E-2,-4.1399999999999999E-2,-4.53E-2,379,{"$f":"IF((G2097*ALBE+H2097*ALDE+I2097*AT+J2097*BE+K2097*DE+L2097*FR+M2097*NL)>(N2097),1,0)","v":0},null,{"$f":"IF((C$6*G2097+D$6*H2097+E$6*I2097+F$6*J2097+G$6*K2097+H$6*L2097+I$6*M2097)>(N2097),1,0)","v":0}]
[null,699,"[D2-AT] Pleinting - St. Peter 258 [DIR] [AT]_LTA_corner#14_#0","10T-AT-DE-000037","[D2-D2] Pirach - Pleinting 257","11TD2L000000201H",0,0,-0.99424999999999997,1.32E-2,-9.8140000000000005E-2,4.0770000000000001E-2,0,4697,{"$f":"IF((G2098*ALBE+H2098*ALDE+I2098*AT+J2098*BE+K2098*DE+L2098*FR+M2098*NL)>(N2098),1,0)","v":0},null,{"$f":"IF((C$6*G2098+D$6*H2098+E$6*I2098+F$6*J2098+G$6*K2098+H$6*L2098+I$6*M2098)>(N2098),1,0)","v":0}]
[null,700,"[D2-AT] Pleinting - St. Peter 258 [DIR] [AT]_LTA_corner#12_#10","10T-AT-DE-000037","[D2-D2] Pirach - Pleinting 257","11TD2L000000201H",0,0,-0.99585000000000001,-1.09E-3,0,9.0969999999999995E-2,0,5081,{"$f":"IF((G2099*ALBE+H2099*ALDE+I2099*AT+J2099*BE+K2099*DE+L2099*FR+M2099*NL)>(N2099),1,0)","v":0},null,{"$f":"IF((C$6*G2099+D$6*H2099+E$6*I2099+F$6*J2099+G$6*K2099+H$6*L2099+I$6*M2099)>(N2099),1,0)","v":0}]
[null,701,"[D2-AT] Pleinting - St. Peter 258 [DIR] [D2]_LTA_corner#05_#17","10T-AT-DE-000037","[D2-AT] Y - St. Peter (- Altheim - Simbach) 234/230","10T-AT-DE-000045",0,0,0.30764000000000002,0.30740000000000001,0.76988999999999996,0.46705000000000002,0,3825,{"$f":"IF((G2100*ALBE+H2100*ALDE+I2100*AT+J2100*BE+K2100*DE+L2100*FR+M2100*NL)>(N2100),1,0)","v":0},null,{"$f":"IF((C$6*G2100+D$6*H2100+E$6*I2100+F$6*J2100+G$6*K2100+H$6*L2100+I$6*M2100)>(N2100),1,0)","v":0}]
[null,702,"[D2-AT] Pleinting - St. Peter 258 [DIR] [D2]_LTA_corner#11_#1","10T-AT-DE-000037","[D2-AT] Y - St. Peter (- Altheim - Simbach) 234/230","10T-AT-DE-000045",0,0,-0.99995999999999996,0,-8.4700000000000001E-3,0,0,4803,{"$f":"IF((G2101*ALBE+H2101*ALDE+I2101*AT+J2101*BE+K2101*DE+L2101*FR+M2101*NL)>(N2101),1,0)","v":0},null,{"$f":"IF((C$6*G2101+D$6*H2101+E$6*I2101+F$6*J2101+G$6*K2101+H$6*L2101+I$6*M2101)>(N2101),1,0)","v":0}]
[null,703,"[D2-AT] Pleinting - St. Peter 258 [DIR] [D2]_LTA_corner#04_#4","10T-AT-DE-000037","[D2-AT] Y - St. Peter (- Altheim - Simbach) 234/230","10T-AT-DE-000045",0,0,-0.98875000000000002,-4.419E-2,1.6549999999999999E-2,-0.14194000000000001,0,5115,{"$f":"IF((G2102*ALBE+H2102*ALDE+I2102*AT+J2102*BE+K2102*DE+L2102*FR+M2102*NL)>(N2102),1,0)","v":0},null,{"$f":"IF((C$6*G2102+D$6*H2102+E$6*I2102+F$6*J2102+G$6*K2102+H$6*L2102+I$6*M2102)>(N2102),1,0)","v":0}]
[null,704,"[D2-AT] Pleinting - St. Peter 258 [DIR] [D2]_LTA_corner#15_#26","10T-AT-DE-000037","[D2-AT] Y - St. Peter (- Altheim - Simbach) 234/230","10T-AT-DE-000045",0,0,-0.99848999999999999,-2.5159999999999998E-2,-4.197E-2,-2.5159999999999998E-2,0,4710,{"$f":"IF((G2103*ALBE+H2103*ALDE+I2103*AT+J2103*BE+K2103*DE+L2103*FR+M2103*NL)>(N2103),1,0)","v":0},null,{"$f":"IF((C$6*G2103+D$6*H2103+E$6*I2103+F$6*J2103+G$6*K2103+H$6*L2103+I$6*M2103)>(N2103),1,0)","v":0}]
[null,705,"[D2-AT] Pleinting - St. Peter 258 [DIR] [AT]_LTA_corner#11_#13","10T-AT-DE-000037","[D2-D2] Pirach - Pleinting 257","11TD2L000000201H",0,0,-0.99704000000000004,4.113E-2,-5.0349999999999999E-2,4.113E-2,0,4782,{"$f":"IF((G2104*ALBE+H2104*ALDE+I2104*AT+J2104*BE+K2104*DE+L2104*FR+M2104*NL)>(N2104),1,0)","v":0},null,{"$f":"IF((C$6*G2104+D$6*H2104+E$6*I2104+F$6*J2104+G$6*K2104+H$6*L2104+I$6*M2104)>(N2104),1,0)","v":0}]
[null,706,"[BE-BE] PST_VANYK_2 [S - N]","22T-BE-PST--002U","[BE-FR] Achene - Lonny 380.19","10T-BE-FR-000015",0.57350999999999996,-2.52E-2,5.4200000000000003E-3,0.3201,-8.7500000000000008E-3,4.58E-2,1.196E-2,980,{"$f":"IF((G2105*ALBE+H2105*ALDE+I2105*AT+J2105*BE+K2105*DE+L2105*FR+M2105*NL)>(N2105),1,0)","v":0},null,{"$f":"IF((C$6*G2105+D$6*H2105+E$6*I2105+F$6*J2105+G$6*K2105+H$6*L2105+I$6*M2105)>(N2105),1,0)","v":0}]
[null,707,"[BE-BE] PST_ZANDV_2 [N - S]_LTA_corner#13_#6","22T20161020---56","[NL-BE] Rilland - Zandvliet 380 White/30","10T-BE-NL-00004C",0,0,-0.36767,-0.71125000000000005,-0.32935999999999999,-0.50046000000000002,0,1700,{"$f":"IF((G2106*ALBE+H2106*ALDE+I2106*AT+J2106*BE+K2106*DE+L2106*FR+M2106*NL)>(N2106),1,0)","v":0},null,{"$f":"IF((C$6*G2106+D$6*H2106+E$6*I2106+F$6*J2106+G$6*K2106+H$6*L2106+I$6*M2106)>(N2106),1,0)","v":0}]
[null,708,"[BE-FR] Achene - Lonny 380.19 [DIR] [BE]_LTA_corner#09_#9","10T-BE-FR-000015","[BE-BE] Avelgem - Horta 380.102","22T20161020---1E",0,0,-0.41349999999999998,-0.59645999999999999,-0.34276000000000001,-0.59645999999999999,0,1513,{"$f":"IF((G2107*ALBE+H2107*ALDE+I2107*AT+J2107*BE+K2107*DE+L2107*FR+M2107*NL)>(N2107),1,0)","v":0},null,{"$f":"IF((C$6*G2107+D$6*H2107+E$6*I2107+F$6*J2107+G$6*K2107+H$6*L2107+I$6*M2107)>(N2107),1,0)","v":0}]
[null,709,"[D2-AT] Pleinting - St. Peter 258 [DIR] [D2]_LTA_corner#01_#4","10T-AT-DE-000037","[D2-AT] Y - St. Peter (- Altheim - Simbach) 234/230","10T-AT-DE-000045",0,0,-0.98917999999999995,0,0.1263,-7.4700000000000003E-2,0,5760,{"$f":"IF((G2108*ALBE+H2108*ALDE+I2108*AT+J2108*BE+K2108*DE+L2108*FR+M2108*NL)>(N2108),1,0)","v":0},null,{"$f":"IF((C$6*G2108+D$6*H2108+E$6*I2108+F$6*J2108+G$6*K2108+H$6*L2108+I$6*M2108)>(N2108),1,0)","v":0}]
[null,710,"[D7-FR] Ensdorf - Vigy 2S [OPP] [D7]_LTA_corner#30_#12","10T-DE-FR-000068","[D7-FR] Ensdorf - Vigy 1N","10T-DE-FR-00005A",0,0,5.3080000000000002E-2,0.35471000000000003,-0.14721000000000001,0.92179,0,3793,{"$f":"IF((G2109*ALBE+H2109*ALDE+I2109*AT+J2109*BE+K2109*DE+L2109*FR+M2109*NL)>(N2109),1,0)","v":0},null,{"$f":"IF((C$6*G2109+D$6*H2109+E$6*I2109+F$6*J2109+G$6*K2109+H$6*L2109+I$6*M2109)>(N2109),1,0)","v":0}]
[null,711,"[D2-AT] Pleinting - St. Peter 258 [DIR] [D2]_LTA_corner#01_#1","10T-AT-DE-000037","[D2-AT] Y - St. Peter (- Altheim - Simbach) 234/230","10T-AT-DE-000045",0,0,-0.98973,0,0.1196,-7.8270000000000006E-2,0,5722,{"$f":"IF((G2110*ALBE+H2110*ALDE+I2110*AT+J2110*BE+K2110*DE+L2110*FR+M2110*NL)>(N2110),1,0)","v":0},null,{"$f":"IF((C$6*G2110+D$6*H2110+E$6*I2110+F$6*J2110+G$6*K2110+H$6*L2110+I$6*M2110)>(N2110),1,0)","v":0}]
[null,712,"[D2-AT] Pleinting - St. Peter 258 [DIR] [AT]_LTA_corner#02_#5","10T-AT-DE-000037","[D2-D2] Pirach - Pleinting 257","11TD2L000000201H",0,0,-0.99568999999999996,9.0939999999999993E-2,-1.304E-2,-1.304E-2,0,4874,{"$f":"IF((G2111*ALBE+H2111*ALDE+I2111*AT+J2111*BE+K2111*DE+L2111*FR+M2111*NL)>(N2111),1,0)","v":0},null,{"$f":"IF((C$6*G2111+D$6*H2111+E$6*I2111+F$6*J2111+G$6*K2111+H$6*L2111+I$6*M2111)>(N2111),1,0)","v":0}]
[null,713,"[D2-AT] Pleinting - St. Peter 258 [DIR] [AT]_LTA_corner#06_#20","10T-AT-DE-000037","[D2-D2] Pirach - Pleinting 257","11TD2L000000201H",0,0,-0.99314000000000002,-0.11382,0,-2.6759999999999999E-2,0,5048,{"$f":"IF((G2112*ALBE+H2112*ALDE+I2112*AT+J2112*BE+K2112*DE+L2112*FR+M2112*NL)>(N2112),1,0)","v":0},null,{"$f":"IF((C$6*G2112+D$6*H2112+E$6*I2112+F$6*J2112+G$6*K2112+H$6*L2112+I$6*M2112)>(N2112),1,0)","v":0}]
[null,714,"[D2-AT] Pleinting - St. Peter 258 [DIR] [AT]_LTA_corner#06_#3","10T-AT-DE-000037","[D2-D2] Pirach - Pleinting 257","11TD2L000000201H",0,0,-0.99716000000000005,-3.64E-3,5.321E-2,5.321E-2,0,5221,{"$f":"IF((G2113*ALBE+H2113*ALDE+I2113*AT+J2113*BE+K2113*DE+L2113*FR+M2113*NL)>(N2113),1,0)","v":0},null,{"$f":"IF((C$6*G2113+D$6*H2113+E$6*I2113+F$6*J2113+G$6*K2113+H$6*L2113+I$6*M2113)>(N2113),1,0)","v":0}]
[null,715,"[D2-AT] Pleinting - St. Peter 258 [DIR] [AT]_LTA_corner#14_#1","10T-AT-DE-000037","[D2-D2] Pirach - Pleinting 257","11TD2L000000201H",0,0,-0.99395,1.6549999999999999E-2,-9.6129999999999993E-2,5.0470000000000001E-2,0,4726,{"$f":"IF((G2114*ALBE+H2114*ALDE+I2114*AT+J2114*BE+K2114*DE+L2114*FR+M2114*NL)>(N2114),1,0)","v":0},null,{"$f":"IF((C$6*G2114+D$6*H2114+E$6*I2114+F$6*J2114+G$6*K2114+H$6*L2114+I$6*M2114)>(N2114),1,0)","v":0}]
[null,716,"[D2-AT] Pleinting - St. Peter 258 [DIR] [AT]_LTA_corner#02_#4","10T-AT-DE-000037","[D2-D2] Pirach - Pleinting 257","11TD2L000000201H",0,0,-0.99643000000000004,0,-5.9700000000000003E-2,-5.9700000000000003E-2,0,4633,{"$f":"IF((G2115*ALBE+H2115*ALDE+I2115*AT+J2115*BE+K2115*DE+L2115*FR+M2115*NL)>(N2115),1,0)","v":0},null,{"$f":"IF((C$6*G2115+D$6*H2115+E$6*I2115+F$6*J2115+G$6*K2115+H$6*L2115+I$6*M2115)>(N2115),1,0)","v":0}]
[null,717,"[D2-AT] Pleinting - St. Peter 258 [DIR] [D2]_LTA_corner#09_#13","10T-AT-DE-000037","[D2-AT] Y - St. Peter (- Altheim - Simbach) 234/230","10T-AT-DE-000045",0,0,-0.96855000000000002,-9.536E-2,-0.16250000000000001,-0.16250000000000001,0,4220,{"$f":"IF((G2116*ALBE+H2116*ALDE+I2116*AT+J2116*BE+K2116*DE+L2116*FR+M2116*NL)>(N2116),1,0)","v":0},null,{"$f":"IF((C$6*G2116+D$6*H2116+E$6*I2116+F$6*J2116+G$6*K2116+H$6*L2116+I$6*M2116)>(N2116),1,0)","v":0}]
[null,718,"[D2-AT] Pleinting - St. Peter 258 [DIR] [AT]_LTA_corner#01_#23","10T-AT-DE-000037","[D2-D2] Pirach - Pleinting 257","11TD2L000000201H",0,0,-0.99702999999999997,7.6069999999999999E-2,8.7899999999999992E-3,8.7899999999999992E-3,0,4946,{"$f":"IF((G2117*ALBE+H2117*ALDE+I2117*AT+J2117*BE+K2117*DE+L2117*FR+M2117*NL)>(N2117),1,0)","v":0},null,{"$f":"IF((C$6*G2117+D$6*H2117+E$6*I2117+F$6*J2117+G$6*K2117+H$6*L2117+I$6*M2117)>(N2117),1,0)","v":0}]
[null,719,"[D2-AT] Pleinting - St. Peter 258 [DIR] [AT]_LTA_corner#01_#14","10T-AT-DE-000037","[D2-D2] Pirach - Pleinting 257","11TD2L000000201H",0,0,-0.99429000000000001,0.10477,0,-2.034E-2,0,4954,{"$f":"IF((G2118*ALBE+H2118*ALDE+I2118*AT+J2118*BE+K2118*DE+L2118*FR+M2118*NL)>(N2118),1,0)","v":0},null,{"$f":"IF((C$6*G2118+D$6*H2118+E$6*I2118+F$6*J2118+G$6*K2118+H$6*L2118+I$6*M2118)>(N2118),1,0)","v":0}]
[null,720,"[D7-FR] Ensdorf - Vigy 2S [OPP] [D7]_LTA_corner#30_#14","10T-DE-FR-000068","[D7-FR] Ensdorf - Vigy 1N","10T-DE-FR-00005A",0,0,2.5190000000000001E-2,0.37176999999999999,-0.15906000000000001,0.91425000000000001,0,3706,{"$f":"IF((G2119*ALBE+H2119*ALDE+I2119*AT+J2119*BE+K2119*DE+L2119*FR+M2119*NL)>(N2119),1,0)","v":0},null,{"$f":"IF((C$6*G2119+D$6*H2119+E$6*I2119+F$6*J2119+G$6*K2119+H$6*L2119+I$6*M2119)>(N2119),1,0)","v":0}]
[null,721,"[BE-FR] Achene - Lonny 380.19 [DIR] [BE]_LTA_corner#02_#20","10T-BE-FR-000015","[BE-BE] Avelgem - Horta 380.102","22T20161020---1E",0,0,-0.46167000000000002,0.20774999999999999,-0.31592999999999999,-0.80242000000000002,0,2356,{"$f":"IF((G2120*ALBE+H2120*ALDE+I2120*AT+J2120*BE+K2120*DE+L2120*FR+M2120*NL)>(N2120),1,0)","v":0},null,{"$f":"IF((C$6*G2120+D$6*H2120+E$6*I2120+F$6*J2120+G$6*K2120+H$6*L2120+I$6*M2120)>(N2120),1,0)","v":0}]
[null,722,"[D2-AT] Pleinting - St. Peter 258 [DIR] [AT]_LTA_corner#04_#4","10T-AT-DE-000037","[D2-D2] Pirach - Pleinting 257","11TD2L000000201H",0,0,-0.98931999999999998,-2.1100000000000001E-2,0.10649,-9.7269999999999995E-2,0,5663,{"$f":"IF((G2121*ALBE+H2121*ALDE+I2121*AT+J2121*BE+K2121*DE+L2121*FR+M2121*NL)>(N2121),1,0)","v":0},null,{"$f":"IF((C$6*G2121+D$6*H2121+E$6*I2121+F$6*J2121+G$6*K2121+H$6*L2121+I$6*M2121)>(N2121),1,0)","v":0}]
[null,723,"[D2-AT] Pleinting - St. Peter 258 [DIR] [AT]_LTA_corner#06_#27","10T-AT-DE-000037","[D2-D2] Pirach - Pleinting 257","11TD2L000000201H",0,0,-0.99351,-0.1119,0,-2.0320000000000001E-2,0,5050,{"$f":"IF((G2122*ALBE+H2122*ALDE+I2122*AT+J2122*BE+K2122*DE+L2122*FR+M2122*NL)>(N2122),1,0)","v":0},null,{"$f":"IF((C$6*G2122+D$6*H2122+E$6*I2122+F$6*J2122+G$6*K2122+H$6*L2122+I$6*M2122)>(N2122),1,0)","v":0}]
[null,724,"[D2-AT] Pleinting - St. Peter 258 [DIR] [D2]_LTA_corner#06_#10","10T-AT-DE-000037","[D2-AT] Y - St. Peter (- Altheim - Simbach) 234/230","10T-AT-DE-000045",0,0,-0.99963999999999997,-2.6859999999999998E-2,0,0,0,4885,{"$f":"IF((G2123*ALBE+H2123*ALDE+I2123*AT+J2123*BE+K2123*DE+L2123*FR+M2123*NL)>(N2123),1,0)","v":0},null,{"$f":"IF((C$6*G2123+D$6*H2123+E$6*I2123+F$6*J2123+G$6*K2123+H$6*L2123+I$6*M2123)>(N2123),1,0)","v":0}]
[null,725,"[BE-FR] Achene - Lonny 380.19 [DIR] [BE]_LTA_corner#02_#29","10T-BE-FR-000015","[BE-BE] Avelgem - Horta 380.102","22T20161020---1E",0,0,-0.48882999999999999,0,-0.36907000000000001,-0.79046000000000005,0,1978,{"$f":"IF((G2124*ALBE+H2124*ALDE+I2124*AT+J2124*BE+K2124*DE+L2124*FR+M2124*NL)>(N2124),1,0)","v":0},null,{"$f":"IF((C$6*G2124+D$6*H2124+E$6*I2124+F$6*J2124+G$6*K2124+H$6*L2124+I$6*M2124)>(N2124),1,0)","v":0}]
[null,726,"[D2-AT] Pleinting - St. Peter 258 [DIR] [AT]_LTA_corner#04_#15","10T-AT-DE-000037","[D2-D2] Pirach - Pleinting 257","11TD2L000000201H",0,0,-0.99126999999999998,-2.6710000000000001E-2,0.12631999999999999,-2.6710000000000001E-2,0,5697,{"$f":"IF((G2125*ALBE+H2125*ALDE+I2125*AT+J2125*BE+K2125*DE+L2125*FR+M2125*NL)>(N2125),1,0)","v":0},null,{"$f":"IF((C$6*G2125+D$6*H2125+E$6*I2125+F$6*J2125+G$6*K2125+H$6*L2125+I$6*M2125)>(N2125),1,0)","v":0}]
[null,727,"[D2-AT] Pleinting - St. Peter 258 [DIR] [AT]_LTA_corner#01_#7","10T-AT-DE-000037","[D2-D2] Pirach - Pleinting 257","11TD2L000000201H",0,0,-0.99131999999999998,0,0,-0.13144,0,4989,{"$f":"IF((G2126*ALBE+H2126*ALDE+I2126*AT+J2126*BE+K2126*DE+L2126*FR+M2126*NL)>(N2126),1,0)","v":0},null,{"$f":"IF((C$6*G2126+D$6*H2126+E$6*I2126+F$6*J2126+G$6*K2126+H$6*L2126+I$6*M2126)>(N2126),1,0)","v":0}]
[null,728,"[BE-FR] Achene - Lonny 380.19 [DIR] [BE]_LTA_corner#09_#3","10T-BE-FR-000015","[BE-BE] Avelgem - Horta 380.102","22T20161020---1E",0,0,-0.41203000000000001,-0.60021000000000002,-0.33123000000000002,-0.60021000000000002,0,1564,{"$f":"IF((G2127*ALBE+H2127*ALDE+I2127*AT+J2127*BE+K2127*DE+L2127*FR+M2127*NL)>(N2127),1,0)","v":0},null,{"$f":"IF((C$6*G2127+D$6*H2127+E$6*I2127+F$6*J2127+G$6*K2127+H$6*L2127+I$6*M2127)>(N2127),1,0)","v":0}]
[null,729,"[D2-AT] Pleinting - St. Peter 258 [DIR] [D2]_LTA_corner#03_#3","10T-AT-DE-000037","[D2-AT] Y - St. Peter (- Altheim - Simbach) 234/230","10T-AT-DE-000045",0,0,-0.99997999999999998,4.6800000000000001E-3,0,4.6800000000000001E-3,0,4830,{"$f":"IF((G2128*ALBE+H2128*ALDE+I2128*AT+J2128*BE+K2128*DE+L2128*FR+M2128*NL)>(N2128),1,0)","v":0},null,{"$f":"IF((C$6*G2128+D$6*H2128+E$6*I2128+F$6*J2128+G$6*K2128+H$6*L2128+I$6*M2128)>(N2128),1,0)","v":0}]
[null,730,"[NL-NL] Krimpen a/d IJssel - Geertruidenberg 380 Zwart [OPP]","49T0000000000282","[NL-NL] Diemen - Lelystad 380 Wit","49T0000000000096",0.11619,2.1690000000000001E-2,1.1599999999999999E-2,0.13711000000000001,-2.145E-2,6.2880000000000005E-2,-0.26053999999999999,2145,{"$f":"IF((G2129*ALBE+H2129*ALDE+I2129*AT+J2129*BE+K2129*DE+L2129*FR+M2129*NL)>(N2129),1,0)","v":0},null,{"$f":"IF((C$6*G2129+D$6*H2129+E$6*I2129+F$6*J2129+G$6*K2129+H$6*L2129+I$6*M2129)>(N2129),1,0)","v":0}]
[null,731,"[D2-AT] Pleinting - St. Peter 258 [DIR] [AT]_LTA_corner#04_#10","10T-AT-DE-000037","[D2-D2] Pirach - Pleinting 257","11TD2L000000201H",0,0,-0.99080999999999997,-3.6099999999999999E-3,0,-0.13519999999999999,0,4993,{"$f":"IF((G2130*ALBE+H2130*ALDE+I2130*AT+J2130*BE+K2130*DE+L2130*FR+M2130*NL)>(N2130),1,0)","v":0},null,{"$f":"IF((C$6*G2130+D$6*H2130+E$6*I2130+F$6*J2130+G$6*K2130+H$6*L2130+I$6*M2130)>(N2130),1,0)","v":0}]
[null,732,"[BE-BE] PST_ZANDV_2 [N - S]_LTA_corner#13_#13","22T20161020---56","[NL-BE] Rilland - Zandvliet 380 White/30","10T-BE-NL-00004C",0,0,-0.31267,-0.80891000000000002,-0.26899000000000001,-0.41898999999999997,0,2000,{"$f":"IF((G2131*ALBE+H2131*ALDE+I2131*AT+J2131*BE+K2131*DE+L2131*FR+M2131*NL)>(N2131),1,0)","v":0},null,{"$f":"IF((C$6*G2131+D$6*H2131+E$6*I2131+F$6*J2131+G$6*K2131+H$6*L2131+I$6*M2131)>(N2131),1,0)","v":0}]
[null,733,"[BE-BE] PST_ZANDV_2 [N - S]_LTA_corner#13_#15","22T20161020---56","[NL-BE] Rilland - Zandvliet 380 White/30","10T-BE-NL-00004C",0,0,-0.31029000000000001,-0.79906999999999995,-0.25246000000000002,-0.44885000000000003,0,2017,{"$f":"IF((G2132*ALBE+H2132*ALDE+I2132*AT+J2132*BE+K2132*DE+L2132*FR+M2132*NL)>(N2132),1,0)","v":0},null,{"$f":"IF((C$6*G2132+D$6*H2132+E$6*I2132+F$6*J2132+G$6*K2132+H$6*L2132+I$6*M2132)>(N2132),1,0)","v":0}]
[null,734,"[D2-AT] Pleinting - St. Peter 258 [DIR] [D2]_LTA_corner#01_#5","10T-AT-DE-000037","[D2-AT] Y - St. Peter (- Altheim - Simbach) 234/230","10T-AT-DE-000045",0,0,-1,0,0,0,0,4821,{"$f":"IF((G2133*ALBE+H2133*ALDE+I2133*AT+J2133*BE+K2133*DE+L2133*FR+M2133*NL)>(N2133),1,0)","v":0},null,{"$f":"IF((C$6*G2133+D$6*H2133+E$6*I2133+F$6*J2133+G$6*K2133+H$6*L2133+I$6*M2133)>(N2133),1,0)","v":0}]
[null,735,"[D2-AT] Pleinting - St. Peter 258 [DIR] [AT]_LTA_corner#13_#1","10T-AT-DE-000037","[D2-D2] Pirach - Pleinting 257","11TD2L000000201H",0,0,-0.99602000000000002,-8.0589999999999995E-2,-2.6839999999999999E-2,-2.6839999999999999E-2,0,4861,{"$f":"IF((G2134*ALBE+H2134*ALDE+I2134*AT+J2134*BE+K2134*DE+L2134*FR+M2134*NL)>(N2134),1,0)","v":0},null,{"$f":"IF((C$6*G2134+D$6*H2134+E$6*I2134+F$6*J2134+G$6*K2134+H$6*L2134+I$6*M2134)>(N2134),1,0)","v":0}]
[null,736,"[D2-AT] Pleinting - St. Peter 258 [DIR] [D2]_LTA_corner#04_#7","10T-AT-DE-000037","[D2-AT] Y - St. Peter (- Altheim - Simbach) 234/230","10T-AT-DE-000045",0,0,-0.99624999999999997,-6.1159999999999999E-2,0,-6.1159999999999999E-2,0,4910,{"$f":"IF((G2135*ALBE+H2135*ALDE+I2135*AT+J2135*BE+K2135*DE+L2135*FR+M2135*NL)>(N2135),1,0)","v":0},null,{"$f":"IF((C$6*G2135+D$6*H2135+E$6*I2135+F$6*J2135+G$6*K2135+H$6*L2135+I$6*M2135)>(N2135),1,0)","v":0}]
[null,737,"[BE-FR] Achene - Lonny 380.19 [DIR] [BE]_LTA_corner#02_#28","10T-BE-FR-000015","[BE-BE] Avelgem - Horta 380.102","22T20161020---1E",0,0,-0.49296000000000001,0,-0.37402000000000002,-0.78556000000000004,0,1968,{"$f":"IF((G2136*ALBE+H2136*ALDE+I2136*AT+J2136*BE+K2136*DE+L2136*FR+M2136*NL)>(N2136),1,0)","v":0},null,{"$f":"IF((C$6*G2136+D$6*H2136+E$6*I2136+F$6*J2136+G$6*K2136+H$6*L2136+I$6*M2136)>(N2136),1,0)","v":0}]
[null,738,"[D2-AT] Pleinting - St. Peter 258 [DIR] [AT]_LTA_corner#13_#0","10T-AT-DE-000037","[D2-D2] Pirach - Pleinting 257","11TD2L000000201H",0,0,-0.99536999999999998,-9.4320000000000001E-2,-1.304E-2,-1.304E-2,0,4963,{"$f":"IF((G2137*ALBE+H2137*ALDE+I2137*AT+J2137*BE+K2137*DE+L2137*FR+M2137*NL)>(N2137),1,0)","v":0},null,{"$f":"IF((C$6*G2137+D$6*H2137+E$6*I2137+F$6*J2137+G$6*K2137+H$6*L2137+I$6*M2137)>(N2137),1,0)","v":0}]
[null,739,"[D2-AT] Pleinting - St. Peter 258 [DIR] [AT]_LTA_corner#14_#13","10T-AT-DE-000037","[D2-D2] Pirach - Pleinting 257","11TD2L000000201H",0,0,-0.99621999999999999,0,-1.0109999999999999E-2,8.6269999999999999E-2,0,5044,{"$f":"IF((G2138*ALBE+H2138*ALDE+I2138*AT+J2138*BE+K2138*DE+L2138*FR+M2138*NL)>(N2138),1,0)","v":0},null,{"$f":"IF((C$6*G2138+D$6*H2138+E$6*I2138+F$6*J2138+G$6*K2138+H$6*L2138+I$6*M2138)>(N2138),1,0)","v":0}]
[null,740,"[D7-D7] Gronau - Hanekenfaehr Gronau W [OPP]","11T0-0000-0617-A","[D7-D7] Y - Hanekenfaehr - Kottigerhook - Kusenhorst Muensterland","11T0-0000-0679-H",-7.7030000000000001E-2,-5.7439999999999998E-2,-1.397E-2,-7.4649999999999994E-2,2.3040000000000001E-2,-4.657E-2,-9.3679999999999999E-2,597,{"$f":"IF((G2139*ALBE+H2139*ALDE+I2139*AT+J2139*BE+K2139*DE+L2139*FR+M2139*NL)>(N2139),1,0)","v":0},null,{"$f":"IF((C$6*G2139+D$6*H2139+E$6*I2139+F$6*J2139+G$6*K2139+H$6*L2139+I$6*M2139)>(N2139),1,0)","v":0}]
[null,741,"[D7-FR] Ensdorf - Vigy 2S [OPP] [D7]_LTA_corner#30_#1","10T-DE-FR-000068","[D7-FR] Ensdorf - Vigy 1N","10T-DE-FR-00005A",0,0,7.0599999999999996E-2,0.37053000000000003,-0.15307999999999999,0.91339000000000004,0,3879,{"$f":"IF((G2140*ALBE+H2140*ALDE+I2140*AT+J2140*BE+K2140*DE+L2140*FR+M2140*NL)>(N2140),1,0)","v":0},null,{"$f":"IF((C$6*G2140+D$6*H2140+E$6*I2140+F$6*J2140+G$6*K2140+H$6*L2140+I$6*M2140)>(N2140),1,0)","v":0}]
[null,742,"[D2-AT] Pleinting - St. Peter 258 [DIR] [D2]_LTA_corner#09_#3","10T-AT-DE-000037","[D2-AT] Y - St. Peter (- Altheim - Simbach) 234/230","10T-AT-DE-000045",0,0,-0.99585999999999997,-5.2490000000000002E-2,-5.2490000000000002E-2,-5.2490000000000002E-2,0,4659,{"$f":"IF((G2141*ALBE+H2141*ALDE+I2141*AT+J2141*BE+K2141*DE+L2141*FR+M2141*NL)>(N2141),1,0)","v":0},null,{"$f":"IF((C$6*G2141+D$6*H2141+E$6*I2141+F$6*J2141+G$6*K2141+H$6*L2141+I$6*M2141)>(N2141),1,0)","v":0}]
[null,743,"[D7-FR] Ensdorf - Vigy 2S [OPP] [D7]_LTA_corner#30_#23","10T-DE-FR-000068","[D7-FR] Ensdorf - Vigy 1N","10T-DE-FR-00005A",0,0,1.8509999999999999E-2,0.36331999999999998,-0.19145999999999999,0.91159000000000001,0,3919,{"$f":"IF((G2142*ALBE+H2142*ALDE+I2142*AT+J2142*BE+K2142*DE+L2142*FR+M2142*NL)>(N2142),1,0)","v":0},null,{"$f":"IF((C$6*G2142+D$6*H2142+E$6*I2142+F$6*J2142+G$6*K2142+H$6*L2142+I$6*M2142)>(N2142),1,0)","v":0}]
[null,744,"[D2-AT] Pleinting - St. Peter 258 [DIR] [D2]_LTA_corner#07_#3","10T-AT-DE-000037","[D2-AT] Y - St. Peter (- Altheim - Simbach) 234/230","10T-AT-DE-000045",0,0,-0.99995000000000001,0,0,1.009E-2,0,4851,{"$f":"IF((G2143*ALBE+H2143*ALDE+I2143*AT+J2143*BE+K2143*DE+L2143*FR+M2143*NL)>(N2143),1,0)","v":0},null,{"$f":"IF((C$6*G2143+D$6*H2143+E$6*I2143+F$6*J2143+G$6*K2143+H$6*L2143+I$6*M2143)>(N2143),1,0)","v":0}]
[null,745,"[D2-AT] Pleinting - St. Peter 258 [DIR] [AT]_LTA_corner#12_#7","10T-AT-DE-000037","[D2-D2] Pirach - Pleinting 257","11TD2L000000201H",0,0,-0.99589000000000005,-1.9400000000000001E-3,0,9.0520000000000003E-2,0,5082,{"$f":"IF((G2144*ALBE+H2144*ALDE+I2144*AT+J2144*BE+K2144*DE+L2144*FR+M2144*NL)>(N2144),1,0)","v":0},null,{"$f":"IF((C$6*G2144+D$6*H2144+E$6*I2144+F$6*J2144+G$6*K2144+H$6*L2144+I$6*M2144)>(N2144),1,0)","v":0}]
[null,746,"[AT-AT] Westtirol Transformer WTRHU41 [OPP]_LTA_corner#20_#22","14T-38220-WT041O","BASECASE","N/A",0,0,0.99229000000000001,-1.907E-2,0.10459,-6.3670000000000004E-2,0,4600,{"$f":"IF((G2145*ALBE+H2145*ALDE+I2145*AT+J2145*BE+K2145*DE+L2145*FR+M2145*NL)>(N2145),1,0)","v":0},null,{"$f":"IF((C$6*G2145+D$6*H2145+E$6*I2145+F$6*J2145+G$6*K2145+H$6*L2145+I$6*M2145)>(N2145),1,0)","v":0}]
[null,747,"[D2-AT] Pleinting - St. Peter 258 [DIR] [AT]_LTA_corner#11_#10","10T-AT-DE-000037","[D2-D2] Pirach - Pleinting 257","11TD2L000000201H",0,0,-0.99604999999999999,3.4340000000000002E-2,-7.4289999999999995E-2,3.4340000000000002E-2,0,4713,{"$f":"IF((G2146*ALBE+H2146*ALDE+I2146*AT+J2146*BE+K2146*DE+L2146*FR+M2146*NL)>(N2146),1,0)","v":0},null,{"$f":"IF((C$6*G2146+D$6*H2146+E$6*I2146+F$6*J2146+G$6*K2146+H$6*L2146+I$6*M2146)>(N2146),1,0)","v":0}]
[null,748,"[AT-AT] Westtirol Transformer WTRHU41 [OPP]_LTA_corner#20_#3","14T-38220-WT041O","BASECASE","N/A",0,0,0.98956999999999995,-3.3070000000000002E-2,0.12255000000000001,-6.8150000000000002E-2,0,4547,{"$f":"IF((G2147*ALBE+H2147*ALDE+I2147*AT+J2147*BE+K2147*DE+L2147*FR+M2147*NL)>(N2147),1,0)","v":0},null,{"$f":"IF((C$6*G2147+D$6*H2147+E$6*I2147+F$6*J2147+G$6*K2147+H$6*L2147+I$6*M2147)>(N2147),1,0)","v":0}]
[null,749,"[D2-AT] Pleinting - St. Peter 258 [DIR] [AT]_LTA_corner#01_#25","10T-AT-DE-000037","[D2-D2] Pirach - Pleinting 257","11TD2L000000201H",0,0,-0.99646999999999997,8.4010000000000001E-2,0,0,0,4906,{"$f":"IF((G2148*ALBE+H2148*ALDE+I2148*AT+J2148*BE+K2148*DE+L2148*FR+M2148*NL)>(N2148),1,0)","v":0},null,{"$f":"IF((C$6*G2148+D$6*H2148+E$6*I2148+F$6*J2148+G$6*K2148+H$6*L2148+I$6*M2148)>(N2148),1,0)","v":0}]
[null,750,"[AT-AT] Westtirol Transformer WTRHU41 [OPP]_LTA_corner#20_#12","14T-38220-WT041O","BASECASE","N/A",0,0,0.98838999999999999,-1.9859999999999999E-2,0.13441,-6.8059999999999996E-2,0,4507,{"$f":"IF((G2149*ALBE+H2149*ALDE+I2149*AT+J2149*BE+K2149*DE+L2149*FR+M2149*NL)>(N2149),1,0)","v":0},null,{"$f":"IF((C$6*G2149+D$6*H2149+E$6*I2149+F$6*J2149+G$6*K2149+H$6*L2149+I$6*M2149)>(N2149),1,0)","v":0}]
[null,751,"[D2-AT] Pleinting - St. Peter 258 [DIR] [AT]_LTA_corner#15_#17","10T-AT-DE-000037","[D2-D2] Pirach - Pleinting 257","11TD2L000000201H",0,0,-0.99661,-2.6849999999999999E-2,-7.3010000000000005E-2,-2.6849999999999999E-2,0,4635,{"$f":"IF((G2150*ALBE+H2150*ALDE+I2150*AT+J2150*BE+K2150*DE+L2150*FR+M2150*NL)>(N2150),1,0)","v":0},null,{"$f":"IF((C$6*G2150+D$6*H2150+E$6*I2150+F$6*J2150+G$6*K2150+H$6*L2150+I$6*M2150)>(N2150),1,0)","v":0}]
[null,752,"[BE-BE] PST_VANYK_2 [S - N]","22T-BE-PST--002U","[NL-BE] Maasbracht - Van Eyck 380 Black/27","10T-BE-NL-00002G",0.48515000000000003,-5.1249999999999997E-2,1.24E-2,0.27050000000000002,-2.044E-2,9.4600000000000004E-2,-2.581E-2,1058,{"$f":"IF((G2151*ALBE+H2151*ALDE+I2151*AT+J2151*BE+K2151*DE+L2151*FR+M2151*NL)>(N2151),1,0)","v":0},null,{"$f":"IF((C$6*G2151+D$6*H2151+E$6*I2151+F$6*J2151+G$6*K2151+H$6*L2151+I$6*M2151)>(N2151),1,0)","v":0}]
[null,753,"[BE-FR] Achene - Lonny 380.19 [DIR] [BE]_LTA_corner#02_#16","10T-BE-FR-000015","[BE-BE] Avelgem - Horta 380.102","22T20161020---1E",0,0,-0.45576,0.25124000000000002,-0.31114000000000003,-0.79520999999999997,0,2390,{"$f":"IF((G2152*ALBE+H2152*ALDE+I2152*AT+J2152*BE+K2152*DE+L2152*FR+M2152*NL)>(N2152),1,0)","v":0},null,{"$f":"IF((C$6*G2152+D$6*H2152+E$6*I2152+F$6*J2152+G$6*K2152+H$6*L2152+I$6*M2152)>(N2152),1,0)","v":0}]
[null,754,"[D2-AT] Pleinting - St. Peter 258 [DIR] [AT]_LTA_corner#06_#17","10T-AT-DE-000037","[D2-D2] Pirach - Pleinting 257","11TD2L000000201H",0,0,-0.99170999999999998,-0.12536,8.7399999999999995E-3,-2.6720000000000001E-2,0,5130,{"$f":"IF((G2153*ALBE+H2153*ALDE+I2153*AT+J2153*BE+K2153*DE+L2153*FR+M2153*NL)>(N2153),1,0)","v":0},null,{"$f":"IF((C$6*G2153+D$6*H2153+E$6*I2153+F$6*J2153+G$6*K2153+H$6*L2153+I$6*M2153)>(N2153),1,0)","v":0}]
[null,755,"[BE-FR] Achene - Lonny 380.19 [DIR] [BE]_LTA_corner#02_#27","10T-BE-FR-000015","[BE-BE] Avelgem - Horta 380.102","22T20161020---1E",0,0,-0.49991000000000002,0,-0.37892999999999999,-0.77878000000000003,0,1969,{"$f":"IF((G2154*ALBE+H2154*ALDE+I2154*AT+J2154*BE+K2154*DE+L2154*FR+M2154*NL)>(N2154),1,0)","v":0},null,{"$f":"IF((C$6*G2154+D$6*H2154+E$6*I2154+F$6*J2154+G$6*K2154+H$6*L2154+I$6*M2154)>(N2154),1,0)","v":0}]
[null,756,"[D2-AT] Pleinting - St. Peter 258 [DIR] [D2]_LTA_corner#07_#10","10T-AT-DE-000037","[D2-AT] Y - St. Peter (- Altheim - Simbach) 234/230","10T-AT-DE-000045",0,0,-0.99978,0,7.5500000000000003E-3,1.976E-2,0,4914,{"$f":"IF((G2155*ALBE+H2155*ALDE+I2155*AT+J2155*BE+K2155*DE+L2155*FR+M2155*NL)>(N2155),1,0)","v":0},null,{"$f":"IF((C$6*G2155+D$6*H2155+E$6*I2155+F$6*J2155+G$6*K2155+H$6*L2155+I$6*M2155)>(N2155),1,0)","v":0}]
[null,757,"[D2-AT] Pleinting - St. Peter 258 [DIR] [AT]_LTA_corner#02_#20","10T-AT-DE-000037","[D2-D2] Pirach - Pleinting 257","11TD2L000000201H",0,0,-0.99573,9.1679999999999998E-2,-7.79E-3,-7.79E-3,0,4890,{"$f":"IF((G2156*ALBE+H2156*ALDE+I2156*AT+J2156*BE+K2156*DE+L2156*FR+M2156*NL)>(N2156),1,0)","v":0},null,{"$f":"IF((C$6*G2156+D$6*H2156+E$6*I2156+F$6*J2156+G$6*K2156+H$6*L2156+I$6*M2156)>(N2156),1,0)","v":0}]
[null,758,"[D2-AT] Pleinting - St. Peter 258 [DIR] [AT]_LTA_corner#01_#0","10T-AT-DE-000037","[D2-D2] Pirach - Pleinting 257","11TD2L000000201H",0,0,-0.98817999999999995,0,0.15096999999999999,-2.6620000000000001E-2,0,5848,{"$f":"IF((G2157*ALBE+H2157*ALDE+I2157*AT+J2157*BE+K2157*DE+L2157*FR+M2157*NL)>(N2157),1,0)","v":0},null,{"$f":"IF((C$6*G2157+D$6*H2157+E$6*I2157+F$6*J2157+G$6*K2157+H$6*L2157+I$6*M2157)>(N2157),1,0)","v":0}]
[null,759,"[D2-AT] Pleinting - St. Peter 258 [DIR] [AT]_LTA_corner#01_#11","10T-AT-DE-000037","[D2-D2] Pirach - Pleinting 257","11TD2L000000201H",0,0,-0.99424999999999997,0.10365000000000001,0,-2.6790000000000001E-2,0,4962,{"$f":"IF((G2158*ALBE+H2158*ALDE+I2158*AT+J2158*BE+K2158*DE+L2158*FR+M2158*NL)>(N2158),1,0)","v":0},null,{"$f":"IF((C$6*G2158+D$6*H2158+E$6*I2158+F$6*J2158+G$6*K2158+H$6*L2158+I$6*M2158)>(N2158),1,0)","v":0}]
[null,760,"[D7-FR] Ensdorf - Vigy 2S [OPP] [D7]_LTA_corner#30_#2","10T-DE-FR-000068","[D7-FR] Ensdorf - Vigy 1N","10T-DE-FR-00005A",0,0,-1.3610000000000001E-2,0.37352999999999997,-0.21779999999999999,0.90158000000000005,0,3922,{"$f":"IF((G2159*ALBE+H2159*ALDE+I2159*AT+J2159*BE+K2159*DE+L2159*FR+M2159*NL)>(N2159),1,0)","v":0},null,{"$f":"IF((C$6*G2159+D$6*H2159+E$6*I2159+F$6*J2159+G$6*K2159+H$6*L2159+I$6*M2159)>(N2159),1,0)","v":0}]
[null,761,"[BE-FR] Achene - Lonny 380.19 [DIR] [BE]_LTA_corner#09_#10","10T-BE-FR-000015","[BE-BE] Avelgem - Horta 380.102","22T20161020---1E",0,0,-0.42387999999999998,-0.59025000000000005,-0.35148000000000001,-0.59025000000000005,0,1513,{"$f":"IF((G2160*ALBE+H2160*ALDE+I2160*AT+J2160*BE+K2160*DE+L2160*FR+M2160*NL)>(N2160),1,0)","v":0},null,{"$f":"IF((C$6*G2160+D$6*H2160+E$6*I2160+F$6*J2160+G$6*K2160+H$6*L2160+I$6*M2160)>(N2160),1,0)","v":0}]
[null,762,"[D2-AT] Pleinting - St. Peter 258 [DIR] [AT]_LTA_corner#07_#18","10T-AT-DE-000037","[D2-D2] Pirach - Pleinting 257","11TD2L000000201H",0,0,-0.99597000000000002,0,0,8.9660000000000004E-2,0,5075,{"$f":"IF((G2161*ALBE+H2161*ALDE+I2161*AT+J2161*BE+K2161*DE+L2161*FR+M2161*NL)>(N2161),1,0)","v":0},null,{"$f":"IF((C$6*G2161+D$6*H2161+E$6*I2161+F$6*J2161+G$6*K2161+H$6*L2161+I$6*M2161)>(N2161),1,0)","v":0}]
[null,763,"[D2-AT] Pleinting - St. Peter 258 [DIR] [D2]_LTA_corner#01_#3","10T-AT-DE-000037","[D2-AT] Y - St. Peter (- Altheim - Simbach) 234/230","10T-AT-DE-000045",0,0,-0.98914000000000002,0,0.14695,0,0,5783,{"$f":"IF((G2162*ALBE+H2162*ALDE+I2162*AT+J2162*BE+K2162*DE+L2162*FR+M2162*NL)>(N2162),1,0)","v":0},null,{"$f":"IF((C$6*G2162+D$6*H2162+E$6*I2162+F$6*J2162+G$6*K2162+H$6*L2162+I$6*M2162)>(N2162),1,0)","v":0}]
[null,764,"[D2-AT] Pleinting - St. Peter 258 [DIR] [AT]_LTA_corner#06_#26","10T-AT-DE-000037","[D2-D2] Pirach - Pleinting 257","11TD2L000000201H",0,0,-0.99590000000000001,-9.0499999999999997E-2,0,0,0,5023,{"$f":"IF((G2163*ALBE+H2163*ALDE+I2163*AT+J2163*BE+K2163*DE+L2163*FR+M2163*NL)>(N2163),1,0)","v":0},null,{"$f":"IF((C$6*G2163+D$6*H2163+E$6*I2163+F$6*J2163+G$6*K2163+H$6*L2163+I$6*M2163)>(N2163),1,0)","v":0}]
[null,765,"[NL-NL] Borssele - Rilland 380 Zwart [DIR]","49T000000000059S","[NL-NL] Borssele - Rilland 380 Grijs","49T000000000057W",-5.1900000000000002E-3,2.2799999999999999E-3,-7.3999999999999999E-4,-1.3559999999999999E-2,1.23E-3,-5.6499999999999996E-3,0.14011000000000001,457,{"$f":"IF((G2164*ALBE+H2164*ALDE+I2164*AT+J2164*BE+K2164*DE+L2164*FR+M2164*NL)>(N2164),1,0)","v":0},null,{"$f":"IF((C$6*G2164+D$6*H2164+E$6*I2164+F$6*J2164+G$6*K2164+H$6*L2164+I$6*M2164)>(N2164),1,0)","v":0}]
[null,766,"[D2-AT] Pleinting - St. Peter 258 [DIR] [D2]_LTA_corner#01_#16","10T-AT-DE-000037","[D2-AT] Y - St. Peter (- Altheim - Simbach) 234/230","10T-AT-DE-000045",0,0,-0.99995999999999996,9.4400000000000005E-3,0,0,0,4832,{"$f":"IF((G2165*ALBE+H2165*ALDE+I2165*AT+J2165*BE+K2165*DE+L2165*FR+M2165*NL)>(N2165),1,0)","v":0},null,{"$f":"IF((C$6*G2165+D$6*H2165+E$6*I2165+F$6*J2165+G$6*K2165+H$6*L2165+I$6*M2165)>(N2165),1,0)","v":0}]
[null,767,"[D2-AT] Pleinting - St. Peter 258 [DIR] [AT]_LTA_corner#03_#6","10T-AT-DE-000037","[D2-D2] Pirach - Pleinting 257","11TD2L000000201H",0,0,-0.99826000000000004,4.1739999999999999E-2,0,4.1739999999999999E-2,0,4895,{"$f":"IF((G2166*ALBE+H2166*ALDE+I2166*AT+J2166*BE+K2166*DE+L2166*FR+M2166*NL)>(N2166),1,0)","v":0},null,{"$f":"IF((C$6*G2166+D$6*H2166+E$6*I2166+F$6*J2166+G$6*K2166+H$6*L2166+I$6*M2166)>(N2166),1,0)","v":0}]
[null,768,"[D2-AT] Pleinting - St. Peter 258 [DIR] [AT]_LTA_corner#02_#6","10T-AT-DE-000037","[D2-D2] Pirach - Pleinting 257","11TD2L000000201H",0,0,-0.99558999999999997,9.2359999999999998E-2,-1.1730000000000001E-2,-1.1730000000000001E-2,0,4879,{"$f":"IF((G2167*ALBE+H2167*ALDE+I2167*AT+J2167*BE+K2167*DE+L2167*FR+M2167*NL)>(N2167),1,0)","v":0},null,{"$f":"IF((C$6*G2167+D$6*H2167+E$6*I2167+F$6*J2167+G$6*K2167+H$6*L2167+I$6*M2167)>(N2167),1,0)","v":0}]
[null,769,"[BE-FR] Achene - Lonny 380.19 [DIR] [BE]_LTA_corner#02_#25","10T-BE-FR-000015","[BE-BE] Avelgem - Horta 380.102","22T20161020---1E",0,0,-0.48798000000000002,0,-0.35511999999999999,-0.79735,0,2047,{"$f":"IF((G2168*ALBE+H2168*ALDE+I2168*AT+J2168*BE+K2168*DE+L2168*FR+M2168*NL)>(N2168),1,0)","v":0},null,{"$f":"IF((C$6*G2168+D$6*H2168+E$6*I2168+F$6*J2168+G$6*K2168+H$6*L2168+I$6*M2168)>(N2168),1,0)","v":0}]
[null,770,"ALDE_import","N/A","BASECASE","N/A",0,-1,0,0,0,0,0,0,{"$f":"IF((G2169*ALBE+H2169*ALDE+I2169*AT+J2169*BE+K2169*DE+L2169*FR+M2169*NL)>(N2169),1,0)","v":0},null,{"$f":"IF((C$6*G2169+D$6*H2169+E$6*I2169+F$6*J2169+G$6*K2169+H$6*L2169+I$6*M2169)>(N2169),1,0)","v":0}]
[null,771,"[D2-AT] Pleinting - St. Peter 258 [DIR] [AT]_LTA_corner#04_#0","10T-AT-DE-000037","[D2-D2] Pirach - Pleinting 257","11TD2L000000201H",0,0,-0.98919000000000001,-3.6099999999999999E-3,8.7200000000000003E-3,-0.14631,0,5064,{"$f":"IF((G2170*ALBE+H2170*ALDE+I2170*AT+J2170*BE+K2170*DE+L2170*FR+M2170*NL)>(N2170),1,0)","v":0},null,{"$f":"IF((C$6*G2170+D$6*H2170+E$6*I2170+F$6*J2170+G$6*K2170+H$6*L2170+I$6*M2170)>(N2170),1,0)","v":0}]
[null,772,"[D7-FR] Ensdorf - Vigy 2S [OPP] [D7]_LTA_corner#30_#0","10T-DE-FR-000068","[D7-FR] Ensdorf - Vigy 1N","10T-DE-FR-00005A",0,0,7.7609999999999998E-2,0.35774,-0.11974,0.92286000000000001,0,3704,{"$f":"IF((G2171*ALBE+H2171*ALDE+I2171*AT+J2171*BE+K2171*DE+L2171*FR+M2171*NL)>(N2171),1,0)","v":0},null,{"$f":"IF((C$6*G2171+D$6*H2171+E$6*I2171+F$6*J2171+G$6*K2171+H$6*L2171+I$6*M2171)>(N2171),1,0)","v":0}]
[null,773,"[D2-AT] Pleinting - St. Peter 258 [DIR] [D2]_LTA_corner#01_#25","10T-AT-DE-000037","[D2-AT] Y - St. Peter (- Altheim - Simbach) 234/230","10T-AT-DE-000045",0,0,-0.85814999999999997,0.20102999999999999,0.42749999999999999,0.20102999999999999,0,7011,{"$f":"IF((G2172*ALBE+H2172*ALDE+I2172*AT+J2172*BE+K2172*DE+L2172*FR+M2172*NL)>(N2172),1,0)","v":0},null,{"$f":"IF((C$6*G2172+D$6*H2172+E$6*I2172+F$6*J2172+G$6*K2172+H$6*L2172+I$6*M2172)>(N2172),1,0)","v":0}]
[null,774,"[D7-FR] Ensdorf - Vigy 2S [OPP] [D7]_LTA_corner#30_#5","10T-DE-FR-000068","[D7-FR] Ensdorf - Vigy 1N","10T-DE-FR-00005A",0,0,7.5060000000000002E-2,0.37596000000000002,-0.112,0.91676999999999997,0,3595,{"$f":"IF((G2173*ALBE+H2173*ALDE+I2173*AT+J2173*BE+K2173*DE+L2173*FR+M2173*NL)>(N2173),1,0)","v":0},null,{"$f":"IF((C$6*G2173+D$6*H2173+E$6*I2173+F$6*J2173+G$6*K2173+H$6*L2173+I$6*M2173)>(N2173),1,0)","v":0}]
[null,775,"[BE-BE] PST_ZANDV_2 [N - S]_LTA_corner#13_#14","22T20161020---56","[NL-BE] Rilland - Zandvliet 380 White/30","10T-BE-NL-00004C",0,0,-0.35338000000000003,-0.72057000000000004,-0.31436999999999998,-0.50702000000000003,0,1716,{"$f":"IF((G2174*ALBE+H2174*ALDE+I2174*AT+J2174*BE+K2174*DE+L2174*FR+M2174*NL)>(N2174),1,0)","v":0},null,{"$f":"IF((C$6*G2174+D$6*H2174+E$6*I2174+F$6*J2174+G$6*K2174+H$6*L2174+I$6*M2174)>(N2174),1,0)","v":0}]
[null,776,"[AT-AT] Westtirol Transformer WTRHU41 [OPP]_LTA_corner#20_#9","14T-38220-WT041O","BASECASE","N/A",0,0,0.99156999999999995,-1.992E-2,0.10833,-6.8279999999999993E-2,0,4594,{"$f":"IF((G2175*ALBE+H2175*ALDE+I2175*AT+J2175*BE+K2175*DE+L2175*FR+M2175*NL)>(N2175),1,0)","v":0},null,{"$f":"IF((C$6*G2175+D$6*H2175+E$6*I2175+F$6*J2175+G$6*K2175+H$6*L2175+I$6*M2175)>(N2175),1,0)","v":0}]
[null,777,"[BE-FR] Achene - Lonny 380.19 [DIR] [BE]_LTA_corner#02_#19","10T-BE-FR-000015","[BE-BE] Avelgem - Horta 380.102","22T20161020---1E",0,0,-0.44819999999999999,0.34034999999999999,-0.33622999999999997,-0.75512999999999997,0,2287,{"$f":"IF((G2176*ALBE+H2176*ALDE+I2176*AT+J2176*BE+K2176*DE+L2176*FR+M2176*NL)>(N2176),1,0)","v":0},null,{"$f":"IF((C$6*G2176+D$6*H2176+E$6*I2176+F$6*J2176+G$6*K2176+H$6*L2176+I$6*M2176)>(N2176),1,0)","v":0}]
[null,778,"[D2-AT] Pleinting - St. Peter 258 [DIR] [AT]_LTA_corner#01_#13","10T-AT-DE-000037","[D2-D2] Pirach - Pleinting 257","11TD2L000000201H",0,0,-0.99426999999999999,0.10476000000000001,0,-2.1250000000000002E-2,0,4955,{"$f":"IF((G2177*ALBE+H2177*ALDE+I2177*AT+J2177*BE+K2177*DE+L2177*FR+M2177*NL)>(N2177),1,0)","v":0},null,{"$f":"IF((C$6*G2177+D$6*H2177+E$6*I2177+F$6*J2177+G$6*K2177+H$6*L2177+I$6*M2177)>(N2177),1,0)","v":0}]
[null,779,"[D2-AT] Pleinting - St. Peter 258 [DIR] [AT]_LTA_corner#14_#18","10T-AT-DE-000037","[D2-D2] Pirach - Pleinting 257","11TD2L000000201H",0,0,-0.99597000000000002,0,-3.7799999999999999E-3,8.9569999999999997E-2,0,5067,{"$f":"IF((G2178*ALBE+H2178*ALDE+I2178*AT+J2178*BE+K2178*DE+L2178*FR+M2178*NL)>(N2178),1,0)","v":0},null,{"$f":"IF((C$6*G2178+D$6*H2178+E$6*I2178+F$6*J2178+G$6*K2178+H$6*L2178+I$6*M2178)>(N2178),1,0)","v":0}]
[null,780,"[D7-D7] PST Gronau [OPP]","11T0-0000-0620-R","[D7-D7] Gronau - Kusenhorst Hamaland","11T0-0000-0618-7",-8.6809999999999998E-2,-4.3060000000000001E-2,-1.1429999999999999E-2,-8.5370000000000001E-2,2.3560000000000001E-2,-4.607E-2,-0.12692999999999999,634,{"$f":"IF((G2179*ALBE+H2179*ALDE+I2179*AT+J2179*BE+K2179*DE+L2179*FR+M2179*NL)>(N2179),1,0)","v":0},null,{"$f":"IF((C$6*G2179+D$6*H2179+E$6*I2179+F$6*J2179+G$6*K2179+H$6*L2179+I$6*M2179)>(N2179),1,0)","v":0}]
[null,781,"[D7-FR] Ensdorf - Vigy 2S [OPP] [D7]_LTA_corner#30_#4","10T-DE-FR-000068","[D7-FR] Ensdorf - Vigy 1N","10T-DE-FR-00005A",0,0,-2.7799999999999998E-2,0.39376,-0.23143,0.88917000000000002,0,3896,{"$f":"IF((G2180*ALBE+H2180*ALDE+I2180*AT+J2180*BE+K2180*DE+L2180*FR+M2180*NL)>(N2180),1,0)","v":0},null,{"$f":"IF((C$6*G2180+D$6*H2180+E$6*I2180+F$6*J2180+G$6*K2180+H$6*L2180+I$6*M2180)>(N2180),1,0)","v":0}]
[null,782,"[D2-AT] Pleinting - St. Peter 258 [DIR] [D2]_LTA_corner#09_#21","10T-AT-DE-000037","[D2-AT] Y - St. Peter (- Altheim - Simbach) 234/230","10T-AT-DE-000045",0,0,-0.98257000000000005,-5.6829999999999999E-2,-0.12514,-0.12514,0,4389,{"$f":"IF((G2181*ALBE+H2181*ALDE+I2181*AT+J2181*BE+K2181*DE+L2181*FR+M2181*NL)>(N2181),1,0)","v":0},null,{"$f":"IF((C$6*G2181+D$6*H2181+E$6*I2181+F$6*J2181+G$6*K2181+H$6*L2181+I$6*M2181)>(N2181),1,0)","v":0}]
[null,783,"[AT-AT] Westtirol Transformer WTRHU41 [OPP]_LTA_corner#20_#1","14T-38220-WT041O","BASECASE","N/A",0,0,0.99009000000000003,-6.8300000000000001E-3,0.12261,-6.8180000000000004E-2,0,4546,{"$f":"IF((G2182*ALBE+H2182*ALDE+I2182*AT+J2182*BE+K2182*DE+L2182*FR+M2182*NL)>(N2182),1,0)","v":0},null,{"$f":"IF((C$6*G2182+D$6*H2182+E$6*I2182+F$6*J2182+G$6*K2182+H$6*L2182+I$6*M2182)>(N2182),1,0)","v":0}]
[null,784,"[D2-AT] Pleinting - St. Peter 258 [DIR] [AT]_LTA_corner#15_#0","10T-AT-DE-000037","[D2-D2] Pirach - Pleinting 257","11TD2L000000201H",0,0,-0.99516000000000004,-3.63E-3,-9.4460000000000002E-2,-2.681E-2,0,4579,{"$f":"IF((G2183*ALBE+H2183*ALDE+I2183*AT+J2183*BE+K2183*DE+L2183*FR+M2183*NL)>(N2183),1,0)","v":0},null,{"$f":"IF((C$6*G2183+D$6*H2183+E$6*I2183+F$6*J2183+G$6*K2183+H$6*L2183+I$6*M2183)>(N2183),1,0)","v":0}]
[null,785,"ALBE_export","N/A","BASECASE","N/A",1,0,0,0,0,0,0,0,{"$f":"IF((G2184*ALBE+H2184*ALDE+I2184*AT+J2184*BE+K2184*DE+L2184*FR+M2184*NL)>(N2184),1,0)","v":0},null,{"$f":"IF((C$6*G2184+D$6*H2184+E$6*I2184+F$6*J2184+G$6*K2184+H$6*L2184+I$6*M2184)>(N2184),1,0)","v":0}]
[null,786,"[D2-NL] Diele - Meeden 380 Black [DIR] [D2]","10T-DE-NL-00001V","[D2-NL] Diele - Meeden 380 White ","10T-DE-NL-00002T",-7.059E-2,-3.696E-2,-1.089E-2,-7.2459999999999997E-2,1.149E-2,-4.0489999999999998E-2,-0.12964000000000001,485,{"$f":"IF((G2185*ALBE+H2185*ALDE+I2185*AT+J2185*BE+K2185*DE+L2185*FR+M2185*NL)>(N2185),1,0)","v":0},null,{"$f":"IF((C$6*G2185+D$6*H2185+E$6*I2185+F$6*J2185+G$6*K2185+H$6*L2185+I$6*M2185)>(N2185),1,0)","v":0}]
[null,787,"[AT-AT] Westtirol Transformer WTRHU41 [OPP]_LTA_corner#20_#10","14T-38220-WT041O","BASECASE","N/A",0,0,0.98887999999999998,-1.9869999999999999E-2,0.12246,-8.1949999999999995E-2,0,4564,{"$f":"IF((G2186*ALBE+H2186*ALDE+I2186*AT+J2186*BE+K2186*DE+L2186*FR+M2186*NL)>(N2186),1,0)","v":0},null,{"$f":"IF((C$6*G2186+D$6*H2186+E$6*I2186+F$6*J2186+G$6*K2186+H$6*L2186+I$6*M2186)>(N2186),1,0)","v":0}]
[null,788,"[D2-AT] Pleinting - St. Peter 258 [DIR] [D2]_LTA_corner#01_#2","10T-AT-DE-000037","[D2-AT] Y - St. Peter (- Altheim - Simbach) 234/230","10T-AT-DE-000045",0,0,-0.86731999999999998,0.13578000000000001,0.45921000000000001,0.13578000000000001,0,7298,{"$f":"IF((G2187*ALBE+H2187*ALDE+I2187*AT+J2187*BE+K2187*DE+L2187*FR+M2187*NL)>(N2187),1,0)","v":0},null,{"$f":"IF((C$6*G2187+D$6*H2187+E$6*I2187+F$6*J2187+G$6*K2187+H$6*L2187+I$6*M2187)>(N2187),1,0)","v":0}]
[null,789,"[BE-FR] Achene - Lonny 380.19 [DIR] [BE]_LTA_corner#02_#5","10T-BE-FR-000015","[BE-BE] Avelgem - Horta 380.102","22T20161020---1E",0,0,-0.41,0.49346000000000001,-0.27871000000000001,-0.71464000000000005,0,2481,{"$f":"IF((G2188*ALBE+H2188*ALDE+I2188*AT+J2188*BE+K2188*DE+L2188*FR+M2188*NL)>(N2188),1,0)","v":0},null,{"$f":"IF((C$6*G2188+D$6*H2188+E$6*I2188+F$6*J2188+G$6*K2188+H$6*L2188+I$6*M2188)>(N2188),1,0)","v":0}]
[null,790,"ALBE_import","N/A","BASECASE","N/A",-1,0,0,0,0,0,0,0,{"$f":"IF((G2189*ALBE+H2189*ALDE+I2189*AT+J2189*BE+K2189*DE+L2189*FR+M2189*NL)>(N2189),1,0)","v":0},null,{"$f":"IF((C$6*G2189+D$6*H2189+E$6*I2189+F$6*J2189+G$6*K2189+H$6*L2189+I$6*M2189)>(N2189),1,0)","v":0}]
[null,791,"[D2-AT] Pleinting - St. Peter 258 [DIR] [AT]_LTA_corner#05_#1","10T-AT-DE-000037","[D2-D2] Pirach - Pleinting 257","11TD2L000000201H",0,0,-0.99739999999999995,0,5.0970000000000001E-2,5.0970000000000001E-2,0,5196,{"$f":"IF((G2190*ALBE+H2190*ALDE+I2190*AT+J2190*BE+K2190*DE+L2190*FR+M2190*NL)>(N2190),1,0)","v":0},null,{"$f":"IF((C$6*G2190+D$6*H2190+E$6*I2190+F$6*J2190+G$6*K2190+H$6*L2190+I$6*M2190)>(N2190),1,0)","v":0}]
[null,792,"[D7-FR] Ensdorf - Vigy 2S [OPP] [D7]_LTA_corner#30_#39","10T-DE-FR-000068","[D7-FR] Ensdorf - Vigy 1N","10T-DE-FR-00005A",0,0,-2.7799999999999998E-2,0.39374999999999999,-0.23143,0.88917000000000002,0,3896,{"$f":"IF((G2191*ALBE+H2191*ALDE+I2191*AT+J2191*BE+K2191*DE+L2191*FR+M2191*NL)>(N2191),1,0)","v":0},null,{"$f":"IF((C$6*G2191+D$6*H2191+E$6*I2191+F$6*J2191+G$6*K2191+H$6*L2191+I$6*M2191)>(N2191),1,0)","v":0}]
[null,793,"[BE-FR] Achene - Lonny 380.19 [DIR] [BE]_LTA_corner#02_#12","10T-BE-FR-000015","[BE-BE] Avelgem - Horta 380.102","22T20161020---1E",0,0,-0.45504,0.34554000000000001,-0.29288999999999998,-0.76665000000000005,0,2537,{"$f":"IF((G2192*ALBE+H2192*ALDE+I2192*AT+J2192*BE+K2192*DE+L2192*FR+M2192*NL)>(N2192),1,0)","v":0},null,{"$f":"IF((C$6*G2192+D$6*H2192+E$6*I2192+F$6*J2192+G$6*K2192+H$6*L2192+I$6*M2192)>(N2192),1,0)","v":0}]
[null,794,"[D2-AT] Pleinting - St. Peter 258 [DIR] [AT]_LTA_corner#14_#15","10T-AT-DE-000037","[D2-D2] Pirach - Pleinting 257","11TD2L000000201H",0,0,-0.99511000000000005,1.9550000000000001E-2,-7.1389999999999995E-2,6.5350000000000005E-2,0,4825,{"$f":"IF((G2193*ALBE+H2193*ALDE+I2193*AT+J2193*BE+K2193*DE+L2193*FR+M2193*NL)>(N2193),1,0)","v":0},null,{"$f":"IF((C$6*G2193+D$6*H2193+E$6*I2193+F$6*J2193+G$6*K2193+H$6*L2193+I$6*M2193)>(N2193),1,0)","v":0}]
[null,795,"[D2-AT] Pleinting - St. Peter 258 [DIR] [D2]_LTA_corner#15_#8","10T-AT-DE-000037","[D2-AT] Y - St. Peter (- Altheim - Simbach) 234/230","10T-AT-DE-000045",0,0,-0.96375,-0.10310999999999999,-0.18271000000000001,-0.16483,0,4154,{"$f":"IF((G2194*ALBE+H2194*ALDE+I2194*AT+J2194*BE+K2194*DE+L2194*FR+M2194*NL)>(N2194),1,0)","v":0},null,{"$f":"IF((C$6*G2194+D$6*H2194+E$6*I2194+F$6*J2194+G$6*K2194+H$6*L2194+I$6*M2194)>(N2194),1,0)","v":0}]
[null,796,"[BE-FR] Achene - Lonny 380.19 [OPP] [BE]","10T-BE-FR-000015","[BE-BE] Avelgem - Horta 380.102","22T20161020---1E",-0.31180999999999998,-6.8570000000000006E-2,2.0570000000000001E-2,-0.30785000000000001,-3.4529999999999998E-2,0.1484,-0.1661,2021,{"$f":"IF((G2195*ALBE+H2195*ALDE+I2195*AT+J2195*BE+K2195*DE+L2195*FR+M2195*NL)>(N2195),1,0)","v":0},null,{"$f":"IF((C$6*G2195+D$6*H2195+E$6*I2195+F$6*J2195+G$6*K2195+H$6*L2195+I$6*M2195)>(N2195),1,0)","v":0}]
[null,797,"[BE-FR] Achene - Lonny 380.19 [DIR] [BE]_LTA_corner#02_#26","10T-BE-FR-000015","[BE-BE] Avelgem - Horta 380.102","22T20161020---1E",0,0,-0.50173000000000001,0,-0.36596000000000001,-0.78380000000000005,0,2043,{"$f":"IF((G2196*ALBE+H2196*ALDE+I2196*AT+J2196*BE+K2196*DE+L2196*FR+M2196*NL)>(N2196),1,0)","v":0},null,{"$f":"IF((C$6*G2196+D$6*H2196+E$6*I2196+F$6*J2196+G$6*K2196+H$6*L2196+I$6*M2196)>(N2196),1,0)","v":0}]
[null,798,"[BE-BE] PST_ZANDV_2 [N - S]_LTA_corner#13_#8","22T20161020---56","[NL-BE] Rilland - Zandvliet 380 White/30","10T-BE-NL-00004C",0,0,-0.40558,-0.65434999999999999,-0.34845999999999999,-0.53471000000000002,0,1635,{"$f":"IF((G2197*ALBE+H2197*ALDE+I2197*AT+J2197*BE+K2197*DE+L2197*FR+M2197*NL)>(N2197),1,0)","v":0},null,{"$f":"IF((C$6*G2197+D$6*H2197+E$6*I2197+F$6*J2197+G$6*K2197+H$6*L2197+I$6*M2197)>(N2197),1,0)","v":0}]
[null,799,"[D2-AT] Pleinting - St. Peter 258 [DIR] [D2]_LTA_corner#01_#28","10T-AT-DE-000037","[D2-AT] Y - St. Peter (- Altheim - Simbach) 234/230","10T-AT-DE-000045",0,0,-0.99983,1.074E-2,1.074E-2,1.074E-2,0,4890,{"$f":"IF((G2198*ALBE+H2198*ALDE+I2198*AT+J2198*BE+K2198*DE+L2198*FR+M2198*NL)>(N2198),1,0)","v":0},null,{"$f":"IF((C$6*G2198+D$6*H2198+E$6*I2198+F$6*J2198+G$6*K2198+H$6*L2198+I$6*M2198)>(N2198),1,0)","v":0}]
[null,800,"[D7-FR] Ensdorf - Vigy 2S [OPP] [D7]_LTA_corner#30_#7","10T-DE-FR-000068","[D7-FR] Ensdorf - Vigy 1N","10T-DE-FR-00005A",0,0,4.3839999999999997E-2,0.38397999999999999,-0.15459999999999999,0.90925,0,3734,{"$f":"IF((G2199*ALBE+H2199*ALDE+I2199*AT+J2199*BE+K2199*DE+L2199*FR+M2199*NL)>(N2199),1,0)","v":0},null,{"$f":"IF((C$6*G2199+D$6*H2199+E$6*I2199+F$6*J2199+G$6*K2199+H$6*L2199+I$6*M2199)>(N2199),1,0)","v":0}]
[null,801,"[BE-FR] Achene - Lonny 380.19 [DIR] [BE]_LTA_corner#09_#11","10T-BE-FR-000015","[BE-BE] Avelgem - Horta 380.102","22T20161020---1E",0,0,-0.41742000000000001,-0.59384999999999999,-0.34705000000000003,-0.59384999999999999,0,1508,{"$f":"IF((G2200*ALBE+H2200*ALDE+I2200*AT+J2200*BE+K2200*DE+L2200*FR+M2200*NL)>(N2200),1,0)","v":0},null,{"$f":"IF((C$6*G2200+D$6*H2200+E$6*I2200+F$6*J2200+G$6*K2200+H$6*L2200+I$6*M2200)>(N2200),1,0)","v":0}]
[null,802,"[D7-FR] Ensdorf - Vigy 2S [OPP] [D7]_LTA_corner#30_#31","10T-DE-FR-000068","[D7-FR] Ensdorf - Vigy 1N","10T-DE-FR-00005A",0,0,1.1820000000000001E-2,0.36559000000000003,-0.19955999999999999,0.90905999999999998,0,3938,{"$f":"IF((G2201*ALBE+H2201*ALDE+I2201*AT+J2201*BE+K2201*DE+L2201*FR+M2201*NL)>(N2201),1,0)","v":0},null,{"$f":"IF((C$6*G2201+D$6*H2201+E$6*I2201+F$6*J2201+G$6*K2201+H$6*L2201+I$6*M2201)>(N2201),1,0)","v":0}]
[null,803,"[D2-AT] Pleinting - St. Peter 258 [DIR] [AT]_LTA_corner#14_#10","10T-AT-DE-000037","[D2-D2] Pirach - Pleinting 257","11TD2L000000201H",0,0,-0.99560000000000004,0,-8.7340000000000001E-2,3.3919999999999999E-2,0,4720,{"$f":"IF((G2202*ALBE+H2202*ALDE+I2202*AT+J2202*BE+K2202*DE+L2202*FR+M2202*NL)>(N2202),1,0)","v":0},null,{"$f":"IF((C$6*G2202+D$6*H2202+E$6*I2202+F$6*J2202+G$6*K2202+H$6*L2202+I$6*M2202)>(N2202),1,0)","v":0}]
[null,804,"[D2-AT] Pleinting - St. Peter 258 [DIR] [AT]_LTA_corner#02_#3","10T-AT-DE-000037","[D2-D2] Pirach - Pleinting 257","11TD2L000000201H",0,0,-0.99670000000000003,7.1760000000000004E-2,-2.6849999999999999E-2,-2.6849999999999999E-2,0,4816,{"$f":"IF((G2203*ALBE+H2203*ALDE+I2203*AT+J2203*BE+K2203*DE+L2203*FR+M2203*NL)>(N2203),1,0)","v":0},null,{"$f":"IF((C$6*G2203+D$6*H2203+E$6*I2203+F$6*J2203+G$6*K2203+H$6*L2203+I$6*M2203)>(N2203),1,0)","v":0}]
[null,805,"[BE-BE] PST_VANYK_2 [S - N]","22T-BE-PST--002U","[BE-BE] Y - Courcelles (- Gramme - Tergnee) 380.31","22T-BE-IN-LI019P",0.48886000000000002,-4.3339999999999997E-2,1.081E-2,0.22703000000000001,-1.7919999999999998E-2,8.0390000000000003E-2,-3.3860000000000001E-2,947,{"$f":"IF((G2204*ALBE+H2204*ALDE+I2204*AT+J2204*BE+K2204*DE+L2204*FR+M2204*NL)>(N2204),1,0)","v":0},null,{"$f":"IF((C$6*G2204+D$6*H2204+E$6*I2204+F$6*J2204+G$6*K2204+H$6*L2204+I$6*M2204)>(N2204),1,0)","v":0}]
[null,806,"[D2-AT] Pleinting - St. Peter 258 [DIR] [D2]_LTA_corner#09_#2","10T-AT-DE-000037","[D2-AT] Y - St. Peter (- Altheim - Simbach) 234/230","10T-AT-DE-000045",0,0,-0.99263999999999997,-7.6280000000000001E-2,-5.4980000000000001E-2,-7.6280000000000001E-2,0,4674,{"$f":"IF((G2205*ALBE+H2205*ALDE+I2205*AT+J2205*BE+K2205*DE+L2205*FR+M2205*NL)>(N2205),1,0)","v":0},null,{"$f":"IF((C$6*G2205+D$6*H2205+E$6*I2205+F$6*J2205+G$6*K2205+H$6*L2205+I$6*M2205)>(N2205),1,0)","v":0}]
[null,807,"[D2-AT] Pleinting - St. Peter 258 [DIR] [AT]_LTA_corner#11_#1","10T-AT-DE-000037","[D2-D2] Pirach - Pleinting 257","11TD2L000000201H",0,0,-0.99543000000000004,0,-9.4750000000000001E-2,-1.2239999999999999E-2,0,4591,{"$f":"IF((G2206*ALBE+H2206*ALDE+I2206*AT+J2206*BE+K2206*DE+L2206*FR+M2206*NL)>(N2206),1,0)","v":0},null,{"$f":"IF((C$6*G2206+D$6*H2206+E$6*I2206+F$6*J2206+G$6*K2206+H$6*L2206+I$6*M2206)>(N2206),1,0)","v":0}]
[null,808,"[D2-AT] Pleinting - St. Peter 258 [DIR] [AT]_LTA_corner#01_#6","10T-AT-DE-000037","[D2-D2] Pirach - Pleinting 257","11TD2L000000201H",0,0,-0.98975000000000002,0,8.7200000000000003E-3,-0.14255999999999999,0,5060,{"$f":"IF((G2207*ALBE+H2207*ALDE+I2207*AT+J2207*BE+K2207*DE+L2207*FR+M2207*NL)>(N2207),1,0)","v":0},null,{"$f":"IF((C$6*G2207+D$6*H2207+E$6*I2207+F$6*J2207+G$6*K2207+H$6*L2207+I$6*M2207)>(N2207),1,0)","v":0}]
[null,809,"[BE-FR] Achene - Lonny 380.19 [DIR] [BE]_LTA_corner#09_#2","10T-BE-FR-000015","[BE-BE] Avelgem - Horta 380.102","22T20161020---1E",0,0,-0.41937000000000002,-0.59662000000000004,-0.33500000000000002,-0.59662000000000004,0,1576,{"$f":"IF((G2208*ALBE+H2208*ALDE+I2208*AT+J2208*BE+K2208*DE+L2208*FR+M2208*NL)>(N2208),1,0)","v":0},null,{"$f":"IF((C$6*G2208+D$6*H2208+E$6*I2208+F$6*J2208+G$6*K2208+H$6*L2208+I$6*M2208)>(N2208),1,0)","v":0}]
[null,810,"[D2-AT] Pleinting - St. Peter 258 [DIR] [AT]_LTA_corner#01_#1","10T-AT-DE-000037","[D2-D2] Pirach - Pleinting 257","11TD2L000000201H",0,0,-0.99299999999999999,0.11473999999999999,8.7500000000000008E-3,-2.6749999999999999E-2,0,5030,{"$f":"IF((G2209*ALBE+H2209*ALDE+I2209*AT+J2209*BE+K2209*DE+L2209*FR+M2209*NL)>(N2209),1,0)","v":0},null,{"$f":"IF((C$6*G2209+D$6*H2209+E$6*I2209+F$6*J2209+G$6*K2209+H$6*L2209+I$6*M2209)>(N2209),1,0)","v":0}]
[null,811,"[D2-AT] Pleinting - St. Peter 258 [DIR] [D2]_LTA_corner#09_#0","10T-AT-DE-000037","[D2-AT] Y - St. Peter (- Altheim - Simbach) 234/230","10T-AT-DE-000045",0,0,-0.98014000000000001,-9.0399999999999994E-2,-0.12482,-0.12482,0,4383,{"$f":"IF((G2210*ALBE+H2210*ALDE+I2210*AT+J2210*BE+K2210*DE+L2210*FR+M2210*NL)>(N2210),1,0)","v":0},null,{"$f":"IF((C$6*G2210+D$6*H2210+E$6*I2210+F$6*J2210+G$6*K2210+H$6*L2210+I$6*M2210)>(N2210),1,0)","v":0}]
[null,812,"[D2-AT] Pleinting - St. Peter 258 [DIR] [AT]_LTA_corner#01_#15","10T-AT-DE-000037","[D2-D2] Pirach - Pleinting 257","11TD2L000000201H",0,0,-0.99334999999999996,0,0.11515,0,0,5583,{"$f":"IF((G2211*ALBE+H2211*ALDE+I2211*AT+J2211*BE+K2211*DE+L2211*FR+M2211*NL)>(N2211),1,0)","v":0},null,{"$f":"IF((C$6*G2211+D$6*H2211+E$6*I2211+F$6*J2211+G$6*K2211+H$6*L2211+I$6*M2211)>(N2211),1,0)","v":0}]
[null,813,"[BE-FR] Achene - Lonny 380.19 [DIR] [BE]_LTA_corner#02_#1","10T-BE-FR-000015","[BE-BE] Avelgem - Horta 380.102","22T20161020---1E",0,0,-0.43486000000000002,0.34572999999999998,-0.32090000000000002,-0.76707000000000003,0,2316,{"$f":"IF((G2212*ALBE+H2212*ALDE+I2212*AT+J2212*BE+K2212*DE+L2212*FR+M2212*NL)>(N2212),1,0)","v":0},null,{"$f":"IF((C$6*G2212+D$6*H2212+E$6*I2212+F$6*J2212+G$6*K2212+H$6*L2212+I$6*M2212)>(N2212),1,0)","v":0}]
[null,814,"[BE-BE] PST_ZANDV_2 [N - S]_LTA_corner#13_#17","22T20161020---56","[NL-BE] Rilland - Zandvliet 380 White/30","10T-BE-NL-00004C",0,0,-0.32139000000000001,-0.77351999999999999,-0.25290000000000001,-0.48415999999999998,0,1982,{"$f":"IF((G2213*ALBE+H2213*ALDE+I2213*AT+J2213*BE+K2213*DE+L2213*FR+M2213*NL)>(N2213),1,0)","v":0},null,{"$f":"IF((C$6*G2213+D$6*H2213+E$6*I2213+F$6*J2213+G$6*K2213+H$6*L2213+I$6*M2213)>(N2213),1,0)","v":0}]
[null,815,"[D2-AT] Pleinting - St. Peter 258 [DIR] [D2]_LTA_corner#09_#20","10T-AT-DE-000037","[D2-AT] Y - St. Peter (- Altheim - Simbach) 234/230","10T-AT-DE-000045",0,0,-0.99106000000000005,-2.777E-2,-9.2259999999999995E-2,-9.2259999999999995E-2,0,4519,{"$f":"IF((G2214*ALBE+H2214*ALDE+I2214*AT+J2214*BE+K2214*DE+L2214*FR+M2214*NL)>(N2214),1,0)","v":0},null,{"$f":"IF((C$6*G2214+D$6*H2214+E$6*I2214+F$6*J2214+G$6*K2214+H$6*L2214+I$6*M2214)>(N2214),1,0)","v":0}]
[null,816,"[BE-BE] PST_ZANDV_2 [N - S]_LTA_corner#13_#5","22T20161020---56","[NL-BE] Rilland - Zandvliet 380 White/30","10T-BE-NL-00004C",0,0,-0.31657999999999997,-0.81061000000000005,-0.27742,-0.40711000000000003,0,1994,{"$f":"IF((G2215*ALBE+H2215*ALDE+I2215*AT+J2215*BE+K2215*DE+L2215*FR+M2215*NL)>(N2215),1,0)","v":0},null,{"$f":"IF((C$6*G2215+D$6*H2215+E$6*I2215+F$6*J2215+G$6*K2215+H$6*L2215+I$6*M2215)>(N2215),1,0)","v":0}]
[null,817,"[D2-AT] Pleinting - St. Peter 258 [DIR] [AT]_LTA_corner#12_#0","10T-AT-DE-000037","[D2-D2] Pirach - Pleinting 257","11TD2L000000201H",0,0,-0.99543000000000004,-3.63E-3,8.77E-3,9.4990000000000005E-2,0,5137,{"$f":"IF((G2216*ALBE+H2216*ALDE+I2216*AT+J2216*BE+K2216*DE+L2216*FR+M2216*NL)>(N2216),1,0)","v":0},null,{"$f":"IF((C$6*G2216+D$6*H2216+E$6*I2216+F$6*J2216+G$6*K2216+H$6*L2216+I$6*M2216)>(N2216),1,0)","v":0}]
[null,818,"[D2-AT] Pleinting - St. Peter 258 [DIR] [D2]_LTA_corner#04_#1","10T-AT-DE-000037","[D2-AT] Y - St. Peter (- Altheim - Simbach) 234/230","10T-AT-DE-000045",0,0,-0.98829999999999996,-4.6780000000000002E-2,0,-0.14516999999999999,0,5004,{"$f":"IF((G2217*ALBE+H2217*ALDE+I2217*AT+J2217*BE+K2217*DE+L2217*FR+M2217*NL)>(N2217),1,0)","v":0},null,{"$f":"IF((C$6*G2217+D$6*H2217+E$6*I2217+F$6*J2217+G$6*K2217+H$6*L2217+I$6*M2217)>(N2217),1,0)","v":0}]
[null,819,"[BE-FR] Achene - Lonny 380.19 [DIR] [BE]_LTA_corner#02_#7","10T-BE-FR-000015","[BE-BE] Avelgem - Horta 380.102","22T20161020---1E",0,0,-0.40638000000000002,0.57252000000000003,-0.30043999999999998,-0.64561000000000002,0,2352,{"$f":"IF((G2218*ALBE+H2218*ALDE+I2218*AT+J2218*BE+K2218*DE+L2218*FR+M2218*NL)>(N2218),1,0)","v":0},null,{"$f":"IF((C$6*G2218+D$6*H2218+E$6*I2218+F$6*J2218+G$6*K2218+H$6*L2218+I$6*M2218)>(N2218),1,0)","v":0}]
[null,820,"[D2-AT] Pleinting - St. Peter 258 [DIR] [AT]_LTA_corner#01_#24","10T-AT-DE-000037","[D2-D2] Pirach - Pleinting 257","11TD2L000000201H",0,0,-0.99461999999999995,0.10221,0,-1.6719999999999999E-2,0,4946,{"$f":"IF((G2219*ALBE+H2219*ALDE+I2219*AT+J2219*BE+K2219*DE+L2219*FR+M2219*NL)>(N2219),1,0)","v":0},null,{"$f":"IF((C$6*G2219+D$6*H2219+E$6*I2219+F$6*J2219+G$6*K2219+H$6*L2219+I$6*M2219)>(N2219),1,0)","v":0}]
[null,821,"[D7-FR] Ensdorf - Vigy 2S [OPP] [D7]_LTA_corner#30_#43","10T-DE-FR-000068","[D7-FR] Ensdorf - Vigy 1N","10T-DE-FR-00005A",0,0,-1.907E-2,0.38285000000000002,-0.22450000000000001,0.89590999999999998,0,3918,{"$f":"IF((G2220*ALBE+H2220*ALDE+I2220*AT+J2220*BE+K2220*DE+L2220*FR+M2220*NL)>(N2220),1,0)","v":0},null,{"$f":"IF((C$6*G2220+D$6*H2220+E$6*I2220+F$6*J2220+G$6*K2220+H$6*L2220+I$6*M2220)>(N2220),1,0)","v":0}]
[null,822,"[D2-AT] Pleinting - St. Peter 258 [DIR] [AT]_LTA_corner#04_#19","10T-AT-DE-000037","[D2-D2] Pirach - Pleinting 257","11TD2L000000201H",0,0,-0.99453000000000003,-7.3580000000000007E-2,8.7600000000000004E-3,-7.3580000000000007E-2,0,4984,{"$f":"IF((G2221*ALBE+H2221*ALDE+I2221*AT+J2221*BE+K2221*DE+L2221*FR+M2221*NL)>(N2221),1,0)","v":0},null,{"$f":"IF((C$6*G2221+D$6*H2221+E$6*I2221+F$6*J2221+G$6*K2221+H$6*L2221+I$6*M2221)>(N2221),1,0)","v":0}]
[null,823,"[D2-AT] Pleinting - St. Peter 258 [DIR] [D2]_LTA_corner#05_#28","10T-AT-DE-000037","[D2-AT] Y - St. Peter (- Altheim - Simbach) 234/230","10T-AT-DE-000045",0,0,-0.99863999999999997,0,3.6819999999999999E-2,3.6819999999999999E-2,0,5094,{"$f":"IF((G2222*ALBE+H2222*ALDE+I2222*AT+J2222*BE+K2222*DE+L2222*FR+M2222*NL)>(N2222),1,0)","v":0},null,{"$f":"IF((C$6*G2222+D$6*H2222+E$6*I2222+F$6*J2222+G$6*K2222+H$6*L2222+I$6*M2222)>(N2222),1,0)","v":0}]
[null,824,"[D2-AT] Pleinting - St. Peter 258 [DIR] [D2]_LTA_corner#01_#0","10T-AT-DE-000037","[D2-AT] Y - St. Peter (- Altheim - Simbach) 234/230","10T-AT-DE-000045",0,0,-0.85968999999999995,0.14302999999999999,0.46905000000000002,0.14302999999999999,0,7327,{"$f":"IF((G2223*ALBE+H2223*ALDE+I2223*AT+J2223*BE+K2223*DE+L2223*FR+M2223*NL)>(N2223),1,0)","v":0},null,{"$f":"IF((C$6*G2223+D$6*H2223+E$6*I2223+F$6*J2223+G$6*K2223+H$6*L2223+I$6*M2223)>(N2223),1,0)","v":0}]
[null,825,"[NL-D7] Maasbracht - Siersdorf 380 black [DIR] [D7]","10T-DE-NL-00006L","[BE-BE] Avelgem - Horta 380.102","22T20161020---1E",0.32575999999999999,-0.15625,-2.32E-3,0.31313999999999997,1.444E-2,3.9390000000000001E-2,0.28388000000000002,961,{"$f":"IF((G2224*ALBE+H2224*ALDE+I2224*AT+J2224*BE+K2224*DE+L2224*FR+M2224*NL)>(N2224),1,0)","v":0},null,{"$f":"IF((C$6*G2224+D$6*H2224+E$6*I2224+F$6*J2224+G$6*K2224+H$6*L2224+I$6*M2224)>(N2224),1,0)","v":0}]
[null,826,"[D2-AT] Pleinting - St. Peter 258 [DIR] [AT]_LTA_corner#04_#18","10T-AT-DE-000037","[D2-D2] Pirach - Pleinting 257","11TD2L000000201H",0,0,-0.99534999999999996,-6.8089999999999998E-2,0,-6.8089999999999998E-2,0,4918,{"$f":"IF((G2225*ALBE+H2225*ALDE+I2225*AT+J2225*BE+K2225*DE+L2225*FR+M2225*NL)>(N2225),1,0)","v":0},null,{"$f":"IF((C$6*G2225+D$6*H2225+E$6*I2225+F$6*J2225+G$6*K2225+H$6*L2225+I$6*M2225)>(N2225),1,0)","v":0}]
[null,827,"[AT-AT] Westtirol Transformer WTRHU41 [OPP]_LTA_corner#20_#2","14T-38220-WT041O","BASECASE","N/A",0,0,0.98831999999999998,-2.1440000000000001E-2,0.13125000000000001,-7.4450000000000002E-2,0,4526,{"$f":"IF((G2226*ALBE+H2226*ALDE+I2226*AT+J2226*BE+K2226*DE+L2226*FR+M2226*NL)>(N2226),1,0)","v":0},null,{"$f":"IF((C$6*G2226+D$6*H2226+E$6*I2226+F$6*J2226+G$6*K2226+H$6*L2226+I$6*M2226)>(N2226),1,0)","v":0}]
[null,828,"[D2-AT] Pleinting - St. Peter 258 [DIR] [AT]_LTA_corner#11_#0","10T-AT-DE-000037","[D2-D2] Pirach - Pleinting 257","11TD2L000000201H",0,0,-0.99543999999999999,4.0600000000000002E-3,-9.5219999999999999E-2,4.0600000000000002E-3,0,4607,{"$f":"IF((G2227*ALBE+H2227*ALDE+I2227*AT+J2227*BE+K2227*DE+L2227*FR+M2227*NL)>(N2227),1,0)","v":0},null,{"$f":"IF((C$6*G2227+D$6*H2227+E$6*I2227+F$6*J2227+G$6*K2227+H$6*L2227+I$6*M2227)>(N2227),1,0)","v":0}]
[null,829,"[D2-AT] Pleinting - St. Peter 258 [DIR] [D2]_LTA_corner#05_#12","10T-AT-DE-000037","[D2-AT] Y - St. Peter (- Altheim - Simbach) 234/230","10T-AT-DE-000045",0,0,-0.98197000000000001,0,0.17595,6.9110000000000005E-2,0,5996,{"$f":"IF((G2228*ALBE+H2228*ALDE+I2228*AT+J2228*BE+K2228*DE+L2228*FR+M2228*NL)>(N2228),1,0)","v":0},null,{"$f":"IF((C$6*G2228+D$6*H2228+E$6*I2228+F$6*J2228+G$6*K2228+H$6*L2228+I$6*M2228)>(N2228),1,0)","v":0}]
["hour 17",2998,"[D2-AT] Pleinting - St. Peter 258 [DIR] [AT]_LTA_corner#04_#12","10T-AT-DE-000037","[D2-D2] Pirach - Pleinting 257","11TD2L000000201H",0,0,-0.98946999999999996,-3.5100000000000001E-3,0,-0.14471000000000001,0,5002,{"$f":"IF((G2229*ALBE+H2229*ALDE+I2229*AT+J2229*BE+K2229*DE+L2229*FR+M2229*NL)>(N2229),1,0)","v":0},null,{"$f":"IF((C$6*G2229+D$6*H2229+E$6*I2229+F$6*J2229+G$6*K2229+H$6*L2229+I$6*M2229)>(N2229),1,0)","v":0}]
[null,2999,"ALBE_import","N/A","BASECASE","N/A",-1,0,0,0,0,0,0,0,{"$f":"IF((G2230*ALBE+H2230*ALDE+I2230*AT+J2230*BE+K2230*DE+L2230*FR+M2230*NL)>(N2230),1,0)","v":0},null,{"$f":"IF((C$6*G2230+D$6*H2230+E$6*I2230+F$6*J2230+G$6*K2230+H$6*L2230+I$6*M2230)>(N2230),1,0)","v":0}]
[null,3000,"[D2-AT] Pleinting - St. Peter 258 [DIR] [AT]_LTA_corner#01_#7","10T-AT-DE-000037","[D2-D2] Pirach - Pleinting 257","11TD2L000000201H",0,0,-0.99085000000000001,0,9.7239999999999993E-2,-9.3560000000000004E-2,0,5597,{"$f":"IF((G2231*ALBE+H2231*ALDE+I2231*AT+J2231*BE+K2231*DE+L2231*FR+M2231*NL)>(N2231),1,0)","v":0},null,{"$f":"IF((C$6*G2231+D$6*H2231+E$6*I2231+F$6*J2231+G$6*K2231+H$6*L2231+I$6*M2231)>(N2231),1,0)","v":0}]
[null,3001,"[BE-BE] PST_VANYK_2 [S - N]","22T-BE-PST--002U","[BE-FR] Achene - Lonny 380.19","10T-BE-FR-000015",0.57294999999999996,-2.5080000000000002E-2,5.3699999999999998E-3,0.31922,-8.4899999999999993E-3,4.5339999999999998E-2,8.2299999999999995E-3,905,{"$f":"IF((G2232*ALBE+H2232*ALDE+I2232*AT+J2232*BE+K2232*DE+L2232*FR+M2232*NL)>(N2232),1,0)","v":0},null,{"$f":"IF((C$6*G2232+D$6*H2232+E$6*I2232+F$6*J2232+G$6*K2232+H$6*L2232+I$6*M2232)>(N2232),1,0)","v":0}]
[null,3002,"[D2-AT] Pleinting - St. Peter 258 [DIR] [AT]_LTA_corner#11_#12","10T-AT-DE-000037","[D2-D2] Pirach - Pleinting 257","11TD2L000000201H",0,0,-0.99544999999999995,3.9190000000000003E-2,-7.7460000000000001E-2,3.9190000000000003E-2,0,4713,{"$f":"IF((G2233*ALBE+H2233*ALDE+I2233*AT+J2233*BE+K2233*DE+L2233*FR+M2233*NL)>(N2233),1,0)","v":0},null,{"$f":"IF((C$6*G2233+D$6*H2233+E$6*I2233+F$6*J2233+G$6*K2233+H$6*L2233+I$6*M2233)>(N2233),1,0)","v":0}]
[null,3003,"[D7-FR] Ensdorf - Vigy 2S [OPP] [D7]_LTA_corner#30_#20","10T-DE-FR-000068","[D7-D7] Ensdorf - Uchtelfangen Taubental N","11T0-0000-0604-N",0,0,3.1399999999999997E-2,0.39290000000000003,-0.16148000000000001,0.90475000000000005,0,3703,{"$f":"IF((G2234*ALBE+H2234*ALDE+I2234*AT+J2234*BE+K2234*DE+L2234*FR+M2234*NL)>(N2234),1,0)","v":0},null,{"$f":"IF((C$6*G2234+D$6*H2234+E$6*I2234+F$6*J2234+G$6*K2234+H$6*L2234+I$6*M2234)>(N2234),1,0)","v":0}]
[null,3004,"[D2-AT] Pleinting - St. Peter 258 [DIR] [D2]_LTA_corner#06_#4","10T-AT-DE-000037","[D2-AT] Y - St. Peter (- Altheim - Simbach) 234/230","10T-AT-DE-000045",0,0,-0.99885000000000002,-4.6929999999999999E-2,6.9499999999999996E-3,6.9499999999999996E-3,0,4983,{"$f":"IF((G2235*ALBE+H2235*ALDE+I2235*AT+J2235*BE+K2235*DE+L2235*FR+M2235*NL)>(N2235),1,0)","v":0},null,{"$f":"IF((C$6*G2235+D$6*H2235+E$6*I2235+F$6*J2235+G$6*K2235+H$6*L2235+I$6*M2235)>(N2235),1,0)","v":0}]
[null,3005,"[D7-FR] Ensdorf - Vigy 2S [OPP] [D7]_LTA_corner#30_#40","10T-DE-FR-000068","[D7-D7] Ensdorf - Uchtelfangen Taubental N","11T0-0000-0604-N",0,0,6.9620000000000001E-2,0.37354999999999999,-0.12053,0.91710999999999998,0,3637,{"$f":"IF((G2236*ALBE+H2236*ALDE+I2236*AT+J2236*BE+K2236*DE+L2236*FR+M2236*NL)>(N2236),1,0)","v":0},null,{"$f":"IF((C$6*G2236+D$6*H2236+E$6*I2236+F$6*J2236+G$6*K2236+H$6*L2236+I$6*M2236)>(N2236),1,0)","v":0}]
[null,3006,"[AT-AT] Westtirol Transformer WTRHU41 [OPP]_LTA_corner#20_#5","14T-38220-WT041O","BASECASE","N/A",0,0,0.98992999999999998,-1.2930000000000001E-2,0.12181,-7.0910000000000001E-2,0,4552,{"$f":"IF((G2237*ALBE+H2237*ALDE+I2237*AT+J2237*BE+K2237*DE+L2237*FR+M2237*NL)>(N2237),1,0)","v":0},null,{"$f":"IF((C$6*G2237+D$6*H2237+E$6*I2237+F$6*J2237+G$6*K2237+H$6*L2237+I$6*M2237)>(N2237),1,0)","v":0}]
[null,3007,"[BE-FR] Achene - Lonny 380.19 [DIR] [BE]_LTA_corner#02_#2","10T-BE-FR-000015","[BE-BE] Avelgem - Horta 380.102","22T20161020---1E",0,0,-0.44790999999999997,0.27259,-0.30096000000000001,-0.79654999999999998,0,2426,{"$f":"IF((G2238*ALBE+H2238*ALDE+I2238*AT+J2238*BE+K2238*DE+L2238*FR+M2238*NL)>(N2238),1,0)","v":0},null,{"$f":"IF((C$6*G2238+D$6*H2238+E$6*I2238+F$6*J2238+G$6*K2238+H$6*L2238+I$6*M2238)>(N2238),1,0)","v":0}]
[null,3008,"[D7-D4] Hoheneck - Pulverdingen weiss [DIR] [D4]_LTA_corner#09_#4","11T-D4-D7-00014N","[D4-D7] Y - Herbertingen - Hoheneck - Metzingen schwarz","11TD40000A546-S0",0,0,-0.83120000000000005,-9.7519999999999996E-2,-0.34322000000000003,-0.42637999999999998,0,3176,{"$f":"IF((G2239*ALBE+H2239*ALDE+I2239*AT+J2239*BE+K2239*DE+L2239*FR+M2239*NL)>(N2239),1,0)","v":0},null,{"$f":"IF((C$6*G2239+D$6*H2239+E$6*I2239+F$6*J2239+G$6*K2239+H$6*L2239+I$6*M2239)>(N2239),1,0)","v":0}]
[null,3009,"[BE-FR] Achene - Lonny 380.19 [DIR] [BE]_LTA_corner#02_#22","10T-BE-FR-000015","[BE-BE] Avelgem - Horta 380.102","22T20161020---1E",0,0,-0.48300999999999999,0,-0.36109000000000002,-0.79769000000000001,0,1997,{"$f":"IF((G2240*ALBE+H2240*ALDE+I2240*AT+J2240*BE+K2240*DE+L2240*FR+M2240*NL)>(N2240),1,0)","v":0},null,{"$f":"IF((C$6*G2240+D$6*H2240+E$6*I2240+F$6*J2240+G$6*K2240+H$6*L2240+I$6*M2240)>(N2240),1,0)","v":0}]
[null,3010,"[D2-AT] Pleinting - St. Peter 258 [DIR] [D2]_LTA_corner#12_#11","10T-AT-DE-000037","[D2-AT] Y - St. Peter (- Altheim - Simbach) 234/230","10T-AT-DE-000045",0,0,-0.99909000000000003,-9.0399999999999994E-3,0,4.1570000000000003E-2,0,4965,{"$f":"IF((G2241*ALBE+H2241*ALDE+I2241*AT+J2241*BE+K2241*DE+L2241*FR+M2241*NL)>(N2241),1,0)","v":0},null,{"$f":"IF((C$6*G2241+D$6*H2241+E$6*I2241+F$6*J2241+G$6*K2241+H$6*L2241+I$6*M2241)>(N2241),1,0)","v":0}]
[null,3011,"[AT-AT] Westtirol Transformer WTRHU41 [OPP]_LTA_corner#20_#16","14T-38220-WT041O","BASECASE","N/A",0,0,0.98870000000000002,-2.223E-2,0.13025,-7.0819999999999994E-2,0,4525,{"$f":"IF((G2242*ALBE+H2242*ALDE+I2242*AT+J2242*BE+K2242*DE+L2242*FR+M2242*NL)>(N2242),1,0)","v":0},null,{"$f":"IF((C$6*G2242+D$6*H2242+E$6*I2242+F$6*J2242+G$6*K2242+H$6*L2242+I$6*M2242)>(N2242),1,0)","v":0}]
[null,3012,"[D2-AT] Pleinting - St. Peter 258 [DIR] [AT]_LTA_corner#13_#10","10T-AT-DE-000037","[D2-D2] Pirach - Pleinting 257","11TD2L000000201H",0,0,-0.99450000000000005,-0.10349,-1.1560000000000001E-2,-1.1560000000000001E-2,0,4989,{"$f":"IF((G2243*ALBE+H2243*ALDE+I2243*AT+J2243*BE+K2243*DE+L2243*FR+M2243*NL)>(N2243),1,0)","v":0},null,{"$f":"IF((C$6*G2243+D$6*H2243+E$6*I2243+F$6*J2243+G$6*K2243+H$6*L2243+I$6*M2243)>(N2243),1,0)","v":0}]
[null,3013,"[BE-FR] Achene - Lonny 380.19 [DIR] [BE]_LTA_corner#02_#8","10T-BE-FR-000015","[BE-BE] Avelgem - Horta 380.102","22T20161020---1E",0,0,-0.39391999999999999,0.53488999999999998,-0.26361000000000001,-0.69945000000000002,0,2497,{"$f":"IF((G2244*ALBE+H2244*ALDE+I2244*AT+J2244*BE+K2244*DE+L2244*FR+M2244*NL)>(N2244),1,0)","v":0},null,{"$f":"IF((C$6*G2244+D$6*H2244+E$6*I2244+F$6*J2244+G$6*K2244+H$6*L2244+I$6*M2244)>(N2244),1,0)","v":0}]
[null,3014,"[D7-D4] Hoheneck - Pulverdingen weiss [DIR] [D4]_LTA_corner#09_#16","11T-D4-D7-00014N","[D4-D7] Y - Herbertingen - Hoheneck - Metzingen schwarz","11TD40000A546-S0",0,0,-0.79307000000000005,-0.13383999999999999,-0.30726999999999999,-0.50863000000000003,0,3289,{"$f":"IF((G2245*ALBE+H2245*ALDE+I2245*AT+J2245*BE+K2245*DE+L2245*FR+M2245*NL)>(N2245),1,0)","v":0},null,{"$f":"IF((C$6*G2245+D$6*H2245+E$6*I2245+F$6*J2245+G$6*K2245+H$6*L2245+I$6*M2245)>(N2245),1,0)","v":0}]
[null,3015,"[D2-AT] Pleinting - St. Peter 258 [DIR] [D2]_LTA_corner#09_#23","10T-AT-DE-000037","[D2-AT] Y - St. Peter (- Altheim - Simbach) 234/230","10T-AT-DE-000045",0,0,-0.93186999999999998,-0.15576000000000001,-0.23168,-0.23168,0,3855,{"$f":"IF((G2246*ALBE+H2246*ALDE+I2246*AT+J2246*BE+K2246*DE+L2246*FR+M2246*NL)>(N2246),1,0)","v":0},null,{"$f":"IF((C$6*G2246+D$6*H2246+E$6*I2246+F$6*J2246+G$6*K2246+H$6*L2246+I$6*M2246)>(N2246),1,0)","v":0}]
[null,3016,"[D2-AT] Pleinting - St. Peter 258 [DIR] [D2]_LTA_corner#09_#20","10T-AT-DE-000037","[D2-AT] Y - St. Peter (- Altheim - Simbach) 234/230","10T-AT-DE-000045",0,0,-0.9627,-0.14299000000000001,-0.16244,-0.16244,0,4200,{"$f":"IF((G2247*ALBE+H2247*ALDE+I2247*AT+J2247*BE+K2247*DE+L2247*FR+M2247*NL)>(N2247),1,0)","v":0},null,{"$f":"IF((C$6*G2247+D$6*H2247+E$6*I2247+F$6*J2247+G$6*K2247+H$6*L2247+I$6*M2247)>(N2247),1,0)","v":0}]
[null,3017,"[D2-AT] Pleinting - St. Peter 258 [DIR] [AT]_LTA_corner#06_#14","10T-AT-DE-000037","[D2-D2] Pirach - Pleinting 257","11TD2L000000201H",0,0,-0.99243000000000003,-0.12107,0,-2.043E-2,0,5067,{"$f":"IF((G2248*ALBE+H2248*ALDE+I2248*AT+J2248*BE+K2248*DE+L2248*FR+M2248*NL)>(N2248),1,0)","v":0},null,{"$f":"IF((C$6*G2248+D$6*H2248+E$6*I2248+F$6*J2248+G$6*K2248+H$6*L2248+I$6*M2248)>(N2248),1,0)","v":0}]
[null,3018,"[D2-AT] Pleinting - St. Peter 258 [DIR] [AT]_LTA_corner#01_#2","10T-AT-DE-000037","[D2-D2] Pirach - Pleinting 257","11TD2L000000201H",0,0,-0.98839999999999995,0,8.3199999999999993E-3,-0.15162999999999999,0,5065,{"$f":"IF((G2249*ALBE+H2249*ALDE+I2249*AT+J2249*BE+K2249*DE+L2249*FR+M2249*NL)>(N2249),1,0)","v":0},null,{"$f":"IF((C$6*G2249+D$6*H2249+E$6*I2249+F$6*J2249+G$6*K2249+H$6*L2249+I$6*M2249)>(N2249),1,0)","v":0}]
[null,3019,"[D2-AT] Pleinting - St. Peter 258 [DIR] [AT]_LTA_corner#11_#9","10T-AT-DE-000037","[D2-D2] Pirach - Pleinting 257","11TD2L000000201H",0,0,-0.99480000000000002,4.9300000000000004E-3,-0.1016,4.9300000000000004E-3,0,4592,{"$f":"IF((G2250*ALBE+H2250*ALDE+I2250*AT+J2250*BE+K2250*DE+L2250*FR+M2250*NL)>(N2250),1,0)","v":0},null,{"$f":"IF((C$6*G2250+D$6*H2250+E$6*I2250+F$6*J2250+G$6*K2250+H$6*L2250+I$6*M2250)>(N2250),1,0)","v":0}]
[null,3020,"[D2-AT] Pleinting - St. Peter 258 [DIR] [AT]_LTA_corner#01_#9","10T-AT-DE-000037","[D2-D2] Pirach - Pleinting 257","11TD2L000000201H",0,0,-0.98650000000000004,0,0.16153999999999999,-2.6700000000000002E-2,0,5913,{"$f":"IF((G2251*ALBE+H2251*ALDE+I2251*AT+J2251*BE+K2251*DE+L2251*FR+M2251*NL)>(N2251),1,0)","v":0},null,{"$f":"IF((C$6*G2251+D$6*H2251+E$6*I2251+F$6*J2251+G$6*K2251+H$6*L2251+I$6*M2251)>(N2251),1,0)","v":0}]
[null,3021,"[D7-FR] Ensdorf - Vigy 2S [OPP] [D7]_LTA_corner#30_#15","10T-DE-FR-000068","[D7-D7] Ensdorf - Uchtelfangen Taubental N","11T0-0000-0604-N",0,0,4.7010000000000003E-2,0.37683,-0.14921999999999999,0.91296999999999995,0,3728,{"$f":"IF((G2252*ALBE+H2252*ALDE+I2252*AT+J2252*BE+K2252*DE+L2252*FR+M2252*NL)>(N2252),1,0)","v":0},null,{"$f":"IF((C$6*G2252+D$6*H2252+E$6*I2252+F$6*J2252+G$6*K2252+H$6*L2252+I$6*M2252)>(N2252),1,0)","v":0}]
[null,3022,"[D2-AT] Pleinting - St. Peter 258 [DIR] [D2]_LTA_corner#01_#7","10T-AT-DE-000037","[D2-AT] Y - St. Peter (- Altheim - Simbach) 234/230","10T-AT-DE-000045",0,0,-0.59672000000000003,0.29054999999999997,0.68927000000000005,0.29054999999999997,0,7523,{"$f":"IF((G2253*ALBE+H2253*ALDE+I2253*AT+J2253*BE+K2253*DE+L2253*FR+M2253*NL)>(N2253),1,0)","v":0},null,{"$f":"IF((C$6*G2253+D$6*H2253+E$6*I2253+F$6*J2253+G$6*K2253+H$6*L2253+I$6*M2253)>(N2253),1,0)","v":0}]
[null,3023,"[D2-AT] Pleinting - St. Peter 258 [DIR] [D2]_LTA_corner#01_#6","10T-AT-DE-000037","[D2-AT] Y - St. Peter (- Altheim - Simbach) 234/230","10T-AT-DE-000045",0,0,-0.92445999999999995,9.2100000000000001E-2,0.35833999999999999,9.2100000000000001E-2,0,6894,{"$f":"IF((G2254*ALBE+H2254*ALDE+I2254*AT+J2254*BE+K2254*DE+L2254*FR+M2254*NL)>(N2254),1,0)","v":0},null,{"$f":"IF((C$6*G2254+D$6*H2254+E$6*I2254+F$6*J2254+G$6*K2254+H$6*L2254+I$6*M2254)>(N2254),1,0)","v":0}]
[null,3024,"[D2-AT] Pleinting - St. Peter 258 [DIR] [AT]_LTA_corner#06_#5","10T-AT-DE-000037","[D2-D2] Pirach - Pleinting 257","11TD2L000000201H",0,0,-0.99199000000000004,-0.12346,0,-2.6849999999999999E-2,0,5066,{"$f":"IF((G2255*ALBE+H2255*ALDE+I2255*AT+J2255*BE+K2255*DE+L2255*FR+M2255*NL)>(N2255),1,0)","v":0},null,{"$f":"IF((C$6*G2255+D$6*H2255+E$6*I2255+F$6*J2255+G$6*K2255+H$6*L2255+I$6*M2255)>(N2255),1,0)","v":0}]
[null,3025,"[BE-BE] PST_ZANDV_2 [N - S]_LTA_corner#09_#10","22T20161020---56","[NL-BE] Rilland - Zandvliet 380 White/30","10T-BE-NL-00004C",0,0,-0.40422999999999998,-0.60628000000000004,-0.31849,-0.60628000000000004,0,1594,{"$f":"IF((G2256*ALBE+H2256*ALDE+I2256*AT+J2256*BE+K2256*DE+L2256*FR+M2256*NL)>(N2256),1,0)","v":0},null,{"$f":"IF((C$6*G2256+D$6*H2256+E$6*I2256+F$6*J2256+G$6*K2256+H$6*L2256+I$6*M2256)>(N2256),1,0)","v":0}]
[null,3026,"[BE-BE] PST_ZANDV_2 [N - S]_LTA_corner#13_#24","22T20161020---56","[NL-BE] Rilland - Zandvliet 380 White/30","10T-BE-NL-00004C",0,0,-0.2959,-0.82735000000000003,-0.25139,-0.40588000000000002,0,2052,{"$f":"IF((G2257*ALBE+H2257*ALDE+I2257*AT+J2257*BE+K2257*DE+L2257*FR+M2257*NL)>(N2257),1,0)","v":0},null,{"$f":"IF((C$6*G2257+D$6*H2257+E$6*I2257+F$6*J2257+G$6*K2257+H$6*L2257+I$6*M2257)>(N2257),1,0)","v":0}]
[null,3027,"[D2-AT] Pleinting - St. Peter 258 [DIR] [D2]_LTA_corner#09_#24","10T-AT-DE-000037","[D2-AT] Y - St. Peter (- Altheim - Simbach) 234/230","10T-AT-DE-000045",0,0,-0.95591999999999999,-0.10825,-0.19298999999999999,-0.19298999999999999,0,4074,{"$f":"IF((G2258*ALBE+H2258*ALDE+I2258*AT+J2258*BE+K2258*DE+L2258*FR+M2258*NL)>(N2258),1,0)","v":0},null,{"$f":"IF((C$6*G2258+D$6*H2258+E$6*I2258+F$6*J2258+G$6*K2258+H$6*L2258+I$6*M2258)>(N2258),1,0)","v":0}]
[null,3028,"[D2-AT] Pleinting - St. Peter 258 [DIR] [AT]_LTA_corner#11_#13","10T-AT-DE-000037","[D2-D2] Pirach - Pleinting 257","11TD2L000000201H",0,0,-0.99644999999999995,4.648E-2,-5.2549999999999999E-2,4.648E-2,0,4785,{"$f":"IF((G2259*ALBE+H2259*ALDE+I2259*AT+J2259*BE+K2259*DE+L2259*FR+M2259*NL)>(N2259),1,0)","v":0},null,{"$f":"IF((C$6*G2259+D$6*H2259+E$6*I2259+F$6*J2259+G$6*K2259+H$6*L2259+I$6*M2259)>(N2259),1,0)","v":0}]
[null,3029,"[D2-AT] Pleinting - St. Peter 258 [DIR] [D2]_LTA_corner#01_#1","10T-AT-DE-000037","[D2-AT] Y - St. Peter (- Altheim - Simbach) 234/230","10T-AT-DE-000045",0,0,-0.99746999999999997,4.1059999999999999E-2,4.1059999999999999E-2,4.1059999999999999E-2,0,5077,{"$f":"IF((G2260*ALBE+H2260*ALDE+I2260*AT+J2260*BE+K2260*DE+L2260*FR+M2260*NL)>(N2260),1,0)","v":0},null,{"$f":"IF((C$6*G2260+D$6*H2260+E$6*I2260+F$6*J2260+G$6*K2260+H$6*L2260+I$6*M2260)>(N2260),1,0)","v":0}]
[null,3030,"[D2-AT] Pleinting - St. Peter 258 [DIR] [AT]_LTA_corner#01_#20","10T-AT-DE-000037","[D2-D2] Pirach - Pleinting 257","11TD2L000000201H",0,0,-0.99816000000000005,3.5000000000000003E-2,3.5000000000000003E-2,3.5000000000000003E-2,0,5040,{"$f":"IF((G2261*ALBE+H2261*ALDE+I2261*AT+J2261*BE+K2261*DE+L2261*FR+M2261*NL)>(N2261),1,0)","v":0},null,{"$f":"IF((C$6*G2261+D$6*H2261+E$6*I2261+F$6*J2261+G$6*K2261+H$6*L2261+I$6*M2261)>(N2261),1,0)","v":0}]
[null,3031,"[D2-AT] Pleinting - St. Peter 258 [DIR] [AT]_LTA_corner#01_#5","10T-AT-DE-000037","[D2-D2] Pirach - Pleinting 257","11TD2L000000201H",0,0,-0.99207000000000001,0,0.12572,0,0,5650,{"$f":"IF((G2262*ALBE+H2262*ALDE+I2262*AT+J2262*BE+K2262*DE+L2262*FR+M2262*NL)>(N2262),1,0)","v":0},null,{"$f":"IF((C$6*G2262+D$6*H2262+E$6*I2262+F$6*J2262+G$6*K2262+H$6*L2262+I$6*M2262)>(N2262),1,0)","v":0}]
[null,3032,"[BE-BE] PST_ZANDV_2 [N - S]_LTA_corner#09_#2","22T20161020---56","[NL-BE] Rilland - Zandvliet 380 White/30","10T-BE-NL-00004C",0,0,-0.41961999999999999,-0.59386000000000005,-0.34436,-0.59386000000000005,0,1531,{"$f":"IF((G2263*ALBE+H2263*ALDE+I2263*AT+J2263*BE+K2263*DE+L2263*FR+M2263*NL)>(N2263),1,0)","v":0},null,{"$f":"IF((C$6*G2263+D$6*H2263+E$6*I2263+F$6*J2263+G$6*K2263+H$6*L2263+I$6*M2263)>(N2263),1,0)","v":0}]
[null,3033,"[AT-AT] Westtirol Transformer WTRHU41 [OPP]_LTA_corner#20_#14","14T-38220-WT041O","BASECASE","N/A",0,0,0.98902999999999996,-2.2239999999999999E-2,0.1217,-8.0740000000000006E-2,0,4565,{"$f":"IF((G2264*ALBE+H2264*ALDE+I2264*AT+J2264*BE+K2264*DE+L2264*FR+M2264*NL)>(N2264),1,0)","v":0},null,{"$f":"IF((C$6*G2264+D$6*H2264+E$6*I2264+F$6*J2264+G$6*K2264+H$6*L2264+I$6*M2264)>(N2264),1,0)","v":0}]
[null,3034,"[D2-AT] Pleinting - St. Peter 258 [DIR] [D2]_LTA_corner#02_#28","10T-AT-DE-000037","[D2-AT] Y - St. Peter (- Altheim - Simbach) 234/230","10T-AT-DE-000045",0,0,-0.99487999999999999,0,-7.1459999999999996E-2,-7.1459999999999996E-2,0,4592,{"$f":"IF((G2265*ALBE+H2265*ALDE+I2265*AT+J2265*BE+K2265*DE+L2265*FR+M2265*NL)>(N2265),1,0)","v":0},null,{"$f":"IF((C$6*G2265+D$6*H2265+E$6*I2265+F$6*J2265+G$6*K2265+H$6*L2265+I$6*M2265)>(N2265),1,0)","v":0}]
[null,3035,"[BE-BE] PST_ZANDV_2 [N - S]_LTA_corner#13_#31","22T20161020---56","[NL-BE] Rilland - Zandvliet 380 White/30","10T-BE-NL-00004C",0,0,-0.35755999999999999,-0.72223000000000004,-0.31923000000000001,-0.49863000000000002,0,1725,{"$f":"IF((G2266*ALBE+H2266*ALDE+I2266*AT+J2266*BE+K2266*DE+L2266*FR+M2266*NL)>(N2266),1,0)","v":0},null,{"$f":"IF((C$6*G2266+D$6*H2266+E$6*I2266+F$6*J2266+G$6*K2266+H$6*L2266+I$6*M2266)>(N2266),1,0)","v":0}]
[null,3036,"[D2-AT] Pleinting - St. Peter 258 [DIR] [D2]_LTA_corner#02_#14","10T-AT-DE-000037","[D2-AT] Y - St. Peter (- Altheim - Simbach) 234/230","10T-AT-DE-000045",0,0,-0.99851000000000001,2.843E-2,-3.2939999999999997E-2,-3.2939999999999997E-2,0,4754,{"$f":"IF((G2267*ALBE+H2267*ALDE+I2267*AT+J2267*BE+K2267*DE+L2267*FR+M2267*NL)>(N2267),1,0)","v":0},null,{"$f":"IF((C$6*G2267+D$6*H2267+E$6*I2267+F$6*J2267+G$6*K2267+H$6*L2267+I$6*M2267)>(N2267),1,0)","v":0}]
[null,3037,"[D2-AT] Pleinting - St. Peter 258 [DIR] [AT]_LTA_corner#01_#13","10T-AT-DE-000037","[D2-D2] Pirach - Pleinting 257","11TD2L000000201H",0,0,-0.99326999999999999,0.114,0,-2.044E-2,0,4960,{"$f":"IF((G2268*ALBE+H2268*ALDE+I2268*AT+J2268*BE+K2268*DE+L2268*FR+M2268*NL)>(N2268),1,0)","v":0},null,{"$f":"IF((C$6*G2268+D$6*H2268+E$6*I2268+F$6*J2268+G$6*K2268+H$6*L2268+I$6*M2268)>(N2268),1,0)","v":0}]
[null,3038,"[D2-AT] Pleinting - St. Peter 258 [DIR] [D2]_LTA_corner#15_#8","10T-AT-DE-000037","[D2-AT] Y - St. Peter (- Altheim - Simbach) 234/230","10T-AT-DE-000045",0,0,-0.98570000000000002,-8.5389999999999994E-2,-0.11755,-8.5389999999999994E-2,0,4454,{"$f":"IF((G2269*ALBE+H2269*ALDE+I2269*AT+J2269*BE+K2269*DE+L2269*FR+M2269*NL)>(N2269),1,0)","v":0},null,{"$f":"IF((C$6*G2269+D$6*H2269+E$6*I2269+F$6*J2269+G$6*K2269+H$6*L2269+I$6*M2269)>(N2269),1,0)","v":0}]
[null,3039,"[BE-BE] PST_ZANDV_2 [N - S]_LTA_corner#09_#3","22T20161020---56","[NL-BE] Rilland - Zandvliet 380 White/30","10T-BE-NL-00004C",0,0,-0.41067999999999999,-0.59872999999999998,-0.33822000000000002,-0.59872999999999998,0,1524,{"$f":"IF((G2270*ALBE+H2270*ALDE+I2270*AT+J2270*BE+K2270*DE+L2270*FR+M2270*NL)>(N2270),1,0)","v":0},null,{"$f":"IF((C$6*G2270+D$6*H2270+E$6*I2270+F$6*J2270+G$6*K2270+H$6*L2270+I$6*M2270)>(N2270),1,0)","v":0}]
[null,3040,"[D2-AT] Pleinting - St. Peter 258 [DIR] [D2]_LTA_corner#05_#0","10T-AT-DE-000037","[D2-AT] Y - St. Peter (- Altheim - Simbach) 234/230","10T-AT-DE-000045",0,0,0.50934999999999997,0.33782000000000001,0.64785000000000004,0.45467000000000002,0,1969,{"$f":"IF((G2271*ALBE+H2271*ALDE+I2271*AT+J2271*BE+K2271*DE+L2271*FR+M2271*NL)>(N2271),1,0)","v":0},null,{"$f":"IF((C$6*G2271+D$6*H2271+E$6*I2271+F$6*J2271+G$6*K2271+H$6*L2271+I$6*M2271)>(N2271),1,0)","v":0}]
[null,3041,"[D2-AT] Pleinting - St. Peter 258 [DIR] [AT]_LTA_corner#06_#15","10T-AT-DE-000037","[D2-D2] Pirach - Pleinting 257","11TD2L000000201H",0,0,-0.99234999999999995,-0.12161,0,-2.138E-2,0,5067,{"$f":"IF((G2272*ALBE+H2272*ALDE+I2272*AT+J2272*BE+K2272*DE+L2272*FR+M2272*NL)>(N2272),1,0)","v":0},null,{"$f":"IF((C$6*G2272+D$6*H2272+E$6*I2272+F$6*J2272+G$6*K2272+H$6*L2272+I$6*M2272)>(N2272),1,0)","v":0}]
[null,3042,"[D2-AT] Pleinting - St. Peter 258 [DIR] [AT]_LTA_corner#02_#1","10T-AT-DE-000037","[D2-D2] Pirach - Pleinting 257","11TD2L000000201H",0,0,-0.99597000000000002,8.1159999999999996E-2,-2.6960000000000001E-2,-2.6960000000000001E-2,0,4824,{"$f":"IF((G2273*ALBE+H2273*ALDE+I2273*AT+J2273*BE+K2273*DE+L2273*FR+M2273*NL)>(N2273),1,0)","v":0},null,{"$f":"IF((C$6*G2273+D$6*H2273+E$6*I2273+F$6*J2273+G$6*K2273+H$6*L2273+I$6*M2273)>(N2273),1,0)","v":0}]
[null,3043,"[D7-FR] Ensdorf - Vigy 2S [OPP] [D7]_LTA_corner#30_#24","10T-DE-FR-000068","[D7-D7] Ensdorf - Uchtelfangen Taubental N","11T0-0000-0604-N",0,0,7.979E-2,0.38280999999999998,-0.12343,0.91205999999999998,0,3682,{"$f":"IF((G2274*ALBE+H2274*ALDE+I2274*AT+J2274*BE+K2274*DE+L2274*FR+M2274*NL)>(N2274),1,0)","v":0},null,{"$f":"IF((C$6*G2274+D$6*H2274+E$6*I2274+F$6*J2274+G$6*K2274+H$6*L2274+I$6*M2274)>(N2274),1,0)","v":0}]
[null,3044,"[D2-AT] Pleinting - St. Peter 258 [DIR] [AT]_LTA_corner#01_#11","10T-AT-DE-000037","[D2-D2] Pirach - Pleinting 257","11TD2L000000201H",0,0,-0.99,0,0,-0.14105000000000001,0,4998,{"$f":"IF((G2275*ALBE+H2275*ALDE+I2275*AT+J2275*BE+K2275*DE+L2275*FR+M2275*NL)>(N2275),1,0)","v":0},null,{"$f":"IF((C$6*G2275+D$6*H2275+E$6*I2275+F$6*J2275+G$6*K2275+H$6*L2275+I$6*M2275)>(N2275),1,0)","v":0}]
[null,3045,"[D2-AT] Pleinting - St. Peter 258 [DIR] [AT]_LTA_corner#01_#10","10T-AT-DE-000037","[D2-D2] Pirach - Pleinting 257","11TD2L000000201H",0,0,-0.99321999999999999,0.11312,0,-2.6880000000000001E-2,0,4969,{"$f":"IF((G2276*ALBE+H2276*ALDE+I2276*AT+J2276*BE+K2276*DE+L2276*FR+M2276*NL)>(N2276),1,0)","v":0},null,{"$f":"IF((C$6*G2276+D$6*H2276+E$6*I2276+F$6*J2276+G$6*K2276+H$6*L2276+I$6*M2276)>(N2276),1,0)","v":0}]
[null,3046,"[D2-AT] Pleinting - St. Peter 258 [DIR] [AT]_LTA_corner#11_#1","10T-AT-DE-000037","[D2-D2] Pirach - Pleinting 257","11TD2L000000201H",0,0,-0.99465999999999999,0,-9.9589999999999998E-2,-2.6919999999999999E-2,0,4566,{"$f":"IF((G2277*ALBE+H2277*ALDE+I2277*AT+J2277*BE+K2277*DE+L2277*FR+M2277*NL)>(N2277),1,0)","v":0},null,{"$f":"IF((C$6*G2277+D$6*H2277+E$6*I2277+F$6*J2277+G$6*K2277+H$6*L2277+I$6*M2277)>(N2277),1,0)","v":0}]
[null,3047,"[D2-AT] Pleinting - St. Peter 258 [DIR] [AT]_LTA_corner#06_#0","10T-AT-DE-000037","[D2-D2] Pirach - Pleinting 257","11TD2L000000201H",0,0,-0.99516000000000004,-9.7509999999999999E-2,8.3700000000000007E-3,8.3700000000000007E-3,0,5100,{"$f":"IF((G2278*ALBE+H2278*ALDE+I2278*AT+J2278*BE+K2278*DE+L2278*FR+M2278*NL)>(N2278),1,0)","v":0},null,{"$f":"IF((C$6*G2278+D$6*H2278+E$6*I2278+F$6*J2278+G$6*K2278+H$6*L2278+I$6*M2278)>(N2278),1,0)","v":0}]
[null,3048,"ALBE_export","N/A","BASECASE","N/A",1,0,0,0,0,0,0,0,{"$f":"IF((G2279*ALBE+H2279*ALDE+I2279*AT+J2279*BE+K2279*DE+L2279*FR+M2279*NL)>(N2279),1,0)","v":0},null,{"$f":"IF((C$6*G2279+D$6*H2279+E$6*I2279+F$6*J2279+G$6*K2279+H$6*L2279+I$6*M2279)>(N2279),1,0)","v":0}]
[null,3049,"[D2-AT] Pleinting - St. Peter 258 [DIR] [AT]_LTA_corner#04_#0","10T-AT-DE-000037","[D2-D2] Pirach - Pleinting 257","11TD2L000000201H",0,0,-0.98782999999999999,-3.5000000000000001E-3,8.3099999999999997E-3,-0.15526000000000001,0,5069,{"$f":"IF((G2280*ALBE+H2280*ALDE+I2280*AT+J2280*BE+K2280*DE+L2280*FR+M2280*NL)>(N2280),1,0)","v":0},null,{"$f":"IF((C$6*G2280+D$6*H2280+E$6*I2280+F$6*J2280+G$6*K2280+H$6*L2280+I$6*M2280)>(N2280),1,0)","v":0}]
[null,3050,"[D2-AT] Pleinting - St. Peter 258 [DIR] [AT]_LTA_corner#12_#2","10T-AT-DE-000037","[D2-D2] Pirach - Pleinting 257","11TD2L000000201H",0,0,-0.99450000000000005,-3.5300000000000002E-3,8.3700000000000007E-3,0.10437,0,5159,{"$f":"IF((G2281*ALBE+H2281*ALDE+I2281*AT+J2281*BE+K2281*DE+L2281*FR+M2281*NL)>(N2281),1,0)","v":0},null,{"$f":"IF((C$6*G2281+D$6*H2281+E$6*I2281+F$6*J2281+G$6*K2281+H$6*L2281+I$6*M2281)>(N2281),1,0)","v":0}]
[null,3051,"[D7-FR] Ensdorf - Vigy 2S [OPP] [D7]_LTA_corner#30_#18","10T-DE-FR-000068","[D7-D7] Ensdorf - Uchtelfangen Taubental N","11T0-0000-0604-N",0,0,2.9749999999999999E-2,0.39456999999999998,-0.16239000000000001,0.90390999999999999,0,3697,{"$f":"IF((G2282*ALBE+H2282*ALDE+I2282*AT+J2282*BE+K2282*DE+L2282*FR+M2282*NL)>(N2282),1,0)","v":0},null,{"$f":"IF((C$6*G2282+D$6*H2282+E$6*I2282+F$6*J2282+G$6*K2282+H$6*L2282+I$6*M2282)>(N2282),1,0)","v":0}]
[null,3052,"[D2-AT] Pleinting - St. Peter 258 [DIR] [D2]_LTA_corner#05_#15","10T-AT-DE-000037","[D2-AT] Y - St. Peter (- Altheim - Simbach) 234/230","10T-AT-DE-000045",0,0,-0.97524999999999995,6.7739999999999995E-2,0.14884,0.14884,0,5760,{"$f":"IF((G2283*ALBE+H2283*ALDE+I2283*AT+J2283*BE+K2283*DE+L2283*FR+M2283*NL)>(N2283),1,0)","v":0},null,{"$f":"IF((C$6*G2283+D$6*H2283+E$6*I2283+F$6*J2283+G$6*K2283+H$6*L2283+I$6*M2283)>(N2283),1,0)","v":0}]
[null,3053,"[D2-AT] Pleinting - St. Peter 258 [DIR] [AT]_LTA_corner#04_#2","10T-AT-DE-000037","[D2-D2] Pirach - Pleinting 257","11TD2L000000201H",0,0,-0.99084000000000005,-3.5200000000000001E-3,0.13497000000000001,-3.5200000000000001E-3,0,5714,{"$f":"IF((G2284*ALBE+H2284*ALDE+I2284*AT+J2284*BE+K2284*DE+L2284*FR+M2284*NL)>(N2284),1,0)","v":0},null,{"$f":"IF((C$6*G2284+D$6*H2284+E$6*I2284+F$6*J2284+G$6*K2284+H$6*L2284+I$6*M2284)>(N2284),1,0)","v":0}]
[null,3054,"[D7-FR] Ensdorf - Vigy 2S [OPP] [D7]_LTA_corner#30_#23","10T-DE-FR-000068","[D7-D7] Ensdorf - Uchtelfangen Taubental N","11T0-0000-0604-N",0,0,8.251E-2,0.37437999999999999,-0.10617,0.91747000000000001,0,3591,{"$f":"IF((G2285*ALBE+H2285*ALDE+I2285*AT+J2285*BE+K2285*DE+L2285*FR+M2285*NL)>(N2285),1,0)","v":0},null,{"$f":"IF((C$6*G2285+D$6*H2285+E$6*I2285+F$6*J2285+G$6*K2285+H$6*L2285+I$6*M2285)>(N2285),1,0)","v":0}]
[null,3055,"[D2-AT] Pleinting - St. Peter 258 [DIR] [AT]_LTA_corner#05_#1","10T-AT-DE-000037","[D2-D2] Pirach - Pleinting 257","11TD2L000000201H",0,0,-0.99689000000000005,0,5.5690000000000003E-2,5.5690000000000003E-2,0,5229,{"$f":"IF((G2286*ALBE+H2286*ALDE+I2286*AT+J2286*BE+K2286*DE+L2286*FR+M2286*NL)>(N2286),1,0)","v":0},null,{"$f":"IF((C$6*G2286+D$6*H2286+E$6*I2286+F$6*J2286+G$6*K2286+H$6*L2286+I$6*M2286)>(N2286),1,0)","v":0}]
[null,3056,"[D2-AT] Pleinting - St. Peter 258 [DIR] [D2]_LTA_corner#09_#2","10T-AT-DE-000037","[D2-AT] Y - St. Peter (- Altheim - Simbach) 234/230","10T-AT-DE-000045",0,0,-0.97906000000000004,-6.318E-2,-2.479E-2,-0.19194,0,4926,{"$f":"IF((G2287*ALBE+H2287*ALDE+I2287*AT+J2287*BE+K2287*DE+L2287*FR+M2287*NL)>(N2287),1,0)","v":0},null,{"$f":"IF((C$6*G2287+D$6*H2287+E$6*I2287+F$6*J2287+G$6*K2287+H$6*L2287+I$6*M2287)>(N2287),1,0)","v":0}]
[null,3057,"[D7-FR] Ensdorf - Vigy 2S [OPP] [D7]_LTA_corner#30_#13","10T-DE-FR-000068","[D7-D7] Ensdorf - Uchtelfangen Taubental N","11T0-0000-0604-N",0,0,3.4660000000000003E-2,0.38729000000000002,-0.15745000000000001,0.90774999999999995,0,3703,{"$f":"IF((G2288*ALBE+H2288*ALDE+I2288*AT+J2288*BE+K2288*DE+L2288*FR+M2288*NL)>(N2288),1,0)","v":0},null,{"$f":"IF((C$6*G2288+D$6*H2288+E$6*I2288+F$6*J2288+G$6*K2288+H$6*L2288+I$6*M2288)>(N2288),1,0)","v":0}]
[null,3058,"[D7-FR] Ensdorf - Vigy 2S [OPP] [D7]_LTA_corner#30_#3","10T-DE-FR-000068","[D7-D7] Ensdorf - Uchtelfangen Taubental N","11T0-0000-0604-N",0,0,6.4630000000000007E-2,0.39068000000000003,-0.12438,0.90978999999999999,0,3601,{"$f":"IF((G2289*ALBE+H2289*ALDE+I2289*AT+J2289*BE+K2289*DE+L2289*FR+M2289*NL)>(N2289),1,0)","v":0},null,{"$f":"IF((C$6*G2289+D$6*H2289+E$6*I2289+F$6*J2289+G$6*K2289+H$6*L2289+I$6*M2289)>(N2289),1,0)","v":0}]
[null,3059,"[AT-AT] Westtirol Transformer WTRHU41 [OPP]_LTA_corner#20_#4","14T-38220-WT041O","BASECASE","N/A",0,0,0.99095999999999995,-2.2280000000000001E-2,0.11161,-7.0980000000000001E-2,0,4587,{"$f":"IF((G2290*ALBE+H2290*ALDE+I2290*AT+J2290*BE+K2290*DE+L2290*FR+M2290*NL)>(N2290),1,0)","v":0},null,{"$f":"IF((C$6*G2290+D$6*H2290+E$6*I2290+F$6*J2290+G$6*K2290+H$6*L2290+I$6*M2290)>(N2290),1,0)","v":0}]
[null,3060,"[BE-BE] PST_ZANDV_2 [N - S]_LTA_corner#13_#18","22T20161020---56","[NL-BE] Rilland - Zandvliet 380 White/30","10T-BE-NL-00004C",0,0,-0.39077000000000001,-0.68557999999999997,-0.33709,-0.51346000000000003,0,1705,{"$f":"IF((G2291*ALBE+H2291*ALDE+I2291*AT+J2291*BE+K2291*DE+L2291*FR+M2291*NL)>(N2291),1,0)","v":0},null,{"$f":"IF((C$6*G2291+D$6*H2291+E$6*I2291+F$6*J2291+G$6*K2291+H$6*L2291+I$6*M2291)>(N2291),1,0)","v":0}]
[null,3061,"[D2-AT] Pleinting - St. Peter 258 [DIR] [D2]_LTA_corner#04_#10","10T-AT-DE-000037","[D2-AT] Y - St. Peter (- Altheim - Simbach) 234/230","10T-AT-DE-000045",0,0,-0.99346000000000001,-8.0740000000000006E-2,0,-8.0740000000000006E-2,0,4931,{"$f":"IF((G2292*ALBE+H2292*ALDE+I2292*AT+J2292*BE+K2292*DE+L2292*FR+M2292*NL)>(N2292),1,0)","v":0},null,{"$f":"IF((C$6*G2292+D$6*H2292+E$6*I2292+F$6*J2292+G$6*K2292+H$6*L2292+I$6*M2292)>(N2292),1,0)","v":0}]
[null,3062,"[D2-AT] Pleinting - St. Peter 258 [DIR] [D2]_LTA_corner#09_#4","10T-AT-DE-000037","[D2-AT] Y - St. Peter (- Altheim - Simbach) 234/230","10T-AT-DE-000045",0,0,-0.97668999999999995,-0.12748000000000001,-0.11649,-0.12748000000000001,0,4413,{"$f":"IF((G2293*ALBE+H2293*ALDE+I2293*AT+J2293*BE+K2293*DE+L2293*FR+M2293*NL)>(N2293),1,0)","v":0},null,{"$f":"IF((C$6*G2293+D$6*H2293+E$6*I2293+F$6*J2293+G$6*K2293+H$6*L2293+I$6*M2293)>(N2293),1,0)","v":0}]
[null,3063,"[D2-NL] Diele - Meeden 380 Black [DIR] [D2]","10T-DE-NL-00001V","[D2-NL] Diele - Meeden 380 White ","10T-DE-NL-00002T",-7.0749999999999993E-2,-3.6979999999999999E-2,-1.0919999999999999E-2,-7.2679999999999995E-2,1.123E-2,-4.0559999999999999E-2,-0.16439999999999999,495,{"$f":"IF((G2294*ALBE+H2294*ALDE+I2294*AT+J2294*BE+K2294*DE+L2294*FR+M2294*NL)>(N2294),1,0)","v":0},null,{"$f":"IF((C$6*G2294+D$6*H2294+E$6*I2294+F$6*J2294+G$6*K2294+H$6*L2294+I$6*M2294)>(N2294),1,0)","v":0}]
[null,3064,"[BE-FR] Achene - Lonny 380.19 [DIR] [BE]_LTA_corner#02_#1","10T-BE-FR-000015","[BE-BE] Avelgem - Horta 380.102","22T20161020---1E",0,0,-0.49165999999999999,0,-0.34927000000000002,-0.79766999999999999,0,2091,{"$f":"IF((G2295*ALBE+H2295*ALDE+I2295*AT+J2295*BE+K2295*DE+L2295*FR+M2295*NL)>(N2295),1,0)","v":0},null,{"$f":"IF((C$6*G2295+D$6*H2295+E$6*I2295+F$6*J2295+G$6*K2295+H$6*L2295+I$6*M2295)>(N2295),1,0)","v":0}]
[null,3065,"[D7-FR] Ensdorf - Vigy 2S [OPP] [D7]_LTA_corner#30_#52","10T-DE-FR-000068","[D7-D7] Ensdorf - Uchtelfangen Taubental N","11T0-0000-0604-N",0,0,8.1860000000000002E-2,0.38496999999999998,-0.10063,0.91376999999999997,0,3523,{"$f":"IF((G2296*ALBE+H2296*ALDE+I2296*AT+J2296*BE+K2296*DE+L2296*FR+M2296*NL)>(N2296),1,0)","v":0},null,{"$f":"IF((C$6*G2296+D$6*H2296+E$6*I2296+F$6*J2296+G$6*K2296+H$6*L2296+I$6*M2296)>(N2296),1,0)","v":0}]
[null,3066,"[D2-AT] Pleinting - St. Peter 258 [DIR] [AT]_LTA_corner#11_#11","10T-AT-DE-000037","[D2-D2] Pirach - Pleinting 257","11TD2L000000201H",0,0,-0.99516000000000004,0,-9.8290000000000002E-2,0,0,4591,{"$f":"IF((G2297*ALBE+H2297*ALDE+I2297*AT+J2297*BE+K2297*DE+L2297*FR+M2297*NL)>(N2297),1,0)","v":0},null,{"$f":"IF((C$6*G2297+D$6*H2297+E$6*I2297+F$6*J2297+G$6*K2297+H$6*L2297+I$6*M2297)>(N2297),1,0)","v":0}]
[null,3067,"ALDE_import","N/A","BASECASE","N/A",0,-1,0,0,0,0,0,0,{"$f":"IF((G2298*ALBE+H2298*ALDE+I2298*AT+J2298*BE+K2298*DE+L2298*FR+M2298*NL)>(N2298),1,0)","v":0},null,{"$f":"IF((C$6*G2298+D$6*H2298+E$6*I2298+F$6*J2298+G$6*K2298+H$6*L2298+I$6*M2298)>(N2298),1,0)","v":0}]
[null,3068,"[BE-FR] Achene - Lonny 380.19 [DIR] [BE]_LTA_corner#02_#12","10T-BE-FR-000015","[BE-BE] Avelgem - Horta 380.102","22T20161020---1E",0,0,-0.48807,0,-0.36713000000000001,-0.79183999999999999,0,1985,{"$f":"IF((G2299*ALBE+H2299*ALDE+I2299*AT+J2299*BE+K2299*DE+L2299*FR+M2299*NL)>(N2299),1,0)","v":0},null,{"$f":"IF((C$6*G2299+D$6*H2299+E$6*I2299+F$6*J2299+G$6*K2299+H$6*L2299+I$6*M2299)>(N2299),1,0)","v":0}]
[null,3069,"[D2-AT] Pleinting - St. Peter 258 [DIR] [AT]_LTA_corner#14_#5","10T-AT-DE-000037","[D2-D2] Pirach - Pleinting 257","11TD2L000000201H",0,0,-0.99424999999999997,2.3300000000000001E-2,-7.467E-2,7.3169999999999999E-2,0,4834,{"$f":"IF((G2300*ALBE+H2300*ALDE+I2300*AT+J2300*BE+K2300*DE+L2300*FR+M2300*NL)>(N2300),1,0)","v":0},null,{"$f":"IF((C$6*G2300+D$6*H2300+E$6*I2300+F$6*J2300+G$6*K2300+H$6*L2300+I$6*M2300)>(N2300),1,0)","v":0}]
[null,3070,"[D2-AT] Pleinting - St. Peter 258 [DIR] [AT]_LTA_corner#09_#10","10T-AT-DE-000037","[D2-D2] Pirach - Pleinting 257","11TD2L000000201H",0,0,-0.99685000000000001,-4.58E-2,-4.58E-2,-4.58E-2,0,4682,{"$f":"IF((G2301*ALBE+H2301*ALDE+I2301*AT+J2301*BE+K2301*DE+L2301*FR+M2301*NL)>(N2301),1,0)","v":0},null,{"$f":"IF((C$6*G2301+D$6*H2301+E$6*I2301+F$6*J2301+G$6*K2301+H$6*L2301+I$6*M2301)>(N2301),1,0)","v":0}]
[null,3071,"[D2-AT] Pleinting - St. Peter 258 [DIR] [D2]_LTA_corner#05_#14","10T-AT-DE-000037","[D2-AT] Y - St. Peter (- Altheim - Simbach) 234/230","10T-AT-DE-000045",0,0,-0.97728000000000004,0,0.19109000000000001,9.1639999999999999E-2,0,6094,{"$f":"IF((G2302*ALBE+H2302*ALDE+I2302*AT+J2302*BE+K2302*DE+L2302*FR+M2302*NL)>(N2302),1,0)","v":0},null,{"$f":"IF((C$6*G2302+D$6*H2302+E$6*I2302+F$6*J2302+G$6*K2302+H$6*L2302+I$6*M2302)>(N2302),1,0)","v":0}]
[null,3072,"[D7-FR] Ensdorf - Vigy 2S [OPP] [D7]_LTA_corner#30_#17","10T-DE-FR-000068","[D7-D7] Ensdorf - Uchtelfangen Taubental N","11T0-0000-0604-N",0,0,5.3409999999999999E-2,0.38378000000000001,-0.12692999999999999,0.91310000000000002,0,3584,{"$f":"IF((G2303*ALBE+H2303*ALDE+I2303*AT+J2303*BE+K2303*DE+L2303*FR+M2303*NL)>(N2303),1,0)","v":0},null,{"$f":"IF((C$6*G2303+D$6*H2303+E$6*I2303+F$6*J2303+G$6*K2303+H$6*L2303+I$6*M2303)>(N2303),1,0)","v":0}]
[null,3073,"[D2-AT] Pleinting - St. Peter 258 [DIR] [AT]_LTA_corner#11_#0","10T-AT-DE-000037","[D2-D2] Pirach - Pleinting 257","11TD2L000000201H",0,0,-0.99465999999999999,0,-0.10227,-1.363E-2,0,4570,{"$f":"IF((G2304*ALBE+H2304*ALDE+I2304*AT+J2304*BE+K2304*DE+L2304*FR+M2304*NL)>(N2304),1,0)","v":0},null,{"$f":"IF((C$6*G2304+D$6*H2304+E$6*I2304+F$6*J2304+G$6*K2304+H$6*L2304+I$6*M2304)>(N2304),1,0)","v":0}]
[null,3074,"[D7-FR] Ensdorf - Vigy 2S [OPP] [D7]_LTA_corner#30_#21","10T-DE-FR-000068","[D7-D7] Ensdorf - Uchtelfangen Taubental N","11T0-0000-0604-N",0,0,8.3460000000000006E-2,0.38352999999999998,-9.9779999999999994E-2,0.91432000000000002,0,3528,{"$f":"IF((G2305*ALBE+H2305*ALDE+I2305*AT+J2305*BE+K2305*DE+L2305*FR+M2305*NL)>(N2305),1,0)","v":0},null,{"$f":"IF((C$6*G2305+D$6*H2305+E$6*I2305+F$6*J2305+G$6*K2305+H$6*L2305+I$6*M2305)>(N2305),1,0)","v":0}]
[null,3075,"[D2-AT] Pleinting - St. Peter 258 [DIR] [AT]_LTA_corner#01_#17","10T-AT-DE-000037","[D2-D2] Pirach - Pleinting 257","11TD2L000000201H",0,0,-0.99628000000000005,8.541E-2,8.3800000000000003E-3,8.3800000000000003E-3,0,4952,{"$f":"IF((G2306*ALBE+H2306*ALDE+I2306*AT+J2306*BE+K2306*DE+L2306*FR+M2306*NL)>(N2306),1,0)","v":0},null,{"$f":"IF((C$6*G2306+D$6*H2306+E$6*I2306+F$6*J2306+G$6*K2306+H$6*L2306+I$6*M2306)>(N2306),1,0)","v":0}]
[null,3076,"[D2-AT] Pleinting - St. Peter 258 [DIR] [AT]_LTA_corner#02_#6","10T-AT-DE-000037","[D2-D2] Pirach - Pleinting 257","11TD2L000000201H",0,0,-0.99470000000000003,0.10154000000000001,-1.1560000000000001E-2,-1.1560000000000001E-2,0,4886,{"$f":"IF((G2307*ALBE+H2307*ALDE+I2307*AT+J2307*BE+K2307*DE+L2307*FR+M2307*NL)>(N2307),1,0)","v":0},null,{"$f":"IF((C$6*G2307+D$6*H2307+E$6*I2307+F$6*J2307+G$6*K2307+H$6*L2307+I$6*M2307)>(N2307),1,0)","v":0}]
[null,3077,"[D2-AT] Pleinting - St. Peter 258 [DIR] [D2]_LTA_corner#05_#6","10T-AT-DE-000037","[D2-AT] Y - St. Peter (- Altheim - Simbach) 234/230","10T-AT-DE-000045",0,0,-0.97833999999999999,0,0.19472,7.0199999999999999E-2,0,6109,{"$f":"IF((G2308*ALBE+H2308*ALDE+I2308*AT+J2308*BE+K2308*DE+L2308*FR+M2308*NL)>(N2308),1,0)","v":0},null,{"$f":"IF((C$6*G2308+D$6*H2308+E$6*I2308+F$6*J2308+G$6*K2308+H$6*L2308+I$6*M2308)>(N2308),1,0)","v":0}]
[null,3078,"[D2-AT] Pleinting - St. Peter 258 [DIR] [D2]_LTA_corner#09_#22","10T-AT-DE-000037","[D2-AT] Y - St. Peter (- Altheim - Simbach) 234/230","10T-AT-DE-000045",0,0,-0.93278000000000005,-0.16198000000000001,-0.22770000000000001,-0.22770000000000001,0,3872,{"$f":"IF((G2309*ALBE+H2309*ALDE+I2309*AT+J2309*BE+K2309*DE+L2309*FR+M2309*NL)>(N2309),1,0)","v":0},null,{"$f":"IF((C$6*G2309+D$6*H2309+E$6*I2309+F$6*J2309+G$6*K2309+H$6*L2309+I$6*M2309)>(N2309),1,0)","v":0}]
[null,3079,"[D2-AT] Y - St. Peter (- Altheim - Simbach) 234/230 [OPP] [D2]","10T-AT-DE-000045","[D2-AT] Pirach - St. Peter 256","10T-AT-DE-000029",-4.4819999999999999E-2,-4.6219999999999997E-2,2.8139999999999998E-2,-4.4569999999999999E-2,-4.5629999999999997E-2,-4.1520000000000001E-2,-4.5490000000000003E-2,395,{"$f":"IF((G2310*ALBE+H2310*ALDE+I2310*AT+J2310*BE+K2310*DE+L2310*FR+M2310*NL)>(N2310),1,0)","v":0},null,{"$f":"IF((C$6*G2310+D$6*H2310+E$6*I2310+F$6*J2310+G$6*K2310+H$6*L2310+I$6*M2310)>(N2310),1,0)","v":0}]
[null,3080,"[BE-BE] PST_VANYK_2 [S - N]","22T-BE-PST--002U","[NL-BE] Maasbracht - Van Eyck 380 Black/27","10T-BE-NL-00002G",0.48451,-5.1040000000000002E-2,1.2319999999999999E-2,0.26933000000000001,-1.9900000000000001E-2,9.3810000000000004E-2,-2.8629999999999999E-2,998,{"$f":"IF((G2311*ALBE+H2311*ALDE+I2311*AT+J2311*BE+K2311*DE+L2311*FR+M2311*NL)>(N2311),1,0)","v":0},null,{"$f":"IF((C$6*G2311+D$6*H2311+E$6*I2311+F$6*J2311+G$6*K2311+H$6*L2311+I$6*M2311)>(N2311),1,0)","v":0}]
[null,3081,"[D2-AT] Pleinting - St. Peter 258 [DIR] [AT]_LTA_corner#11_#10","10T-AT-DE-000037","[D2-D2] Pirach - Pleinting 257","11TD2L000000201H",0,0,-0.99553000000000003,3.2640000000000002E-2,-8.2409999999999997E-2,3.2640000000000002E-2,0,4690,{"$f":"IF((G2312*ALBE+H2312*ALDE+I2312*AT+J2312*BE+K2312*DE+L2312*FR+M2312*NL)>(N2312),1,0)","v":0},null,{"$f":"IF((C$6*G2312+D$6*H2312+E$6*I2312+F$6*J2312+G$6*K2312+H$6*L2312+I$6*M2312)>(N2312),1,0)","v":0}]
[null,3082,"[D2-AT] Pleinting - St. Peter 258 [DIR] [AT]_LTA_corner#04_#15","10T-AT-DE-000037","[D2-D2] Pirach - Pleinting 257","11TD2L000000201H",0,0,-0.99267000000000005,-7.1029999999999996E-2,6.7169999999999994E-2,-7.1029999999999996E-2,0,5374,{"$f":"IF((G2313*ALBE+H2313*ALDE+I2313*AT+J2313*BE+K2313*DE+L2313*FR+M2313*NL)>(N2313),1,0)","v":0},null,{"$f":"IF((C$6*G2313+D$6*H2313+E$6*I2313+F$6*J2313+G$6*K2313+H$6*L2313+I$6*M2313)>(N2313),1,0)","v":0}]
[null,3083,"[BE-BE] PST_ZANDV_2 [N - S]_LTA_corner#13_#4","22T20161020---56","[NL-BE] Rilland - Zandvliet 380 White/30","10T-BE-NL-00004C",0,0,-0.29819000000000001,-0.81118999999999997,-0.23846000000000001,-0.44292999999999999,0,2055,{"$f":"IF((G2314*ALBE+H2314*ALDE+I2314*AT+J2314*BE+K2314*DE+L2314*FR+M2314*NL)>(N2314),1,0)","v":0},null,{"$f":"IF((C$6*G2314+D$6*H2314+E$6*I2314+F$6*J2314+G$6*K2314+H$6*L2314+I$6*M2314)>(N2314),1,0)","v":0}]
[null,3084,"[AT-AT] Westtirol Transformer WTRHU41 [OPP]_LTA_corner#20_#2","14T-38220-WT041O","BASECASE","N/A",0,0,0.99131000000000002,-2.171E-2,0.11046,-6.8000000000000005E-2,0,4587,{"$f":"IF((G2315*ALBE+H2315*ALDE+I2315*AT+J2315*BE+K2315*DE+L2315*FR+M2315*NL)>(N2315),1,0)","v":0},null,{"$f":"IF((C$6*G2315+D$6*H2315+E$6*I2315+F$6*J2315+G$6*K2315+H$6*L2315+I$6*M2315)>(N2315),1,0)","v":0}]
[null,3085,"[BE-FR] Achene - Lonny 380.19 [DIR] [BE]_LTA_corner#02_#20","10T-BE-FR-000015","[BE-BE] Avelgem - Horta 380.102","22T20161020---1E",0,0,-0.45438000000000001,0.22938,-0.30621999999999999,-0.80445999999999995,0,2394,{"$f":"IF((G2316*ALBE+H2316*ALDE+I2316*AT+J2316*BE+K2316*DE+L2316*FR+M2316*NL)>(N2316),1,0)","v":0},null,{"$f":"IF((C$6*G2316+D$6*H2316+E$6*I2316+F$6*J2316+G$6*K2316+H$6*L2316+I$6*M2316)>(N2316),1,0)","v":0}]
[null,3086,"[D2-AT] Pleinting - St. Peter 258 [DIR] [D2]_LTA_corner#04_#6","10T-AT-DE-000037","[D2-AT] Y - St. Peter (- Altheim - Simbach) 234/230","10T-AT-DE-000045",0,0,-0.99389000000000005,-7.7799999999999994E-2,8.7600000000000004E-3,-7.7799999999999994E-2,0,4988,{"$f":"IF((G2317*ALBE+H2317*ALDE+I2317*AT+J2317*BE+K2317*DE+L2317*FR+M2317*NL)>(N2317),1,0)","v":0},null,{"$f":"IF((C$6*G2317+D$6*H2317+E$6*I2317+F$6*J2317+G$6*K2317+H$6*L2317+I$6*M2317)>(N2317),1,0)","v":0}]
[null,3087,"[D2-AT] Pleinting - St. Peter 258 [DIR] [D2]_LTA_corner#01_#11","10T-AT-DE-000037","[D2-AT] Y - St. Peter (- Altheim - Simbach) 234/230","10T-AT-DE-000045",0,0,-0.58684999999999998,0.38270999999999999,0.60223000000000004,0.38270999999999999,0,6840,{"$f":"IF((G2318*ALBE+H2318*ALDE+I2318*AT+J2318*BE+K2318*DE+L2318*FR+M2318*NL)>(N2318),1,0)","v":0},null,{"$f":"IF((C$6*G2318+D$6*H2318+E$6*I2318+F$6*J2318+G$6*K2318+H$6*L2318+I$6*M2318)>(N2318),1,0)","v":0}]
[null,3088,"[D7-FR] Ensdorf - Vigy 2S [OPP] [D7]_LTA_corner#30_#2","10T-DE-FR-000068","[D7-D7] Ensdorf - Uchtelfangen Taubental N","11T0-0000-0604-N",0,0,2.6669999999999999E-2,0.39977000000000001,-0.16516,0.90122000000000002,0,3690,{"$f":"IF((G2319*ALBE+H2319*ALDE+I2319*AT+J2319*BE+K2319*DE+L2319*FR+M2319*NL)>(N2319),1,0)","v":0},null,{"$f":"IF((C$6*G2319+D$6*H2319+E$6*I2319+F$6*J2319+G$6*K2319+H$6*L2319+I$6*M2319)>(N2319),1,0)","v":0}]
[null,3089,"[D2-AT] Pleinting - St. Peter 258 [DIR] [AT]_LTA_corner#12_#6","10T-AT-DE-000037","[D2-D2] Pirach - Pleinting 257","11TD2L000000201H",0,0,-0.99497999999999998,-1.74E-3,0,0.10002999999999999,0,5106,{"$f":"IF((G2320*ALBE+H2320*ALDE+I2320*AT+J2320*BE+K2320*DE+L2320*FR+M2320*NL)>(N2320),1,0)","v":0},null,{"$f":"IF((C$6*G2320+D$6*H2320+E$6*I2320+F$6*J2320+G$6*K2320+H$6*L2320+I$6*M2320)>(N2320),1,0)","v":0}]
[null,3090,"[D2-AT] Pleinting - St. Peter 258 [DIR] [AT]_LTA_corner#14_#15","10T-AT-DE-000037","[D2-D2] Pirach - Pleinting 257","11TD2L000000201H",0,0,-0.99502999999999997,0,-2.5600000000000002E-3,9.9500000000000005E-2,0,5095,{"$f":"IF((G2321*ALBE+H2321*ALDE+I2321*AT+J2321*BE+K2321*DE+L2321*FR+M2321*NL)>(N2321),1,0)","v":0},null,{"$f":"IF((C$6*G2321+D$6*H2321+E$6*I2321+F$6*J2321+G$6*K2321+H$6*L2321+I$6*M2321)>(N2321),1,0)","v":0}]
[null,3091,"[BE-FR] Achene - Lonny 380.19 [DIR] [BE]_LTA_corner#02_#13","10T-BE-FR-000015","[BE-BE] Avelgem - Horta 380.102","22T20161020---1E",0,0,-0.43791999999999998,0.36907000000000001,-0.32605000000000001,-0.75212999999999997,0,2313,{"$f":"IF((G2322*ALBE+H2322*ALDE+I2322*AT+J2322*BE+K2322*DE+L2322*FR+M2322*NL)>(N2322),1,0)","v":0},null,{"$f":"IF((C$6*G2322+D$6*H2322+E$6*I2322+F$6*J2322+G$6*K2322+H$6*L2322+I$6*M2322)>(N2322),1,0)","v":0}]
[null,3092,"[D2-AT] Pleinting - St. Peter 258 [DIR] [AT]_LTA_corner#07_#1","10T-AT-DE-000037","[D2-D2] Pirach - Pleinting 257","11TD2L000000201H",0,0,-0.99504000000000004,0,0,9.9479999999999999E-2,0,5100,{"$f":"IF((G2323*ALBE+H2323*ALDE+I2323*AT+J2323*BE+K2323*DE+L2323*FR+M2323*NL)>(N2323),1,0)","v":0},null,{"$f":"IF((C$6*G2323+D$6*H2323+E$6*I2323+F$6*J2323+G$6*K2323+H$6*L2323+I$6*M2323)>(N2323),1,0)","v":0}]
[null,3093,"[D2-AT] Pleinting - St. Peter 258 [DIR] [D2]_LTA_corner#04_#0","10T-AT-DE-000037","[D2-AT] Y - St. Peter (- Altheim - Simbach) 234/230","10T-AT-DE-000045",0,0,-0.98172000000000004,-6.1269999999999998E-2,1.286E-2,-0.17976,0,5118,{"$f":"IF((G2324*ALBE+H2324*ALDE+I2324*AT+J2324*BE+K2324*DE+L2324*FR+M2324*NL)>(N2324),1,0)","v":0},null,{"$f":"IF((C$6*G2324+D$6*H2324+E$6*I2324+F$6*J2324+G$6*K2324+H$6*L2324+I$6*M2324)>(N2324),1,0)","v":0}]
[null,3094,"[BE-BE] PST_ZANDV_2 [N - S]_LTA_corner#13_#11","22T20161020---56","[NL-BE] Rilland - Zandvliet 380 White/30","10T-BE-NL-00004C",0,0,-0.34076000000000001,-0.73277999999999999,-0.30163000000000001,-0.50590999999999997,0,1743,{"$f":"IF((G2325*ALBE+H2325*ALDE+I2325*AT+J2325*BE+K2325*DE+L2325*FR+M2325*NL)>(N2325),1,0)","v":0},null,{"$f":"IF((C$6*G2325+D$6*H2325+E$6*I2325+F$6*J2325+G$6*K2325+H$6*L2325+I$6*M2325)>(N2325),1,0)","v":0}]
[null,3095,"[D2-AT] Pleinting - St. Peter 258 [DIR] [AT]_LTA_corner#01_#18","10T-AT-DE-000037","[D2-D2] Pirach - Pleinting 257","11TD2L000000201H",0,0,-0.99565000000000003,9.3219999999999997E-2,0,0,0,4914,{"$f":"IF((G2326*ALBE+H2326*ALDE+I2326*AT+J2326*BE+K2326*DE+L2326*FR+M2326*NL)>(N2326),1,0)","v":0},null,{"$f":"IF((C$6*G2326+D$6*H2326+E$6*I2326+F$6*J2326+G$6*K2326+H$6*L2326+I$6*M2326)>(N2326),1,0)","v":0}]
[null,3096,"[BE-FR] Achene - Lonny 380.19 [DIR] [BE]_LTA_corner#02_#11","10T-BE-FR-000015","[BE-BE] Avelgem - Horta 380.102","22T20161020---1E",0,0,-0.38068000000000002,0.63551999999999997,-0.27918999999999999,-0.61094999999999999,0,2345,{"$f":"IF((G2327*ALBE+H2327*ALDE+I2327*AT+J2327*BE+K2327*DE+L2327*FR+M2327*NL)>(N2327),1,0)","v":0},null,{"$f":"IF((C$6*G2327+D$6*H2327+E$6*I2327+F$6*J2327+G$6*K2327+H$6*L2327+I$6*M2327)>(N2327),1,0)","v":0}]
[null,3097,"[D2-AT] Pleinting - St. Peter 258 [DIR] [AT]_LTA_corner#07_#0","10T-AT-DE-000037","[D2-D2] Pirach - Pleinting 257","11TD2L000000201H",0,0,-0.99494000000000005,0,8.3700000000000007E-3,0.10016,0,5140,{"$f":"IF((G2328*ALBE+H2328*ALDE+I2328*AT+J2328*BE+K2328*DE+L2328*FR+M2328*NL)>(N2328),1,0)","v":0},null,{"$f":"IF((C$6*G2328+D$6*H2328+E$6*I2328+F$6*J2328+G$6*K2328+H$6*L2328+I$6*M2328)>(N2328),1,0)","v":0}]
[null,3098,"[BE-FR] Achene - Lonny 380.19 [DIR] [BE]_LTA_corner#02_#19","10T-BE-FR-000015","[BE-BE] Avelgem - Horta 380.102","22T20161020---1E",0,0,-0.48286000000000001,0,-0.34628999999999999,-0.80432000000000003,0,2073,{"$f":"IF((G2329*ALBE+H2329*ALDE+I2329*AT+J2329*BE+K2329*DE+L2329*FR+M2329*NL)>(N2329),1,0)","v":0},null,{"$f":"IF((C$6*G2329+D$6*H2329+E$6*I2329+F$6*J2329+G$6*K2329+H$6*L2329+I$6*M2329)>(N2329),1,0)","v":0}]
[null,3099,"[D7-FR] Ensdorf - Vigy 2S [OPP] [D7]_LTA_corner#30_#27","10T-DE-FR-000068","[D7-D7] Ensdorf - Uchtelfangen Taubental N","11T0-0000-0604-N",0,0,5.3409999999999999E-2,0.38379999999999997,-0.12691,0.91308999999999996,0,3584,{"$f":"IF((G2330*ALBE+H2330*ALDE+I2330*AT+J2330*BE+K2330*DE+L2330*FR+M2330*NL)>(N2330),1,0)","v":0},null,{"$f":"IF((C$6*G2330+D$6*H2330+E$6*I2330+F$6*J2330+G$6*K2330+H$6*L2330+I$6*M2330)>(N2330),1,0)","v":0}]
[null,3100,"[D2-AT] Pleinting - St. Peter 258 [DIR] [AT]_LTA_corner#06_#16","10T-AT-DE-000037","[D2-D2] Pirach - Pleinting 257","11TD2L000000201H",0,0,-0.99051999999999996,-0.13444,8.3300000000000006E-3,-2.681E-2,0,5144,{"$f":"IF((G2331*ALBE+H2331*ALDE+I2331*AT+J2331*BE+K2331*DE+L2331*FR+M2331*NL)>(N2331),1,0)","v":0},null,{"$f":"IF((C$6*G2331+D$6*H2331+E$6*I2331+F$6*J2331+G$6*K2331+H$6*L2331+I$6*M2331)>(N2331),1,0)","v":0}]
[null,3101,"[D2-AT] Pleinting - St. Peter 258 [DIR] [AT]_LTA_corner#06_#18","10T-AT-DE-000037","[D2-D2] Pirach - Pleinting 257","11TD2L000000201H",0,0,-0.99502999999999997,-9.9610000000000004E-2,0,0,0,5041,{"$f":"IF((G2332*ALBE+H2332*ALDE+I2332*AT+J2332*BE+K2332*DE+L2332*FR+M2332*NL)>(N2332),1,0)","v":0},null,{"$f":"IF((C$6*G2332+D$6*H2332+E$6*I2332+F$6*J2332+G$6*K2332+H$6*L2332+I$6*M2332)>(N2332),1,0)","v":0}]
[null,3102,"[D2-AT] Pleinting - St. Peter 258 [DIR] [D2]_LTA_corner#07_#3","10T-AT-DE-000037","[D2-AT] Y - St. Peter (- Altheim - Simbach) 234/230","10T-AT-DE-000045",0,0,-0.99941999999999998,0,0,3.4110000000000001E-2,0,4922,{"$f":"IF((G2333*ALBE+H2333*ALDE+I2333*AT+J2333*BE+K2333*DE+L2333*FR+M2333*NL)>(N2333),1,0)","v":0},null,{"$f":"IF((C$6*G2333+D$6*H2333+E$6*I2333+F$6*J2333+G$6*K2333+H$6*L2333+I$6*M2333)>(N2333),1,0)","v":0}]
[null,3103,"[D2-AT] Pleinting - St. Peter 258 [DIR] [D2]_LTA_corner#05_#17","10T-AT-DE-000037","[D2-AT] Y - St. Peter (- Altheim - Simbach) 234/230","10T-AT-DE-000045",0,0,-0.99592000000000003,0,6.3780000000000003E-2,6.3780000000000003E-2,0,5286,{"$f":"IF((G2334*ALBE+H2334*ALDE+I2334*AT+J2334*BE+K2334*DE+L2334*FR+M2334*NL)>(N2334),1,0)","v":0},null,{"$f":"IF((C$6*G2334+D$6*H2334+E$6*I2334+F$6*J2334+G$6*K2334+H$6*L2334+I$6*M2334)>(N2334),1,0)","v":0}]
[null,3104,"[D2-AT] Pleinting - St. Peter 258 [DIR] [AT]_LTA_corner#14_#6","10T-AT-DE-000037","[D2-D2] Pirach - Pleinting 257","11TD2L000000201H",0,0,-0.99307000000000001,1.9820000000000001E-2,-0.10077,5.7200000000000001E-2,0,4729,{"$f":"IF((G2335*ALBE+H2335*ALDE+I2335*AT+J2335*BE+K2335*DE+L2335*FR+M2335*NL)>(N2335),1,0)","v":0},null,{"$f":"IF((C$6*G2335+D$6*H2335+E$6*I2335+F$6*J2335+G$6*K2335+H$6*L2335+I$6*M2335)>(N2335),1,0)","v":0}]
[null,3105,"[D2-AT] Pleinting - St. Peter 258 [DIR] [D2]_LTA_corner#15_#15","10T-AT-DE-000037","[D2-AT] Y - St. Peter (- Altheim - Simbach) 234/230","10T-AT-DE-000045",0,0,-0.99741999999999997,-5.45E-3,-6.3490000000000005E-2,-3.2910000000000002E-2,0,4651,{"$f":"IF((G2336*ALBE+H2336*ALDE+I2336*AT+J2336*BE+K2336*DE+L2336*FR+M2336*NL)>(N2336),1,0)","v":0},null,{"$f":"IF((C$6*G2336+D$6*H2336+E$6*I2336+F$6*J2336+G$6*K2336+H$6*L2336+I$6*M2336)>(N2336),1,0)","v":0}]
[null,3106,"[D2-AT] Pleinting - St. Peter 258 [DIR] [AT]_LTA_corner#14_#14","10T-AT-DE-000037","[D2-D2] Pirach - Pleinting 257","11TD2L000000201H",0,0,-0.99529999999999996,0,-8.1300000000000001E-3,9.6540000000000001E-2,0,5075,{"$f":"IF((G2337*ALBE+H2337*ALDE+I2337*AT+J2337*BE+K2337*DE+L2337*FR+M2337*NL)>(N2337),1,0)","v":0},null,{"$f":"IF((C$6*G2337+D$6*H2337+E$6*I2337+F$6*J2337+G$6*K2337+H$6*L2337+I$6*M2337)>(N2337),1,0)","v":0}]
[null,3107,"[D2-AT] Pleinting - St. Peter 258 [DIR] [AT]_LTA_corner#04_#16","10T-AT-DE-000037","[D2-D2] Pirach - Pleinting 257","11TD2L000000201H",0,0,-0.98575999999999997,-3.5000000000000001E-3,0.16599,-2.6679999999999999E-2,0,5941,{"$f":"IF((G2338*ALBE+H2338*ALDE+I2338*AT+J2338*BE+K2338*DE+L2338*FR+M2338*NL)>(N2338),1,0)","v":0},null,{"$f":"IF((C$6*G2338+D$6*H2338+E$6*I2338+F$6*J2338+G$6*K2338+H$6*L2338+I$6*M2338)>(N2338),1,0)","v":0}]
[null,3108,"[BE-BE] PST_ZANDV_2 [N - S]_LTA_corner#13_#3","22T20161020---56","[NL-BE] Rilland - Zandvliet 380 White/30","10T-BE-NL-00004C",0,0,-0.31141000000000002,-0.78332000000000002,-0.24076,-0.48110999999999998,0,2014,{"$f":"IF((G2339*ALBE+H2339*ALDE+I2339*AT+J2339*BE+K2339*DE+L2339*FR+M2339*NL)>(N2339),1,0)","v":0},null,{"$f":"IF((C$6*G2339+D$6*H2339+E$6*I2339+F$6*J2339+G$6*K2339+H$6*L2339+I$6*M2339)>(N2339),1,0)","v":0}]
[null,3109,"[D2-AT] Pleinting - St. Peter 258 [DIR] [AT]_LTA_corner#14_#12","10T-AT-DE-000037","[D2-D2] Pirach - Pleinting 257","11TD2L000000201H",0,0,-0.99524000000000001,0,-8.9910000000000004E-2,3.7569999999999999E-2,0,4724,{"$f":"IF((G2340*ALBE+H2340*ALDE+I2340*AT+J2340*BE+K2340*DE+L2340*FR+M2340*NL)>(N2340),1,0)","v":0},null,{"$f":"IF((C$6*G2340+D$6*H2340+E$6*I2340+F$6*J2340+G$6*K2340+H$6*L2340+I$6*M2340)>(N2340),1,0)","v":0}]
[null,3110,"[NL-NL] Borssele - Rilland 380 Zwart [DIR]","49T000000000059S","[NL-NL] Borssele - Rilland 380 Grijs","49T000000000057W",-5.2599999999999999E-3,2.3E-3,-7.5000000000000002E-4,-1.3690000000000001E-2,1.2199999999999999E-3,-5.7099999999999998E-3,0.11987,457,{"$f":"IF((G2341*ALBE+H2341*ALDE+I2341*AT+J2341*BE+K2341*DE+L2341*FR+M2341*NL)>(N2341),1,0)","v":0},null,{"$f":"IF((C$6*G2341+D$6*H2341+E$6*I2341+F$6*J2341+G$6*K2341+H$6*L2341+I$6*M2341)>(N2341),1,0)","v":0}]
[null,3111,"[D2-AT] Pleinting - St. Peter 258 [DIR] [D2]_LTA_corner#04_#4","10T-AT-DE-000037","[D2-AT] Y - St. Peter (- Altheim - Simbach) 234/230","10T-AT-DE-000045",0,0,-0.98124999999999996,-6.1449999999999998E-2,0,-0.18268000000000001,0,5032,{"$f":"IF((G2342*ALBE+H2342*ALDE+I2342*AT+J2342*BE+K2342*DE+L2342*FR+M2342*NL)>(N2342),1,0)","v":0},null,{"$f":"IF((C$6*G2342+D$6*H2342+E$6*I2342+F$6*J2342+G$6*K2342+H$6*L2342+I$6*M2342)>(N2342),1,0)","v":0}]
[null,3112,"[BE-BE] PST_VANYK_2 [S - N]","22T-BE-PST--002U","[BE-BE] Y - Courcelles (- Gramme - Tergnee) 380.31","22T-BE-IN-LI019P",0.48855999999999999,-4.3240000000000001E-2,1.077E-2,0.22620999999999999,-1.7489999999999999E-2,7.9890000000000003E-2,-3.5119999999999998E-2,892,{"$f":"IF((G2343*ALBE+H2343*ALDE+I2343*AT+J2343*BE+K2343*DE+L2343*FR+M2343*NL)>(N2343),1,0)","v":0},null,{"$f":"IF((C$6*G2343+D$6*H2343+E$6*I2343+F$6*J2343+G$6*K2343+H$6*L2343+I$6*M2343)>(N2343),1,0)","v":0}]
[null,3113,"[BE-FR] Achene - Lonny 380.19 [DIR] [BE]_LTA_corner#02_#17","10T-BE-FR-000015","[BE-BE] Avelgem - Horta 380.102","22T20161020---1E",0,0,-0.49658999999999998,0,-0.37317,-0.78366999999999998,0,1986,{"$f":"IF((G2344*ALBE+H2344*ALDE+I2344*AT+J2344*BE+K2344*DE+L2344*FR+M2344*NL)>(N2344),1,0)","v":0},null,{"$f":"IF((C$6*G2344+D$6*H2344+E$6*I2344+F$6*J2344+G$6*K2344+H$6*L2344+I$6*M2344)>(N2344),1,0)","v":0}]
[null,3114,"[D2-AT] Pleinting - St. Peter 258 [DIR] [D2]_LTA_corner#01_#23","10T-AT-DE-000037","[D2-AT] Y - St. Peter (- Altheim - Simbach) 234/230","10T-AT-DE-000045",0,0,-0.98573,0,0.15215999999999999,-7.2059999999999999E-2,0,5917,{"$f":"IF((G2345*ALBE+H2345*ALDE+I2345*AT+J2345*BE+K2345*DE+L2345*FR+M2345*NL)>(N2345),1,0)","v":0},null,{"$f":"IF((C$6*G2345+D$6*H2345+E$6*I2345+F$6*J2345+G$6*K2345+H$6*L2345+I$6*M2345)>(N2345),1,0)","v":0}]
[null,3115,"[D2-AT] Pleinting - St. Peter 258 [DIR] [D2]_LTA_corner#01_#5","10T-AT-DE-000037","[D2-AT] Y - St. Peter (- Altheim - Simbach) 234/230","10T-AT-DE-000045",0,0,-0.99946000000000002,3.2719999999999999E-2,0,0,0,4858,{"$f":"IF((G2346*ALBE+H2346*ALDE+I2346*AT+J2346*BE+K2346*DE+L2346*FR+M2346*NL)>(N2346),1,0)","v":0},null,{"$f":"IF((C$6*G2346+D$6*H2346+E$6*I2346+F$6*J2346+G$6*K2346+H$6*L2346+I$6*M2346)>(N2346),1,0)","v":0}]
[null,3116,"[AT-AT] Westtirol Transformer WTRHU41 [OPP]_LTA_corner#20_#1","14T-38220-WT041O","BASECASE","N/A",0,0,0.99311000000000005,-1.44E-2,0.10691000000000001,-4.589E-2,0,4569,{"$f":"IF((G2347*ALBE+H2347*ALDE+I2347*AT+J2347*BE+K2347*DE+L2347*FR+M2347*NL)>(N2347),1,0)","v":0},null,{"$f":"IF((C$6*G2347+D$6*H2347+E$6*I2347+F$6*J2347+G$6*K2347+H$6*L2347+I$6*M2347)>(N2347),1,0)","v":0}]
[null,3117,"[D2-AT] Pleinting - St. Peter 258 [DIR] [D2]_LTA_corner#01_#26","10T-AT-DE-000037","[D2-AT] Y - St. Peter (- Altheim - Simbach) 234/230","10T-AT-DE-000045",0,0,-0.98556999999999995,0,0.16929,0,0,5920,{"$f":"IF((G2348*ALBE+H2348*ALDE+I2348*AT+J2348*BE+K2348*DE+L2348*FR+M2348*NL)>(N2348),1,0)","v":0},null,{"$f":"IF((C$6*G2348+D$6*H2348+E$6*I2348+F$6*J2348+G$6*K2348+H$6*L2348+I$6*M2348)>(N2348),1,0)","v":0}]
[null,3118,"[BE-BE] PST_ZANDV_2 [N - S]_LTA_corner#13_#27","22T20161020---56","[NL-BE] Rilland - Zandvliet 380 White/30","10T-BE-NL-00004C",0,0,-0.40239000000000003,-0.65498000000000001,-0.3417,-0.54066999999999998,0,1647,{"$f":"IF((G2349*ALBE+H2349*ALDE+I2349*AT+J2349*BE+K2349*DE+L2349*FR+M2349*NL)>(N2349),1,0)","v":0},null,{"$f":"IF((C$6*G2349+D$6*H2349+E$6*I2349+F$6*J2349+G$6*K2349+H$6*L2349+I$6*M2349)>(N2349),1,0)","v":0}]
[null,3119,"[D2-AT] Pleinting - St. Peter 258 [DIR] [AT]_LTA_corner#14_#9","10T-AT-DE-000037","[D2-D2] Pirach - Pleinting 257","11TD2L000000201H",0,0,-0.99360000000000004,1.5730000000000001E-2,-0.10212,4.5620000000000001E-2,0,4697,{"$f":"IF((G2350*ALBE+H2350*ALDE+I2350*AT+J2350*BE+K2350*DE+L2350*FR+M2350*NL)>(N2350),1,0)","v":0},null,{"$f":"IF((C$6*G2350+D$6*H2350+E$6*I2350+F$6*J2350+G$6*K2350+H$6*L2350+I$6*M2350)>(N2350),1,0)","v":0}]
[null,3120,"[D2-AT] Pleinting - St. Peter 258 [DIR] [D2]_LTA_corner#04_#2","10T-AT-DE-000037","[D2-AT] Y - St. Peter (- Altheim - Simbach) 234/230","10T-AT-DE-000045",0,0,-0.98129,-6.6059999999999994E-2,0,-0.18084,0,5030,{"$f":"IF((G2351*ALBE+H2351*ALDE+I2351*AT+J2351*BE+K2351*DE+L2351*FR+M2351*NL)>(N2351),1,0)","v":0},null,{"$f":"IF((C$6*G2351+D$6*H2351+E$6*I2351+F$6*J2351+G$6*K2351+H$6*L2351+I$6*M2351)>(N2351),1,0)","v":0}]
[null,3121,"[D2-AT] Pleinting - St. Peter 258 [DIR] [D2]_LTA_corner#01_#9","10T-AT-DE-000037","[D2-AT] Y - St. Peter (- Altheim - Simbach) 234/230","10T-AT-DE-000045",0,0,-0.55879999999999996,0.31807999999999997,0.69669999999999999,0.31807999999999997,0,7381,{"$f":"IF((G2352*ALBE+H2352*ALDE+I2352*AT+J2352*BE+K2352*DE+L2352*FR+M2352*NL)>(N2352),1,0)","v":0},null,{"$f":"IF((C$6*G2352+D$6*H2352+E$6*I2352+F$6*J2352+G$6*K2352+H$6*L2352+I$6*M2352)>(N2352),1,0)","v":0}]
[null,3122,"[D2-AT] Pleinting - St. Peter 258 [DIR] [AT]_LTA_corner#01_#0","10T-AT-DE-000037","[D2-D2] Pirach - Pleinting 257","11TD2L000000201H",0,0,-0.99192999999999998,0.12367,8.3499999999999998E-3,-2.6849999999999999E-2,0,5033,{"$f":"IF((G2353*ALBE+H2353*ALDE+I2353*AT+J2353*BE+K2353*DE+L2353*FR+M2353*NL)>(N2353),1,0)","v":0},null,{"$f":"IF((C$6*G2353+D$6*H2353+E$6*I2353+F$6*J2353+G$6*K2353+H$6*L2353+I$6*M2353)>(N2353),1,0)","v":0}]
[null,3123,"[D2-AT] Pleinting - St. Peter 258 [DIR] [D2]_LTA_corner#15_#14","10T-AT-DE-000037","[D2-AT] Y - St. Peter (- Altheim - Simbach) 234/230","10T-AT-DE-000045",0,0,-0.94767000000000001,-0.12485,-0.22608,-0.18767,0,3972,{"$f":"IF((G2354*ALBE+H2354*ALDE+I2354*AT+J2354*BE+K2354*DE+L2354*FR+M2354*NL)>(N2354),1,0)","v":0},null,{"$f":"IF((C$6*G2354+D$6*H2354+E$6*I2354+F$6*J2354+G$6*K2354+H$6*L2354+I$6*M2354)>(N2354),1,0)","v":0}]
[null,3124,"[AT-AT] Westtirol Transformer WTRHU41 [OPP]_LTA_corner#20_#7","14T-38220-WT041O","BASECASE","N/A",0,0,0.98858999999999997,-2.351E-2,0.12809000000000001,-7.5639999999999999E-2,0,4538,{"$f":"IF((G2355*ALBE+H2355*ALDE+I2355*AT+J2355*BE+K2355*DE+L2355*FR+M2355*NL)>(N2355),1,0)","v":0},null,{"$f":"IF((C$6*G2355+D$6*H2355+E$6*I2355+F$6*J2355+G$6*K2355+H$6*L2355+I$6*M2355)>(N2355),1,0)","v":0}]
[null,3125,"[D2-AT] Pleinting - St. Peter 258 [DIR] [AT]_LTA_corner#12_#7","10T-AT-DE-000037","[D2-D2] Pirach - Pleinting 257","11TD2L000000201H",0,0,-0.99494000000000005,-8.3000000000000001E-4,0,0.10047,0,5105,{"$f":"IF((G2356*ALBE+H2356*ALDE+I2356*AT+J2356*BE+K2356*DE+L2356*FR+M2356*NL)>(N2356),1,0)","v":0},null,{"$f":"IF((C$6*G2356+D$6*H2356+E$6*I2356+F$6*J2356+G$6*K2356+H$6*L2356+I$6*M2356)>(N2356),1,0)","v":0}]
[null,3126,"[D2-AT] Pleinting - St. Peter 258 [DIR] [D2]_LTA_corner#06_#6","10T-AT-DE-000037","[D2-AT] Y - St. Peter (- Altheim - Simbach) 234/230","10T-AT-DE-000045",0,0,-0.99514999999999998,-9.0709999999999999E-2,0,-3.8179999999999999E-2,0,4993,{"$f":"IF((G2357*ALBE+H2357*ALDE+I2357*AT+J2357*BE+K2357*DE+L2357*FR+M2357*NL)>(N2357),1,0)","v":0},null,{"$f":"IF((C$6*G2357+D$6*H2357+E$6*I2357+F$6*J2357+G$6*K2357+H$6*L2357+I$6*M2357)>(N2357),1,0)","v":0}]
[null,3127,"[D7-D7] PST Gronau [OPP]","11T0-0000-0620-R","[D7-D7] Gronau - Kusenhorst Hamaland","11T0-0000-0618-7",-8.6940000000000003E-2,-4.3020000000000003E-2,-1.145E-2,-8.5559999999999997E-2,2.325E-2,-4.6100000000000002E-2,-0.11994,610,{"$f":"IF((G2358*ALBE+H2358*ALDE+I2358*AT+J2358*BE+K2358*DE+L2358*FR+M2358*NL)>(N2358),1,0)","v":0},null,{"$f":"IF((C$6*G2358+D$6*H2358+E$6*I2358+F$6*J2358+G$6*K2358+H$6*L2358+I$6*M2358)>(N2358),1,0)","v":0}]
[null,3128,"[D7-FR] Ensdorf - Vigy 2S [OPP] [D7]_LTA_corner#30_#0","10T-DE-FR-000068","[D7-D7] Ensdorf - Uchtelfangen Taubental N","11T0-0000-0604-N",0,0,8.2750000000000004E-2,0.38628000000000001,-9.9790000000000004E-2,0.91322999999999999,0,3518,{"$f":"IF((G2359*ALBE+H2359*ALDE+I2359*AT+J2359*BE+K2359*DE+L2359*FR+M2359*NL)>(N2359),1,0)","v":0},null,{"$f":"IF((C$6*G2359+D$6*H2359+E$6*I2359+F$6*J2359+G$6*K2359+H$6*L2359+I$6*M2359)>(N2359),1,0)","v":0}]
[null,3129,"[D2-AT] Pleinting - St. Peter 258 [DIR] [D2]_LTA_corner#15_#13","10T-AT-DE-000037","[D2-AT] Y - St. Peter (- Altheim - Simbach) 234/230","10T-AT-DE-000045",0,0,-0.91895000000000004,-0.17695,-0.26096999999999998,-0.23688999999999999,0,3731,{"$f":"IF((G2360*ALBE+H2360*ALDE+I2360*AT+J2360*BE+K2360*DE+L2360*FR+M2360*NL)>(N2360),1,0)","v":0},null,{"$f":"IF((C$6*G2360+D$6*H2360+E$6*I2360+F$6*J2360+G$6*K2360+H$6*L2360+I$6*M2360)>(N2360),1,0)","v":0}]
[null,3130,"[D7-D4] Hoheneck - Pulverdingen weiss [DIR] [D4]_LTA_corner#09_#7","11T-D4-D7-00014N","[D4-D7] Y - Herbertingen - Hoheneck - Metzingen schwarz","11TD40000A546-S0",0,0,-0.80940999999999996,-0.10044,-0.31663000000000002,-0.48426000000000002,0,3282,{"$f":"IF((G2361*ALBE+H2361*ALDE+I2361*AT+J2361*BE+K2361*DE+L2361*FR+M2361*NL)>(N2361),1,0)","v":0},null,{"$f":"IF((C$6*G2361+D$6*H2361+E$6*I2361+F$6*J2361+G$6*K2361+H$6*L2361+I$6*M2361)>(N2361),1,0)","v":0}]
[null,3131,"[D2-AT] Pleinting - St. Peter 258 [DIR] [AT]_LTA_corner#03_#5","10T-AT-DE-000037","[D2-D2] Pirach - Pleinting 257","11TD2L000000201H",0,0,-0.99785000000000001,4.6330000000000003E-2,0,4.6330000000000003E-2,0,4902,{"$f":"IF((G2362*ALBE+H2362*ALDE+I2362*AT+J2362*BE+K2362*DE+L2362*FR+M2362*NL)>(N2362),1,0)","v":0},null,{"$f":"IF((C$6*G2362+D$6*H2362+E$6*I2362+F$6*J2362+G$6*K2362+H$6*L2362+I$6*M2362)>(N2362),1,0)","v":0}]
[null,3132,"[D2-AT] Pleinting - St. Peter 258 [DIR] [AT]_LTA_corner#03_#4","10T-AT-DE-000037","[D2-D2] Pirach - Pleinting 257","11TD2L000000201H",0,0,-0.99778999999999995,4.6649999999999997E-2,8.3899999999999999E-3,4.6649999999999997E-2,0,4940,{"$f":"IF((G2363*ALBE+H2363*ALDE+I2363*AT+J2363*BE+K2363*DE+L2363*FR+M2363*NL)>(N2363),1,0)","v":0},null,{"$f":"IF((C$6*G2363+D$6*H2363+E$6*I2363+F$6*J2363+G$6*K2363+H$6*L2363+I$6*M2363)>(N2363),1,0)","v":0}]
[null,3133,"[BE-FR] Achene - Lonny 380.19 [DIR] [BE]_LTA_corner#02_#7","10T-BE-FR-000015","[BE-BE] Avelgem - Horta 380.102","22T20161020---1E",0,0,-0.42297000000000001,0.37525999999999998,-0.30897999999999998,-0.76473000000000002,0,2344,{"$f":"IF((G2364*ALBE+H2364*ALDE+I2364*AT+J2364*BE+K2364*DE+L2364*FR+M2364*NL)>(N2364),1,0)","v":0},null,{"$f":"IF((C$6*G2364+D$6*H2364+E$6*I2364+F$6*J2364+G$6*K2364+H$6*L2364+I$6*M2364)>(N2364),1,0)","v":0}]
[null,3134,"[D2-AT] Pleinting - St. Peter 258 [DIR] [D2]_LTA_corner#09_#17","10T-AT-DE-000037","[D2-AT] Y - St. Peter (- Altheim - Simbach) 234/230","10T-AT-DE-000045",0,0,-0.97987999999999997,-0.11524,-0.11524,-0.11524,0,4413,{"$f":"IF((G2365*ALBE+H2365*ALDE+I2365*AT+J2365*BE+K2365*DE+L2365*FR+M2365*NL)>(N2365),1,0)","v":0},null,{"$f":"IF((C$6*G2365+D$6*H2365+E$6*I2365+F$6*J2365+G$6*K2365+H$6*L2365+I$6*M2365)>(N2365),1,0)","v":0}]
[null,3135,"[D2-AT] Pleinting - St. Peter 258 [DIR] [D2]_LTA_corner#09_#21","10T-AT-DE-000037","[D2-AT] Y - St. Peter (- Altheim - Simbach) 234/230","10T-AT-DE-000045",0,0,-0.98660999999999999,-2.988E-2,-0.11337,-0.11337,0,4438,{"$f":"IF((G2366*ALBE+H2366*ALDE+I2366*AT+J2366*BE+K2366*DE+L2366*FR+M2366*NL)>(N2366),1,0)","v":0},null,{"$f":"IF((C$6*G2366+D$6*H2366+E$6*I2366+F$6*J2366+G$6*K2366+H$6*L2366+I$6*M2366)>(N2366),1,0)","v":0}]
[null,3136,"[AT-AT] Westtirol Transformer WTRHU41 [OPP]_LTA_corner#20_#0","14T-38220-WT041O","BASECASE","N/A",0,0,0.98951999999999996,-3.1669999999999997E-2,0.12175999999999999,-7.0879999999999999E-2,0,4553,{"$f":"IF((G2367*ALBE+H2367*ALDE+I2367*AT+J2367*BE+K2367*DE+L2367*FR+M2367*NL)>(N2367),1,0)","v":0},null,{"$f":"IF((C$6*G2367+D$6*H2367+E$6*I2367+F$6*J2367+G$6*K2367+H$6*L2367+I$6*M2367)>(N2367),1,0)","v":0}]
[null,3137,"[BE-FR] Achene - Lonny 380.19 [OPP] [BE]","10T-BE-FR-000015","[BE-BE] Avelgem - Horta 380.102","22T20161020---1E",-0.31142999999999998,-6.8629999999999997E-2,2.0590000000000001E-2,-0.30724000000000001,-3.3860000000000001E-2,0.14823,-0.15731000000000001,2050,{"$f":"IF((G2368*ALBE+H2368*ALDE+I2368*AT+J2368*BE+K2368*DE+L2368*FR+M2368*NL)>(N2368),1,0)","v":0},null,{"$f":"IF((C$6*G2368+D$6*H2368+E$6*I2368+F$6*J2368+G$6*K2368+H$6*L2368+I$6*M2368)>(N2368),1,0)","v":0}]
[null,3138,"[D2-AT] Pleinting - St. Peter 258 [DIR] [D2]_LTA_corner#01_#8","10T-AT-DE-000037","[D2-AT] Y - St. Peter (- Altheim - Simbach) 234/230","10T-AT-DE-000045",0,0,-0.55418000000000001,0.37319999999999998,0.64368000000000003,0.37319999999999998,0,6972,{"$f":"IF((G2369*ALBE+H2369*ALDE+I2369*AT+J2369*BE+K2369*DE+L2369*FR+M2369*NL)>(N2369),1,0)","v":0},null,{"$f":"IF((C$6*G2369+D$6*H2369+E$6*I2369+F$6*J2369+G$6*K2369+H$6*L2369+I$6*M2369)>(N2369),1,0)","v":0}]
[null,3139,"[D2-AT] Pleinting - St. Peter 258 [DIR] [D2]_LTA_corner#01_#22","10T-AT-DE-000037","[D2-AT] Y - St. Peter (- Altheim - Simbach) 234/230","10T-AT-DE-000045",0,0,-0.98521999999999998,0,0.13694000000000001,-0.10294,0,5859,{"$f":"IF((G2370*ALBE+H2370*ALDE+I2370*AT+J2370*BE+K2370*DE+L2370*FR+M2370*NL)>(N2370),1,0)","v":0},null,{"$f":"IF((C$6*G2370+D$6*H2370+E$6*I2370+F$6*J2370+G$6*K2370+H$6*L2370+I$6*M2370)>(N2370),1,0)","v":0}]
[null,3140,"[D2-AT] Pleinting - St. Peter 258 [DIR] [D2]_LTA_corner#05_#9","10T-AT-DE-000037","[D2-AT] Y - St. Peter (- Altheim - Simbach) 234/230","10T-AT-DE-000045",0,0,0.48479,0.34398000000000001,0.66032999999999997,0.45894000000000001,0,2170,{"$f":"IF((G2371*ALBE+H2371*ALDE+I2371*AT+J2371*BE+K2371*DE+L2371*FR+M2371*NL)>(N2371),1,0)","v":0},null,{"$f":"IF((C$6*G2371+D$6*H2371+E$6*I2371+F$6*J2371+G$6*K2371+H$6*L2371+I$6*M2371)>(N2371),1,0)","v":0}]
[null,3141,"[D2-AT] Pleinting - St. Peter 258 [DIR] [AT]_LTA_corner#13_#8","10T-AT-DE-000037","[D2-D2] Pirach - Pleinting 257","11TD2L000000201H",0,0,-0.99453999999999998,-0.10276,-1.294E-2,-1.294E-2,0,4980,{"$f":"IF((G2372*ALBE+H2372*ALDE+I2372*AT+J2372*BE+K2372*DE+L2372*FR+M2372*NL)>(N2372),1,0)","v":0},null,{"$f":"IF((C$6*G2372+D$6*H2372+E$6*I2372+F$6*J2372+G$6*K2372+H$6*L2372+I$6*M2372)>(N2372),1,0)","v":0}]
[null,3142,"[D2-AT] Pleinting - St. Peter 258 [DIR] [AT]_LTA_corner#14_#13","10T-AT-DE-000037","[D2-D2] Pirach - Pleinting 257","11TD2L000000201H",0,0,-0.99524000000000001,0,-8.6010000000000003E-2,4.5780000000000001E-2,0,4757,{"$f":"IF((G2373*ALBE+H2373*ALDE+I2373*AT+J2373*BE+K2373*DE+L2373*FR+M2373*NL)>(N2373),1,0)","v":0},null,{"$f":"IF((C$6*G2373+D$6*H2373+E$6*I2373+F$6*J2373+G$6*K2373+H$6*L2373+I$6*M2373)>(N2373),1,0)","v":0}]
[null,3143,"[AT-AT] Westtirol Transformer WTRHU41 [OPP]_LTA_corner#20_#17","14T-38220-WT041O","BASECASE","N/A",0,0,0.99036000000000002,-2.2270000000000002E-2,0.12187000000000001,-6.2030000000000002E-2,0,4541,{"$f":"IF((G2374*ALBE+H2374*ALDE+I2374*AT+J2374*BE+K2374*DE+L2374*FR+M2374*NL)>(N2374),1,0)","v":0},null,{"$f":"IF((C$6*G2374+D$6*H2374+E$6*I2374+F$6*J2374+G$6*K2374+H$6*L2374+I$6*M2374)>(N2374),1,0)","v":0}]
[null,3144,"[D2-AT] Pleinting - St. Peter 258 [DIR] [D2]_LTA_corner#01_#14","10T-AT-DE-000037","[D2-AT] Y - St. Peter (- Altheim - Simbach) 234/230","10T-AT-DE-000045",0,0,-1,0,0,0,0,4821,{"$f":"IF((G2375*ALBE+H2375*ALDE+I2375*AT+J2375*BE+K2375*DE+L2375*FR+M2375*NL)>(N2375),1,0)","v":0},null,{"$f":"IF((C$6*G2375+D$6*H2375+E$6*I2375+F$6*J2375+G$6*K2375+H$6*L2375+I$6*M2375)>(N2375),1,0)","v":0}]
[null,3145,"[D7-FR] Ensdorf - Vigy 2S [OPP] [D7]_LTA_corner#30_#42","10T-DE-FR-000068","[D7-D7] Ensdorf - Uchtelfangen Taubental N","11T0-0000-0604-N",0,0,8.022E-2,0.38442999999999999,-0.10206999999999999,0.91398000000000001,0,3528,{"$f":"IF((G2376*ALBE+H2376*ALDE+I2376*AT+J2376*BE+K2376*DE+L2376*FR+M2376*NL)>(N2376),1,0)","v":0},null,{"$f":"IF((C$6*G2376+D$6*H2376+E$6*I2376+F$6*J2376+G$6*K2376+H$6*L2376+I$6*M2376)>(N2376),1,0)","v":0}]
[null,3146,"[D7-FR] Ensdorf - Vigy 2S [OPP] [D7]_LTA_corner#30_#9","10T-DE-FR-000068","[D7-D7] Ensdorf - Uchtelfangen Taubental N","11T0-0000-0604-N",0,0,4.3180000000000003E-2,0.38613999999999998,-0.13925999999999999,0.91083999999999998,0,3618,{"$f":"IF((G2377*ALBE+H2377*ALDE+I2377*AT+J2377*BE+K2377*DE+L2377*FR+M2377*NL)>(N2377),1,0)","v":0},null,{"$f":"IF((C$6*G2377+D$6*H2377+E$6*I2377+F$6*J2377+G$6*K2377+H$6*L2377+I$6*M2377)>(N2377),1,0)","v":0}]
[null,3147,"[NL-D7] Maasbracht - Siersdorf 380 black [DIR] [D7]","10T-DE-NL-00006L","[BE-BE] Avelgem - Horta 380.102","22T20161020---1E",0.32562999999999998,-0.15559000000000001,-2.2100000000000002E-3,0.313,1.3950000000000001E-2,3.9469999999999998E-2,0.26277,924,{"$f":"IF((G2378*ALBE+H2378*ALDE+I2378*AT+J2378*BE+K2378*DE+L2378*FR+M2378*NL)>(N2378),1,0)","v":0},null,{"$f":"IF((C$6*G2378+D$6*H2378+E$6*I2378+F$6*J2378+G$6*K2378+H$6*L2378+I$6*M2378)>(N2378),1,0)","v":0}]
[null,3148,"[D2-AT] Pleinting - St. Peter 258 [DIR] [AT]_LTA_corner#06_#1","10T-AT-DE-000037","[D2-D2] Pirach - Pleinting 257","11TD2L000000201H",0,0,-0.99663999999999997,-3.5400000000000002E-3,5.7869999999999998E-2,5.7869999999999998E-2,0,5253,{"$f":"IF((G2379*ALBE+H2379*ALDE+I2379*AT+J2379*BE+K2379*DE+L2379*FR+M2379*NL)>(N2379),1,0)","v":0},null,{"$f":"IF((C$6*G2379+D$6*H2379+E$6*I2379+F$6*J2379+G$6*K2379+H$6*L2379+I$6*M2379)>(N2379),1,0)","v":0}]
[null,3149,"ALDE_export","N/A","BASECASE","N/A",0,1,0,0,0,0,0,0,{"$f":"IF((G2380*ALBE+H2380*ALDE+I2380*AT+J2380*BE+K2380*DE+L2380*FR+M2380*NL)>(N2380),1,0)","v":0},null,{"$f":"IF((C$6*G2380+D$6*H2380+E$6*I2380+F$6*J2380+G$6*K2380+H$6*L2380+I$6*M2380)>(N2380),1,0)","v":0}]
[null,3150,"[D2-AT] Pleinting - St. Peter 258 [DIR] [AT]_LTA_corner#02_#10","10T-AT-DE-000037","[D2-D2] Pirach - Pleinting 257","11TD2L000000201H",0,0,-0.99482999999999999,0.10095999999999999,-7.6400000000000001E-3,-7.6400000000000001E-3,0,4897,{"$f":"IF((G2381*ALBE+H2381*ALDE+I2381*AT+J2381*BE+K2381*DE+L2381*FR+M2381*NL)>(N2381),1,0)","v":0},null,{"$f":"IF((C$6*G2381+D$6*H2381+E$6*I2381+F$6*J2381+G$6*K2381+H$6*L2381+I$6*M2381)>(N2381),1,0)","v":0}]
[null,3151,"[D2-AT] Pleinting - St. Peter 258 [DIR] [D2]_LTA_corner#09_#19","10T-AT-DE-000037","[D2-AT] Y - St. Peter (- Altheim - Simbach) 234/230","10T-AT-DE-000045",0,0,-0.98855000000000004,-2.4029999999999999E-2,-0.10534,-0.10534,0,4469,{"$f":"IF((G2382*ALBE+H2382*ALDE+I2382*AT+J2382*BE+K2382*DE+L2382*FR+M2382*NL)>(N2382),1,0)","v":0},null,{"$f":"IF((C$6*G2382+D$6*H2382+E$6*I2382+F$6*J2382+G$6*K2382+H$6*L2382+I$6*M2382)>(N2382),1,0)","v":0}]
[null,3152,"[D2-AT] Pleinting - St. Peter 258 [DIR] [AT]_LTA_corner#04_#14","10T-AT-DE-000037","[D2-D2] Pirach - Pleinting 257","11TD2L000000201H",0,0,-0.9899,-2.6790000000000001E-2,0.1366,-2.6790000000000001E-2,0,5762,{"$f":"IF((G2383*ALBE+H2383*ALDE+I2383*AT+J2383*BE+K2383*DE+L2383*FR+M2383*NL)>(N2383),1,0)","v":0},null,{"$f":"IF((C$6*G2383+D$6*H2383+E$6*I2383+F$6*J2383+G$6*K2383+H$6*L2383+I$6*M2383)>(N2383),1,0)","v":0}]
[null,3153,"[D2-AT] Pleinting - St. Peter 258 [DIR] [AT]_LTA_corner#04_#18","10T-AT-DE-000037","[D2-D2] Pirach - Pleinting 257","11TD2L000000201H",0,0,-0.98719000000000001,-2.4740000000000002E-2,0.11554,-0.10722,0,5732,{"$f":"IF((G2384*ALBE+H2384*ALDE+I2384*AT+J2384*BE+K2384*DE+L2384*FR+M2384*NL)>(N2384),1,0)","v":0},null,{"$f":"IF((C$6*G2384+D$6*H2384+E$6*I2384+F$6*J2384+G$6*K2384+H$6*L2384+I$6*M2384)>(N2384),1,0)","v":0}]
[null,3154,"[D2-AT] Pleinting - St. Peter 258 [DIR] [D2]_LTA_corner#05_#2","10T-AT-DE-000037","[D2-AT] Y - St. Peter (- Altheim - Simbach) 234/230","10T-AT-DE-000045",0,0,-0.69813999999999998,0.20967,0.61148000000000002,0.30778,0,7574,{"$f":"IF((G2385*ALBE+H2385*ALDE+I2385*AT+J2385*BE+K2385*DE+L2385*FR+M2385*NL)>(N2385),1,0)","v":0},null,{"$f":"IF((C$6*G2385+D$6*H2385+E$6*I2385+F$6*J2385+G$6*K2385+H$6*L2385+I$6*M2385)>(N2385),1,0)","v":0}]
[null,3155,"[BE-BE] PST_ZANDV_2 [N - S]_LTA_corner#09_#11","22T20161020---56","[NL-BE] Rilland - Zandvliet 380 White/30","10T-BE-NL-00004C",0,0,-0.40525,-0.60223000000000004,-0.33228999999999997,-0.60223000000000004,0,1530,{"$f":"IF((G2386*ALBE+H2386*ALDE+I2386*AT+J2386*BE+K2386*DE+L2386*FR+M2386*NL)>(N2386),1,0)","v":0},null,{"$f":"IF((C$6*G2386+D$6*H2386+E$6*I2386+F$6*J2386+G$6*K2386+H$6*L2386+I$6*M2386)>(N2386),1,0)","v":0}]
[null,3156,"[BE-FR] Achene - Lonny 380.19 [DIR] [BE]_LTA_corner#02_#0","10T-BE-FR-000015","[BE-BE] Avelgem - Horta 380.102","22T20161020---1E",0,0,-0.44492999999999999,0.37497999999999998,-0.27838000000000002,-0.76415999999999995,0,2585,{"$f":"IF((G2387*ALBE+H2387*ALDE+I2387*AT+J2387*BE+K2387*DE+L2387*FR+M2387*NL)>(N2387),1,0)","v":0},null,{"$f":"IF((C$6*G2387+D$6*H2387+E$6*I2387+F$6*J2387+G$6*K2387+H$6*L2387+I$6*M2387)>(N2387),1,0)","v":0}]
[null,3157,"[D2-AT] Pleinting - St. Peter 258 [DIR] [AT]_LTA_corner#01_#16","10T-AT-DE-000037","[D2-D2] Pirach - Pleinting 257","11TD2L000000201H",0,0,-0.99361999999999995,0.11149000000000001,0,-1.6820000000000002E-2,0,4953,{"$f":"IF((G2388*ALBE+H2388*ALDE+I2388*AT+J2388*BE+K2388*DE+L2388*FR+M2388*NL)>(N2388),1,0)","v":0},null,{"$f":"IF((C$6*G2388+D$6*H2388+E$6*I2388+F$6*J2388+G$6*K2388+H$6*L2388+I$6*M2388)>(N2388),1,0)","v":0}]
[null,3158,"[D2-AT] Pleinting - St. Peter 258 [DIR] [D2]_LTA_corner#06_#22","10T-AT-DE-000037","[D2-AT] Y - St. Peter (- Altheim - Simbach) 234/230","10T-AT-DE-000045",0,0,-0.99873999999999996,-5.0279999999999998E-2,0,0,0,4938,{"$f":"IF((G2389*ALBE+H2389*ALDE+I2389*AT+J2389*BE+K2389*DE+L2389*FR+M2389*NL)>(N2389),1,0)","v":0},null,{"$f":"IF((C$6*G2389+D$6*H2389+E$6*I2389+F$6*J2389+G$6*K2389+H$6*L2389+I$6*M2389)>(N2389),1,0)","v":0}]
[null,3159,"[D2-AT] Pleinting - St. Peter 258 [DIR] [D2]_LTA_corner#01_#10","10T-AT-DE-000037","[D2-AT] Y - St. Peter (- Altheim - Simbach) 234/230","10T-AT-DE-000045",0,0,-0.98707999999999996,8.3129999999999996E-2,0.10885,8.3129999999999996E-2,0,5478,{"$f":"IF((G2390*ALBE+H2390*ALDE+I2390*AT+J2390*BE+K2390*DE+L2390*FR+M2390*NL)>(N2390),1,0)","v":0},null,{"$f":"IF((C$6*G2390+D$6*H2390+E$6*I2390+F$6*J2390+G$6*K2390+H$6*L2390+I$6*M2390)>(N2390),1,0)","v":0}]
[null,3160,"[BE-BE] PST_ZANDV_2 [N - S]_LTA_corner#13_#10","22T20161020---56","[NL-BE] Rilland - Zandvliet 380 White/30","10T-BE-NL-00004C",0,0,-0.29826999999999998,-0.83174999999999999,-0.25900000000000001,-0.39006999999999997,0,2052,{"$f":"IF((G2391*ALBE+H2391*ALDE+I2391*AT+J2391*BE+K2391*DE+L2391*FR+M2391*NL)>(N2391),1,0)","v":0},null,{"$f":"IF((C$6*G2391+D$6*H2391+E$6*I2391+F$6*J2391+G$6*K2391+H$6*L2391+I$6*M2391)>(N2391),1,0)","v":0}]
["hour 18",2834,"[D2-D2] Altheim - Sittling 220 [OPP]_LTA_corner#02_#7","11TD2L000000004J","[D2-AT] Pleinting - St. Peter 258","10T-AT-DE-000037",0,0,-0.99639999999999995,0,-5.9970000000000002E-2,-5.9970000000000002E-2,0,4633,{"$f":"IF((G2392*ALBE+H2392*ALDE+I2392*AT+J2392*BE+K2392*DE+L2392*FR+M2392*NL)>(N2392),1,0)","v":0},null,{"$f":"IF((C$6*G2392+D$6*H2392+E$6*I2392+F$6*J2392+G$6*K2392+H$6*L2392+I$6*M2392)>(N2392),1,0)","v":0}]
[null,2835,"ALBE_import","N/A","BASECASE","N/A",-1,0,0,0,0,0,0,0,{"$f":"IF((G2393*ALBE+H2393*ALDE+I2393*AT+J2393*BE+K2393*DE+L2393*FR+M2393*NL)>(N2393),1,0)","v":0},null,{"$f":"IF((C$6*G2393+D$6*H2393+E$6*I2393+F$6*J2393+G$6*K2393+H$6*L2393+I$6*M2393)>(N2393),1,0)","v":0}]
[null,2836,"[D2-D2] Altheim - Sittling 220 [OPP]_LTA_corner#11_#14","11TD2L000000004J","[D2-AT] Pleinting - St. Peter 258","10T-AT-DE-000037",0,0,-0.99988999999999995,1.6900000000000001E-3,-1.443E-2,1.6900000000000001E-3,0,4793,{"$f":"IF((G2394*ALBE+H2394*ALDE+I2394*AT+J2394*BE+K2394*DE+L2394*FR+M2394*NL)>(N2394),1,0)","v":0},null,{"$f":"IF((C$6*G2394+D$6*H2394+E$6*I2394+F$6*J2394+G$6*K2394+H$6*L2394+I$6*M2394)>(N2394),1,0)","v":0}]
[null,2837,"[D7-FR] Ensdorf - Vigy 2S [OPP] [D7]_LTA_corner#23_#24","10T-DE-FR-000068","[D7-D7] Ensdorf - Uchtelfangen Taubental N","11T0-0000-0604-N",0,0,0.14005000000000001,0.33101999999999998,0,0.93317000000000005,0,3163,{"$f":"IF((G2395*ALBE+H2395*ALDE+I2395*AT+J2395*BE+K2395*DE+L2395*FR+M2395*NL)>(N2395),1,0)","v":0},null,{"$f":"IF((C$6*G2395+D$6*H2395+E$6*I2395+F$6*J2395+G$6*K2395+H$6*L2395+I$6*M2395)>(N2395),1,0)","v":0}]
[null,2838,"[D2-AT] Pleinting - St. Peter 258 [DIR] [D2]_LTA_corner#05_#4","10T-AT-DE-000037","[D2-AT] Y - St. Peter (- Altheim - Simbach) 234/230","10T-AT-DE-000045",0,0,-0.18043999999999999,0.38236999999999999,0.77473999999999998,0.47010999999999997,0,6133,{"$f":"IF((G2396*ALBE+H2396*ALDE+I2396*AT+J2396*BE+K2396*DE+L2396*FR+M2396*NL)>(N2396),1,0)","v":0},null,{"$f":"IF((C$6*G2396+D$6*H2396+E$6*I2396+F$6*J2396+G$6*K2396+H$6*L2396+I$6*M2396)>(N2396),1,0)","v":0}]
[null,2839,"[D2-AT] Pleinting - St. Peter 258 [DIR] [AT]_LTA_corner#14_#1","10T-AT-DE-000037","[D2-D2] Pirach - Pleinting 257","11TD2L000000201H",0,0,-0.99422999999999995,1.9349999999999999E-2,-8.949E-2,5.5840000000000001E-2,0,4754,{"$f":"IF((G2397*ALBE+H2397*ALDE+I2397*AT+J2397*BE+K2397*DE+L2397*FR+M2397*NL)>(N2397),1,0)","v":0},null,{"$f":"IF((C$6*G2397+D$6*H2397+E$6*I2397+F$6*J2397+G$6*K2397+H$6*L2397+I$6*M2397)>(N2397),1,0)","v":0}]
[null,2840,"[D2-D2] Altheim - Sittling 220 [OPP]_LTA_corner#04_#2","11TD2L000000004J","[D2-AT] Pleinting - St. Peter 258","10T-AT-DE-000037",0,0,-0.98194999999999999,-4.981E-2,0,-0.18245,0,5033,{"$f":"IF((G2398*ALBE+H2398*ALDE+I2398*AT+J2398*BE+K2398*DE+L2398*FR+M2398*NL)>(N2398),1,0)","v":0},null,{"$f":"IF((C$6*G2398+D$6*H2398+E$6*I2398+F$6*J2398+G$6*K2398+H$6*L2398+I$6*M2398)>(N2398),1,0)","v":0}]
[null,2841,"[D2-AT] Pleinting - St. Peter 258 [DIR] [D2]_LTA_corner#01_#8","10T-AT-DE-000037","[D2-AT] Y - St. Peter (- Altheim - Simbach) 234/230","10T-AT-DE-000045",0,0,-0.98992999999999998,0,0,-0.14158999999999999,0,4999,{"$f":"IF((G2399*ALBE+H2399*ALDE+I2399*AT+J2399*BE+K2399*DE+L2399*FR+M2399*NL)>(N2399),1,0)","v":0},null,{"$f":"IF((C$6*G2399+D$6*H2399+E$6*I2399+F$6*J2399+G$6*K2399+H$6*L2399+I$6*M2399)>(N2399),1,0)","v":0}]
[null,2842,"[D2-D2] Altheim - Sittling 220 [OPP]_LTA_corner#02_#4","11TD2L000000004J","[D2-AT] Pleinting - St. Peter 258","10T-AT-DE-000037",0,0,-0.99319000000000002,0,-7.7060000000000003E-2,-8.7440000000000004E-2,0,4585,{"$f":"IF((G2400*ALBE+H2400*ALDE+I2400*AT+J2400*BE+K2400*DE+L2400*FR+M2400*NL)>(N2400),1,0)","v":0},null,{"$f":"IF((C$6*G2400+D$6*H2400+E$6*I2400+F$6*J2400+G$6*K2400+H$6*L2400+I$6*M2400)>(N2400),1,0)","v":0}]
[null,2843,"[D2-AT] Pleinting - St. Peter 258 [DIR] [D2]_LTA_corner#05_#8","10T-AT-DE-000037","[D2-AT] Y - St. Peter (- Altheim - Simbach) 234/230","10T-AT-DE-000045",0,0,-0.99153000000000002,0,0.12052,4.8399999999999999E-2,0,5646,{"$f":"IF((G2401*ALBE+H2401*ALDE+I2401*AT+J2401*BE+K2401*DE+L2401*FR+M2401*NL)>(N2401),1,0)","v":0},null,{"$f":"IF((C$6*G2401+D$6*H2401+E$6*I2401+F$6*J2401+G$6*K2401+H$6*L2401+I$6*M2401)>(N2401),1,0)","v":0}]
[null,2844,"[D2-AT] Pleinting - St. Peter 258 [DIR] [D2]_LTA_corner#01_#5","10T-AT-DE-000037","[D2-AT] Y - St. Peter (- Altheim - Simbach) 234/230","10T-AT-DE-000045",0,0,-0.98958000000000002,0,0.14396999999999999,0,0,5764,{"$f":"IF((G2402*ALBE+H2402*ALDE+I2402*AT+J2402*BE+K2402*DE+L2402*FR+M2402*NL)>(N2402),1,0)","v":0},null,{"$f":"IF((C$6*G2402+D$6*H2402+E$6*I2402+F$6*J2402+G$6*K2402+H$6*L2402+I$6*M2402)>(N2402),1,0)","v":0}]
[null,2845,"[D2-AT] Pleinting - St. Peter 258 [DIR] [AT]_LTA_corner#12_#0","10T-AT-DE-000037","[D2-D2] Pirach - Pleinting 257","11TD2L000000201H",0,0,-0.99636999999999998,-2.63E-3,6.2399999999999999E-3,8.4820000000000007E-2,0,5097,{"$f":"IF((G2403*ALBE+H2403*ALDE+I2403*AT+J2403*BE+K2403*DE+L2403*FR+M2403*NL)>(N2403),1,0)","v":0},null,{"$f":"IF((C$6*G2403+D$6*H2403+E$6*I2403+F$6*J2403+G$6*K2403+H$6*L2403+I$6*M2403)>(N2403),1,0)","v":0}]
[null,2846,"[D7-FR] Ensdorf - Vigy 2S [OPP] [D7]_LTA_corner#30_#30","10T-DE-FR-000068","[D7-D7] Ensdorf - Uchtelfangen Taubental N","11T0-0000-0604-N",0,0,0.14248,0.29720999999999997,-3.8949999999999999E-2,0.94332000000000005,0,3535,{"$f":"IF((G2404*ALBE+H2404*ALDE+I2404*AT+J2404*BE+K2404*DE+L2404*FR+M2404*NL)>(N2404),1,0)","v":0},null,{"$f":"IF((C$6*G2404+D$6*H2404+E$6*I2404+F$6*J2404+G$6*K2404+H$6*L2404+I$6*M2404)>(N2404),1,0)","v":0}]
[null,2847,"[D2-NL] Diele - Meeden 380 Black [DIR] [D2]","10T-DE-NL-00001V","[D2-NL] Diele - Meeden 380 White ","10T-DE-NL-00002T",-6.5269999999999995E-2,-4.2889999999999998E-2,-1.1429999999999999E-2,-6.8070000000000006E-2,1.1089999999999999E-2,-3.9579999999999997E-2,-0.16208,657,{"$f":"IF((G2405*ALBE+H2405*ALDE+I2405*AT+J2405*BE+K2405*DE+L2405*FR+M2405*NL)>(N2405),1,0)","v":0},null,{"$f":"IF((C$6*G2405+D$6*H2405+E$6*I2405+F$6*J2405+G$6*K2405+H$6*L2405+I$6*M2405)>(N2405),1,0)","v":0}]
[null,2848,"[D7-FR] Ensdorf - Vigy 2S [OPP] [D7]_LTA_corner#23_#23","10T-DE-FR-000068","[D7-D7] Ensdorf - Uchtelfangen Taubental N","11T0-0000-0604-N",0,0,0.13088,0.33950000000000002,0,0.93145999999999995,0,3104,{"$f":"IF((G2406*ALBE+H2406*ALDE+I2406*AT+J2406*BE+K2406*DE+L2406*FR+M2406*NL)>(N2406),1,0)","v":0},null,{"$f":"IF((C$6*G2406+D$6*H2406+E$6*I2406+F$6*J2406+G$6*K2406+H$6*L2406+I$6*M2406)>(N2406),1,0)","v":0}]
[null,2849,"[D2-AT] Pleinting - St. Peter 258 [DIR] [D2]_LTA_corner#01_#6","10T-AT-DE-000037","[D2-AT] Y - St. Peter (- Altheim - Simbach) 234/230","10T-AT-DE-000045",0,0,-0.69782999999999995,0.27282000000000001,0.60346999999999995,0.27282000000000001,0,7425,{"$f":"IF((G2407*ALBE+H2407*ALDE+I2407*AT+J2407*BE+K2407*DE+L2407*FR+M2407*NL)>(N2407),1,0)","v":0},null,{"$f":"IF((C$6*G2407+D$6*H2407+E$6*I2407+F$6*J2407+G$6*K2407+H$6*L2407+I$6*M2407)>(N2407),1,0)","v":0}]
[null,2850,"[D2-AT] Pleinting - St. Peter 258 [DIR] [AT]_LTA_corner#01_#8","10T-AT-DE-000037","[D2-D2] Pirach - Pleinting 257","11TD2L000000201H",0,0,-0.99100999999999995,0,6.1999999999999998E-3,-0.13367999999999999,0,5034,{"$f":"IF((G2408*ALBE+H2408*ALDE+I2408*AT+J2408*BE+K2408*DE+L2408*FR+M2408*NL)>(N2408),1,0)","v":0},null,{"$f":"IF((C$6*G2408+D$6*H2408+E$6*I2408+F$6*J2408+G$6*K2408+H$6*L2408+I$6*M2408)>(N2408),1,0)","v":0}]
[null,2851,"[D2-D2] Altheim - Sittling 220 [OPP]_LTA_corner#02_#1","11TD2L000000004J","[D2-AT] Pleinting - St. Peter 258","10T-AT-DE-000037",0,0,-0.98724999999999996,0,-9.3119999999999994E-2,-0.12912000000000001,0,4551,{"$f":"IF((G2409*ALBE+H2409*ALDE+I2409*AT+J2409*BE+K2409*DE+L2409*FR+M2409*NL)>(N2409),1,0)","v":0},null,{"$f":"IF((C$6*G2409+D$6*H2409+E$6*I2409+F$6*J2409+G$6*K2409+H$6*L2409+I$6*M2409)>(N2409),1,0)","v":0}]
[null,2852,"[D2-AT] Pleinting - St. Peter 258 [DIR] [D2]_LTA_corner#01_#4","10T-AT-DE-000037","[D2-AT] Y - St. Peter (- Altheim - Simbach) 234/230","10T-AT-DE-000045",0,0,-0.98860999999999999,0,9.6949999999999995E-2,-0.11508,0,5619,{"$f":"IF((G2410*ALBE+H2410*ALDE+I2410*AT+J2410*BE+K2410*DE+L2410*FR+M2410*NL)>(N2410),1,0)","v":0},null,{"$f":"IF((C$6*G2410+D$6*H2410+E$6*I2410+F$6*J2410+G$6*K2410+H$6*L2410+I$6*M2410)>(N2410),1,0)","v":0}]
[null,2853,"[D2-AT] Pleinting - St. Peter 258 [DIR] [AT]_LTA_corner#03_#3","10T-AT-DE-000037","[D2-D2] Pirach - Pleinting 257","11TD2L000000201H",0,0,-0.99853000000000003,3.8350000000000002E-2,0,3.8350000000000002E-2,0,4889,{"$f":"IF((G2411*ALBE+H2411*ALDE+I2411*AT+J2411*BE+K2411*DE+L2411*FR+M2411*NL)>(N2411),1,0)","v":0},null,{"$f":"IF((C$6*G2411+D$6*H2411+E$6*I2411+F$6*J2411+G$6*K2411+H$6*L2411+I$6*M2411)>(N2411),1,0)","v":0}]
[null,2854,"[BE-BE] PST_ZANDV_2 [N - S]_LTA_corner#09_#3","22T20161020---56","[NL-BE] Rilland - Zandvliet 380 White/30","10T-BE-NL-00004C",0,0,-0.39787,-0.60977999999999999,-0.31311,-0.60977999999999999,0,1593,{"$f":"IF((G2412*ALBE+H2412*ALDE+I2412*AT+J2412*BE+K2412*DE+L2412*FR+M2412*NL)>(N2412),1,0)","v":0},null,{"$f":"IF((C$6*G2412+D$6*H2412+E$6*I2412+F$6*J2412+G$6*K2412+H$6*L2412+I$6*M2412)>(N2412),1,0)","v":0}]
[null,2855,"[BE-BE] PST_ZANDV_2 [N - S]_LTA_corner#13_#10","22T20161020---56","[NL-BE] Rilland - Zandvliet 380 White/30","10T-BE-NL-00004C",0,0,-0.39067000000000002,-0.68511,-0.33850999999999998,-0.51322999999999996,0,1697,{"$f":"IF((G2413*ALBE+H2413*ALDE+I2413*AT+J2413*BE+K2413*DE+L2413*FR+M2413*NL)>(N2413),1,0)","v":0},null,{"$f":"IF((C$6*G2413+D$6*H2413+E$6*I2413+F$6*J2413+G$6*K2413+H$6*L2413+I$6*M2413)>(N2413),1,0)","v":0}]
[null,2856,"[D2-AT] Pleinting - St. Peter 258 [DIR] [D2]_LTA_corner#05_#26","10T-AT-DE-000037","[D2-AT] Y - St. Peter (- Altheim - Simbach) 234/230","10T-AT-DE-000045",0,0,-0.99343999999999999,3.669E-2,7.6579999999999995E-2,7.6579999999999995E-2,0,5332,{"$f":"IF((G2414*ALBE+H2414*ALDE+I2414*AT+J2414*BE+K2414*DE+L2414*FR+M2414*NL)>(N2414),1,0)","v":0},null,{"$f":"IF((C$6*G2414+D$6*H2414+E$6*I2414+F$6*J2414+G$6*K2414+H$6*L2414+I$6*M2414)>(N2414),1,0)","v":0}]
[null,2857,"[D2-AT] Pleinting - St. Peter 258 [DIR] [AT]_LTA_corner#14_#0","10T-AT-DE-000037","[D2-D2] Pirach - Pleinting 257","11TD2L000000201H",0,0,-0.99626000000000003,0,-7.4829999999999994E-2,4.317E-2,0,4777,{"$f":"IF((G2415*ALBE+H2415*ALDE+I2415*AT+J2415*BE+K2415*DE+L2415*FR+M2415*NL)>(N2415),1,0)","v":0},null,{"$f":"IF((C$6*G2415+D$6*H2415+E$6*I2415+F$6*J2415+G$6*K2415+H$6*L2415+I$6*M2415)>(N2415),1,0)","v":0}]
[null,2858,"[D7-FR] Ensdorf - Vigy 2S [OPP] [D7]_LTA_corner#30_#23","10T-DE-FR-000068","[D7-D7] Ensdorf - Uchtelfangen Taubental N","11T0-0000-0604-N",0,0,-4.6899999999999997E-3,0.31024000000000002,-0.22935,0.92257,0,4184,{"$f":"IF((G2416*ALBE+H2416*ALDE+I2416*AT+J2416*BE+K2416*DE+L2416*FR+M2416*NL)>(N2416),1,0)","v":0},null,{"$f":"IF((C$6*G2416+D$6*H2416+E$6*I2416+F$6*J2416+G$6*K2416+H$6*L2416+I$6*M2416)>(N2416),1,0)","v":0}]
[null,2859,"[D2-AT] Pleinting - St. Peter 258 [DIR] [AT]_LTA_corner#01_#13","10T-AT-DE-000037","[D2-D2] Pirach - Pleinting 257","11TD2L000000201H",0,0,-0.99880000000000002,2.8330000000000001E-2,2.8330000000000001E-2,2.8330000000000001E-2,0,5000,{"$f":"IF((G2417*ALBE+H2417*ALDE+I2417*AT+J2417*BE+K2417*DE+L2417*FR+M2417*NL)>(N2417),1,0)","v":0},null,{"$f":"IF((C$6*G2417+D$6*H2417+E$6*I2417+F$6*J2417+G$6*K2417+H$6*L2417+I$6*M2417)>(N2417),1,0)","v":0}]
[null,2860,"[NL-D7] Maasbracht - Oberzier 380 white [DIR] [D7]","10T-DE-NL-00005N","[NL-D7] Maasbracht - Siersdorf 380 black","10T-DE-NL-00006L",0.30787999999999999,-0.17401,2.3E-3,0.27111000000000002,8.6899999999999998E-3,8.0390000000000003E-2,0.23769999999999999,1214,{"$f":"IF((G2418*ALBE+H2418*ALDE+I2418*AT+J2418*BE+K2418*DE+L2418*FR+M2418*NL)>(N2418),1,0)","v":0},null,{"$f":"IF((C$6*G2418+D$6*H2418+E$6*I2418+F$6*J2418+G$6*K2418+H$6*L2418+I$6*M2418)>(N2418),1,0)","v":0}]
[null,2861,"[D7-FR] Ensdorf - Vigy 2S [OPP] [D7]_LTA_corner#23_#14","10T-DE-FR-000068","[D7-D7] Ensdorf - Uchtelfangen Taubental N","11T0-0000-0604-N",0,0,0.25385999999999997,0.3659,0.16471,0.88007999999999997,0,2674,{"$f":"IF((G2419*ALBE+H2419*ALDE+I2419*AT+J2419*BE+K2419*DE+L2419*FR+M2419*NL)>(N2419),1,0)","v":0},null,{"$f":"IF((C$6*G2419+D$6*H2419+E$6*I2419+F$6*J2419+G$6*K2419+H$6*L2419+I$6*M2419)>(N2419),1,0)","v":0}]
[null,2862,"[D2-D2] Altheim - Sittling 220 [OPP]_LTA_corner#15_#0","11TD2L000000004J","[D2-AT] Pleinting - St. Peter 258","10T-AT-DE-000037",0,0,-0.92354999999999998,-0.14865999999999999,-0.26395000000000002,-0.23515,0,3744,{"$f":"IF((G2420*ALBE+H2420*ALDE+I2420*AT+J2420*BE+K2420*DE+L2420*FR+M2420*NL)>(N2420),1,0)","v":0},null,{"$f":"IF((C$6*G2420+D$6*H2420+E$6*I2420+F$6*J2420+G$6*K2420+H$6*L2420+I$6*M2420)>(N2420),1,0)","v":0}]
[null,2863,"[D2-D2] Altheim - Sittling 220 [OPP]_LTA_corner#09_#22","11TD2L000000004J","[D2-AT] Pleinting - St. Peter 258","10T-AT-DE-000037",0,0,-0.93652999999999997,-0.13553999999999999,-0.22863,-0.22863,0,3884,{"$f":"IF((G2421*ALBE+H2421*ALDE+I2421*AT+J2421*BE+K2421*DE+L2421*FR+M2421*NL)>(N2421),1,0)","v":0},null,{"$f":"IF((C$6*G2421+D$6*H2421+E$6*I2421+F$6*J2421+G$6*K2421+H$6*L2421+I$6*M2421)>(N2421),1,0)","v":0}]
[null,2864,"[D7-FR] Ensdorf - Vigy 2S [OPP] [D7]_LTA_corner#23_#9","10T-DE-FR-000068","[D7-D7] Ensdorf - Uchtelfangen Taubental N","11T0-0000-0604-N",0,0,0.13619999999999999,0.41493000000000002,0,0.89959999999999996,0,2952,{"$f":"IF((G2422*ALBE+H2422*ALDE+I2422*AT+J2422*BE+K2422*DE+L2422*FR+M2422*NL)>(N2422),1,0)","v":0},null,{"$f":"IF((C$6*G2422+D$6*H2422+E$6*I2422+F$6*J2422+G$6*K2422+H$6*L2422+I$6*M2422)>(N2422),1,0)","v":0}]
[null,2865,"[D2-AT] Pleinting - St. Peter 258 [DIR] [AT]_LTA_corner#03_#5","10T-AT-DE-000037","[D2-D2] Pirach - Pleinting 257","11TD2L000000201H",0,0,-0.99853000000000003,3.8010000000000002E-2,6.2500000000000003E-3,3.8010000000000002E-2,0,4917,{"$f":"IF((G2423*ALBE+H2423*ALDE+I2423*AT+J2423*BE+K2423*DE+L2423*FR+M2423*NL)>(N2423),1,0)","v":0},null,{"$f":"IF((C$6*G2423+D$6*H2423+E$6*I2423+F$6*J2423+G$6*K2423+H$6*L2423+I$6*M2423)>(N2423),1,0)","v":0}]
[null,2866,"[BE-BE] PST_ZANDV_2 [N - S]_LTA_corner#13_#30","22T20161020---56","[NL-BE] Rilland - Zandvliet 380 White/30","10T-BE-NL-00004C",0,0,-0.30285000000000001,-0.79074,-0.23446,-0.47754000000000002,0,2021,{"$f":"IF((G2424*ALBE+H2424*ALDE+I2424*AT+J2424*BE+K2424*DE+L2424*FR+M2424*NL)>(N2424),1,0)","v":0},null,{"$f":"IF((C$6*G2424+D$6*H2424+E$6*I2424+F$6*J2424+G$6*K2424+H$6*L2424+I$6*M2424)>(N2424),1,0)","v":0}]
[null,2867,"[D2-AT] Pleinting - St. Peter 258 [DIR] [AT]_LTA_corner#04_#5","10T-AT-DE-000037","[D2-D2] Pirach - Pleinting 257","11TD2L000000201H",0,0,-0.99526000000000003,-6.0290000000000003E-2,4.6710000000000002E-2,-6.0290000000000003E-2,0,5226,{"$f":"IF((G2425*ALBE+H2425*ALDE+I2425*AT+J2425*BE+K2425*DE+L2425*FR+M2425*NL)>(N2425),1,0)","v":0},null,{"$f":"IF((C$6*G2425+D$6*H2425+E$6*I2425+F$6*J2425+G$6*K2425+H$6*L2425+I$6*M2425)>(N2425),1,0)","v":0}]
[null,2868,"[D7-FR] Ensdorf - Vigy 2S [OPP] [D7]_LTA_corner#23_#10","10T-DE-FR-000068","[D7-D7] Ensdorf - Uchtelfangen Taubental N","11T0-0000-0604-N",0,0,0.24848000000000001,0.32966000000000001,0,0.91081000000000001,0,3619,{"$f":"IF((G2426*ALBE+H2426*ALDE+I2426*AT+J2426*BE+K2426*DE+L2426*FR+M2426*NL)>(N2426),1,0)","v":0},null,{"$f":"IF((C$6*G2426+D$6*H2426+E$6*I2426+F$6*J2426+G$6*K2426+H$6*L2426+I$6*M2426)>(N2426),1,0)","v":0}]
[null,2869,"[D2-AT] Pleinting - St. Peter 258 [DIR] [AT]_LTA_corner#06_#14","10T-AT-DE-000037","[D2-D2] Pirach - Pleinting 257","11TD2L000000201H",0,0,-0.99433000000000005,-0.10421999999999999,0,-2.128E-2,0,5034,{"$f":"IF((G2427*ALBE+H2427*ALDE+I2427*AT+J2427*BE+K2427*DE+L2427*FR+M2427*NL)>(N2427),1,0)","v":0},null,{"$f":"IF((C$6*G2427+D$6*H2427+E$6*I2427+F$6*J2427+G$6*K2427+H$6*L2427+I$6*M2427)>(N2427),1,0)","v":0}]
[null,2870,"[BE-BE] PST_VANYK_2 [S - N]","22T-BE-PST--002U","[BE-FR] Achene - Lonny 380.19","10T-BE-FR-000015",0.58382999999999996,-2.8639999999999999E-2,5.3E-3,0.32862000000000002,-7.6099999999999996E-3,4.684E-2,1.602E-2,799,{"$f":"IF((G2428*ALBE+H2428*ALDE+I2428*AT+J2428*BE+K2428*DE+L2428*FR+M2428*NL)>(N2428),1,0)","v":0},null,{"$f":"IF((C$6*G2428+D$6*H2428+E$6*I2428+F$6*J2428+G$6*K2428+H$6*L2428+I$6*M2428)>(N2428),1,0)","v":0}]
[null,2871,"[D2-AT] Pleinting - St. Peter 258 [DIR] [AT]_LTA_corner#04_#3","10T-AT-DE-000037","[D2-D2] Pirach - Pleinting 257","11TD2L000000201H",0,0,-0.99404999999999999,-2.6199999999999999E-3,0.10891000000000001,-2.6199999999999999E-3,0,5548,{"$f":"IF((G2429*ALBE+H2429*ALDE+I2429*AT+J2429*BE+K2429*DE+L2429*FR+M2429*NL)>(N2429),1,0)","v":0},null,{"$f":"IF((C$6*G2429+D$6*H2429+E$6*I2429+F$6*J2429+G$6*K2429+H$6*L2429+I$6*M2429)>(N2429),1,0)","v":0}]
[null,2872,"ALDE_export","N/A","BASECASE","N/A",0,1,0,0,0,0,0,0,{"$f":"IF((G2430*ALBE+H2430*ALDE+I2430*AT+J2430*BE+K2430*DE+L2430*FR+M2430*NL)>(N2430),1,0)","v":0},null,{"$f":"IF((C$6*G2430+D$6*H2430+E$6*I2430+F$6*J2430+G$6*K2430+H$6*L2430+I$6*M2430)>(N2430),1,0)","v":0}]
[null,2873,"[D2-D2] Altheim - Sittling 220 [OPP]_LTA_corner#04_#4","11TD2L000000004J","[D2-AT] Pleinting - St. Peter 258","10T-AT-DE-000037",0,0,-0.99336000000000002,-8.133E-2,0,-8.133E-2,0,4932,{"$f":"IF((G2431*ALBE+H2431*ALDE+I2431*AT+J2431*BE+K2431*DE+L2431*FR+M2431*NL)>(N2431),1,0)","v":0},null,{"$f":"IF((C$6*G2431+D$6*H2431+E$6*I2431+F$6*J2431+G$6*K2431+H$6*L2431+I$6*M2431)>(N2431),1,0)","v":0}]
[null,2874,"[D2-D2] Altheim - Sittling 220 [OPP]_LTA_corner#15_#4","11TD2L000000004J","[D2-AT] Pleinting - St. Peter 258","10T-AT-DE-000037",0,0,-0.99975000000000003,-3.63E-3,-2.1559999999999999E-2,-3.63E-3,0,4772,{"$f":"IF((G2432*ALBE+H2432*ALDE+I2432*AT+J2432*BE+K2432*DE+L2432*FR+M2432*NL)>(N2432),1,0)","v":0},null,{"$f":"IF((C$6*G2432+D$6*H2432+E$6*I2432+F$6*J2432+G$6*K2432+H$6*L2432+I$6*M2432)>(N2432),1,0)","v":0}]
[null,2875,"[D7-D7] PST Gronau [OPP]","11T0-0000-0620-R","[NL-NL] Zwolle - Meeden 380 Zwart","49T000000000002K",-9.1420000000000001E-2,-4.7399999999999998E-2,-1.107E-2,-9.2770000000000005E-2,2.8459999999999999E-2,-4.8030000000000003E-2,-0.15107000000000001,798,{"$f":"IF((G2433*ALBE+H2433*ALDE+I2433*AT+J2433*BE+K2433*DE+L2433*FR+M2433*NL)>(N2433),1,0)","v":0},null,{"$f":"IF((C$6*G2433+D$6*H2433+E$6*I2433+F$6*J2433+G$6*K2433+H$6*L2433+I$6*M2433)>(N2433),1,0)","v":0}]
[null,2876,"[D7-FR] Ensdorf - Vigy 2S [OPP] [D7]_LTA_corner#23_#0","10T-DE-FR-000068","[D7-D7] Ensdorf - Uchtelfangen Taubental N","11T0-0000-0604-N",0,0,0.10054,0.37392999999999998,0,0.92198999999999998,0,2892,{"$f":"IF((G2434*ALBE+H2434*ALDE+I2434*AT+J2434*BE+K2434*DE+L2434*FR+M2434*NL)>(N2434),1,0)","v":0},null,{"$f":"IF((C$6*G2434+D$6*H2434+E$6*I2434+F$6*J2434+G$6*K2434+H$6*L2434+I$6*M2434)>(N2434),1,0)","v":0}]
[null,2877,"[D2-AT] Pleinting - St. Peter 258 [DIR] [AT]_LTA_corner#15_#0","10T-AT-DE-000037","[D2-D2] Pirach - Pleinting 257","11TD2L000000201H",0,0,-0.99570999999999998,-2.6199999999999999E-3,-8.8569999999999996E-2,-2.6679999999999999E-2,0,4594,{"$f":"IF((G2435*ALBE+H2435*ALDE+I2435*AT+J2435*BE+K2435*DE+L2435*FR+M2435*NL)>(N2435),1,0)","v":0},null,{"$f":"IF((C$6*G2435+D$6*H2435+E$6*I2435+F$6*J2435+G$6*K2435+H$6*L2435+I$6*M2435)>(N2435),1,0)","v":0}]
[null,2878,"[BE-FR] Achene - Lonny 380.19 [DIR] [BE]_LTA_corner#02_#9","10T-BE-FR-000015","[BE-BE] Avelgem - Horta 380.102","22T20161020---1E",0,0,-0.42648999999999998,0.31625999999999999,-0.28011999999999998,-0.79976000000000003,0,2474,{"$f":"IF((G2436*ALBE+H2436*ALDE+I2436*AT+J2436*BE+K2436*DE+L2436*FR+M2436*NL)>(N2436),1,0)","v":0},null,{"$f":"IF((C$6*G2436+D$6*H2436+E$6*I2436+F$6*J2436+G$6*K2436+H$6*L2436+I$6*M2436)>(N2436),1,0)","v":0}]
[null,2879,"[D2-D2] Altheim - Sittling 220 [OPP]_LTA_corner#09_#11","11TD2L000000004J","[D2-AT] Pleinting - St. Peter 258","10T-AT-DE-000037",0,0,-0.98551999999999995,-8.6940000000000003E-2,-0.10292999999999999,-0.10292999999999999,0,4471,{"$f":"IF((G2437*ALBE+H2437*ALDE+I2437*AT+J2437*BE+K2437*DE+L2437*FR+M2437*NL)>(N2437),1,0)","v":0},null,{"$f":"IF((C$6*G2437+D$6*H2437+E$6*I2437+F$6*J2437+G$6*K2437+H$6*L2437+I$6*M2437)>(N2437),1,0)","v":0}]
[null,2880,"[BE-BE] PST_ZANDV_2 [N - S]_LTA_corner#13_#28","22T20161020---56","[NL-BE] Rilland - Zandvliet 380 White/30","10T-BE-NL-00004C",0,0,-0.29097000000000001,-0.81676000000000004,-0.23252,-0.44064999999999999,0,2062,{"$f":"IF((G2438*ALBE+H2438*ALDE+I2438*AT+J2438*BE+K2438*DE+L2438*FR+M2438*NL)>(N2438),1,0)","v":0},null,{"$f":"IF((C$6*G2438+D$6*H2438+E$6*I2438+F$6*J2438+G$6*K2438+H$6*L2438+I$6*M2438)>(N2438),1,0)","v":0}]
[null,2881,"[D2-AT] Pleinting - St. Peter 258 [DIR] [D2]_LTA_corner#01_#0","10T-AT-DE-000037","[D2-AT] Y - St. Peter (- Altheim - Simbach) 234/230","10T-AT-DE-000045",0,0,-0.98814999999999997,0,9.257E-2,-0.12239999999999999,0,5598,{"$f":"IF((G2439*ALBE+H2439*ALDE+I2439*AT+J2439*BE+K2439*DE+L2439*FR+M2439*NL)>(N2439),1,0)","v":0},null,{"$f":"IF((C$6*G2439+D$6*H2439+E$6*I2439+F$6*J2439+G$6*K2439+H$6*L2439+I$6*M2439)>(N2439),1,0)","v":0}]
[null,2882,"[BE-FR] Achene - Lonny 380.19 [DIR] [BE]_LTA_corner#02_#5","10T-BE-FR-000015","[BE-BE] Avelgem - Horta 380.102","22T20161020---1E",0,0,-0.47733999999999999,0,-0.34599000000000002,-0.80774000000000001,0,2053,{"$f":"IF((G2440*ALBE+H2440*ALDE+I2440*AT+J2440*BE+K2440*DE+L2440*FR+M2440*NL)>(N2440),1,0)","v":0},null,{"$f":"IF((C$6*G2440+D$6*H2440+E$6*I2440+F$6*J2440+G$6*K2440+H$6*L2440+I$6*M2440)>(N2440),1,0)","v":0}]
[null,2883,"[D2-AT] Pleinting - St. Peter 258 [DIR] [AT]_LTA_corner#02_#4","10T-AT-DE-000037","[D2-D2] Pirach - Pleinting 257","11TD2L000000201H",0,0,-0.99707999999999997,6.6379999999999995E-2,-2.6710000000000001E-2,-2.6710000000000001E-2,0,4812,{"$f":"IF((G2441*ALBE+H2441*ALDE+I2441*AT+J2441*BE+K2441*DE+L2441*FR+M2441*NL)>(N2441),1,0)","v":0},null,{"$f":"IF((C$6*G2441+D$6*H2441+E$6*I2441+F$6*J2441+G$6*K2441+H$6*L2441+I$6*M2441)>(N2441),1,0)","v":0}]
[null,2884,"[D2-D2] Altheim - Sittling 220 [OPP]_LTA_corner#09_#1","11TD2L000000004J","[D2-AT] Pleinting - St. Peter 258","10T-AT-DE-000037",0,0,-0.94057000000000002,-0.12673000000000001,-0.22278999999999999,-0.22278999999999999,0,3918,{"$f":"IF((G2442*ALBE+H2442*ALDE+I2442*AT+J2442*BE+K2442*DE+L2442*FR+M2442*NL)>(N2442),1,0)","v":0},null,{"$f":"IF((C$6*G2442+D$6*H2442+E$6*I2442+F$6*J2442+G$6*K2442+H$6*L2442+I$6*M2442)>(N2442),1,0)","v":0}]
[null,2885,"[BE-FR] Achene - Lonny 380.19 [DIR] [BE]_LTA_corner#02_#2","10T-BE-FR-000015","[BE-BE] Avelgem - Horta 380.102","22T20161020---1E",0,0,-0.37774000000000002,0.60021999999999998,-0.26651999999999998,-0.65269999999999995,0,2411,{"$f":"IF((G2443*ALBE+H2443*ALDE+I2443*AT+J2443*BE+K2443*DE+L2443*FR+M2443*NL)>(N2443),1,0)","v":0},null,{"$f":"IF((C$6*G2443+D$6*H2443+E$6*I2443+F$6*J2443+G$6*K2443+H$6*L2443+I$6*M2443)>(N2443),1,0)","v":0}]
[null,2886,"[D7-FR] Ensdorf - Vigy 2S [OPP] [D7]_LTA_corner#30_#3","10T-DE-FR-000068","[D7-D7] Ensdorf - Uchtelfangen Taubental N","11T0-0000-0604-N",0,0,1.2710000000000001E-2,0.37117,-8.0250000000000002E-2,0.92500000000000004,0,3086,{"$f":"IF((G2444*ALBE+H2444*ALDE+I2444*AT+J2444*BE+K2444*DE+L2444*FR+M2444*NL)>(N2444),1,0)","v":0},null,{"$f":"IF((C$6*G2444+D$6*H2444+E$6*I2444+F$6*J2444+G$6*K2444+H$6*L2444+I$6*M2444)>(N2444),1,0)","v":0}]
[null,2887,"[BE-FR] Achene - Lonny 380.19 [DIR] [BE]_LTA_corner#02_#20","10T-BE-FR-000015","[BE-BE] Avelgem - Horta 380.102","22T20161020---1E",0,0,-0.41697000000000001,0.39238000000000001,-0.29332000000000003,-0.76558999999999999,0,2407,{"$f":"IF((G2445*ALBE+H2445*ALDE+I2445*AT+J2445*BE+K2445*DE+L2445*FR+M2445*NL)>(N2445),1,0)","v":0},null,{"$f":"IF((C$6*G2445+D$6*H2445+E$6*I2445+F$6*J2445+G$6*K2445+H$6*L2445+I$6*M2445)>(N2445),1,0)","v":0}]
[null,2888,"[D2-AT] Pleinting - St. Peter 258 [DIR] [AT]_LTA_corner#07_#2","10T-AT-DE-000037","[D2-D2] Pirach - Pleinting 257","11TD2L000000201H",0,0,-0.99663999999999997,0,6.2399999999999999E-3,8.1680000000000003E-2,0,5082,{"$f":"IF((G2446*ALBE+H2446*ALDE+I2446*AT+J2446*BE+K2446*DE+L2446*FR+M2446*NL)>(N2446),1,0)","v":0},null,{"$f":"IF((C$6*G2446+D$6*H2446+E$6*I2446+F$6*J2446+G$6*K2446+H$6*L2446+I$6*M2446)>(N2446),1,0)","v":0}]
[null,2889,"[BE-FR] Achene - Lonny 380.19 [DIR] [BE]_LTA_corner#02_#10","10T-BE-FR-000015","[BE-BE] Avelgem - Horta 380.102","22T20161020---1E",0,0,-0.42076999999999998,0.39595999999999998,-0.26324999999999998,-0.77256999999999998,0,2575,{"$f":"IF((G2447*ALBE+H2447*ALDE+I2447*AT+J2447*BE+K2447*DE+L2447*FR+M2447*NL)>(N2447),1,0)","v":0},null,{"$f":"IF((C$6*G2447+D$6*H2447+E$6*I2447+F$6*J2447+G$6*K2447+H$6*L2447+I$6*M2447)>(N2447),1,0)","v":0}]
[null,2890,"[BE-BE] PST_ZANDV_2 [N - S]_LTA_corner#09_#10","22T20161020---56","[NL-BE] Rilland - Zandvliet 380 White/30","10T-BE-NL-00004C",0,0,-0.40333999999999998,-0.60377000000000003,-0.32900000000000001,-0.60377000000000003,0,1538,{"$f":"IF((G2448*ALBE+H2448*ALDE+I2448*AT+J2448*BE+K2448*DE+L2448*FR+M2448*NL)>(N2448),1,0)","v":0},null,{"$f":"IF((C$6*G2448+D$6*H2448+E$6*I2448+F$6*J2448+G$6*K2448+H$6*L2448+I$6*M2448)>(N2448),1,0)","v":0}]
[null,2891,"[D2-AT] Pleinting - St. Peter 258 [DIR] [AT]_LTA_corner#02_#6","10T-AT-DE-000037","[D2-D2] Pirach - Pleinting 257","11TD2L000000201H",0,0,-0.99607000000000001,8.7069999999999995E-2,-1.145E-2,-1.145E-2,0,4876,{"$f":"IF((G2449*ALBE+H2449*ALDE+I2449*AT+J2449*BE+K2449*DE+L2449*FR+M2449*NL)>(N2449),1,0)","v":0},null,{"$f":"IF((C$6*G2449+D$6*H2449+E$6*I2449+F$6*J2449+G$6*K2449+H$6*L2449+I$6*M2449)>(N2449),1,0)","v":0}]
[null,2892,"[D2-AT] Pleinting - St. Peter 258 [DIR] [AT]_LTA_corner#02_#1","10T-AT-DE-000037","[D2-D2] Pirach - Pleinting 257","11TD2L000000201H",0,0,-0.99673999999999996,0,-5.7090000000000002E-2,-5.7090000000000002E-2,0,4642,{"$f":"IF((G2450*ALBE+H2450*ALDE+I2450*AT+J2450*BE+K2450*DE+L2450*FR+M2450*NL)>(N2450),1,0)","v":0},null,{"$f":"IF((C$6*G2450+D$6*H2450+E$6*I2450+F$6*J2450+G$6*K2450+H$6*L2450+I$6*M2450)>(N2450),1,0)","v":0}]
[null,2893,"ALDE_import","N/A","BASECASE","N/A",0,-1,0,0,0,0,0,0,{"$f":"IF((G2451*ALBE+H2451*ALDE+I2451*AT+J2451*BE+K2451*DE+L2451*FR+M2451*NL)>(N2451),1,0)","v":0},null,{"$f":"IF((C$6*G2451+D$6*H2451+E$6*I2451+F$6*J2451+G$6*K2451+H$6*L2451+I$6*M2451)>(N2451),1,0)","v":0}]
[null,2894,"[D2-AT] Pleinting - St. Peter 258 [DIR] [D2]_LTA_corner#01_#14","10T-AT-DE-000037","[D2-AT] Y - St. Peter (- Altheim - Simbach) 234/230","10T-AT-DE-000045",0,0,-0.77607999999999999,0.29479,0.47316999999999998,0.29479,0,6895,{"$f":"IF((G2452*ALBE+H2452*ALDE+I2452*AT+J2452*BE+K2452*DE+L2452*FR+M2452*NL)>(N2452),1,0)","v":0},null,{"$f":"IF((C$6*G2452+D$6*H2452+E$6*I2452+F$6*J2452+G$6*K2452+H$6*L2452+I$6*M2452)>(N2452),1,0)","v":0}]
[null,2895,"[D2-AT] Pleinting - St. Peter 258 [DIR] [D2]_LTA_corner#06_#13","10T-AT-DE-000037","[D2-AT] Y - St. Peter (- Altheim - Simbach) 234/230","10T-AT-DE-000045",0,0,-0.99382999999999999,-8.5970000000000005E-2,0,-7.0019999999999999E-2,0,4953,{"$f":"IF((G2453*ALBE+H2453*ALDE+I2453*AT+J2453*BE+K2453*DE+L2453*FR+M2453*NL)>(N2453),1,0)","v":0},null,{"$f":"IF((C$6*G2453+D$6*H2453+E$6*I2453+F$6*J2453+G$6*K2453+H$6*L2453+I$6*M2453)>(N2453),1,0)","v":0}]
[null,2896,"[D2-AT] Pleinting - St. Peter 258 [DIR] [AT]_LTA_corner#09_#7","10T-AT-DE-000037","[D2-D2] Pirach - Pleinting 257","11TD2L000000201H",0,0,-0.99753999999999998,-4.0439999999999997E-2,-4.0439999999999997E-2,-4.0439999999999997E-2,0,4700,{"$f":"IF((G2454*ALBE+H2454*ALDE+I2454*AT+J2454*BE+K2454*DE+L2454*FR+M2454*NL)>(N2454),1,0)","v":0},null,{"$f":"IF((C$6*G2454+D$6*H2454+E$6*I2454+F$6*J2454+G$6*K2454+H$6*L2454+I$6*M2454)>(N2454),1,0)","v":0}]
[null,2897,"[BE-BE] PST_ZANDV_2 [N - S]_LTA_corner#13_#12","22T20161020---56","[NL-BE] Rilland - Zandvliet 380 White/30","10T-BE-NL-00004C",0,0,-0.40264,-0.65144999999999997,-0.34279999999999999,-0.54403999999999997,0,1632,{"$f":"IF((G2455*ALBE+H2455*ALDE+I2455*AT+J2455*BE+K2455*DE+L2455*FR+M2455*NL)>(N2455),1,0)","v":0},null,{"$f":"IF((C$6*G2455+D$6*H2455+E$6*I2455+F$6*J2455+G$6*K2455+H$6*L2455+I$6*M2455)>(N2455),1,0)","v":0}]
[null,2898,"[D7-FR] Ensdorf - Vigy 2S [OPP] [D7]_LTA_corner#23_#6","10T-DE-FR-000068","[D7-D7] Ensdorf - Uchtelfangen Taubental N","11T0-0000-0604-N",0,0,0.26618000000000003,0.36131999999999997,0,0.89363999999999999,0,3617,{"$f":"IF((G2456*ALBE+H2456*ALDE+I2456*AT+J2456*BE+K2456*DE+L2456*FR+M2456*NL)>(N2456),1,0)","v":0},null,{"$f":"IF((C$6*G2456+D$6*H2456+E$6*I2456+F$6*J2456+G$6*K2456+H$6*L2456+I$6*M2456)>(N2456),1,0)","v":0}]
[null,2899,"[NL-NL] Borssele - Rilland 380 Zwart [DIR]","49T000000000059S","[NL-NL] Borssele - Rilland 380 Grijs","49T000000000057W",-6.4599999999999996E-3,2.7799999999999999E-3,-8.0999999999999996E-4,-1.55E-2,1.24E-3,-6.3699999999999998E-3,0.12111,457,{"$f":"IF((G2457*ALBE+H2457*ALDE+I2457*AT+J2457*BE+K2457*DE+L2457*FR+M2457*NL)>(N2457),1,0)","v":0},null,{"$f":"IF((C$6*G2457+D$6*H2457+E$6*I2457+F$6*J2457+G$6*K2457+H$6*L2457+I$6*M2457)>(N2457),1,0)","v":0}]
[null,2900,"[D2-AT] Pleinting - St. Peter 258 [DIR] [AT]_LTA_corner#04_#9","10T-AT-DE-000037","[D2-D2] Pirach - Pleinting 257","11TD2L000000201H",0,0,-0.98963000000000001,-2.6099999999999999E-3,0.14112,-2.6509999999999999E-2,0,5788,{"$f":"IF((G2458*ALBE+H2458*ALDE+I2458*AT+J2458*BE+K2458*DE+L2458*FR+M2458*NL)>(N2458),1,0)","v":0},null,{"$f":"IF((C$6*G2458+D$6*H2458+E$6*I2458+F$6*J2458+G$6*K2458+H$6*L2458+I$6*M2458)>(N2458),1,0)","v":0}]
[null,2901,"[D2-AT] Pleinting - St. Peter 258 [DIR] [D2]_LTA_corner#05_#16","10T-AT-DE-000037","[D2-AT] Y - St. Peter (- Altheim - Simbach) 234/230","10T-AT-DE-000045",0,0,0.12167,0.40304000000000001,0.74880999999999998,0.51190000000000002,0,4504,{"$f":"IF((G2459*ALBE+H2459*ALDE+I2459*AT+J2459*BE+K2459*DE+L2459*FR+M2459*NL)>(N2459),1,0)","v":0},null,{"$f":"IF((C$6*G2459+D$6*H2459+E$6*I2459+F$6*J2459+G$6*K2459+H$6*L2459+I$6*M2459)>(N2459),1,0)","v":0}]
[null,2902,"[D2-AT] Pleinting - St. Peter 258 [DIR] [AT]_LTA_corner#01_#4","10T-AT-DE-000037","[D2-D2] Pirach - Pleinting 257","11TD2L000000201H",0,0,-0.99702000000000002,7.7210000000000001E-2,0,0,0,4901,{"$f":"IF((G2460*ALBE+H2460*ALDE+I2460*AT+J2460*BE+K2460*DE+L2460*FR+M2460*NL)>(N2460),1,0)","v":0},null,{"$f":"IF((C$6*G2460+D$6*H2460+E$6*I2460+F$6*J2460+G$6*K2460+H$6*L2460+I$6*M2460)>(N2460),1,0)","v":0}]
[null,2903,"[AT-AT] Westtirol Transformer WTRHU41 [OPP]_LTA_corner#20_#4","14T-38220-WT041O","BASECASE","N/A",0,0,0.98914999999999997,-2.4160000000000001E-2,0.12127,-7.9369999999999996E-2,0,4565,{"$f":"IF((G2461*ALBE+H2461*ALDE+I2461*AT+J2461*BE+K2461*DE+L2461*FR+M2461*NL)>(N2461),1,0)","v":0},null,{"$f":"IF((C$6*G2461+D$6*H2461+E$6*I2461+F$6*J2461+G$6*K2461+H$6*L2461+I$6*M2461)>(N2461),1,0)","v":0}]
[null,2904,"[D7-FR] Ensdorf - Vigy 2S [OPP] [D7]_LTA_corner#23_#2","10T-DE-FR-000068","[D7-D7] Ensdorf - Uchtelfangen Taubental N","11T0-0000-0604-N",0,0,0.26325999999999999,0.29458000000000001,0.10495,0.91264000000000001,0,3199,{"$f":"IF((G2462*ALBE+H2462*ALDE+I2462*AT+J2462*BE+K2462*DE+L2462*FR+M2462*NL)>(N2462),1,0)","v":0},null,{"$f":"IF((C$6*G2462+D$6*H2462+E$6*I2462+F$6*J2462+G$6*K2462+H$6*L2462+I$6*M2462)>(N2462),1,0)","v":0}]
[null,2905,"[D7-FR] Ensdorf - Vigy 2S [OPP] [D7]_LTA_corner#23_#5","10T-DE-FR-000068","[D7-D7] Ensdorf - Uchtelfangen Taubental N","11T0-0000-0604-N",0,0,0.27335999999999999,0.38170999999999999,0.18023,0.86434,0,2624,{"$f":"IF((G2463*ALBE+H2463*ALDE+I2463*AT+J2463*BE+K2463*DE+L2463*FR+M2463*NL)>(N2463),1,0)","v":0},null,{"$f":"IF((C$6*G2463+D$6*H2463+E$6*I2463+F$6*J2463+G$6*K2463+H$6*L2463+I$6*M2463)>(N2463),1,0)","v":0}]
[null,2906,"[D2-AT] Pleinting - St. Peter 258 [DIR] [D2]_LTA_corner#01_#23","10T-AT-DE-000037","[D2-AT] Y - St. Peter (- Altheim - Simbach) 234/230","10T-AT-DE-000045",0,0,-0.99968999999999997,2.121E-2,9.2099999999999994E-3,9.2099999999999994E-3,0,4894,{"$f":"IF((G2464*ALBE+H2464*ALDE+I2464*AT+J2464*BE+K2464*DE+L2464*FR+M2464*NL)>(N2464),1,0)","v":0},null,{"$f":"IF((C$6*G2464+D$6*H2464+E$6*I2464+F$6*J2464+G$6*K2464+H$6*L2464+I$6*M2464)>(N2464),1,0)","v":0}]
[null,2907,"[D2-AT] Pleinting - St. Peter 258 [DIR] [D2]_LTA_corner#01_#19","10T-AT-DE-000037","[D2-AT] Y - St. Peter (- Altheim - Simbach) 234/230","10T-AT-DE-000045",0,0,-1,0,0,0,0,4821,{"$f":"IF((G2465*ALBE+H2465*ALDE+I2465*AT+J2465*BE+K2465*DE+L2465*FR+M2465*NL)>(N2465),1,0)","v":0},null,{"$f":"IF((C$6*G2465+D$6*H2465+E$6*I2465+F$6*J2465+G$6*K2465+H$6*L2465+I$6*M2465)>(N2465),1,0)","v":0}]
[null,2908,"[D2-D2] Altheim - Sittling 220 [OPP]_LTA_corner#02_#17","11TD2L000000004J","[D2-AT] Pleinting - St. Peter 258","10T-AT-DE-000037",0,0,-0.99875999999999998,0,-3.5270000000000003E-2,-3.5270000000000003E-2,0,4714,{"$f":"IF((G2466*ALBE+H2466*ALDE+I2466*AT+J2466*BE+K2466*DE+L2466*FR+M2466*NL)>(N2466),1,0)","v":0},null,{"$f":"IF((C$6*G2466+D$6*H2466+E$6*I2466+F$6*J2466+G$6*K2466+H$6*L2466+I$6*M2466)>(N2466),1,0)","v":0}]
[null,2909,"[D7-FR] Ensdorf - Vigy 2S [OPP] [D7]_LTA_corner#23_#1","10T-DE-FR-000068","[D7-D7] Ensdorf - Uchtelfangen Taubental N","11T0-0000-0604-N",0,0,0.26377,0.33703,0,0.90378999999999998,0,3663,{"$f":"IF((G2467*ALBE+H2467*ALDE+I2467*AT+J2467*BE+K2467*DE+L2467*FR+M2467*NL)>(N2467),1,0)","v":0},null,{"$f":"IF((C$6*G2467+D$6*H2467+E$6*I2467+F$6*J2467+G$6*K2467+H$6*L2467+I$6*M2467)>(N2467),1,0)","v":0}]
[null,2910,"[D2-AT] Pleinting - St. Peter 258 [DIR] [AT]_LTA_corner#11_#7","10T-AT-DE-000037","[D2-D2] Pirach - Pleinting 257","11TD2L000000201H",0,0,-0.99648999999999999,0,-8.3699999999999997E-2,0,0,4628,{"$f":"IF((G2468*ALBE+H2468*ALDE+I2468*AT+J2468*BE+K2468*DE+L2468*FR+M2468*NL)>(N2468),1,0)","v":0},null,{"$f":"IF((C$6*G2468+D$6*H2468+E$6*I2468+F$6*J2468+G$6*K2468+H$6*L2468+I$6*M2468)>(N2468),1,0)","v":0}]
[null,2911,"[D2-AT] Pleinting - St. Peter 258 [DIR] [AT]_LTA_corner#04_#4","10T-AT-DE-000037","[D2-D2] Pirach - Pleinting 257","11TD2L000000201H",0,0,-0.99314999999999998,-2.6610000000000002E-2,0.11063000000000001,-2.6610000000000002E-2,0,5598,{"$f":"IF((G2469*ALBE+H2469*ALDE+I2469*AT+J2469*BE+K2469*DE+L2469*FR+M2469*NL)>(N2469),1,0)","v":0},null,{"$f":"IF((C$6*G2469+D$6*H2469+E$6*I2469+F$6*J2469+G$6*K2469+H$6*L2469+I$6*M2469)>(N2469),1,0)","v":0}]
[null,2912,"[D7-FR] Ensdorf - Vigy 2S [OPP] [D7]_LTA_corner#30_#1","10T-DE-FR-000068","[D7-D7] Ensdorf - Uchtelfangen Taubental N","11T0-0000-0604-N",0,0,-0.11458,0.45573999999999998,-0.29702000000000001,0.83123999999999998,0,3729,{"$f":"IF((G2470*ALBE+H2470*ALDE+I2470*AT+J2470*BE+K2470*DE+L2470*FR+M2470*NL)>(N2470),1,0)","v":0},null,{"$f":"IF((C$6*G2470+D$6*H2470+E$6*I2470+F$6*J2470+G$6*K2470+H$6*L2470+I$6*M2470)>(N2470),1,0)","v":0}]
[null,2913,"[D2-D2] Altheim - Sittling 220 [OPP]_LTA_corner#09_#13","11TD2L000000004J","[D2-AT] Pleinting - St. Peter 258","10T-AT-DE-000037",0,0,-0.99226999999999999,-1.184E-2,-8.7349999999999997E-2,-8.7349999999999997E-2,0,4536,{"$f":"IF((G2471*ALBE+H2471*ALDE+I2471*AT+J2471*BE+K2471*DE+L2471*FR+M2471*NL)>(N2471),1,0)","v":0},null,{"$f":"IF((C$6*G2471+D$6*H2471+E$6*I2471+F$6*J2471+G$6*K2471+H$6*L2471+I$6*M2471)>(N2471),1,0)","v":0}]
[null,2914,"[D7-FR] Ensdorf - Vigy 2S [OPP] [D7]_LTA_corner#23_#29","10T-DE-FR-000068","[D7-D7] Ensdorf - Uchtelfangen Taubental N","11T0-0000-0604-N",0,0,0.22778999999999999,0.29499999999999998,6.1690000000000002E-2,0.92589999999999995,0,3289,{"$f":"IF((G2472*ALBE+H2472*ALDE+I2472*AT+J2472*BE+K2472*DE+L2472*FR+M2472*NL)>(N2472),1,0)","v":0},null,{"$f":"IF((C$6*G2472+D$6*H2472+E$6*I2472+F$6*J2472+G$6*K2472+H$6*L2472+I$6*M2472)>(N2472),1,0)","v":0}]
[null,2915,"[D2-AT] Pleinting - St. Peter 258 [DIR] [AT]_LTA_corner#01_#18","10T-AT-DE-000037","[D2-D2] Pirach - Pleinting 257","11TD2L000000201H",0,0,-0.99482000000000004,9.8129999999999995E-2,0,-2.665E-2,0,4958,{"$f":"IF((G2473*ALBE+H2473*ALDE+I2473*AT+J2473*BE+K2473*DE+L2473*FR+M2473*NL)>(N2473),1,0)","v":0},null,{"$f":"IF((C$6*G2473+D$6*H2473+E$6*I2473+F$6*J2473+G$6*K2473+H$6*L2473+I$6*M2473)>(N2473),1,0)","v":0}]
[null,2916,"[BE-BE] PST_ZANDV_2 [N - S]_LTA_corner#13_#2","22T20161020---56","[NL-BE] Rilland - Zandvliet 380 White/30","10T-BE-NL-00004C",0,0,-0.29170000000000001,-0.83977000000000002,-0.25466,-0.38057999999999997,0,2065,{"$f":"IF((G2474*ALBE+H2474*ALDE+I2474*AT+J2474*BE+K2474*DE+L2474*FR+M2474*NL)>(N2474),1,0)","v":0},null,{"$f":"IF((C$6*G2474+D$6*H2474+E$6*I2474+F$6*J2474+G$6*K2474+H$6*L2474+I$6*M2474)>(N2474),1,0)","v":0}]
[null,2917,"[BE-FR] Achene - Lonny 380.19 [DIR] [BE]_LTA_corner#02_#19","10T-BE-FR-000015","[BE-BE] Avelgem - Horta 380.102","22T20161020---1E",0,0,-0.47402,0,-0.34261999999999998,-0.81111999999999995,0,2057,{"$f":"IF((G2475*ALBE+H2475*ALDE+I2475*AT+J2475*BE+K2475*DE+L2475*FR+M2475*NL)>(N2475),1,0)","v":0},null,{"$f":"IF((C$6*G2475+D$6*H2475+E$6*I2475+F$6*J2475+G$6*K2475+H$6*L2475+I$6*M2475)>(N2475),1,0)","v":0}]
[null,2918,"[AT-AT] Westtirol Transformer WTRHU41 [OPP]_LTA_corner#20_#18","14T-38220-WT041O","BASECASE","N/A",0,0,0.99168000000000001,-2.2360000000000001E-2,0.11272,-5.7959999999999998E-2,0,4566,{"$f":"IF((G2476*ALBE+H2476*ALDE+I2476*AT+J2476*BE+K2476*DE+L2476*FR+M2476*NL)>(N2476),1,0)","v":0},null,{"$f":"IF((C$6*G2476+D$6*H2476+E$6*I2476+F$6*J2476+G$6*K2476+H$6*L2476+I$6*M2476)>(N2476),1,0)","v":0}]
[null,2919,"[D2-AT] Pleinting - St. Peter 258 [DIR] [D2]_LTA_corner#05_#6","10T-AT-DE-000037","[D2-AT] Y - St. Peter (- Altheim - Simbach) 234/230","10T-AT-DE-000045",0,0,-0.98690999999999995,0,0.15861,2.9309999999999999E-2,0,5873,{"$f":"IF((G2477*ALBE+H2477*ALDE+I2477*AT+J2477*BE+K2477*DE+L2477*FR+M2477*NL)>(N2477),1,0)","v":0},null,{"$f":"IF((C$6*G2477+D$6*H2477+E$6*I2477+F$6*J2477+G$6*K2477+H$6*L2477+I$6*M2477)>(N2477),1,0)","v":0}]
[null,2920,"[D2-AT] Pleinting - St. Peter 258 [DIR] [AT]_LTA_corner#11_#0","10T-AT-DE-000037","[D2-D2] Pirach - Pleinting 257","11TD2L000000201H",0,0,-0.99592999999999998,0,-8.6129999999999998E-2,-2.6679999999999999E-2,0,4600,{"$f":"IF((G2478*ALBE+H2478*ALDE+I2478*AT+J2478*BE+K2478*DE+L2478*FR+M2478*NL)>(N2478),1,0)","v":0},null,{"$f":"IF((C$6*G2478+D$6*H2478+E$6*I2478+F$6*J2478+G$6*K2478+H$6*L2478+I$6*M2478)>(N2478),1,0)","v":0}]
[null,2921,"[D7-FR] Ensdorf - Vigy 2S [OPP] [D7]_LTA_corner#30_#6","10T-DE-FR-000068","[D7-D7] Ensdorf - Uchtelfangen Taubental N","11T0-0000-0604-N",0,0,-6.948E-2,0.31785999999999998,-0.31485000000000002,0.89163000000000003,0,4413,{"$f":"IF((G2479*ALBE+H2479*ALDE+I2479*AT+J2479*BE+K2479*DE+L2479*FR+M2479*NL)>(N2479),1,0)","v":0},null,{"$f":"IF((C$6*G2479+D$6*H2479+E$6*I2479+F$6*J2479+G$6*K2479+H$6*L2479+I$6*M2479)>(N2479),1,0)","v":0}]
[null,2922,"[BE-BE] PST_ZANDV_2 [N - S]_LTA_corner#13_#14","22T20161020---56","[NL-BE] Rilland - Zandvliet 380 White/30","10T-BE-NL-00004C",0,0,-0.35026000000000002,-0.73009000000000002,-0.31397999999999998,-0.49569000000000002,0,1734,{"$f":"IF((G2480*ALBE+H2480*ALDE+I2480*AT+J2480*BE+K2480*DE+L2480*FR+M2480*NL)>(N2480),1,0)","v":0},null,{"$f":"IF((C$6*G2480+D$6*H2480+E$6*I2480+F$6*J2480+G$6*K2480+H$6*L2480+I$6*M2480)>(N2480),1,0)","v":0}]
[null,2923,"[D2-D2] Altheim - Sittling 220 [OPP]_LTA_corner#09_#9","11TD2L000000004J","[D2-AT] Pleinting - St. Peter 258","10T-AT-DE-000037",0,0,-0.95967999999999998,-8.4519999999999998E-2,-0.18956999999999999,-0.18956999999999999,0,4099,{"$f":"IF((G2481*ALBE+H2481*ALDE+I2481*AT+J2481*BE+K2481*DE+L2481*FR+M2481*NL)>(N2481),1,0)","v":0},null,{"$f":"IF((C$6*G2481+D$6*H2481+E$6*I2481+F$6*J2481+G$6*K2481+H$6*L2481+I$6*M2481)>(N2481),1,0)","v":0}]
[null,2924,"[D2-AT] Pleinting - St. Peter 258 [DIR] [AT]_LTA_corner#01_#20","10T-AT-DE-000037","[D2-D2] Pirach - Pleinting 257","11TD2L000000201H",0,0,-0.99519999999999997,9.6320000000000003E-2,0,-1.754E-2,0,4943,{"$f":"IF((G2482*ALBE+H2482*ALDE+I2482*AT+J2482*BE+K2482*DE+L2482*FR+M2482*NL)>(N2482),1,0)","v":0},null,{"$f":"IF((C$6*G2482+D$6*H2482+E$6*I2482+F$6*J2482+G$6*K2482+H$6*L2482+I$6*M2482)>(N2482),1,0)","v":0}]
[null,2925,"[BE-FR] Achene - Lonny 380.19 [DIR] [BE]_LTA_corner#02_#7","10T-BE-FR-000015","[BE-BE] Avelgem - Horta 380.102","22T20161020---1E",0,0,-0.47566999999999998,0,-0.34036,-0.81111,0,2075,{"$f":"IF((G2483*ALBE+H2483*ALDE+I2483*AT+J2483*BE+K2483*DE+L2483*FR+M2483*NL)>(N2483),1,0)","v":0},null,{"$f":"IF((C$6*G2483+D$6*H2483+E$6*I2483+F$6*J2483+G$6*K2483+H$6*L2483+I$6*M2483)>(N2483),1,0)","v":0}]
[null,2926,"[D7-FR] Ensdorf - Vigy 2S [OPP] [D7]_LTA_corner#23_#4","10T-DE-FR-000068","[D7-D7] Ensdorf - Uchtelfangen Taubental N","11T0-0000-0604-N",0,0,0.10223,0.37951000000000001,0,0.91952,0,2887,{"$f":"IF((G2484*ALBE+H2484*ALDE+I2484*AT+J2484*BE+K2484*DE+L2484*FR+M2484*NL)>(N2484),1,0)","v":0},null,{"$f":"IF((C$6*G2484+D$6*H2484+E$6*I2484+F$6*J2484+G$6*K2484+H$6*L2484+I$6*M2484)>(N2484),1,0)","v":0}]
[null,2927,"[D2-D2] Altheim - Sittling 220 [OPP]_LTA_corner#09_#28","11TD2L000000004J","[D2-AT] Pleinting - St. Peter 258","10T-AT-DE-000037",0,0,-0.99161999999999995,-7.8350000000000003E-2,-6.6379999999999995E-2,-7.8350000000000003E-2,0,4622,{"$f":"IF((G2485*ALBE+H2485*ALDE+I2485*AT+J2485*BE+K2485*DE+L2485*FR+M2485*NL)>(N2485),1,0)","v":0},null,{"$f":"IF((C$6*G2485+D$6*H2485+E$6*I2485+F$6*J2485+G$6*K2485+H$6*L2485+I$6*M2485)>(N2485),1,0)","v":0}]
[null,2928,"[BE-BE] PST_VANYK_2 [S - N]","22T-BE-PST--002U","[NL-BE] Rilland - Zandvliet 380 Grey/29","10T-BE-NL-00003E",0.49031999999999998,-5.1569999999999998E-2,1.142E-2,0.25995000000000001,-1.7100000000000001E-2,8.9029999999999998E-2,-2.8500000000000001E-2,920,{"$f":"IF((G2486*ALBE+H2486*ALDE+I2486*AT+J2486*BE+K2486*DE+L2486*FR+M2486*NL)>(N2486),1,0)","v":0},null,{"$f":"IF((C$6*G2486+D$6*H2486+E$6*I2486+F$6*J2486+G$6*K2486+H$6*L2486+I$6*M2486)>(N2486),1,0)","v":0}]
[null,2929,"[D2-AT] Pleinting - St. Peter 258 [DIR] [AT]_LTA_corner#11_#8","10T-AT-DE-000037","[D2-D2] Pirach - Pleinting 257","11TD2L000000201H",0,0,-0.99609000000000003,6.11E-3,-8.7919999999999998E-2,6.11E-3,0,4629,{"$f":"IF((G2487*ALBE+H2487*ALDE+I2487*AT+J2487*BE+K2487*DE+L2487*FR+M2487*NL)>(N2487),1,0)","v":0},null,{"$f":"IF((C$6*G2487+D$6*H2487+E$6*I2487+F$6*J2487+G$6*K2487+H$6*L2487+I$6*M2487)>(N2487),1,0)","v":0}]
[null,2930,"[D2-AT] Pleinting - St. Peter 258 [DIR] [D2]_LTA_corner#05_#25","10T-AT-DE-000037","[D2-AT] Y - St. Peter (- Altheim - Simbach) 234/230","10T-AT-DE-000045",0,0,-0.99397000000000002,3.3160000000000002E-2,7.3870000000000005E-2,7.3870000000000005E-2,0,5318,{"$f":"IF((G2488*ALBE+H2488*ALDE+I2488*AT+J2488*BE+K2488*DE+L2488*FR+M2488*NL)>(N2488),1,0)","v":0},null,{"$f":"IF((C$6*G2488+D$6*H2488+E$6*I2488+F$6*J2488+G$6*K2488+H$6*L2488+I$6*M2488)>(N2488),1,0)","v":0}]
[null,2931,"[D2-D2] Altheim - Sittling 220 [OPP]_LTA_corner#15_#3","11TD2L000000004J","[D2-AT] Pleinting - St. Peter 258","10T-AT-DE-000037",0,0,-0.99851000000000001,-3.63E-3,-4.5449999999999997E-2,-2.9870000000000001E-2,0,4696,{"$f":"IF((G2489*ALBE+H2489*ALDE+I2489*AT+J2489*BE+K2489*DE+L2489*FR+M2489*NL)>(N2489),1,0)","v":0},null,{"$f":"IF((C$6*G2489+D$6*H2489+E$6*I2489+F$6*J2489+G$6*K2489+H$6*L2489+I$6*M2489)>(N2489),1,0)","v":0}]
[null,2932,"[D2-AT] Pleinting - St. Peter 258 [DIR] [D2]_LTA_corner#01_#1","10T-AT-DE-000037","[D2-AT] Y - St. Peter (- Altheim - Simbach) 234/230","10T-AT-DE-000045",0,0,-0.51297999999999999,0.34669,0.7046,0.34669,0,7204,{"$f":"IF((G2490*ALBE+H2490*ALDE+I2490*AT+J2490*BE+K2490*DE+L2490*FR+M2490*NL)>(N2490),1,0)","v":0},null,{"$f":"IF((C$6*G2490+D$6*H2490+E$6*I2490+F$6*J2490+G$6*K2490+H$6*L2490+I$6*M2490)>(N2490),1,0)","v":0}]
[null,2933,"[D2-AT] Pleinting - St. Peter 258 [DIR] [AT]_LTA_corner#11_#6","10T-AT-DE-000037","[D2-D2] Pirach - Pleinting 257","11TD2L000000201H",0,0,-0.99595,0,-8.831E-2,-1.6830000000000001E-2,0,4603,{"$f":"IF((G2491*ALBE+H2491*ALDE+I2491*AT+J2491*BE+K2491*DE+L2491*FR+M2491*NL)>(N2491),1,0)","v":0},null,{"$f":"IF((C$6*G2491+D$6*H2491+E$6*I2491+F$6*J2491+G$6*K2491+H$6*L2491+I$6*M2491)>(N2491),1,0)","v":0}]
[null,2934,"[AT-AT] Westtirol Transformer WTRHU41 [OPP]_LTA_corner#20_#1","14T-38220-WT041O","BASECASE","N/A",0,0,0.99031999999999998,-3.7400000000000003E-2,0.11257,-7.2109999999999994E-2,0,4585,{"$f":"IF((G2492*ALBE+H2492*ALDE+I2492*AT+J2492*BE+K2492*DE+L2492*FR+M2492*NL)>(N2492),1,0)","v":0},null,{"$f":"IF((C$6*G2492+D$6*H2492+E$6*I2492+F$6*J2492+G$6*K2492+H$6*L2492+I$6*M2492)>(N2492),1,0)","v":0}]
[null,2935,"[D2-AT] Pleinting - St. Peter 258 [DIR] [AT]_LTA_corner#12_#6","10T-AT-DE-000037","[D2-D2] Pirach - Pleinting 257","11TD2L000000201H",0,0,-0.99656999999999996,-2.9E-4,0,8.276E-2,0,5057,{"$f":"IF((G2493*ALBE+H2493*ALDE+I2493*AT+J2493*BE+K2493*DE+L2493*FR+M2493*NL)>(N2493),1,0)","v":0},null,{"$f":"IF((C$6*G2493+D$6*H2493+E$6*I2493+F$6*J2493+G$6*K2493+H$6*L2493+I$6*M2493)>(N2493),1,0)","v":0}]
[null,2936,"[BE-BE] PST_ZANDV_2 [N - S]_LTA_corner#13_#8","22T20161020---56","[NL-BE] Rilland - Zandvliet 380 White/30","10T-BE-NL-00004C",0,0,-0.28826000000000002,-0.83540999999999999,-0.24535999999999999,-0.39850000000000002,0,2067,{"$f":"IF((G2494*ALBE+H2494*ALDE+I2494*AT+J2494*BE+K2494*DE+L2494*FR+M2494*NL)>(N2494),1,0)","v":0},null,{"$f":"IF((C$6*G2494+D$6*H2494+E$6*I2494+F$6*J2494+G$6*K2494+H$6*L2494+I$6*M2494)>(N2494),1,0)","v":0}]
[null,2937,"[D2-AT] Pleinting - St. Peter 258 [DIR] [AT]_LTA_corner#02_#8","10T-AT-DE-000037","[D2-D2] Pirach - Pleinting 257","11TD2L000000201H",0,0,-0.99626000000000003,8.5790000000000005E-2,-7.1199999999999996E-3,-7.1199999999999996E-3,0,4887,{"$f":"IF((G2495*ALBE+H2495*ALDE+I2495*AT+J2495*BE+K2495*DE+L2495*FR+M2495*NL)>(N2495),1,0)","v":0},null,{"$f":"IF((C$6*G2495+D$6*H2495+E$6*I2495+F$6*J2495+G$6*K2495+H$6*L2495+I$6*M2495)>(N2495),1,0)","v":0}]
[null,2938,"[D2-D2] Altheim - Sittling 220 [OPP]_LTA_corner#09_#12","11TD2L000000004J","[D2-AT] Pleinting - St. Peter 258","10T-AT-DE-000037",0,0,-0.99368000000000001,-6.4810000000000006E-2,-6.4810000000000006E-2,-6.4810000000000006E-2,0,4616,{"$f":"IF((G2496*ALBE+H2496*ALDE+I2496*AT+J2496*BE+K2496*DE+L2496*FR+M2496*NL)>(N2496),1,0)","v":0},null,{"$f":"IF((C$6*G2496+D$6*H2496+E$6*I2496+F$6*J2496+G$6*K2496+H$6*L2496+I$6*M2496)>(N2496),1,0)","v":0}]
[null,2939,"[D2-AT] Pleinting - St. Peter 258 [DIR] [AT]_LTA_corner#06_#3","10T-AT-DE-000037","[D2-D2] Pirach - Pleinting 257","11TD2L000000201H",0,0,-0.99309000000000003,-0.11415,6.2199999999999998E-3,-2.6610000000000002E-2,0,5092,{"$f":"IF((G2497*ALBE+H2497*ALDE+I2497*AT+J2497*BE+K2497*DE+L2497*FR+M2497*NL)>(N2497),1,0)","v":0},null,{"$f":"IF((C$6*G2497+D$6*H2497+E$6*I2497+F$6*J2497+G$6*K2497+H$6*L2497+I$6*M2497)>(N2497),1,0)","v":0}]
[null,2940,"[D2-AT] Pleinting - St. Peter 258 [DIR] [AT]_LTA_corner#01_#19","10T-AT-DE-000037","[D2-D2] Pirach - Pleinting 257","11TD2L000000201H",0,0,-0.99485999999999997,9.9019999999999997E-2,0,-2.129E-2,0,4951,{"$f":"IF((G2498*ALBE+H2498*ALDE+I2498*AT+J2498*BE+K2498*DE+L2498*FR+M2498*NL)>(N2498),1,0)","v":0},null,{"$f":"IF((C$6*G2498+D$6*H2498+E$6*I2498+F$6*J2498+G$6*K2498+H$6*L2498+I$6*M2498)>(N2498),1,0)","v":0}]
[null,2941,"[BE-FR] Achene - Lonny 380.19 [DIR] [BE]_LTA_corner#02_#18","10T-BE-FR-000015","[BE-BE] Avelgem - Horta 380.102","22T20161020---1E",0,0,-0.47503000000000001,0,-0.34382000000000001,-0.81001999999999996,0,2055,{"$f":"IF((G2499*ALBE+H2499*ALDE+I2499*AT+J2499*BE+K2499*DE+L2499*FR+M2499*NL)>(N2499),1,0)","v":0},null,{"$f":"IF((C$6*G2499+D$6*H2499+E$6*I2499+F$6*J2499+G$6*K2499+H$6*L2499+I$6*M2499)>(N2499),1,0)","v":0}]
[null,2942,"[D2-AT] Pleinting - St. Peter 258 [DIR] [AT]_LTA_corner#11_#5","10T-AT-DE-000037","[D2-D2] Pirach - Pleinting 257","11TD2L000000201H",0,0,-0.99736999999999998,4.2279999999999998E-2,-4.0869999999999997E-2,4.2279999999999998E-2,0,4806,{"$f":"IF((G2500*ALBE+H2500*ALDE+I2500*AT+J2500*BE+K2500*DE+L2500*FR+M2500*NL)>(N2500),1,0)","v":0},null,{"$f":"IF((C$6*G2500+D$6*H2500+E$6*I2500+F$6*J2500+G$6*K2500+H$6*L2500+I$6*M2500)>(N2500),1,0)","v":0}]
[null,2943,"[D7-D7] PST Gronau [OPP]","11T0-0000-0620-R","[D7-D7] Gronau - Kusenhorst Hamaland","11T0-0000-0618-7",-7.4880000000000002E-2,-4.6629999999999998E-2,-1.078E-2,-7.4929999999999997E-2,2.5239999999999999E-2,-4.1540000000000001E-2,-0.11261,631,{"$f":"IF((G2501*ALBE+H2501*ALDE+I2501*AT+J2501*BE+K2501*DE+L2501*FR+M2501*NL)>(N2501),1,0)","v":0},null,{"$f":"IF((C$6*G2501+D$6*H2501+E$6*I2501+F$6*J2501+G$6*K2501+H$6*L2501+I$6*M2501)>(N2501),1,0)","v":0}]
[null,2944,"[D7-FR] Ensdorf - Vigy 2S [OPP] [D7]_LTA_corner#23_#8","10T-DE-FR-000068","[D7-D7] Ensdorf - Uchtelfangen Taubental N","11T0-0000-0604-N",0,0,0.13827999999999999,0.41687000000000002,0,0.89837999999999996,0,2956,{"$f":"IF((G2502*ALBE+H2502*ALDE+I2502*AT+J2502*BE+K2502*DE+L2502*FR+M2502*NL)>(N2502),1,0)","v":0},null,{"$f":"IF((C$6*G2502+D$6*H2502+E$6*I2502+F$6*J2502+G$6*K2502+H$6*L2502+I$6*M2502)>(N2502),1,0)","v":0}]
[null,2945,"[D2-D2] Altheim - Sittling 220 [OPP]_LTA_corner#09_#23","11TD2L000000004J","[D2-AT] Pleinting - St. Peter 258","10T-AT-DE-000037",0,0,-0.93583000000000005,-0.14849000000000001,-0.22602,-0.22602,0,3890,{"$f":"IF((G2503*ALBE+H2503*ALDE+I2503*AT+J2503*BE+K2503*DE+L2503*FR+M2503*NL)>(N2503),1,0)","v":0},null,{"$f":"IF((C$6*G2503+D$6*H2503+E$6*I2503+F$6*J2503+G$6*K2503+H$6*L2503+I$6*M2503)>(N2503),1,0)","v":0}]
[null,2946,"[AT-AT] Westtirol Transformer WTRHU41 [OPP]_LTA_corner#20_#9","14T-38220-WT041O","BASECASE","N/A",0,0,0.99097999999999997,-7.4200000000000004E-3,0.11264,-7.2160000000000002E-2,0,4584,{"$f":"IF((G2504*ALBE+H2504*ALDE+I2504*AT+J2504*BE+K2504*DE+L2504*FR+M2504*NL)>(N2504),1,0)","v":0},null,{"$f":"IF((C$6*G2504+D$6*H2504+E$6*I2504+F$6*J2504+G$6*K2504+H$6*L2504+I$6*M2504)>(N2504),1,0)","v":0}]
[null,2947,"[BE-FR] Achene - Lonny 380.19 [DIR] [BE]_LTA_corner#02_#0","10T-BE-FR-000015","[BE-BE] Avelgem - Horta 380.102","22T20161020---1E",0,0,-0.39034000000000002,0.49347000000000002,-0.25496000000000002,-0.73424999999999996,0,2523,{"$f":"IF((G2505*ALBE+H2505*ALDE+I2505*AT+J2505*BE+K2505*DE+L2505*FR+M2505*NL)>(N2505),1,0)","v":0},null,{"$f":"IF((C$6*G2505+D$6*H2505+E$6*I2505+F$6*J2505+G$6*K2505+H$6*L2505+I$6*M2505)>(N2505),1,0)","v":0}]
[null,2948,"[D2-AT] Pleinting - St. Peter 258 [DIR] [AT]_LTA_corner#11_#2","10T-AT-DE-000037","[D2-D2] Pirach - Pleinting 257","11TD2L000000201H",0,0,-0.99638000000000004,3.6679999999999997E-2,-6.7309999999999995E-2,3.6679999999999997E-2,0,4734,{"$f":"IF((G2506*ALBE+H2506*ALDE+I2506*AT+J2506*BE+K2506*DE+L2506*FR+M2506*NL)>(N2506),1,0)","v":0},null,{"$f":"IF((C$6*G2506+D$6*H2506+E$6*I2506+F$6*J2506+G$6*K2506+H$6*L2506+I$6*M2506)>(N2506),1,0)","v":0}]
[null,2949,"[D2-AT] Pleinting - St. Peter 258 [DIR] [D2]_LTA_corner#05_#7","10T-AT-DE-000037","[D2-AT] Y - St. Peter (- Altheim - Simbach) 234/230","10T-AT-DE-000045",0,0,-0.98672000000000004,0,0.15887999999999999,3.388E-2,0,5877,{"$f":"IF((G2507*ALBE+H2507*ALDE+I2507*AT+J2507*BE+K2507*DE+L2507*FR+M2507*NL)>(N2507),1,0)","v":0},null,{"$f":"IF((C$6*G2507+D$6*H2507+E$6*I2507+F$6*J2507+G$6*K2507+H$6*L2507+I$6*M2507)>(N2507),1,0)","v":0}]
[null,2950,"[AT-AT] Westtirol Transformer WTRHU41 [OPP]_LTA_corner#20_#12","14T-38220-WT041O","BASECASE","N/A",0,0,0.99578,-7.4900000000000001E-3,8.8260000000000005E-2,-2.3820000000000001E-2,0,4596,{"$f":"IF((G2508*ALBE+H2508*ALDE+I2508*AT+J2508*BE+K2508*DE+L2508*FR+M2508*NL)>(N2508),1,0)","v":0},null,{"$f":"IF((C$6*G2508+D$6*H2508+E$6*I2508+F$6*J2508+G$6*K2508+H$6*L2508+I$6*M2508)>(N2508),1,0)","v":0}]
[null,2951,"[D2-AT] Pleinting - St. Peter 258 [DIR] [D2]_LTA_corner#05_#20","10T-AT-DE-000037","[D2-AT] Y - St. Peter (- Altheim - Simbach) 234/230","10T-AT-DE-000045",0,0,2.07E-2,0.40583999999999998,0.75295999999999996,0.51761000000000001,0,5021,{"$f":"IF((G2509*ALBE+H2509*ALDE+I2509*AT+J2509*BE+K2509*DE+L2509*FR+M2509*NL)>(N2509),1,0)","v":0},null,{"$f":"IF((C$6*G2509+D$6*H2509+E$6*I2509+F$6*J2509+G$6*K2509+H$6*L2509+I$6*M2509)>(N2509),1,0)","v":0}]
[null,2952,"[D2-AT] Pleinting - St. Peter 258 [DIR] [D2]_LTA_corner#01_#2","10T-AT-DE-000037","[D2-AT] Y - St. Peter (- Altheim - Simbach) 234/230","10T-AT-DE-000045",0,0,-0.99,0,1.4279999999999999E-2,-0.14035,0,5096,{"$f":"IF((G2510*ALBE+H2510*ALDE+I2510*AT+J2510*BE+K2510*DE+L2510*FR+M2510*NL)>(N2510),1,0)","v":0},null,{"$f":"IF((C$6*G2510+D$6*H2510+E$6*I2510+F$6*J2510+G$6*K2510+H$6*L2510+I$6*M2510)>(N2510),1,0)","v":0}]
[null,2953,"[D2-AT] Pleinting - St. Peter 258 [DIR] [AT]_LTA_corner#06_#0","10T-AT-DE-000037","[D2-D2] Pirach - Pleinting 257","11TD2L000000201H",0,0,-0.99780999999999997,-2.63E-3,4.6719999999999998E-2,4.6719999999999998E-2,0,5172,{"$f":"IF((G2511*ALBE+H2511*ALDE+I2511*AT+J2511*BE+K2511*DE+L2511*FR+M2511*NL)>(N2511),1,0)","v":0},null,{"$f":"IF((C$6*G2511+D$6*H2511+E$6*I2511+F$6*J2511+G$6*K2511+H$6*L2511+I$6*M2511)>(N2511),1,0)","v":0}]
[null,2954,"[D2-D2] Altheim - Sittling 220 [OPP]_LTA_corner#11_#9","11TD2L000000004J","[D2-AT] Pleinting - St. Peter 258","10T-AT-DE-000037",0,0,-0.99985999999999997,0,-1.6650000000000002E-2,0,0,4785,{"$f":"IF((G2512*ALBE+H2512*ALDE+I2512*AT+J2512*BE+K2512*DE+L2512*FR+M2512*NL)>(N2512),1,0)","v":0},null,{"$f":"IF((C$6*G2512+D$6*H2512+E$6*I2512+F$6*J2512+G$6*K2512+H$6*L2512+I$6*M2512)>(N2512),1,0)","v":0}]
[null,2955,"[D2-D2] Altheim - Sittling 220 [OPP]_LTA_corner#15_#16","11TD2L000000004J","[D2-AT] Pleinting - St. Peter 258","10T-AT-DE-000037",0,0,-0.99114999999999998,-2.266E-2,-9.7430000000000003E-2,-8.7260000000000004E-2,0,4511,{"$f":"IF((G2513*ALBE+H2513*ALDE+I2513*AT+J2513*BE+K2513*DE+L2513*FR+M2513*NL)>(N2513),1,0)","v":0},null,{"$f":"IF((C$6*G2513+D$6*H2513+E$6*I2513+F$6*J2513+G$6*K2513+H$6*L2513+I$6*M2513)>(N2513),1,0)","v":0}]
[null,2956,"[D7-FR] Ensdorf - Vigy 2S [OPP] [D7]_LTA_corner#30_#7","10T-DE-FR-000068","[D7-D7] Ensdorf - Uchtelfangen Taubental N","11T0-0000-0604-N",0,0,0.27550000000000002,0.35270000000000001,-4.3810000000000002E-2,0.89319000000000004,0,4000,{"$f":"IF((G2514*ALBE+H2514*ALDE+I2514*AT+J2514*BE+K2514*DE+L2514*FR+M2514*NL)>(N2514),1,0)","v":0},null,{"$f":"IF((C$6*G2514+D$6*H2514+E$6*I2514+F$6*J2514+G$6*K2514+H$6*L2514+I$6*M2514)>(N2514),1,0)","v":0}]
[null,2957,"[BE-BE] PST_ZANDV_2 [N - S]_LTA_corner#09_#0","22T20161020---56","[NL-BE] Rilland - Zandvliet 380 White/30","10T-BE-NL-00004C",0,0,-0.41339999999999999,-0.59789000000000003,-0.33785999999999999,-0.59789000000000003,0,1537,{"$f":"IF((G2515*ALBE+H2515*ALDE+I2515*AT+J2515*BE+K2515*DE+L2515*FR+M2515*NL)>(N2515),1,0)","v":0},null,{"$f":"IF((C$6*G2515+D$6*H2515+E$6*I2515+F$6*J2515+G$6*K2515+H$6*L2515+I$6*M2515)>(N2515),1,0)","v":0}]
[null,2958,"[BE-FR] Achene - Lonny 380.19 [OPP] [BE]","10T-BE-FR-000015","[BE-BE] Avelgem - Horta 380.102","22T20161020---1E",-0.28658,-7.6689999999999994E-2,2.0330000000000001E-2,-0.28319,-3.1220000000000001E-2,0.15107000000000001,-0.13603999999999999,1972,{"$f":"IF((G2516*ALBE+H2516*ALDE+I2516*AT+J2516*BE+K2516*DE+L2516*FR+M2516*NL)>(N2516),1,0)","v":0},null,{"$f":"IF((C$6*G2516+D$6*H2516+E$6*I2516+F$6*J2516+G$6*K2516+H$6*L2516+I$6*M2516)>(N2516),1,0)","v":0}]
[null,2959,"[D2-AT] Pleinting - St. Peter 258 [DIR] [D2]_LTA_corner#01_#9","10T-AT-DE-000037","[D2-AT] Y - St. Peter (- Altheim - Simbach) 234/230","10T-AT-DE-000045",0,0,-0.99499000000000004,7.1910000000000002E-2,0,-6.9440000000000002E-2,0,4996,{"$f":"IF((G2517*ALBE+H2517*ALDE+I2517*AT+J2517*BE+K2517*DE+L2517*FR+M2517*NL)>(N2517),1,0)","v":0},null,{"$f":"IF((C$6*G2517+D$6*H2517+E$6*I2517+F$6*J2517+G$6*K2517+H$6*L2517+I$6*M2517)>(N2517),1,0)","v":0}]
[null,2960,"[D2-AT] Pleinting - St. Peter 258 [DIR] [D2]_LTA_corner#01_#18","10T-AT-DE-000037","[D2-AT] Y - St. Peter (- Altheim - Simbach) 234/230","10T-AT-DE-000045",0,0,-0.86263000000000001,0.23848,0.377,0.23848,0,6670,{"$f":"IF((G2518*ALBE+H2518*ALDE+I2518*AT+J2518*BE+K2518*DE+L2518*FR+M2518*NL)>(N2518),1,0)","v":0},null,{"$f":"IF((C$6*G2518+D$6*H2518+E$6*I2518+F$6*J2518+G$6*K2518+H$6*L2518+I$6*M2518)>(N2518),1,0)","v":0}]
[null,2961,"[D2-D2] Altheim - Sittling 220 [OPP]_LTA_corner#15_#6","11TD2L000000004J","[D2-AT] Pleinting - St. Peter 258","10T-AT-DE-000037",0,0,-0.96138999999999997,-0.10979,-0.19264999999999999,-0.16295999999999999,0,4124,{"$f":"IF((G2519*ALBE+H2519*ALDE+I2519*AT+J2519*BE+K2519*DE+L2519*FR+M2519*NL)>(N2519),1,0)","v":0},null,{"$f":"IF((C$6*G2519+D$6*H2519+E$6*I2519+F$6*J2519+G$6*K2519+H$6*L2519+I$6*M2519)>(N2519),1,0)","v":0}]
[null,2962,"[D2-AT] Pleinting - St. Peter 258 [DIR] [D2]_LTA_corner#01_#3","10T-AT-DE-000037","[D2-AT] Y - St. Peter (- Altheim - Simbach) 234/230","10T-AT-DE-000045",0,0,-0.46801999999999999,0.37524000000000002,0.70664000000000005,0.37524000000000002,0,6990,{"$f":"IF((G2520*ALBE+H2520*ALDE+I2520*AT+J2520*BE+K2520*DE+L2520*FR+M2520*NL)>(N2520),1,0)","v":0},null,{"$f":"IF((C$6*G2520+D$6*H2520+E$6*I2520+F$6*J2520+G$6*K2520+H$6*L2520+I$6*M2520)>(N2520),1,0)","v":0}]
[null,2963,"[D7-FR] Ensdorf - Vigy 2S [OPP] [D7]_LTA_corner#23_#12","10T-DE-FR-000068","[D7-D7] Ensdorf - Uchtelfangen Taubental N","11T0-0000-0604-N",0,0,0.27161999999999997,0.37128,0.17929999999999999,0.86960999999999999,0,2648,{"$f":"IF((G2521*ALBE+H2521*ALDE+I2521*AT+J2521*BE+K2521*DE+L2521*FR+M2521*NL)>(N2521),1,0)","v":0},null,{"$f":"IF((C$6*G2521+D$6*H2521+E$6*I2521+F$6*J2521+G$6*K2521+H$6*L2521+I$6*M2521)>(N2521),1,0)","v":0}]
[null,2964,"[D7-FR] Ensdorf - Vigy 2S [OPP] [D7]_LTA_corner#23_#25","10T-DE-FR-000068","[D7-D7] Ensdorf - Uchtelfangen Taubental N","11T0-0000-0604-N",0,0,0.20219000000000001,0.31429000000000001,5.4289999999999998E-2,0.92596000000000001,0,3182,{"$f":"IF((G2522*ALBE+H2522*ALDE+I2522*AT+J2522*BE+K2522*DE+L2522*FR+M2522*NL)>(N2522),1,0)","v":0},null,{"$f":"IF((C$6*G2522+D$6*H2522+E$6*I2522+F$6*J2522+G$6*K2522+H$6*L2522+I$6*M2522)>(N2522),1,0)","v":0}]
[null,2965,"[D2-AT] Pleinting - St. Peter 258 [DIR] [AT]_LTA_corner#13_#7","10T-AT-DE-000037","[D2-D2] Pirach - Pleinting 257","11TD2L000000201H",0,0,-0.99609000000000003,-8.6889999999999995E-2,-1.145E-2,-1.145E-2,0,4956,{"$f":"IF((G2523*ALBE+H2523*ALDE+I2523*AT+J2523*BE+K2523*DE+L2523*FR+M2523*NL)>(N2523),1,0)","v":0},null,{"$f":"IF((C$6*G2523+D$6*H2523+E$6*I2523+F$6*J2523+G$6*K2523+H$6*L2523+I$6*M2523)>(N2523),1,0)","v":0}]
[null,2966,"[BE-FR] Achene - Lonny 380.19 [DIR] [BE]_LTA_corner#02_#24","10T-BE-FR-000015","[BE-BE] Avelgem - Horta 380.102","22T20161020---1E",0,0,-0.42201,0.33899000000000001,-0.27648,-0.79407000000000005,0,2487,{"$f":"IF((G2524*ALBE+H2524*ALDE+I2524*AT+J2524*BE+K2524*DE+L2524*FR+M2524*NL)>(N2524),1,0)","v":0},null,{"$f":"IF((C$6*G2524+D$6*H2524+E$6*I2524+F$6*J2524+G$6*K2524+H$6*L2524+I$6*M2524)>(N2524),1,0)","v":0}]
[null,2967,"[D2-AT] Pleinting - St. Peter 258 [DIR] [AT]_LTA_corner#01_#7","10T-AT-DE-000037","[D2-D2] Pirach - Pleinting 257","11TD2L000000201H",0,0,-0.99011000000000005,0,0.13779,-2.6530000000000001E-2,0,5766,{"$f":"IF((G2525*ALBE+H2525*ALDE+I2525*AT+J2525*BE+K2525*DE+L2525*FR+M2525*NL)>(N2525),1,0)","v":0},null,{"$f":"IF((C$6*G2525+D$6*H2525+E$6*I2525+F$6*J2525+G$6*K2525+H$6*L2525+I$6*M2525)>(N2525),1,0)","v":0}]
[null,2968,"[D7-FR] Ensdorf - Vigy 2S [OPP] [D7]_LTA_corner#30_#0","10T-DE-FR-000068","[D7-D7] Ensdorf - Uchtelfangen Taubental N","11T0-0000-0604-N",0,0,-0.20984,0.44349,-0.39254,0.77793999999999996,0,3840,{"$f":"IF((G2526*ALBE+H2526*ALDE+I2526*AT+J2526*BE+K2526*DE+L2526*FR+M2526*NL)>(N2526),1,0)","v":0},null,{"$f":"IF((C$6*G2526+D$6*H2526+E$6*I2526+F$6*J2526+G$6*K2526+H$6*L2526+I$6*M2526)>(N2526),1,0)","v":0}]
[null,2969,"[D2-AT] Pleinting - St. Peter 258 [DIR] [D2]_LTA_corner#01_#7","10T-AT-DE-000037","[D2-AT] Y - St. Peter (- Altheim - Simbach) 234/230","10T-AT-DE-000045",0,0,-0.45428000000000002,0.40756999999999999,0.67927000000000004,0.40756999999999999,0,6723,{"$f":"IF((G2527*ALBE+H2527*ALDE+I2527*AT+J2527*BE+K2527*DE+L2527*FR+M2527*NL)>(N2527),1,0)","v":0},null,{"$f":"IF((C$6*G2527+D$6*H2527+E$6*I2527+F$6*J2527+G$6*K2527+H$6*L2527+I$6*M2527)>(N2527),1,0)","v":0}]
[null,2970,"[D2-D2] Altheim - Sittling 220 [OPP]_LTA_corner#09_#31","11TD2L000000004J","[D2-AT] Pleinting - St. Peter 258","10T-AT-DE-000037",0,0,-0.98595999999999995,-0.11056000000000001,-5.858E-2,-0.11056000000000001,0,4686,{"$f":"IF((G2528*ALBE+H2528*ALDE+I2528*AT+J2528*BE+K2528*DE+L2528*FR+M2528*NL)>(N2528),1,0)","v":0},null,{"$f":"IF((C$6*G2528+D$6*H2528+E$6*I2528+F$6*J2528+G$6*K2528+H$6*L2528+I$6*M2528)>(N2528),1,0)","v":0}]
[null,2971,"[D2-AT] Pleinting - St. Peter 258 [DIR] [AT]_LTA_corner#06_#8","10T-AT-DE-000037","[D2-D2] Pirach - Pleinting 257","11TD2L000000201H",0,0,-0.99678999999999995,-7.954E-2,6.2399999999999999E-3,6.2399999999999999E-3,0,5048,{"$f":"IF((G2529*ALBE+H2529*ALDE+I2529*AT+J2529*BE+K2529*DE+L2529*FR+M2529*NL)>(N2529),1,0)","v":0},null,{"$f":"IF((C$6*G2529+D$6*H2529+E$6*I2529+F$6*J2529+G$6*K2529+H$6*L2529+I$6*M2529)>(N2529),1,0)","v":0}]
[null,2972,"[D7-FR] Ensdorf - Vigy 2S [OPP] [D7]_LTA_corner#30_#13","10T-DE-FR-000068","[D7-D7] Ensdorf - Uchtelfangen Taubental N","11T0-0000-0604-N",0,0,-5.7799999999999997E-2,0.38945000000000002,-0.17816000000000001,0.90180000000000005,0,3393,{"$f":"IF((G2530*ALBE+H2530*ALDE+I2530*AT+J2530*BE+K2530*DE+L2530*FR+M2530*NL)>(N2530),1,0)","v":0},null,{"$f":"IF((C$6*G2530+D$6*H2530+E$6*I2530+F$6*J2530+G$6*K2530+H$6*L2530+I$6*M2530)>(N2530),1,0)","v":0}]
[null,2973,"[BE-BE] PST_VANYK_2 [S - N]","22T-BE-PST--002U","[NL-BE] Maasbracht - Van Eyck 380 Black/27","10T-BE-NL-00002G",0.50202999999999998,-5.8619999999999998E-2,1.2330000000000001E-2,0.28406999999999999,-1.831E-2,9.7909999999999997E-2,-1.417E-2,920,{"$f":"IF((G2531*ALBE+H2531*ALDE+I2531*AT+J2531*BE+K2531*DE+L2531*FR+M2531*NL)>(N2531),1,0)","v":0},null,{"$f":"IF((C$6*G2531+D$6*H2531+E$6*I2531+F$6*J2531+G$6*K2531+H$6*L2531+I$6*M2531)>(N2531),1,0)","v":0}]
[null,2974,"[BE-FR] Achene - Lonny 380.19 [DIR] [BE]_LTA_corner#02_#3","10T-BE-FR-000015","[BE-BE] Avelgem - Horta 380.102","22T20161020---1E",0,0,-0.40721000000000002,0.39618999999999999,-0.28222000000000003,-0.77302000000000004,0,2426,{"$f":"IF((G2532*ALBE+H2532*ALDE+I2532*AT+J2532*BE+K2532*DE+L2532*FR+M2532*NL)>(N2532),1,0)","v":0},null,{"$f":"IF((C$6*G2532+D$6*H2532+E$6*I2532+F$6*J2532+G$6*K2532+H$6*L2532+I$6*M2532)>(N2532),1,0)","v":0}]
[null,2975,"[AT-AT] Westtirol Transformer WTRHU41 [OPP]_LTA_corner#20_#8","14T-38220-WT041O","BASECASE","N/A",0,0,0.99248000000000003,-2.2380000000000001E-2,9.6280000000000004E-2,-7.2270000000000001E-2,0,4638,{"$f":"IF((G2533*ALBE+H2533*ALDE+I2533*AT+J2533*BE+K2533*DE+L2533*FR+M2533*NL)>(N2533),1,0)","v":0},null,{"$f":"IF((C$6*G2533+D$6*H2533+E$6*I2533+F$6*J2533+G$6*K2533+H$6*L2533+I$6*M2533)>(N2533),1,0)","v":0}]
[null,2976,"[D2-AT] Pleinting - St. Peter 258 [DIR] [AT]_LTA_corner#01_#0","10T-AT-DE-000037","[D2-D2] Pirach - Pleinting 257","11TD2L000000201H",0,0,-0.99748999999999999,7.0209999999999995E-2,6.2399999999999999E-3,6.2399999999999999E-3,0,4928,{"$f":"IF((G2534*ALBE+H2534*ALDE+I2534*AT+J2534*BE+K2534*DE+L2534*FR+M2534*NL)>(N2534),1,0)","v":0},null,{"$f":"IF((C$6*G2534+D$6*H2534+E$6*I2534+F$6*J2534+G$6*K2534+H$6*L2534+I$6*M2534)>(N2534),1,0)","v":0}]
[null,2977,"[D2-AT] Pleinting - St. Peter 258 [DIR] [AT]_LTA_corner#04_#18","10T-AT-DE-000037","[D2-D2] Pirach - Pleinting 257","11TD2L000000201H",0,0,-0.99585999999999997,-6.4250000000000002E-2,0,-6.4250000000000002E-2,0,4914,{"$f":"IF((G2535*ALBE+H2535*ALDE+I2535*AT+J2535*BE+K2535*DE+L2535*FR+M2535*NL)>(N2535),1,0)","v":0},null,{"$f":"IF((C$6*G2535+D$6*H2535+E$6*I2535+F$6*J2535+G$6*K2535+H$6*L2535+I$6*M2535)>(N2535),1,0)","v":0}]
[null,2978,"[D2-D2] Altheim - Sittling 220 [OPP]_LTA_corner#09_#14","11TD2L000000004J","[D2-AT] Pleinting - St. Peter 258","10T-AT-DE-000037",0,0,-0.95455000000000001,-0.13314000000000001,-0.18856000000000001,-0.18856000000000001,0,4084,{"$f":"IF((G2536*ALBE+H2536*ALDE+I2536*AT+J2536*BE+K2536*DE+L2536*FR+M2536*NL)>(N2536),1,0)","v":0},null,{"$f":"IF((C$6*G2536+D$6*H2536+E$6*I2536+F$6*J2536+G$6*K2536+H$6*L2536+I$6*M2536)>(N2536),1,0)","v":0}]
[null,2979,"[AT-AT] Westtirol Transformer WTRHU41 [OPP]_LTA_corner#20_#5","14T-38220-WT041O","BASECASE","N/A",0,0,0.98951,-2.231E-2,0.11248,-8.788E-2,0,4604,{"$f":"IF((G2537*ALBE+H2537*ALDE+I2537*AT+J2537*BE+K2537*DE+L2537*FR+M2537*NL)>(N2537),1,0)","v":0},null,{"$f":"IF((C$6*G2537+D$6*H2537+E$6*I2537+F$6*J2537+G$6*K2537+H$6*L2537+I$6*M2537)>(N2537),1,0)","v":0}]
[null,2980,"[D2-AT] Pleinting - St. Peter 258 [DIR] [D2]_LTA_corner#07_#10","10T-AT-DE-000037","[D2-AT] Y - St. Peter (- Altheim - Simbach) 234/230","10T-AT-DE-000045",0,0,-0.99980000000000002,0,0,1.983E-2,0,4880,{"$f":"IF((G2538*ALBE+H2538*ALDE+I2538*AT+J2538*BE+K2538*DE+L2538*FR+M2538*NL)>(N2538),1,0)","v":0},null,{"$f":"IF((C$6*G2538+D$6*H2538+E$6*I2538+F$6*J2538+G$6*K2538+H$6*L2538+I$6*M2538)>(N2538),1,0)","v":0}]
[null,2981,"[D2-AT] Pleinting - St. Peter 258 [DIR] [D2]_LTA_corner#05_#0","10T-AT-DE-000037","[D2-AT] Y - St. Peter (- Altheim - Simbach) 234/230","10T-AT-DE-000045",0,0,0.23894000000000001,0.39673999999999998,0.73653000000000002,0.49297999999999997,0,3848,{"$f":"IF((G2539*ALBE+H2539*ALDE+I2539*AT+J2539*BE+K2539*DE+L2539*FR+M2539*NL)>(N2539),1,0)","v":0},null,{"$f":"IF((C$6*G2539+D$6*H2539+E$6*I2539+F$6*J2539+G$6*K2539+H$6*L2539+I$6*M2539)>(N2539),1,0)","v":0}]
[null,2982,"[AT-AT] Westtirol Transformer WTRHU41 [OPP]_LTA_corner#20_#0","14T-38220-WT041O","BASECASE","N/A",0,0,0.98914000000000002,-2.23E-2,0.12615999999999999,-7.2020000000000001E-2,0,4540,{"$f":"IF((G2540*ALBE+H2540*ALDE+I2540*AT+J2540*BE+K2540*DE+L2540*FR+M2540*NL)>(N2540),1,0)","v":0},null,{"$f":"IF((C$6*G2540+D$6*H2540+E$6*I2540+F$6*J2540+G$6*K2540+H$6*L2540+I$6*M2540)>(N2540),1,0)","v":0}]
[null,2983,"ALBE_export","N/A","BASECASE","N/A",1,0,0,0,0,0,0,0,{"$f":"IF((G2541*ALBE+H2541*ALDE+I2541*AT+J2541*BE+K2541*DE+L2541*FR+M2541*NL)>(N2541),1,0)","v":0},null,{"$f":"IF((C$6*G2541+D$6*H2541+E$6*I2541+F$6*J2541+G$6*K2541+H$6*L2541+I$6*M2541)>(N2541),1,0)","v":0}]
[null,2984,"[D2-AT] Pleinting - St. Peter 258 [DIR] [AT]_LTA_corner#14_#11","10T-AT-DE-000037","[D2-D2] Pirach - Pleinting 257","11TD2L000000201H",0,0,-0.99556999999999995,2.196E-2,-5.9389999999999998E-2,6.9440000000000002E-2,0,4863,{"$f":"IF((G2542*ALBE+H2542*ALDE+I2542*AT+J2542*BE+K2542*DE+L2542*FR+M2542*NL)>(N2542),1,0)","v":0},null,{"$f":"IF((C$6*G2542+D$6*H2542+E$6*I2542+F$6*J2542+G$6*K2542+H$6*L2542+I$6*M2542)>(N2542),1,0)","v":0}]
[null,2985,"[D2-AT] Pleinting - St. Peter 258 [DIR] [AT]_LTA_corner#01_#1","10T-AT-DE-000037","[D2-D2] Pirach - Pleinting 257","11TD2L000000201H",0,0,-0.99399000000000004,0.10603,6.2199999999999998E-3,-2.6630000000000001E-2,0,5007,{"$f":"IF((G2543*ALBE+H2543*ALDE+I2543*AT+J2543*BE+K2543*DE+L2543*FR+M2543*NL)>(N2543),1,0)","v":0},null,{"$f":"IF((C$6*G2543+D$6*H2543+E$6*I2543+F$6*J2543+G$6*K2543+H$6*L2543+I$6*M2543)>(N2543),1,0)","v":0}]
[null,2986,"[D2-D2] Altheim - Sittling 220 [OPP]_LTA_corner#04_#1","11TD2L000000004J","[D2-AT] Pleinting - St. Peter 258","10T-AT-DE-000037",0,0,-0.98873,-7.6499999999999997E-3,0,-0.14954000000000001,0,5007,{"$f":"IF((G2544*ALBE+H2544*ALDE+I2544*AT+J2544*BE+K2544*DE+L2544*FR+M2544*NL)>(N2544),1,0)","v":0},null,{"$f":"IF((C$6*G2544+D$6*H2544+E$6*I2544+F$6*J2544+G$6*K2544+H$6*L2544+I$6*M2544)>(N2544),1,0)","v":0}]
[null,2987,"[D2-AT] Pleinting - St. Peter 258 [DIR] [D2]_LTA_corner#07_#4","10T-AT-DE-000037","[D2-AT] Y - St. Peter (- Altheim - Simbach) 234/230","10T-AT-DE-000045",0,0,-0.99936000000000003,1.6900000000000001E-3,1.167E-2,3.3840000000000002E-2,0,4972,{"$f":"IF((G2545*ALBE+H2545*ALDE+I2545*AT+J2545*BE+K2545*DE+L2545*FR+M2545*NL)>(N2545),1,0)","v":0},null,{"$f":"IF((C$6*G2545+D$6*H2545+E$6*I2545+F$6*J2545+G$6*K2545+H$6*L2545+I$6*M2545)>(N2545),1,0)","v":0}]
[null,2988,"[BE-BE] PST_ZANDV_2 [N - S]_LTA_corner#09_#11","22T20161020---56","[NL-BE] Rilland - Zandvliet 380 White/30","10T-BE-NL-00004C",0,0,-0.39881,-0.60660000000000003,-0.32406000000000001,-0.60660000000000003,0,1543,{"$f":"IF((G2546*ALBE+H2546*ALDE+I2546*AT+J2546*BE+K2546*DE+L2546*FR+M2546*NL)>(N2546),1,0)","v":0},null,{"$f":"IF((C$6*G2546+D$6*H2546+E$6*I2546+F$6*J2546+G$6*K2546+H$6*L2546+I$6*M2546)>(N2546),1,0)","v":0}]
[null,2989,"[D2-AT] Pleinting - St. Peter 258 [DIR] [AT]_LTA_corner#06_#17","10T-AT-DE-000037","[D2-D2] Pirach - Pleinting 257","11TD2L000000201H",0,0,-0.99665000000000004,-8.1780000000000005E-2,0,0,0,5005,{"$f":"IF((G2547*ALBE+H2547*ALDE+I2547*AT+J2547*BE+K2547*DE+L2547*FR+M2547*NL)>(N2547),1,0)","v":0},null,{"$f":"IF((C$6*G2547+D$6*H2547+E$6*I2547+F$6*J2547+G$6*K2547+H$6*L2547+I$6*M2547)>(N2547),1,0)","v":0}]
[null,2990,"[D2-AT] Pleinting - St. Peter 258 [DIR] [AT]_LTA_corner#05_#5","10T-AT-DE-000037","[D2-D2] Pirach - Pleinting 257","11TD2L000000201H",0,0,-0.99795999999999996,0,4.5100000000000001E-2,4.5100000000000001E-2,0,5154,{"$f":"IF((G2548*ALBE+H2548*ALDE+I2548*AT+J2548*BE+K2548*DE+L2548*FR+M2548*NL)>(N2548),1,0)","v":0},null,{"$f":"IF((C$6*G2548+D$6*H2548+E$6*I2548+F$6*J2548+G$6*K2548+H$6*L2548+I$6*M2548)>(N2548),1,0)","v":0}]
[null,2991,"[D7-FR] Ensdorf - Vigy 2S [OPP] [D7]_LTA_corner#23_#16","10T-DE-FR-000068","[D7-D7] Ensdorf - Uchtelfangen Taubental N","11T0-0000-0604-N",0,0,0.17554,0.29992999999999997,0,0.93767,0,3381,{"$f":"IF((G2549*ALBE+H2549*ALDE+I2549*AT+J2549*BE+K2549*DE+L2549*FR+M2549*NL)>(N2549),1,0)","v":0},null,{"$f":"IF((C$6*G2549+D$6*H2549+E$6*I2549+F$6*J2549+G$6*K2549+H$6*L2549+I$6*M2549)>(N2549),1,0)","v":0}]
[null,2992,"[BE-FR] Achene - Lonny 380.19 [DIR] [BE]_LTA_corner#02_#8","10T-BE-FR-000015","[BE-BE] Avelgem - Horta 380.102","22T20161020---1E",0,0,-0.47394999999999998,0,-0.33988000000000002,-0.81232000000000004,0,2071,{"$f":"IF((G2550*ALBE+H2550*ALDE+I2550*AT+J2550*BE+K2550*DE+L2550*FR+M2550*NL)>(N2550),1,0)","v":0},null,{"$f":"IF((C$6*G2550+D$6*H2550+E$6*I2550+F$6*J2550+G$6*K2550+H$6*L2550+I$6*M2550)>(N2550),1,0)","v":0}]
[null,2993,"[D7-FR] Ensdorf - Vigy 2S [OPP] [D7]_LTA_corner#23_#11","10T-DE-FR-000068","[D7-D7] Ensdorf - Uchtelfangen Taubental N","11T0-0000-0604-N",0,0,0.26989000000000002,0.36965999999999999,0.18034,0.87061999999999995,0,2639,{"$f":"IF((G2551*ALBE+H2551*ALDE+I2551*AT+J2551*BE+K2551*DE+L2551*FR+M2551*NL)>(N2551),1,0)","v":0},null,{"$f":"IF((C$6*G2551+D$6*H2551+E$6*I2551+F$6*J2551+G$6*K2551+H$6*L2551+I$6*M2551)>(N2551),1,0)","v":0}]
[null,2994,"[D2-AT] Pleinting - St. Peter 258 [DIR] [AT]_LTA_corner#14_#12","10T-AT-DE-000037","[D2-D2] Pirach - Pleinting 257","11TD2L000000201H",0,0,-0.99672000000000005,0,-5.2100000000000002E-3,8.0790000000000001E-2,0,5040,{"$f":"IF((G2552*ALBE+H2552*ALDE+I2552*AT+J2552*BE+K2552*DE+L2552*FR+M2552*NL)>(N2552),1,0)","v":0},null,{"$f":"IF((C$6*G2552+D$6*H2552+E$6*I2552+F$6*J2552+G$6*K2552+H$6*L2552+I$6*M2552)>(N2552),1,0)","v":0}]
[null,2995,"[BE-BE] PST_ZANDV_2 [N - S]_LTA_corner#13_#26","22T20161020---56","[NL-BE] Rilland - Zandvliet 380 White/30","10T-BE-NL-00004C",0,0,-0.33245000000000002,-0.74102000000000001,-0.29537999999999998,-0.50310999999999995,0,1753,{"$f":"IF((G2553*ALBE+H2553*ALDE+I2553*AT+J2553*BE+K2553*DE+L2553*FR+M2553*NL)>(N2553),1,0)","v":0},null,{"$f":"IF((C$6*G2553+D$6*H2553+E$6*I2553+F$6*J2553+G$6*K2553+H$6*L2553+I$6*M2553)>(N2553),1,0)","v":0}]
[null,2996,"[D2-AT] Pleinting - St. Peter 258 [DIR] [AT]_LTA_corner#04_#6","10T-AT-DE-000037","[D2-D2] Pirach - Pleinting 257","11TD2L000000201H",0,0,-0.99531999999999998,-6.8169999999999994E-2,6.2300000000000003E-3,-6.8169999999999994E-2,0,4961,{"$f":"IF((G2554*ALBE+H2554*ALDE+I2554*AT+J2554*BE+K2554*DE+L2554*FR+M2554*NL)>(N2554),1,0)","v":0},null,{"$f":"IF((C$6*G2554+D$6*H2554+E$6*I2554+F$6*J2554+G$6*K2554+H$6*L2554+I$6*M2554)>(N2554),1,0)","v":0}]
[null,2997,"[D2-AT] Pleinting - St. Peter 258 [DIR] [AT]_LTA_corner#06_#12","10T-AT-DE-000037","[D2-D2] Pirach - Pleinting 257","11TD2L000000201H",0,0,-0.99402000000000001,-0.10592,0,-2.6630000000000001E-2,0,5033,{"$f":"IF((G2555*ALBE+H2555*ALDE+I2555*AT+J2555*BE+K2555*DE+L2555*FR+M2555*NL)>(N2555),1,0)","v":0},null,{"$f":"IF((C$6*G2555+D$6*H2555+E$6*I2555+F$6*J2555+G$6*K2555+H$6*L2555+I$6*M2555)>(N2555),1,0)","v":0}]
["hour 19",1856,"[BE-BE] PST_ZANDV_2 [N - S]_LTA_corner#13_#31","22T20161020---56","[NL-BE] Rilland - Zandvliet 380 White/30","10T-BE-NL-00004C",0,0,-0.32091999999999998,-0.78813999999999995,-0.26989000000000002,-0.45057000000000003,0,1963,{"$f":"IF((G2556*ALBE+H2556*ALDE+I2556*AT+J2556*BE+K2556*DE+L2556*FR+M2556*NL)>(N2556),1,0)","v":0},null,{"$f":"IF((C$6*G2556+D$6*H2556+E$6*I2556+F$6*J2556+G$6*K2556+H$6*L2556+I$6*M2556)>(N2556),1,0)","v":0}]
[null,1857,"[D7-FR] Ensdorf - Vigy 2S [OPP] [D7]_LTA_corner#23_#26","10T-DE-FR-000068","[D7-D7] Ensdorf - Uchtelfangen Taubental N","11T0-0000-0604-N",0,0,0.15359999999999999,0.32990999999999998,0,0.93142999999999998,0,3224,{"$f":"IF((G2557*ALBE+H2557*ALDE+I2557*AT+J2557*BE+K2557*DE+L2557*FR+M2557*NL)>(N2557),1,0)","v":0},null,{"$f":"IF((C$6*G2557+D$6*H2557+E$6*I2557+F$6*J2557+G$6*K2557+H$6*L2557+I$6*M2557)>(N2557),1,0)","v":0}]
[null,1858,"[D2-D2] Altheim - Sittling 220 [OPP]_LTA_corner#04_#21","11TD2L000000004J","[D2-AT] Pleinting - St. Peter 258","10T-AT-DE-000037",0,0,-0.99997000000000003,-3.5400000000000002E-3,5.3699999999999998E-3,-3.7499999999999999E-3,0,4864,{"$f":"IF((G2558*ALBE+H2558*ALDE+I2558*AT+J2558*BE+K2558*DE+L2558*FR+M2558*NL)>(N2558),1,0)","v":0},null,{"$f":"IF((C$6*G2558+D$6*H2558+E$6*I2558+F$6*J2558+G$6*K2558+H$6*L2558+I$6*M2558)>(N2558),1,0)","v":0}]
[null,1859,"[D2-D2] Altheim - Sittling 220 [OPP]_LTA_corner#09_#32","11TD2L000000004J","[D2-AT] Pleinting - St. Peter 258","10T-AT-DE-000037",0,0,-0.98804999999999998,-6.0089999999999998E-2,-9.987E-2,-0.10088,0,4489,{"$f":"IF((G2559*ALBE+H2559*ALDE+I2559*AT+J2559*BE+K2559*DE+L2559*FR+M2559*NL)>(N2559),1,0)","v":0},null,{"$f":"IF((C$6*G2559+D$6*H2559+E$6*I2559+F$6*J2559+G$6*K2559+H$6*L2559+I$6*M2559)>(N2559),1,0)","v":0}]
[null,1860,"[D2-D2] Altheim - Sittling 220 [OPP]_LTA_corner#01_#20","11TD2L000000004J","[D2-AT] Pleinting - St. Peter 258","10T-AT-DE-000037",0,0,-0.98275000000000001,4.2979999999999997E-2,0.17463999999999999,4.2979999999999997E-2,0,5927,{"$f":"IF((G2560*ALBE+H2560*ALDE+I2560*AT+J2560*BE+K2560*DE+L2560*FR+M2560*NL)>(N2560),1,0)","v":0},null,{"$f":"IF((C$6*G2560+D$6*H2560+E$6*I2560+F$6*J2560+G$6*K2560+H$6*L2560+I$6*M2560)>(N2560),1,0)","v":0}]
[null,1861,"[D2-AT] Pleinting - St. Peter 258 [DIR] [AT]_LTA_corner#06_#12","10T-AT-DE-000037","[D2-D2] Pirach - Pleinting 257","11TD2L000000201H",0,0,-0.99707999999999997,-7.3419999999999999E-2,0,-2.102E-2,0,4972,{"$f":"IF((G2561*ALBE+H2561*ALDE+I2561*AT+J2561*BE+K2561*DE+L2561*FR+M2561*NL)>(N2561),1,0)","v":0},null,{"$f":"IF((C$6*G2561+D$6*H2561+E$6*I2561+F$6*J2561+G$6*K2561+H$6*L2561+I$6*M2561)>(N2561),1,0)","v":0}]
[null,1862,"[D7-D7] PST Gronau [OPP]","11T0-0000-0620-R","[D7-D7] Gronau - Kusenhorst Hamaland","11T0-0000-0618-7",-7.6200000000000004E-2,-4.7910000000000001E-2,-1.091E-2,-7.621E-2,2.5219999999999999E-2,-4.2259999999999999E-2,-0.11443,763,{"$f":"IF((G2562*ALBE+H2562*ALDE+I2562*AT+J2562*BE+K2562*DE+L2562*FR+M2562*NL)>(N2562),1,0)","v":0},null,{"$f":"IF((C$6*G2562+D$6*H2562+E$6*I2562+F$6*J2562+G$6*K2562+H$6*L2562+I$6*M2562)>(N2562),1,0)","v":0}]
[null,1863,"[NL-NL] Borssele - Rilland 380 Zwart [DIR]","49T000000000059S","[NL-NL] Borssele - Rilland 380 Grijs","49T000000000057W",-6.5100000000000002E-3,2.7399999999999998E-3,-8.1999999999999998E-4,-1.554E-2,1.2199999999999999E-3,-6.4000000000000003E-3,0.12105,457,{"$f":"IF((G2563*ALBE+H2563*ALDE+I2563*AT+J2563*BE+K2563*DE+L2563*FR+M2563*NL)>(N2563),1,0)","v":0},null,{"$f":"IF((C$6*G2563+D$6*H2563+E$6*I2563+F$6*J2563+G$6*K2563+H$6*L2563+I$6*M2563)>(N2563),1,0)","v":0}]
[null,1864,"[AT-AT] Westtirol Transformer WTRHU41 [OPP]_LTA_corner#20_#7","14T-38220-WT041O","BASECASE","N/A",0,0,0.98980999999999997,-5.2720000000000003E-2,0.11033999999999999,-7.2929999999999995E-2,0,4592,{"$f":"IF((G2564*ALBE+H2564*ALDE+I2564*AT+J2564*BE+K2564*DE+L2564*FR+M2564*NL)>(N2564),1,0)","v":0},null,{"$f":"IF((C$6*G2564+D$6*H2564+E$6*I2564+F$6*J2564+G$6*K2564+H$6*L2564+I$6*M2564)>(N2564),1,0)","v":0}]
[null,1865,"[D2-AT] Pleinting - St. Peter 258 [DIR] [AT]_LTA_corner#06_#16","10T-AT-DE-000037","[D2-D2] Pirach - Pleinting 257","11TD2L000000201H",0,0,-0.99880000000000002,-4.829E-2,6.0800000000000003E-3,6.0800000000000003E-3,0,4980,{"$f":"IF((G2565*ALBE+H2565*ALDE+I2565*AT+J2565*BE+K2565*DE+L2565*FR+M2565*NL)>(N2565),1,0)","v":0},null,{"$f":"IF((C$6*G2565+D$6*H2565+E$6*I2565+F$6*J2565+G$6*K2565+H$6*L2565+I$6*M2565)>(N2565),1,0)","v":0}]
[null,1866,"ALDE_import","N/A","BASECASE","N/A",0,-1,0,0,0,0,0,0,{"$f":"IF((G2566*ALBE+H2566*ALDE+I2566*AT+J2566*BE+K2566*DE+L2566*FR+M2566*NL)>(N2566),1,0)","v":0},null,{"$f":"IF((C$6*G2566+D$6*H2566+E$6*I2566+F$6*J2566+G$6*K2566+H$6*L2566+I$6*M2566)>(N2566),1,0)","v":0}]
[null,1867,"[BE-BE] PST_ZANDV_2 [N - S]_LTA_corner#13_#42","22T20161020---56","[NL-BE] Rilland - Zandvliet 380 White/30","10T-BE-NL-00004C",0,0,-0.35013,-0.73270000000000002,-0.30623,-0.49676999999999999,0,1774,{"$f":"IF((G2567*ALBE+H2567*ALDE+I2567*AT+J2567*BE+K2567*DE+L2567*FR+M2567*NL)>(N2567),1,0)","v":0},null,{"$f":"IF((C$6*G2567+D$6*H2567+E$6*I2567+F$6*J2567+G$6*K2567+H$6*L2567+I$6*M2567)>(N2567),1,0)","v":0}]
[null,1868,"[D2-D2] Altheim - Sittling 220 [OPP]_LTA_corner#09_#28","11TD2L000000004J","[D2-AT] Pleinting - St. Peter 258","10T-AT-DE-000037",0,0,-0.96157000000000004,-0.10097,-0.18054999999999999,-0.18054999999999999,0,4136,{"$f":"IF((G2568*ALBE+H2568*ALDE+I2568*AT+J2568*BE+K2568*DE+L2568*FR+M2568*NL)>(N2568),1,0)","v":0},null,{"$f":"IF((C$6*G2568+D$6*H2568+E$6*I2568+F$6*J2568+G$6*K2568+H$6*L2568+I$6*M2568)>(N2568),1,0)","v":0}]
[null,1869,"[D7-FR] Ensdorf - Vigy 2S [OPP] [D7]_LTA_corner#23_#22","10T-DE-FR-000068","[D7-D7] Ensdorf - Uchtelfangen Taubental N","11T0-0000-0604-N",0,0,0.11516999999999999,0.37341999999999997,0,0.92047999999999996,0,2959,{"$f":"IF((G2569*ALBE+H2569*ALDE+I2569*AT+J2569*BE+K2569*DE+L2569*FR+M2569*NL)>(N2569),1,0)","v":0},null,{"$f":"IF((C$6*G2569+D$6*H2569+E$6*I2569+F$6*J2569+G$6*K2569+H$6*L2569+I$6*M2569)>(N2569),1,0)","v":0}]
[null,1870,"[D2-AT] Pleinting - St. Peter 258 [DIR] [AT]_LTA_corner#14_#16","10T-AT-DE-000037","[D2-D2] Pirach - Pleinting 257","11TD2L000000201H",0,0,-0.99872000000000005,0,-4.6899999999999997E-3,5.0279999999999998E-2,0,4958,{"$f":"IF((G2570*ALBE+H2570*ALDE+I2570*AT+J2570*BE+K2570*DE+L2570*FR+M2570*NL)>(N2570),1,0)","v":0},null,{"$f":"IF((C$6*G2570+D$6*H2570+E$6*I2570+F$6*J2570+G$6*K2570+H$6*L2570+I$6*M2570)>(N2570),1,0)","v":0}]
[null,1871,"[D2-D2] Altheim - Sittling 220 [OPP]_LTA_corner#02_#5","11TD2L000000004J","[D2-AT] Pleinting - St. Peter 258","10T-AT-DE-000037",0,0,-0.99473999999999996,0,-5.1979999999999998E-2,-8.8279999999999997E-2,0,4705,{"$f":"IF((G2571*ALBE+H2571*ALDE+I2571*AT+J2571*BE+K2571*DE+L2571*FR+M2571*NL)>(N2571),1,0)","v":0},null,{"$f":"IF((C$6*G2571+D$6*H2571+E$6*I2571+F$6*J2571+G$6*K2571+H$6*L2571+I$6*M2571)>(N2571),1,0)","v":0}]
[null,1872,"[D7-FR] Ensdorf - Vigy 2S [OPP] [D7]_LTA_corner#30_#29","10T-DE-FR-000068","[D7-D7] Ensdorf - Uchtelfangen Taubental N","11T0-0000-0604-N",0,0,0.10891000000000001,0.42146,-6.7390000000000005E-2,0.89776,0,3315,{"$f":"IF((G2572*ALBE+H2572*ALDE+I2572*AT+J2572*BE+K2572*DE+L2572*FR+M2572*NL)>(N2572),1,0)","v":0},null,{"$f":"IF((C$6*G2572+D$6*H2572+E$6*I2572+F$6*J2572+G$6*K2572+H$6*L2572+I$6*M2572)>(N2572),1,0)","v":0}]
[null,1873,"[D2-AT] Pleinting - St. Peter 258 [DIR] [AT]_LTA_corner#01_#1","10T-AT-DE-000037","[D2-D2] Pirach - Pleinting 257","11TD2L000000201H",0,0,-0.99543999999999999,0,0,-9.5339999999999994E-2,0,4951,{"$f":"IF((G2573*ALBE+H2573*ALDE+I2573*AT+J2573*BE+K2573*DE+L2573*FR+M2573*NL)>(N2573),1,0)","v":0},null,{"$f":"IF((C$6*G2573+D$6*H2573+E$6*I2573+F$6*J2573+G$6*K2573+H$6*L2573+I$6*M2573)>(N2573),1,0)","v":0}]
[null,1874,"[D7-FR] Ensdorf - Vigy 2S [OPP] [D7]_LTA_corner#23_#18","10T-DE-FR-000068","[D7-D7] Ensdorf - Uchtelfangen Taubental N","11T0-0000-0604-N",0,0,0.23318,0.32889000000000002,0,0.91513,0,3559,{"$f":"IF((G2574*ALBE+H2574*ALDE+I2574*AT+J2574*BE+K2574*DE+L2574*FR+M2574*NL)>(N2574),1,0)","v":0},null,{"$f":"IF((C$6*G2574+D$6*H2574+E$6*I2574+F$6*J2574+G$6*K2574+H$6*L2574+I$6*M2574)>(N2574),1,0)","v":0}]
[null,1875,"[AT-AT] Westtirol Transformer WTRHU41 [OPP]_LTA_corner#20_#17","14T-38220-WT041O","BASECASE","N/A",0,0,0.99258999999999997,-2.2720000000000001E-2,0.11065,-4.4659999999999998E-2,0,4555,{"$f":"IF((G2575*ALBE+H2575*ALDE+I2575*AT+J2575*BE+K2575*DE+L2575*FR+M2575*NL)>(N2575),1,0)","v":0},null,{"$f":"IF((C$6*G2575+D$6*H2575+E$6*I2575+F$6*J2575+G$6*K2575+H$6*L2575+I$6*M2575)>(N2575),1,0)","v":0}]
[null,1876,"[AT-AT] Westtirol Transformer WTRHU41 [OPP]_LTA_corner#17_#2","14T-38220-WT041O","BASECASE","N/A",0,0,0.99061999999999995,0,0.11043,-8.0530000000000004E-2,0,4600,{"$f":"IF((G2576*ALBE+H2576*ALDE+I2576*AT+J2576*BE+K2576*DE+L2576*FR+M2576*NL)>(N2576),1,0)","v":0},null,{"$f":"IF((C$6*G2576+D$6*H2576+E$6*I2576+F$6*J2576+G$6*K2576+H$6*L2576+I$6*M2576)>(N2576),1,0)","v":0}]
[null,1877,"[BE-BE] PST_VANYK_2 [S - N]","22T-BE-PST--002U","[NL-BE] Maasbracht - Van Eyck 380 Black/27","10T-BE-NL-00002G",0.50263000000000002,-5.8029999999999998E-2,1.2460000000000001E-2,0.28466000000000002,-1.7999999999999999E-2,9.8269999999999996E-2,-1.34E-2,905,{"$f":"IF((G2577*ALBE+H2577*ALDE+I2577*AT+J2577*BE+K2577*DE+L2577*FR+M2577*NL)>(N2577),1,0)","v":0},null,{"$f":"IF((C$6*G2577+D$6*H2577+E$6*I2577+F$6*J2577+G$6*K2577+H$6*L2577+I$6*M2577)>(N2577),1,0)","v":0}]
[null,1878,"[BE-FR] Achene - Lonny 380.19 [DIR] [BE]_LTA_corner#02_#4","10T-BE-FR-000015","[BE-BE] Avelgem - Horta 380.102","22T20161020---1E",0,0,-0.39385999999999999,0.40065000000000001,-0.28245999999999999,-0.77754999999999996,0,2374,{"$f":"IF((G2578*ALBE+H2578*ALDE+I2578*AT+J2578*BE+K2578*DE+L2578*FR+M2578*NL)>(N2578),1,0)","v":0},null,{"$f":"IF((C$6*G2578+D$6*H2578+E$6*I2578+F$6*J2578+G$6*K2578+H$6*L2578+I$6*M2578)>(N2578),1,0)","v":0}]
[null,1879,"[BE-FR] Achene - Lonny 380.19 [DIR] [BE]_LTA_corner#02_#3","10T-BE-FR-000015","[BE-BE] Avelgem - Horta 380.102","22T20161020---1E",0,0,-0.46734999999999999,0,-0.32972000000000001,-0.82028999999999996,0,2097,{"$f":"IF((G2579*ALBE+H2579*ALDE+I2579*AT+J2579*BE+K2579*DE+L2579*FR+M2579*NL)>(N2579),1,0)","v":0},null,{"$f":"IF((C$6*G2579+D$6*H2579+E$6*I2579+F$6*J2579+G$6*K2579+H$6*L2579+I$6*M2579)>(N2579),1,0)","v":0}]
[null,1880,"[D2-D2] Altheim - Sittling 220 [OPP]_LTA_corner#05_#10","11TD2L000000004J","[D2-AT] Pleinting - St. Peter 258","10T-AT-DE-000037",0,0,-0.65153000000000005,0.30926999999999999,0.58255000000000001,0.37483,0,7089,{"$f":"IF((G2580*ALBE+H2580*ALDE+I2580*AT+J2580*BE+K2580*DE+L2580*FR+M2580*NL)>(N2580),1,0)","v":0},null,{"$f":"IF((C$6*G2580+D$6*H2580+E$6*I2580+F$6*J2580+G$6*K2580+H$6*L2580+I$6*M2580)>(N2580),1,0)","v":0}]
[null,1881,"[D7-FR] Ensdorf - Vigy 2S [OPP] [D7]_LTA_corner#23_#0","10T-DE-FR-000068","[D7-D7] Ensdorf - Uchtelfangen Taubental N","11T0-0000-0604-N",0,0,0.24257999999999999,0.37214000000000003,0.13420000000000001,0.88580999999999999,0,2785,{"$f":"IF((G2581*ALBE+H2581*ALDE+I2581*AT+J2581*BE+K2581*DE+L2581*FR+M2581*NL)>(N2581),1,0)","v":0},null,{"$f":"IF((C$6*G2581+D$6*H2581+E$6*I2581+F$6*J2581+G$6*K2581+H$6*L2581+I$6*M2581)>(N2581),1,0)","v":0}]
[null,1882,"[D2-AT] Pleinting - St. Peter 258 [DIR] [AT]_LTA_corner#11_#3","10T-AT-DE-000037","[D2-D2] Pirach - Pleinting 257","11TD2L000000201H",0,0,-0.99792000000000003,0,-6.2260000000000003E-2,-1.6899999999999998E-2,0,4667,{"$f":"IF((G2582*ALBE+H2582*ALDE+I2582*AT+J2582*BE+K2582*DE+L2582*FR+M2582*NL)>(N2582),1,0)","v":0},null,{"$f":"IF((C$6*G2582+D$6*H2582+E$6*I2582+F$6*J2582+G$6*K2582+H$6*L2582+I$6*M2582)>(N2582),1,0)","v":0}]
[null,1883,"[D2-D2] Altheim - Sittling 220 [OPP]_LTA_corner#09_#26","11TD2L000000004J","[D2-AT] Pleinting - St. Peter 258","10T-AT-DE-000037",0,0,-0.95294999999999996,-0.1152,-0.19825999999999999,-0.19825999999999999,0,4046,{"$f":"IF((G2583*ALBE+H2583*ALDE+I2583*AT+J2583*BE+K2583*DE+L2583*FR+M2583*NL)>(N2583),1,0)","v":0},null,{"$f":"IF((C$6*G2583+D$6*H2583+E$6*I2583+F$6*J2583+G$6*K2583+H$6*L2583+I$6*M2583)>(N2583),1,0)","v":0}]
[null,1884,"[BE-BE] PST_ZANDV_2 [N - S]_LTA_corner#13_#19","22T20161020---56","[NL-BE] Rilland - Zandvliet 380 White/30","10T-BE-NL-00004C",0,0,-0.37570999999999999,-0.70526,-0.32124000000000003,-0.50817999999999997,0,1755,{"$f":"IF((G2584*ALBE+H2584*ALDE+I2584*AT+J2584*BE+K2584*DE+L2584*FR+M2584*NL)>(N2584),1,0)","v":0},null,{"$f":"IF((C$6*G2584+D$6*H2584+E$6*I2584+F$6*J2584+G$6*K2584+H$6*L2584+I$6*M2584)>(N2584),1,0)","v":0}]
[null,1885,"[D2-D2] Altheim - Sittling 220 [OPP]_LTA_corner#01_#18","11TD2L000000004J","[D2-AT] Pleinting - St. Peter 258","10T-AT-DE-000037",0,0,-0.96211000000000002,8.3919999999999995E-2,0.24548,8.3919999999999995E-2,0,6300,{"$f":"IF((G2585*ALBE+H2585*ALDE+I2585*AT+J2585*BE+K2585*DE+L2585*FR+M2585*NL)>(N2585),1,0)","v":0},null,{"$f":"IF((C$6*G2585+D$6*H2585+E$6*I2585+F$6*J2585+G$6*K2585+H$6*L2585+I$6*M2585)>(N2585),1,0)","v":0}]
[null,1886,"[BE-FR] Achene - Lonny 380.19 [DIR] [BE]_LTA_corner#02_#6","10T-BE-FR-000015","[BE-BE] Avelgem - Horta 380.102","22T20161020---1E",0,0,-0.47254000000000002,0,-0.34941,-0.80908000000000002,0,2017,{"$f":"IF((G2586*ALBE+H2586*ALDE+I2586*AT+J2586*BE+K2586*DE+L2586*FR+M2586*NL)>(N2586),1,0)","v":0},null,{"$f":"IF((C$6*G2586+D$6*H2586+E$6*I2586+F$6*J2586+G$6*K2586+H$6*L2586+I$6*M2586)>(N2586),1,0)","v":0}]
[null,1887,"[D2-AT] Pleinting - St. Peter 258 [DIR] [AT]_LTA_corner#09_#0","10T-AT-DE-000037","[D2-D2] Pirach - Pleinting 257","11TD2L000000201H",0,0,-0.99802000000000002,-2.5400000000000002E-3,-4.4409999999999998E-2,-4.4409999999999998E-2,0,4685,{"$f":"IF((G2587*ALBE+H2587*ALDE+I2587*AT+J2587*BE+K2587*DE+L2587*FR+M2587*NL)>(N2587),1,0)","v":0},null,{"$f":"IF((C$6*G2587+D$6*H2587+E$6*I2587+F$6*J2587+G$6*K2587+H$6*L2587+I$6*M2587)>(N2587),1,0)","v":0}]
[null,1888,"[BE-BE] PST_ZANDV_2 [N - S]_LTA_corner#13_#39","22T20161020---56","[NL-BE] Rilland - Zandvliet 380 White/30","10T-BE-NL-00004C",0,0,-0.37473000000000001,-0.68960999999999995,-0.31835999999999998,-0.53166000000000002,0,1708,{"$f":"IF((G2588*ALBE+H2588*ALDE+I2588*AT+J2588*BE+K2588*DE+L2588*FR+M2588*NL)>(N2588),1,0)","v":0},null,{"$f":"IF((C$6*G2588+D$6*H2588+E$6*I2588+F$6*J2588+G$6*K2588+H$6*L2588+I$6*M2588)>(N2588),1,0)","v":0}]
[null,1889,"[D2-D2] Altheim - Sittling 220 [OPP]_LTA_corner#02_#6","11TD2L000000004J","[D2-AT] Pleinting - St. Peter 258","10T-AT-DE-000037",0,0,-0.99944999999999995,0,-1.49E-2,-2.9530000000000001E-2,0,4799,{"$f":"IF((G2589*ALBE+H2589*ALDE+I2589*AT+J2589*BE+K2589*DE+L2589*FR+M2589*NL)>(N2589),1,0)","v":0},null,{"$f":"IF((C$6*G2589+D$6*H2589+E$6*I2589+F$6*J2589+G$6*K2589+H$6*L2589+I$6*M2589)>(N2589),1,0)","v":0}]
[null,1890,"[AT-AT] Westtirol Transformer WTRHU41 [OPP]_LTA_corner#17_#5","14T-38220-WT041O","BASECASE","N/A",0,0,0.99045000000000005,0,0.11695999999999999,-7.2980000000000003E-2,0,4569,{"$f":"IF((G2590*ALBE+H2590*ALDE+I2590*AT+J2590*BE+K2590*DE+L2590*FR+M2590*NL)>(N2590),1,0)","v":0},null,{"$f":"IF((C$6*G2590+D$6*H2590+E$6*I2590+F$6*J2590+G$6*K2590+H$6*L2590+I$6*M2590)>(N2590),1,0)","v":0}]
[null,1891,"[D2-AT] Pleinting - St. Peter 258 [DIR] [AT]_LTA_corner#13_#5","10T-AT-DE-000037","[D2-D2] Pirach - Pleinting 257","11TD2L000000201H",0,0,-0.99843000000000004,-4.165E-2,-2.6409999999999999E-2,-2.6409999999999999E-2,0,4779,{"$f":"IF((G2591*ALBE+H2591*ALDE+I2591*AT+J2591*BE+K2591*DE+L2591*FR+M2591*NL)>(N2591),1,0)","v":0},null,{"$f":"IF((C$6*G2591+D$6*H2591+E$6*I2591+F$6*J2591+G$6*K2591+H$6*L2591+I$6*M2591)>(N2591),1,0)","v":0}]
[null,1892,"[D2-AT] Pleinting - St. Peter 258 [DIR] [AT]_LTA_corner#03_#7","10T-AT-DE-000037","[D2-D2] Pirach - Pleinting 257","11TD2L000000201H",0,0,-0.99943000000000004,2.3949999999999999E-2,0,2.3949999999999999E-2,0,4865,{"$f":"IF((G2592*ALBE+H2592*ALDE+I2592*AT+J2592*BE+K2592*DE+L2592*FR+M2592*NL)>(N2592),1,0)","v":0},null,{"$f":"IF((C$6*G2592+D$6*H2592+E$6*I2592+F$6*J2592+G$6*K2592+H$6*L2592+I$6*M2592)>(N2592),1,0)","v":0}]
[null,1893,"[D2-AT] Pleinting - St. Peter 258 [DIR] [AT]_LTA_corner#01_#16","10T-AT-DE-000037","[D2-D2] Pirach - Pleinting 257","11TD2L000000201H",0,0,-0.99790000000000001,0,6.472E-2,0,0,5257,{"$f":"IF((G2593*ALBE+H2593*ALDE+I2593*AT+J2593*BE+K2593*DE+L2593*FR+M2593*NL)>(N2593),1,0)","v":0},null,{"$f":"IF((C$6*G2593+D$6*H2593+E$6*I2593+F$6*J2593+G$6*K2593+H$6*L2593+I$6*M2593)>(N2593),1,0)","v":0}]
[null,1894,"[BE-FR] Achene - Lonny 380.19 [DIR] [BE]_LTA_corner#02_#8","10T-BE-FR-000015","[BE-BE] Avelgem - Horta 380.102","22T20161020---1E",0,0,-0.42159999999999997,0.29627999999999999,-0.27106000000000002,-0.81301999999999996,0,2488,{"$f":"IF((G2594*ALBE+H2594*ALDE+I2594*AT+J2594*BE+K2594*DE+L2594*FR+M2594*NL)>(N2594),1,0)","v":0},null,{"$f":"IF((C$6*G2594+D$6*H2594+E$6*I2594+F$6*J2594+G$6*K2594+H$6*L2594+I$6*M2594)>(N2594),1,0)","v":0}]
[null,1895,"[BE-BE] PST_VANYK_2 [S - N]","22T-BE-PST--002U","[NL-BE] Rilland - Zandvliet 380 Grey/29","10T-BE-NL-00003E",0.49088999999999999,-5.101E-2,1.154E-2,0.26050000000000001,-1.6789999999999999E-2,8.9370000000000005E-2,-2.776E-2,905,{"$f":"IF((G2595*ALBE+H2595*ALDE+I2595*AT+J2595*BE+K2595*DE+L2595*FR+M2595*NL)>(N2595),1,0)","v":0},null,{"$f":"IF((C$6*G2595+D$6*H2595+E$6*I2595+F$6*J2595+G$6*K2595+H$6*L2595+I$6*M2595)>(N2595),1,0)","v":0}]
[null,1896,"[D2-AT] Pleinting - St. Peter 258 [DIR] [AT]_LTA_corner#04_#4","10T-AT-DE-000037","[D2-D2] Pirach - Pleinting 257","11TD2L000000201H",0,0,-0.99436999999999998,-2.5300000000000001E-3,6.0499999999999998E-3,-0.10579,0,5005,{"$f":"IF((G2596*ALBE+H2596*ALDE+I2596*AT+J2596*BE+K2596*DE+L2596*FR+M2596*NL)>(N2596),1,0)","v":0},null,{"$f":"IF((C$6*G2596+D$6*H2596+E$6*I2596+F$6*J2596+G$6*K2596+H$6*L2596+I$6*M2596)>(N2596),1,0)","v":0}]
[null,1897,"[D7-FR] Ensdorf - Vigy 2S [OPP] [D7]_LTA_corner#23_#3","10T-DE-FR-000068","[D7-D7] Ensdorf - Uchtelfangen Taubental N","11T0-0000-0604-N",0,0,0.24854000000000001,0.3821,0.13904,0.87914000000000003,0,2759,{"$f":"IF((G2597*ALBE+H2597*ALDE+I2597*AT+J2597*BE+K2597*DE+L2597*FR+M2597*NL)>(N2597),1,0)","v":0},null,{"$f":"IF((C$6*G2597+D$6*H2597+E$6*I2597+F$6*J2597+G$6*K2597+H$6*L2597+I$6*M2597)>(N2597),1,0)","v":0}]
[null,1898,"[D7-FR] Ensdorf - Vigy 2S [OPP] [D7]_LTA_corner#30_#0","10T-DE-FR-000068","[D7-D7] Ensdorf - Uchtelfangen Taubental N","11T0-0000-0604-N",0,0,2.6450000000000001E-2,0.37114000000000003,-8.1049999999999997E-2,0.92464999999999997,0,3157,{"$f":"IF((G2598*ALBE+H2598*ALDE+I2598*AT+J2598*BE+K2598*DE+L2598*FR+M2598*NL)>(N2598),1,0)","v":0},null,{"$f":"IF((C$6*G2598+D$6*H2598+E$6*I2598+F$6*J2598+G$6*K2598+H$6*L2598+I$6*M2598)>(N2598),1,0)","v":0}]
[null,1899,"[D7-FR] Ensdorf - Vigy 2S [OPP] [D7]_LTA_corner#23_#1","10T-DE-FR-000068","[D7-D7] Ensdorf - Uchtelfangen Taubental N","11T0-0000-0604-N",0,0,0.23971999999999999,0.30708999999999997,7.6689999999999994E-2,0.91778999999999999,0,3232,{"$f":"IF((G2599*ALBE+H2599*ALDE+I2599*AT+J2599*BE+K2599*DE+L2599*FR+M2599*NL)>(N2599),1,0)","v":0},null,{"$f":"IF((C$6*G2599+D$6*H2599+E$6*I2599+F$6*J2599+G$6*K2599+H$6*L2599+I$6*M2599)>(N2599),1,0)","v":0}]
[null,1900,"[AT-AT] Westtirol Transformer WTRHU41 [OPP]_LTA_corner#17_#4","14T-38220-WT041O","BASECASE","N/A",0,0,0.99602999999999997,0,8.5879999999999998E-2,-2.351E-2,0,4602,{"$f":"IF((G2600*ALBE+H2600*ALDE+I2600*AT+J2600*BE+K2600*DE+L2600*FR+M2600*NL)>(N2600),1,0)","v":0},null,{"$f":"IF((C$6*G2600+D$6*H2600+E$6*I2600+F$6*J2600+G$6*K2600+H$6*L2600+I$6*M2600)>(N2600),1,0)","v":0}]
[null,1901,"[D2-D2] Altheim - Sittling 220 [OPP]_LTA_corner#04_#2","11TD2L000000004J","[D2-AT] Pleinting - St. Peter 258","10T-AT-DE-000037",0,0,-0.98668,-4.1189999999999997E-2,0,-0.15740000000000001,0,5015,{"$f":"IF((G2601*ALBE+H2601*ALDE+I2601*AT+J2601*BE+K2601*DE+L2601*FR+M2601*NL)>(N2601),1,0)","v":0},null,{"$f":"IF((C$6*G2601+D$6*H2601+E$6*I2601+F$6*J2601+G$6*K2601+H$6*L2601+I$6*M2601)>(N2601),1,0)","v":0}]
[null,1902,"[D2-AT] Pleinting - St. Peter 258 [DIR] [AT]_LTA_corner#04_#8","10T-AT-DE-000037","[D2-D2] Pirach - Pleinting 257","11TD2L000000201H",0,0,-0.99424999999999997,-2.5300000000000001E-3,0.10377,-2.63E-2,0,5552,{"$f":"IF((G2602*ALBE+H2602*ALDE+I2602*AT+J2602*BE+K2602*DE+L2602*FR+M2602*NL)>(N2602),1,0)","v":0},null,{"$f":"IF((C$6*G2602+D$6*H2602+E$6*I2602+F$6*J2602+G$6*K2602+H$6*L2602+I$6*M2602)>(N2602),1,0)","v":0}]
[null,1903,"[BE-FR] Achene - Lonny 380.19 [DIR] [BE]_LTA_corner#02_#7","10T-BE-FR-000015","[BE-BE] Avelgem - Horta 380.102","22T20161020---1E",0,0,-0.42823,0.26312000000000002,-0.27728999999999998,-0.81884000000000001,0,2461,{"$f":"IF((G2603*ALBE+H2603*ALDE+I2603*AT+J2603*BE+K2603*DE+L2603*FR+M2603*NL)>(N2603),1,0)","v":0},null,{"$f":"IF((C$6*G2603+D$6*H2603+E$6*I2603+F$6*J2603+G$6*K2603+H$6*L2603+I$6*M2603)>(N2603),1,0)","v":0}]
[null,1904,"ALBE_export","N/A","BASECASE","N/A",1,0,0,0,0,0,0,0,{"$f":"IF((G2604*ALBE+H2604*ALDE+I2604*AT+J2604*BE+K2604*DE+L2604*FR+M2604*NL)>(N2604),1,0)","v":0},null,{"$f":"IF((C$6*G2604+D$6*H2604+E$6*I2604+F$6*J2604+G$6*K2604+H$6*L2604+I$6*M2604)>(N2604),1,0)","v":0}]
[null,1905,"[D7-FR] Ensdorf - Vigy 2S [OPP] [D7]_LTA_corner#23_#20","10T-DE-FR-000068","[D7-D7] Ensdorf - Uchtelfangen Taubental N","11T0-0000-0604-N",0,0,0.26080999999999999,0.36284,0,0.89461000000000002,0,3593,{"$f":"IF((G2605*ALBE+H2605*ALDE+I2605*AT+J2605*BE+K2605*DE+L2605*FR+M2605*NL)>(N2605),1,0)","v":0},null,{"$f":"IF((C$6*G2605+D$6*H2605+E$6*I2605+F$6*J2605+G$6*K2605+H$6*L2605+I$6*M2605)>(N2605),1,0)","v":0}]
[null,1906,"[D7-FR] Ensdorf - Vigy 2S [OPP] [D7]_LTA_corner#23_#21","10T-DE-FR-000068","[D7-D7] Ensdorf - Uchtelfangen Taubental N","11T0-0000-0604-N",0,0,0.15572,0.40705999999999998,0,0.90003,0,3055,{"$f":"IF((G2606*ALBE+H2606*ALDE+I2606*AT+J2606*BE+K2606*DE+L2606*FR+M2606*NL)>(N2606),1,0)","v":0},null,{"$f":"IF((C$6*G2606+D$6*H2606+E$6*I2606+F$6*J2606+G$6*K2606+H$6*L2606+I$6*M2606)>(N2606),1,0)","v":0}]
[null,1907,"[D7-FR] Ensdorf - Vigy 2S [OPP] [D7]_LTA_corner#23_#15","10T-DE-FR-000068","[D7-D7] Ensdorf - Uchtelfangen Taubental N","11T0-0000-0604-N",0,0,0.14080999999999999,0.40937000000000001,0,0.90144000000000002,0,2985,{"$f":"IF((G2607*ALBE+H2607*ALDE+I2607*AT+J2607*BE+K2607*DE+L2607*FR+M2607*NL)>(N2607),1,0)","v":0},null,{"$f":"IF((C$6*G2607+D$6*H2607+E$6*I2607+F$6*J2607+G$6*K2607+H$6*L2607+I$6*M2607)>(N2607),1,0)","v":0}]
[null,1908,"[D2-AT] Pleinting - St. Peter 258 [DIR] [AT]_LTA_corner#02_#0","10T-AT-DE-000037","[D2-D2] Pirach - Pleinting 257","11TD2L000000201H",0,0,-0.99812999999999996,0,-4.3200000000000002E-2,-4.3200000000000002E-2,0,4689,{"$f":"IF((G2608*ALBE+H2608*ALDE+I2608*AT+J2608*BE+K2608*DE+L2608*FR+M2608*NL)>(N2608),1,0)","v":0},null,{"$f":"IF((C$6*G2608+D$6*H2608+E$6*I2608+F$6*J2608+G$6*K2608+H$6*L2608+I$6*M2608)>(N2608),1,0)","v":0}]
[null,1909,"[D2-AT] Pleinting - St. Peter 258 [DIR] [AT]_LTA_corner#07_#8","10T-AT-DE-000037","[D2-D2] Pirach - Pleinting 257","11TD2L000000201H",0,0,-0.99873999999999996,0,6.0800000000000003E-3,4.9770000000000002E-2,0,4994,{"$f":"IF((G2609*ALBE+H2609*ALDE+I2609*AT+J2609*BE+K2609*DE+L2609*FR+M2609*NL)>(N2609),1,0)","v":0},null,{"$f":"IF((C$6*G2609+D$6*H2609+E$6*I2609+F$6*J2609+G$6*K2609+H$6*L2609+I$6*M2609)>(N2609),1,0)","v":0}]
[null,1910,"[D2-D2] Altheim - Sittling 220 [OPP]_LTA_corner#15_#2","11TD2L000000004J","[D2-AT] Pleinting - St. Peter 258","10T-AT-DE-000037",0,0,-0.95160999999999996,-0.11688,-0.20277999999999999,-0.19914999999999999,0,4030,{"$f":"IF((G2610*ALBE+H2610*ALDE+I2610*AT+J2610*BE+K2610*DE+L2610*FR+M2610*NL)>(N2610),1,0)","v":0},null,{"$f":"IF((C$6*G2610+D$6*H2610+E$6*I2610+F$6*J2610+G$6*K2610+H$6*L2610+I$6*M2610)>(N2610),1,0)","v":0}]
[null,1911,"[D7-FR] Ensdorf - Vigy 2S [OPP] [D7]_LTA_corner#30_#11","10T-DE-FR-000068","[D7-D7] Ensdorf - Uchtelfangen Taubental N","11T0-0000-0604-N",0,0,-3.7839999999999999E-2,0.38822000000000001,-0.16772000000000001,0.90539000000000003,0,3423,{"$f":"IF((G2611*ALBE+H2611*ALDE+I2611*AT+J2611*BE+K2611*DE+L2611*FR+M2611*NL)>(N2611),1,0)","v":0},null,{"$f":"IF((C$6*G2611+D$6*H2611+E$6*I2611+F$6*J2611+G$6*K2611+H$6*L2611+I$6*M2611)>(N2611),1,0)","v":0}]
[null,1912,"[D2-D2] Altheim - Sittling 220 [OPP]_LTA_corner#09_#22","11TD2L000000004J","[D2-AT] Pleinting - St. Peter 258","10T-AT-DE-000037",0,0,-0.95511999999999997,-0.11441999999999999,-0.19320000000000001,-0.19320000000000001,0,4071,{"$f":"IF((G2612*ALBE+H2612*ALDE+I2612*AT+J2612*BE+K2612*DE+L2612*FR+M2612*NL)>(N2612),1,0)","v":0},null,{"$f":"IF((C$6*G2612+D$6*H2612+E$6*I2612+F$6*J2612+G$6*K2612+H$6*L2612+I$6*M2612)>(N2612),1,0)","v":0}]
[null,1913,"[D2-AT] Pleinting - St. Peter 258 [DIR] [AT]_LTA_corner#14_#12","10T-AT-DE-000037","[D2-D2] Pirach - Pleinting 257","11TD2L000000201H",0,0,-0.99865999999999999,0,-5.5000000000000003E-4,5.1740000000000001E-2,0,4971,{"$f":"IF((G2613*ALBE+H2613*ALDE+I2613*AT+J2613*BE+K2613*DE+L2613*FR+M2613*NL)>(N2613),1,0)","v":0},null,{"$f":"IF((C$6*G2613+D$6*H2613+E$6*I2613+F$6*J2613+G$6*K2613+H$6*L2613+I$6*M2613)>(N2613),1,0)","v":0}]
[null,1914,"[D2-AT] Pleinting - St. Peter 258 [DIR] [AT]_LTA_corner#09_#11","10T-AT-DE-000037","[D2-D2] Pirach - Pleinting 257","11TD2L000000201H",0,0,-0.99856,-3.0949999999999998E-2,-3.0949999999999998E-2,-3.0949999999999998E-2,0,4731,{"$f":"IF((G2614*ALBE+H2614*ALDE+I2614*AT+J2614*BE+K2614*DE+L2614*FR+M2614*NL)>(N2614),1,0)","v":0},null,{"$f":"IF((C$6*G2614+D$6*H2614+E$6*I2614+F$6*J2614+G$6*K2614+H$6*L2614+I$6*M2614)>(N2614),1,0)","v":0}]
[null,1915,"[D7-FR] Ensdorf - Vigy 2S [OPP] [D7]_LTA_corner#23_#28","10T-DE-FR-000068","[D7-D7] Ensdorf - Uchtelfangen Taubental N","11T0-0000-0604-N",0,0,0.20815,0.30768000000000001,3.8460000000000001E-2,0.92764999999999997,0,3304,{"$f":"IF((G2615*ALBE+H2615*ALDE+I2615*AT+J2615*BE+K2615*DE+L2615*FR+M2615*NL)>(N2615),1,0)","v":0},null,{"$f":"IF((C$6*G2615+D$6*H2615+E$6*I2615+F$6*J2615+G$6*K2615+H$6*L2615+I$6*M2615)>(N2615),1,0)","v":0}]
[null,1916,"[D2-AT] Pleinting - St. Peter 258 [DIR] [AT]_LTA_corner#01_#3","10T-AT-DE-000037","[D2-D2] Pirach - Pleinting 257","11TD2L000000201H",0,0,-0.99731999999999998,6.8220000000000003E-2,0,-2.6380000000000001E-2,0,4933,{"$f":"IF((G2616*ALBE+H2616*ALDE+I2616*AT+J2616*BE+K2616*DE+L2616*FR+M2616*NL)>(N2616),1,0)","v":0},null,{"$f":"IF((C$6*G2616+D$6*H2616+E$6*I2616+F$6*J2616+G$6*K2616+H$6*L2616+I$6*M2616)>(N2616),1,0)","v":0}]
[null,1917,"[D7-FR] Ensdorf - Vigy 2S [OPP] [D7]_LTA_corner#30_#25","10T-DE-FR-000068","[D7-D7] Ensdorf - Uchtelfangen Taubental N","11T0-0000-0604-N",0,0,-7.8829999999999997E-2,0.31519000000000003,-0.32774999999999999,0.88714000000000004,0,4455,{"$f":"IF((G2617*ALBE+H2617*ALDE+I2617*AT+J2617*BE+K2617*DE+L2617*FR+M2617*NL)>(N2617),1,0)","v":0},null,{"$f":"IF((C$6*G2617+D$6*H2617+E$6*I2617+F$6*J2617+G$6*K2617+H$6*L2617+I$6*M2617)>(N2617),1,0)","v":0}]
[null,1918,"[BE-BE] PST_ZANDV_2 [N - S]_LTA_corner#13_#15","22T20161020---56","[NL-BE] Rilland - Zandvliet 380 White/30","10T-BE-NL-00004C",0,0,-0.33859,-0.73977999999999999,-0.29410999999999998,-0.50158000000000003,0,1786,{"$f":"IF((G2618*ALBE+H2618*ALDE+I2618*AT+J2618*BE+K2618*DE+L2618*FR+M2618*NL)>(N2618),1,0)","v":0},null,{"$f":"IF((C$6*G2618+D$6*H2618+E$6*I2618+F$6*J2618+G$6*K2618+H$6*L2618+I$6*M2618)>(N2618),1,0)","v":0}]
[null,1919,"[D2-AT] Pleinting - St. Peter 258 [DIR] [AT]_LTA_corner#04_#1","10T-AT-DE-000037","[D2-D2] Pirach - Pleinting 257","11TD2L000000201H",0,0,-0.99717,-5.3030000000000001E-2,6.0699999999999999E-3,-5.3030000000000001E-2,0,4942,{"$f":"IF((G2619*ALBE+H2619*ALDE+I2619*AT+J2619*BE+K2619*DE+L2619*FR+M2619*NL)>(N2619),1,0)","v":0},null,{"$f":"IF((C$6*G2619+D$6*H2619+E$6*I2619+F$6*J2619+G$6*K2619+H$6*L2619+I$6*M2619)>(N2619),1,0)","v":0}]
[null,1920,"[D2-AT] Pleinting - St. Peter 258 [DIR] [AT]_LTA_corner#03_#10","10T-AT-DE-000037","[D2-D2] Pirach - Pleinting 257","11TD2L000000201H",0,0,-0.99944999999999995,2.3130000000000001E-2,6.0800000000000003E-3,2.3130000000000001E-2,0,4892,{"$f":"IF((G2620*ALBE+H2620*ALDE+I2620*AT+J2620*BE+K2620*DE+L2620*FR+M2620*NL)>(N2620),1,0)","v":0},null,{"$f":"IF((C$6*G2620+D$6*H2620+E$6*I2620+F$6*J2620+G$6*K2620+H$6*L2620+I$6*M2620)>(N2620),1,0)","v":0}]
[null,1921,"[D2-AT] Pleinting - St. Peter 258 [DIR] [AT]_LTA_corner#11_#17","10T-AT-DE-000037","[D2-D2] Pirach - Pleinting 257","11TD2L000000201H",0,0,-0.99795,2.554E-2,-5.2740000000000002E-2,2.554E-2,0,4751,{"$f":"IF((G2621*ALBE+H2621*ALDE+I2621*AT+J2621*BE+K2621*DE+L2621*FR+M2621*NL)>(N2621),1,0)","v":0},null,{"$f":"IF((C$6*G2621+D$6*H2621+E$6*I2621+F$6*J2621+G$6*K2621+H$6*L2621+I$6*M2621)>(N2621),1,0)","v":0}]
[null,1922,"[D2-AT] Pleinting - St. Peter 258 [DIR] [AT]_LTA_corner#01_#6","10T-AT-DE-000037","[D2-D2] Pirach - Pleinting 257","11TD2L000000201H",0,0,-0.99883,4.8259999999999997E-2,0,0,0,4874,{"$f":"IF((G2622*ALBE+H2622*ALDE+I2622*AT+J2622*BE+K2622*DE+L2622*FR+M2622*NL)>(N2622),1,0)","v":0},null,{"$f":"IF((C$6*G2622+D$6*H2622+E$6*I2622+F$6*J2622+G$6*K2622+H$6*L2622+I$6*M2622)>(N2622),1,0)","v":0}]
[null,1923,"[D2-AT] Pleinting - St. Peter 258 [DIR] [AT]_LTA_corner#01_#12","10T-AT-DE-000037","[D2-D2] Pirach - Pleinting 257","11TD2L000000201H",0,0,-0.99758999999999998,6.7199999999999996E-2,0,-1.7299999999999999E-2,0,4919,{"$f":"IF((G2623*ALBE+H2623*ALDE+I2623*AT+J2623*BE+K2623*DE+L2623*FR+M2623*NL)>(N2623),1,0)","v":0},null,{"$f":"IF((C$6*G2623+D$6*H2623+E$6*I2623+F$6*J2623+G$6*K2623+H$6*L2623+I$6*M2623)>(N2623),1,0)","v":0}]
[null,1924,"[D2-AT] Pleinting - St. Peter 258 [DIR] [AT]_LTA_corner#06_#17","10T-AT-DE-000037","[D2-D2] Pirach - Pleinting 257","11TD2L000000201H",0,0,-0.99909000000000003,-2.5400000000000002E-3,3.014E-2,3.014E-2,0,5052,{"$f":"IF((G2624*ALBE+H2624*ALDE+I2624*AT+J2624*BE+K2624*DE+L2624*FR+M2624*NL)>(N2624),1,0)","v":0},null,{"$f":"IF((C$6*G2624+D$6*H2624+E$6*I2624+F$6*J2624+G$6*K2624+H$6*L2624+I$6*M2624)>(N2624),1,0)","v":0}]
[null,1925,"[BE-FR] Achene - Lonny 380.19 [DIR] [BE]_LTA_corner#02_#12","10T-BE-FR-000015","[BE-BE] Avelgem - Horta 380.102","22T20161020---1E",0,0,-0.47466000000000003,0,-0.35141,-0.80698000000000003,0,2015,{"$f":"IF((G2625*ALBE+H2625*ALDE+I2625*AT+J2625*BE+K2625*DE+L2625*FR+M2625*NL)>(N2625),1,0)","v":0},null,{"$f":"IF((C$6*G2625+D$6*H2625+E$6*I2625+F$6*J2625+G$6*K2625+H$6*L2625+I$6*M2625)>(N2625),1,0)","v":0}]
[null,1926,"[D2-D2] Altheim - Sittling 220 [OPP]_LTA_corner#01_#5","11TD2L000000004J","[D2-AT] Pleinting - St. Peter 258","10T-AT-DE-000037",0,0,-0.68606999999999996,0.29820999999999998,0.59284000000000003,0.29820999999999998,0,7285,{"$f":"IF((G2626*ALBE+H2626*ALDE+I2626*AT+J2626*BE+K2626*DE+L2626*FR+M2626*NL)>(N2626),1,0)","v":0},null,{"$f":"IF((C$6*G2626+D$6*H2626+E$6*I2626+F$6*J2626+G$6*K2626+H$6*L2626+I$6*M2626)>(N2626),1,0)","v":0}]
[null,1927,"[BE-FR] Achene - Lonny 380.19 [DIR] [BE]_LTA_corner#02_#28","10T-BE-FR-000015","[BE-BE] Avelgem - Horta 380.102","22T20161020---1E",0,0,-0.41337000000000002,0.39308999999999999,-0.30436000000000002,-0.76287000000000005,0,2337,{"$f":"IF((G2627*ALBE+H2627*ALDE+I2627*AT+J2627*BE+K2627*DE+L2627*FR+M2627*NL)>(N2627),1,0)","v":0},null,{"$f":"IF((C$6*G2627+D$6*H2627+E$6*I2627+F$6*J2627+G$6*K2627+H$6*L2627+I$6*M2627)>(N2627),1,0)","v":0}]
[null,1928,"[D2-D2] Altheim - Sittling 220 [OPP]_LTA_corner#04_#18","11TD2L000000004J","[D2-AT] Pleinting - St. Peter 258","10T-AT-DE-000037",0,0,-0.99994000000000005,-6.43E-3,0,-9.11E-3,0,4836,{"$f":"IF((G2628*ALBE+H2628*ALDE+I2628*AT+J2628*BE+K2628*DE+L2628*FR+M2628*NL)>(N2628),1,0)","v":0},null,{"$f":"IF((C$6*G2628+D$6*H2628+E$6*I2628+F$6*J2628+G$6*K2628+H$6*L2628+I$6*M2628)>(N2628),1,0)","v":0}]
[null,1929,"[D2-AT] Pleinting - St. Peter 258 [DIR] [AT]_LTA_corner#01_#4","10T-AT-DE-000037","[D2-D2] Pirach - Pleinting 257","11TD2L000000201H",0,0,-0.99673999999999996,7.596E-2,6.0699999999999999E-3,-2.6370000000000001E-2,0,4982,{"$f":"IF((G2629*ALBE+H2629*ALDE+I2629*AT+J2629*BE+K2629*DE+L2629*FR+M2629*NL)>(N2629),1,0)","v":0},null,{"$f":"IF((C$6*G2629+D$6*H2629+E$6*I2629+F$6*J2629+G$6*K2629+H$6*L2629+I$6*M2629)>(N2629),1,0)","v":0}]
[null,1930,"[D2-AT] Pleinting - St. Peter 258 [DIR] [AT]_LTA_corner#06_#10","10T-AT-DE-000037","[D2-D2] Pirach - Pleinting 257","11TD2L000000201H",0,0,-0.99687000000000003,-7.4569999999999997E-2,0,-2.6370000000000001E-2,0,4970,{"$f":"IF((G2630*ALBE+H2630*ALDE+I2630*AT+J2630*BE+K2630*DE+L2630*FR+M2630*NL)>(N2630),1,0)","v":0},null,{"$f":"IF((C$6*G2630+D$6*H2630+E$6*I2630+F$6*J2630+G$6*K2630+H$6*L2630+I$6*M2630)>(N2630),1,0)","v":0}]
[null,1931,"[D2-AT] Pleinting - St. Peter 258 [DIR] [AT]_LTA_corner#11_#13","10T-AT-DE-000037","[D2-D2] Pirach - Pleinting 257","11TD2L000000201H",0,0,-0.99824999999999997,0,-5.9159999999999997E-2,0,0,4688,{"$f":"IF((G2631*ALBE+H2631*ALDE+I2631*AT+J2631*BE+K2631*DE+L2631*FR+M2631*NL)>(N2631),1,0)","v":0},null,{"$f":"IF((C$6*G2631+D$6*H2631+E$6*I2631+F$6*J2631+G$6*K2631+H$6*L2631+I$6*M2631)>(N2631),1,0)","v":0}]
[null,1932,"[D2-AT] Pleinting - St. Peter 258 [DIR] [AT]_LTA_corner#02_#9","10T-AT-DE-000037","[D2-D2] Pirach - Pleinting 257","11TD2L000000201H",0,0,-0.99812999999999996,5.9020000000000003E-2,-1.1169999999999999E-2,-1.1169999999999999E-2,0,4852,{"$f":"IF((G2632*ALBE+H2632*ALDE+I2632*AT+J2632*BE+K2632*DE+L2632*FR+M2632*NL)>(N2632),1,0)","v":0},null,{"$f":"IF((C$6*G2632+D$6*H2632+E$6*I2632+F$6*J2632+G$6*K2632+H$6*L2632+I$6*M2632)>(N2632),1,0)","v":0}]
[null,1933,"[AT-AT] Westtirol Transformer WTRHU41 [OPP]_LTA_corner#20_#3","14T-38220-WT041O","BASECASE","N/A",0,0,0.98758000000000001,-2.2610000000000002E-2,0.13744000000000001,-7.2760000000000005E-2,0,4503,{"$f":"IF((G2633*ALBE+H2633*ALDE+I2633*AT+J2633*BE+K2633*DE+L2633*FR+M2633*NL)>(N2633),1,0)","v":0},null,{"$f":"IF((C$6*G2633+D$6*H2633+E$6*I2633+F$6*J2633+G$6*K2633+H$6*L2633+I$6*M2633)>(N2633),1,0)","v":0}]
[null,1934,"[D7-FR] Ensdorf - Vigy 2S [OPP] [D7]_LTA_corner#30_#9","10T-DE-FR-000068","[D7-D7] Ensdorf - Uchtelfangen Taubental N","11T0-0000-0604-N",0,0,-0.2374,0.44569999999999999,-0.42135,0.75329999999999997,0,3847,{"$f":"IF((G2634*ALBE+H2634*ALDE+I2634*AT+J2634*BE+K2634*DE+L2634*FR+M2634*NL)>(N2634),1,0)","v":0},null,{"$f":"IF((C$6*G2634+D$6*H2634+E$6*I2634+F$6*J2634+G$6*K2634+H$6*L2634+I$6*M2634)>(N2634),1,0)","v":0}]
[null,1935,"[D2-AT] Pleinting - St. Peter 258 [DIR] [AT]_LTA_corner#14_#10","10T-AT-DE-000037","[D2-D2] Pirach - Pleinting 257","11TD2L000000201H",0,0,-0.99678999999999995,1.499E-2,-6.8150000000000002E-2,3.918E-2,0,4765,{"$f":"IF((G2635*ALBE+H2635*ALDE+I2635*AT+J2635*BE+K2635*DE+L2635*FR+M2635*NL)>(N2635),1,0)","v":0},null,{"$f":"IF((C$6*G2635+D$6*H2635+E$6*I2635+F$6*J2635+G$6*K2635+H$6*L2635+I$6*M2635)>(N2635),1,0)","v":0}]
[null,1936,"[D2-AT] Pleinting - St. Peter 258 [DIR] [AT]_LTA_corner#04_#3","10T-AT-DE-000037","[D2-D2] Pirach - Pleinting 257","11TD2L000000201H",0,0,-0.99736000000000002,-4.6800000000000001E-2,3.0040000000000001E-2,-4.6800000000000001E-2,0,5097,{"$f":"IF((G2636*ALBE+H2636*ALDE+I2636*AT+J2636*BE+K2636*DE+L2636*FR+M2636*NL)>(N2636),1,0)","v":0},null,{"$f":"IF((C$6*G2636+D$6*H2636+E$6*I2636+F$6*J2636+G$6*K2636+H$6*L2636+I$6*M2636)>(N2636),1,0)","v":0}]
[null,1937,"[D2-D2] Altheim - Sittling 220 [OPP]_LTA_corner#01_#4","11TD2L000000004J","[D2-AT] Pleinting - St. Peter 258","10T-AT-DE-000037",0,0,-0.99178999999999995,0,7.3029999999999998E-2,-0.10496,0,5453,{"$f":"IF((G2637*ALBE+H2637*ALDE+I2637*AT+J2637*BE+K2637*DE+L2637*FR+M2637*NL)>(N2637),1,0)","v":0},null,{"$f":"IF((C$6*G2637+D$6*H2637+E$6*I2637+F$6*J2637+G$6*K2637+H$6*L2637+I$6*M2637)>(N2637),1,0)","v":0}]
[null,1938,"[BE-BE] PST_VANYK_2 [S - N]","22T-BE-PST--002U","[BE-FR] Achene - Lonny 380.19","10T-BE-FR-000015",0.58408000000000004,-2.8410000000000001E-2,5.3499999999999997E-3,0.32887,-7.4999999999999997E-3,4.6980000000000001E-2,1.6320000000000001E-2,754,{"$f":"IF((G2638*ALBE+H2638*ALDE+I2638*AT+J2638*BE+K2638*DE+L2638*FR+M2638*NL)>(N2638),1,0)","v":0},null,{"$f":"IF((C$6*G2638+D$6*H2638+E$6*I2638+F$6*J2638+G$6*K2638+H$6*L2638+I$6*M2638)>(N2638),1,0)","v":0}]
[null,1939,"[BE-BE] PST_ZANDV_2 [N - S]_LTA_corner#13_#27","22T20161020---56","[NL-BE] Rilland - Zandvliet 380 White/30","10T-BE-NL-00004C",0,0,-0.40039000000000002,-0.62497000000000003,-0.32662999999999998,-0.58516000000000001,0,1600,{"$f":"IF((G2639*ALBE+H2639*ALDE+I2639*AT+J2639*BE+K2639*DE+L2639*FR+M2639*NL)>(N2639),1,0)","v":0},null,{"$f":"IF((C$6*G2639+D$6*H2639+E$6*I2639+F$6*J2639+G$6*K2639+H$6*L2639+I$6*M2639)>(N2639),1,0)","v":0}]
[null,1940,"[BE-BE] PST_ZANDV_2 [N - S]_LTA_corner#13_#37","22T20161020---56","[NL-BE] Rilland - Zandvliet 380 White/30","10T-BE-NL-00004C",0,0,-0.38438,-0.68342000000000003,-0.32507999999999998,-0.52869999999999995,0,1712,{"$f":"IF((G2640*ALBE+H2640*ALDE+I2640*AT+J2640*BE+K2640*DE+L2640*FR+M2640*NL)>(N2640),1,0)","v":0},null,{"$f":"IF((C$6*G2640+D$6*H2640+E$6*I2640+F$6*J2640+G$6*K2640+H$6*L2640+I$6*M2640)>(N2640),1,0)","v":0}]
[null,1941,"[AT-AT] Westtirol Transformer WTRHU41 [OPP]_LTA_corner#17_#1","14T-38220-WT041O","BASECASE","N/A",0,0,0.99202000000000001,0,0.10272000000000001,-7.3090000000000002E-2,0,4616,{"$f":"IF((G2641*ALBE+H2641*ALDE+I2641*AT+J2641*BE+K2641*DE+L2641*FR+M2641*NL)>(N2641),1,0)","v":0},null,{"$f":"IF((C$6*G2641+D$6*H2641+E$6*I2641+F$6*J2641+G$6*K2641+H$6*L2641+I$6*M2641)>(N2641),1,0)","v":0}]
[null,1942,"[D2-D2] Altheim - Sittling 220 [OPP]_LTA_corner#01_#2","11TD2L000000004J","[D2-AT] Pleinting - St. Peter 258","10T-AT-DE-000037",0,0,-0.99351,0,0,-0.11373,0,4972,{"$f":"IF((G2642*ALBE+H2642*ALDE+I2642*AT+J2642*BE+K2642*DE+L2642*FR+M2642*NL)>(N2642),1,0)","v":0},null,{"$f":"IF((C$6*G2642+D$6*H2642+E$6*I2642+F$6*J2642+G$6*K2642+H$6*L2642+I$6*M2642)>(N2642),1,0)","v":0}]
[null,1943,"[D2-AT] Pleinting - St. Peter 258 [DIR] [AT]_LTA_corner#13_#10","10T-AT-DE-000037","[D2-D2] Pirach - Pleinting 257","11TD2L000000201H",0,0,-0.99822999999999995,-5.7389999999999997E-2,-1.1169999999999999E-2,-1.1169999999999999E-2,0,4896,{"$f":"IF((G2643*ALBE+H2643*ALDE+I2643*AT+J2643*BE+K2643*DE+L2643*FR+M2643*NL)>(N2643),1,0)","v":0},null,{"$f":"IF((C$6*G2643+D$6*H2643+E$6*I2643+F$6*J2643+G$6*K2643+H$6*L2643+I$6*M2643)>(N2643),1,0)","v":0}]
[null,1944,"[BE-BE] PST_ZANDV_2 [N - S]_LTA_corner#13_#6","22T20161020---56","[NL-BE] Rilland - Zandvliet 380 White/30","10T-BE-NL-00004C",0,0,-0.32455000000000001,-0.76746999999999999,-0.26055,-0.48762,0,1946,{"$f":"IF((G2644*ALBE+H2644*ALDE+I2644*AT+J2644*BE+K2644*DE+L2644*FR+M2644*NL)>(N2644),1,0)","v":0},null,{"$f":"IF((C$6*G2644+D$6*H2644+E$6*I2644+F$6*J2644+G$6*K2644+H$6*L2644+I$6*M2644)>(N2644),1,0)","v":0}]
[null,1945,"[D7-FR] Ensdorf - Vigy 2S [OPP] [D7]_LTA_corner#23_#14","10T-DE-FR-000068","[D7-D7] Ensdorf - Uchtelfangen Taubental N","11T0-0000-0604-N",0,0,0.17559,0.31053999999999998,0,0.93420000000000003,0,3359,{"$f":"IF((G2645*ALBE+H2645*ALDE+I2645*AT+J2645*BE+K2645*DE+L2645*FR+M2645*NL)>(N2645),1,0)","v":0},null,{"$f":"IF((C$6*G2645+D$6*H2645+E$6*I2645+F$6*J2645+G$6*K2645+H$6*L2645+I$6*M2645)>(N2645),1,0)","v":0}]
[null,1946,"[D2-D2] Altheim - Sittling 220 [OPP]_LTA_corner#01_#6","11TD2L000000004J","[D2-AT] Pleinting - St. Peter 258","10T-AT-DE-000037",0,0,-0.93259999999999998,0.16025,0.28088000000000002,0.16025,0,6373,{"$f":"IF((G2646*ALBE+H2646*ALDE+I2646*AT+J2646*BE+K2646*DE+L2646*FR+M2646*NL)>(N2646),1,0)","v":0},null,{"$f":"IF((C$6*G2646+D$6*H2646+E$6*I2646+F$6*J2646+G$6*K2646+H$6*L2646+I$6*M2646)>(N2646),1,0)","v":0}]
[null,1947,"[D2-D2] Altheim - Sittling 220 [OPP]_LTA_corner#01_#0","11TD2L000000004J","[D2-AT] Pleinting - St. Peter 258","10T-AT-DE-000037",0,0,-0.99660000000000004,4.1750000000000002E-2,0,-7.1069999999999994E-2,0,4969,{"$f":"IF((G2647*ALBE+H2647*ALDE+I2647*AT+J2647*BE+K2647*DE+L2647*FR+M2647*NL)>(N2647),1,0)","v":0},null,{"$f":"IF((C$6*G2647+D$6*H2647+E$6*I2647+F$6*J2647+G$6*K2647+H$6*L2647+I$6*M2647)>(N2647),1,0)","v":0}]
[null,1948,"[BE-BE] PST_ZANDV_2 [N - S]_LTA_corner#13_#0","22T20161020---56","[NL-BE] Rilland - Zandvliet 380 White/30","10T-BE-NL-00004C",0,0,-0.36951000000000001,-0.73058000000000001,-0.29044999999999999,-0.49534,0,1933,{"$f":"IF((G2648*ALBE+H2648*ALDE+I2648*AT+J2648*BE+K2648*DE+L2648*FR+M2648*NL)>(N2648),1,0)","v":0},null,{"$f":"IF((C$6*G2648+D$6*H2648+E$6*I2648+F$6*J2648+G$6*K2648+H$6*L2648+I$6*M2648)>(N2648),1,0)","v":0}]
[null,1949,"[AT-AT] Westtirol Transformer WTRHU41 [OPP]_LTA_corner#20_#0","14T-38220-WT041O","BASECASE","N/A",0,0,0.99402000000000001,-2.2749999999999999E-2,7.7759999999999996E-2,-7.324E-2,0,4698,{"$f":"IF((G2649*ALBE+H2649*ALDE+I2649*AT+J2649*BE+K2649*DE+L2649*FR+M2649*NL)>(N2649),1,0)","v":0},null,{"$f":"IF((C$6*G2649+D$6*H2649+E$6*I2649+F$6*J2649+G$6*K2649+H$6*L2649+I$6*M2649)>(N2649),1,0)","v":0}]
[null,1950,"[D2-AT] Pleinting - St. Peter 258 [DIR] [AT]_LTA_corner#01_#19","10T-AT-DE-000037","[D2-D2] Pirach - Pleinting 257","11TD2L000000201H",0,0,-0.99951999999999996,1.7940000000000001E-2,1.7940000000000001E-2,1.7940000000000001E-2,0,4936,{"$f":"IF((G2650*ALBE+H2650*ALDE+I2650*AT+J2650*BE+K2650*DE+L2650*FR+M2650*NL)>(N2650),1,0)","v":0},null,{"$f":"IF((C$6*G2650+D$6*H2650+E$6*I2650+F$6*J2650+G$6*K2650+H$6*L2650+I$6*M2650)>(N2650),1,0)","v":0}]
[null,1951,"[D7-FR] Ensdorf - Vigy 2S [OPP] [D7]_LTA_corner#23_#19","10T-DE-FR-000068","[D7-D7] Ensdorf - Uchtelfangen Taubental N","11T0-0000-0604-N",0,0,0.25507999999999997,0.33682000000000001,0,0.90636000000000005,0,3629,{"$f":"IF((G2651*ALBE+H2651*ALDE+I2651*AT+J2651*BE+K2651*DE+L2651*FR+M2651*NL)>(N2651),1,0)","v":0},null,{"$f":"IF((C$6*G2651+D$6*H2651+E$6*I2651+F$6*J2651+G$6*K2651+H$6*L2651+I$6*M2651)>(N2651),1,0)","v":0}]
[null,1952,"[D7-FR] Ensdorf - Vigy 2S [OPP] [D7]_LTA_corner#23_#17","10T-DE-FR-000068","[D7-D7] Ensdorf - Uchtelfangen Taubental N","11T0-0000-0604-N",0,0,0.14280000000000001,0.41094000000000003,0,0.90041000000000004,0,2990,{"$f":"IF((G2652*ALBE+H2652*ALDE+I2652*AT+J2652*BE+K2652*DE+L2652*FR+M2652*NL)>(N2652),1,0)","v":0},null,{"$f":"IF((C$6*G2652+D$6*H2652+E$6*I2652+F$6*J2652+G$6*K2652+H$6*L2652+I$6*M2652)>(N2652),1,0)","v":0}]
[null,1953,"[D2-AT] Pleinting - St. Peter 258 [DIR] [AT]_LTA_corner#14_#13","10T-AT-DE-000037","[D2-D2] Pirach - Pleinting 257","11TD2L000000201H",0,0,-0.99766999999999995,1.678E-2,-4.4310000000000002E-2,4.8989999999999999E-2,0,4848,{"$f":"IF((G2653*ALBE+H2653*ALDE+I2653*AT+J2653*BE+K2653*DE+L2653*FR+M2653*NL)>(N2653),1,0)","v":0},null,{"$f":"IF((C$6*G2653+D$6*H2653+E$6*I2653+F$6*J2653+G$6*K2653+H$6*L2653+I$6*M2653)>(N2653),1,0)","v":0}]
[null,1954,"[BE-BE] PST_ZANDV_2 [N - S]_LTA_corner#13_#17","22T20161020---56","[NL-BE] Rilland - Zandvliet 380 White/30","10T-BE-NL-00004C",0,0,-0.3211,-0.79356000000000004,-0.27359,-0.43852999999999998,0,1969,{"$f":"IF((G2654*ALBE+H2654*ALDE+I2654*AT+J2654*BE+K2654*DE+L2654*FR+M2654*NL)>(N2654),1,0)","v":0},null,{"$f":"IF((C$6*G2654+D$6*H2654+E$6*I2654+F$6*J2654+G$6*K2654+H$6*L2654+I$6*M2654)>(N2654),1,0)","v":0}]
[null,1955,"ALDE_export","N/A","BASECASE","N/A",0,1,0,0,0,0,0,0,{"$f":"IF((G2655*ALBE+H2655*ALDE+I2655*AT+J2655*BE+K2655*DE+L2655*FR+M2655*NL)>(N2655),1,0)","v":0},null,{"$f":"IF((C$6*G2655+D$6*H2655+E$6*I2655+F$6*J2655+G$6*K2655+H$6*L2655+I$6*M2655)>(N2655),1,0)","v":0}]
[null,1956,"[D2-D2] Altheim - Sittling 220 [OPP]_LTA_corner#01_#1","11TD2L000000004J","[D2-AT] Pleinting - St. Peter 258","10T-AT-DE-000037",0,0,-0.67598999999999998,0.32483000000000001,0.57620000000000005,0.32483000000000001,0,7112,{"$f":"IF((G2656*ALBE+H2656*ALDE+I2656*AT+J2656*BE+K2656*DE+L2656*FR+M2656*NL)>(N2656),1,0)","v":0},null,{"$f":"IF((C$6*G2656+D$6*H2656+E$6*I2656+F$6*J2656+G$6*K2656+H$6*L2656+I$6*M2656)>(N2656),1,0)","v":0}]
[null,1957,"[BE-FR] Achene - Lonny 380.19 [DIR] [BE]_LTA_corner#02_#13","10T-BE-FR-000015","[BE-BE] Avelgem - Horta 380.102","22T20161020---1E",0,0,-0.34861999999999999,0.60474000000000006,-0.21922,-0.68167999999999995,0,2533,{"$f":"IF((G2657*ALBE+H2657*ALDE+I2657*AT+J2657*BE+K2657*DE+L2657*FR+M2657*NL)>(N2657),1,0)","v":0},null,{"$f":"IF((C$6*G2657+D$6*H2657+E$6*I2657+F$6*J2657+G$6*K2657+H$6*L2657+I$6*M2657)>(N2657),1,0)","v":0}]
[null,1958,"[D2-AT] Pleinting - St. Peter 258 [DIR] [AT]_LTA_corner#01_#13","10T-AT-DE-000037","[D2-D2] Pirach - Pleinting 257","11TD2L000000201H",0,0,-0.99734999999999996,6.9669999999999996E-2,0,-2.102E-2,0,4927,{"$f":"IF((G2658*ALBE+H2658*ALDE+I2658*AT+J2658*BE+K2658*DE+L2658*FR+M2658*NL)>(N2658),1,0)","v":0},null,{"$f":"IF((C$6*G2658+D$6*H2658+E$6*I2658+F$6*J2658+G$6*K2658+H$6*L2658+I$6*M2658)>(N2658),1,0)","v":0}]
[null,1959,"[BE-BE] PST_ZANDV_2 [N - S]_LTA_corner#13_#2","22T20161020---56","[NL-BE] Rilland - Zandvliet 380 White/30","10T-BE-NL-00004C",0,0,-0.35374,-0.74023000000000005,-0.27393000000000001,-0.50187999999999999,0,1950,{"$f":"IF((G2659*ALBE+H2659*ALDE+I2659*AT+J2659*BE+K2659*DE+L2659*FR+M2659*NL)>(N2659),1,0)","v":0},null,{"$f":"IF((C$6*G2659+D$6*H2659+E$6*I2659+F$6*J2659+G$6*K2659+H$6*L2659+I$6*M2659)>(N2659),1,0)","v":0}]
[null,1960,"[D2-AT] Pleinting - St. Peter 258 [DIR] [AT]_LTA_corner#04_#14","10T-AT-DE-000037","[D2-D2] Pirach - Pleinting 257","11TD2L000000201H",0,0,-0.99743999999999999,-2.5400000000000002E-3,7.1480000000000002E-2,-2.5400000000000002E-3,0,5306,{"$f":"IF((G2660*ALBE+H2660*ALDE+I2660*AT+J2660*BE+K2660*DE+L2660*FR+M2660*NL)>(N2660),1,0)","v":0},null,{"$f":"IF((C$6*G2660+D$6*H2660+E$6*I2660+F$6*J2660+G$6*K2660+H$6*L2660+I$6*M2660)>(N2660),1,0)","v":0}]
[null,1961,"[BE-FR] Achene - Lonny 380.19 [DIR] [BE]_LTA_corner#09_#5","10T-BE-FR-000015","[BE-BE] Avelgem - Horta 380.102","22T20161020---1E",0,0,-0.40193000000000001,-0.60645000000000004,-0.32074999999999998,-0.60645000000000004,0,1573,{"$f":"IF((G2661*ALBE+H2661*ALDE+I2661*AT+J2661*BE+K2661*DE+L2661*FR+M2661*NL)>(N2661),1,0)","v":0},null,{"$f":"IF((C$6*G2661+D$6*H2661+E$6*I2661+F$6*J2661+G$6*K2661+H$6*L2661+I$6*M2661)>(N2661),1,0)","v":0}]
[null,1962,"[BE-FR] Achene - Lonny 380.19 [DIR] [BE]_LTA_corner#02_#2","10T-BE-FR-000015","[BE-BE] Avelgem - Horta 380.102","22T20161020---1E",0,0,-0.46718999999999999,0,-0.34309000000000001,-0.81488000000000005,0,2028,{"$f":"IF((G2662*ALBE+H2662*ALDE+I2662*AT+J2662*BE+K2662*DE+L2662*FR+M2662*NL)>(N2662),1,0)","v":0},null,{"$f":"IF((C$6*G2662+D$6*H2662+E$6*I2662+F$6*J2662+G$6*K2662+H$6*L2662+I$6*M2662)>(N2662),1,0)","v":0}]
[null,1963,"[D7-FR] Ensdorf - Vigy 2S [OPP] [D7]_LTA_corner#30_#13","10T-DE-FR-000068","[D7-D7] Ensdorf - Uchtelfangen Taubental N","11T0-0000-0604-N",0,0,0.27843000000000001,0.35265999999999997,-4.6260000000000003E-2,0.89217000000000002,0,4030,{"$f":"IF((G2663*ALBE+H2663*ALDE+I2663*AT+J2663*BE+K2663*DE+L2663*FR+M2663*NL)>(N2663),1,0)","v":0},null,{"$f":"IF((C$6*G2663+D$6*H2663+E$6*I2663+F$6*J2663+G$6*K2663+H$6*L2663+I$6*M2663)>(N2663),1,0)","v":0}]
[null,1964,"[BE-FR] Achene - Lonny 380.19 [DIR] [BE]_LTA_corner#02_#22","10T-BE-FR-000015","[BE-BE] Avelgem - Horta 380.102","22T20161020---1E",0,0,-0.48320999999999997,0,-0.35848999999999998,-0.79874999999999996,0,2011,{"$f":"IF((G2664*ALBE+H2664*ALDE+I2664*AT+J2664*BE+K2664*DE+L2664*FR+M2664*NL)>(N2664),1,0)","v":0},null,{"$f":"IF((C$6*G2664+D$6*H2664+E$6*I2664+F$6*J2664+G$6*K2664+H$6*L2664+I$6*M2664)>(N2664),1,0)","v":0}]
[null,1965,"[D7-FR] Ensdorf - Vigy 2S [OPP] [D7]_LTA_corner#23_#16","10T-DE-FR-000068","[D7-D7] Ensdorf - Uchtelfangen Taubental N","11T0-0000-0604-N",0,0,0.14252000000000001,0.41100999999999999,0,0.90042,0,2989,{"$f":"IF((G2665*ALBE+H2665*ALDE+I2665*AT+J2665*BE+K2665*DE+L2665*FR+M2665*NL)>(N2665),1,0)","v":0},null,{"$f":"IF((C$6*G2665+D$6*H2665+E$6*I2665+F$6*J2665+G$6*K2665+H$6*L2665+I$6*M2665)>(N2665),1,0)","v":0}]
[null,1966,"[D2-D2] Altheim - Sittling 220 [OPP]_LTA_corner#01_#19","11TD2L000000004J","[D2-AT] Pleinting - St. Peter 258","10T-AT-DE-000037",0,0,-0.99509999999999998,0,9.8580000000000001E-2,-7.1399999999999996E-3,0,5489,{"$f":"IF((G2666*ALBE+H2666*ALDE+I2666*AT+J2666*BE+K2666*DE+L2666*FR+M2666*NL)>(N2666),1,0)","v":0},null,{"$f":"IF((C$6*G2666+D$6*H2666+E$6*I2666+F$6*J2666+G$6*K2666+H$6*L2666+I$6*M2666)>(N2666),1,0)","v":0}]
[null,1967,"[BE-FR] Achene - Lonny 380.19 [DIR] [BE]_LTA_corner#02_#15","10T-BE-FR-000015","[BE-BE] Avelgem - Horta 380.102","22T20161020---1E",0,0,-0.42076999999999998,0.40011999999999998,-0.2447,-0.77651999999999999,0,2669,{"$f":"IF((G2667*ALBE+H2667*ALDE+I2667*AT+J2667*BE+K2667*DE+L2667*FR+M2667*NL)>(N2667),1,0)","v":0},null,{"$f":"IF((C$6*G2667+D$6*H2667+E$6*I2667+F$6*J2667+G$6*K2667+H$6*L2667+I$6*M2667)>(N2667),1,0)","v":0}]
[null,1968,"[D2-AT] Pleinting - St. Peter 258 [DIR] [AT]_LTA_corner#06_#15","10T-AT-DE-000037","[D2-D2] Pirach - Pleinting 257","11TD2L000000201H",0,0,-0.99868999999999997,-5.1150000000000001E-2,0,0,0,4940,{"$f":"IF((G2668*ALBE+H2668*ALDE+I2668*AT+J2668*BE+K2668*DE+L2668*FR+M2668*NL)>(N2668),1,0)","v":0},null,{"$f":"IF((C$6*G2668+D$6*H2668+E$6*I2668+F$6*J2668+G$6*K2668+H$6*L2668+I$6*M2668)>(N2668),1,0)","v":0}]
[null,1969,"[D2-AT] Pleinting - St. Peter 258 [DIR] [AT]_LTA_corner#15_#7","10T-AT-DE-000037","[D2-D2] Pirach - Pleinting 257","11TD2L000000201H",0,0,-0.99851999999999996,-2.6419999999999999E-2,-3.9489999999999997E-2,-2.6419999999999999E-2,0,4715,{"$f":"IF((G2669*ALBE+H2669*ALDE+I2669*AT+J2669*BE+K2669*DE+L2669*FR+M2669*NL)>(N2669),1,0)","v":0},null,{"$f":"IF((C$6*G2669+D$6*H2669+E$6*I2669+F$6*J2669+G$6*K2669+H$6*L2669+I$6*M2669)>(N2669),1,0)","v":0}]
[null,1970,"[BE-FR] Achene - Lonny 380.19 [DIR] [BE]_LTA_corner#02_#23","10T-BE-FR-000015","[BE-BE] Avelgem - Horta 380.102","22T20161020---1E",0,0,-0.32352999999999998,0.75126000000000004,-0.24107000000000001,-0.52232000000000001,0,2238,{"$f":"IF((G2670*ALBE+H2670*ALDE+I2670*AT+J2670*BE+K2670*DE+L2670*FR+M2670*NL)>(N2670),1,0)","v":0},null,{"$f":"IF((C$6*G2670+D$6*H2670+E$6*I2670+F$6*J2670+G$6*K2670+H$6*L2670+I$6*M2670)>(N2670),1,0)","v":0}]
[null,1971,"[D2-AT] Pleinting - St. Peter 258 [DIR] [AT]_LTA_corner#06_#0","10T-AT-DE-000037","[D2-D2] Pirach - Pleinting 257","11TD2L000000201H",0,0,-0.99621000000000004,-8.2640000000000005E-2,6.0699999999999999E-3,-2.6360000000000001E-2,0,5029,{"$f":"IF((G2671*ALBE+H2671*ALDE+I2671*AT+J2671*BE+K2671*DE+L2671*FR+M2671*NL)>(N2671),1,0)","v":0},null,{"$f":"IF((C$6*G2671+D$6*H2671+E$6*I2671+F$6*J2671+G$6*K2671+H$6*L2671+I$6*M2671)>(N2671),1,0)","v":0}]
[null,1972,"[BE-FR] Achene - Lonny 380.19 [DIR] [BE]_LTA_corner#09_#4","10T-BE-FR-000015","[BE-BE] Avelgem - Horta 380.102","22T20161020---1E",0,0,-0.40200000000000002,-0.60584000000000005,-0.32299,-0.60584000000000005,0,1562,{"$f":"IF((G2672*ALBE+H2672*ALDE+I2672*AT+J2672*BE+K2672*DE+L2672*FR+M2672*NL)>(N2672),1,0)","v":0},null,{"$f":"IF((C$6*G2672+D$6*H2672+E$6*I2672+F$6*J2672+G$6*K2672+H$6*L2672+I$6*M2672)>(N2672),1,0)","v":0}]
[null,1973,"[D2-AT] Pleinting - St. Peter 258 [DIR] [AT]_LTA_corner#12_#9","10T-AT-DE-000037","[D2-D2] Pirach - Pleinting 257","11TD2L000000201H",0,0,-0.99858000000000002,-2.5400000000000002E-3,6.0800000000000003E-3,5.2830000000000002E-2,0,5009,{"$f":"IF((G2673*ALBE+H2673*ALDE+I2673*AT+J2673*BE+K2673*DE+L2673*FR+M2673*NL)>(N2673),1,0)","v":0},null,{"$f":"IF((C$6*G2673+D$6*H2673+E$6*I2673+F$6*J2673+G$6*K2673+H$6*L2673+I$6*M2673)>(N2673),1,0)","v":0}]
[null,1974,"[D2-NL] Diele - Meeden 380 Black [DIR] [D2]","10T-DE-NL-00001V","[D2-NL] Diele - Meeden 380 White ","10T-DE-NL-00002T",-6.6199999999999995E-2,-4.3810000000000002E-2,-1.159E-2,-6.8970000000000004E-2,1.018E-2,-4.0160000000000001E-2,-0.16328000000000001,712,{"$f":"IF((G2674*ALBE+H2674*ALDE+I2674*AT+J2674*BE+K2674*DE+L2674*FR+M2674*NL)>(N2674),1,0)","v":0},null,{"$f":"IF((C$6*G2674+D$6*H2674+E$6*I2674+F$6*J2674+G$6*K2674+H$6*L2674+I$6*M2674)>(N2674),1,0)","v":0}]
[null,1975,"[D2-AT] Pleinting - St. Peter 258 [DIR] [AT]_LTA_corner#01_#21","10T-AT-DE-000037","[D2-D2] Pirach - Pleinting 257","11TD2L000000201H",0,0,-0.99914000000000003,4.045E-2,6.0800000000000003E-3,6.0800000000000003E-3,0,4898,{"$f":"IF((G2675*ALBE+H2675*ALDE+I2675*AT+J2675*BE+K2675*DE+L2675*FR+M2675*NL)>(N2675),1,0)","v":0},null,{"$f":"IF((C$6*G2675+D$6*H2675+E$6*I2675+F$6*J2675+G$6*K2675+H$6*L2675+I$6*M2675)>(N2675),1,0)","v":0}]
[null,1976,"[D2-AT] Pleinting - St. Peter 258 [DIR] [AT]_LTA_corner#12_#12","10T-AT-DE-000037","[D2-D2] Pirach - Pleinting 257","11TD2L000000201H",0,0,-0.99868999999999997,-1.1100000000000001E-3,0,5.1150000000000001E-2,0,4973,{"$f":"IF((G2676*ALBE+H2676*ALDE+I2676*AT+J2676*BE+K2676*DE+L2676*FR+M2676*NL)>(N2676),1,0)","v":0},null,{"$f":"IF((C$6*G2676+D$6*H2676+E$6*I2676+F$6*J2676+G$6*K2676+H$6*L2676+I$6*M2676)>(N2676),1,0)","v":0}]
[null,1977,"[D7-FR] Ensdorf - Vigy 2S [OPP] [D7]_LTA_corner#30_#18","10T-DE-FR-000068","[D7-D7] Ensdorf - Uchtelfangen Taubental N","11T0-0000-0604-N",0,0,-0.12392,0.45866000000000001,-0.30876999999999999,0.82396999999999998,0,3747,{"$f":"IF((G2677*ALBE+H2677*ALDE+I2677*AT+J2677*BE+K2677*DE+L2677*FR+M2677*NL)>(N2677),1,0)","v":0},null,{"$f":"IF((C$6*G2677+D$6*H2677+E$6*I2677+F$6*J2677+G$6*K2677+H$6*L2677+I$6*M2677)>(N2677),1,0)","v":0}]
[null,1978,"[D2-AT] Pleinting - St. Peter 258 [DIR] [AT]_LTA_corner#11_#15","10T-AT-DE-000037","[D2-D2] Pirach - Pleinting 257","11TD2L000000201H",0,0,-0.99790999999999996,6.1700000000000001E-3,-6.4000000000000001E-2,6.1700000000000001E-3,0,4688,{"$f":"IF((G2678*ALBE+H2678*ALDE+I2678*AT+J2678*BE+K2678*DE+L2678*FR+M2678*NL)>(N2678),1,0)","v":0},null,{"$f":"IF((C$6*G2678+D$6*H2678+E$6*I2678+F$6*J2678+G$6*K2678+H$6*L2678+I$6*M2678)>(N2678),1,0)","v":0}]
[null,1979,"[BE-FR] Achene - Lonny 380.19 [DIR] [BE]_LTA_corner#09_#9","10T-BE-FR-000015","[BE-BE] Avelgem - Horta 380.102","22T20161020---1E",0,0,-0.40511999999999998,-0.60399000000000003,-0.32597999999999999,-0.60399000000000003,0,1561,{"$f":"IF((G2679*ALBE+H2679*ALDE+I2679*AT+J2679*BE+K2679*DE+L2679*FR+M2679*NL)>(N2679),1,0)","v":0},null,{"$f":"IF((C$6*G2679+D$6*H2679+E$6*I2679+F$6*J2679+G$6*K2679+H$6*L2679+I$6*M2679)>(N2679),1,0)","v":0}]
[null,1980,"[D7-FR] Ensdorf - Vigy 2S [OPP] [D7]_LTA_corner#30_#4","10T-DE-FR-000068","[D7-D7] Ensdorf - Uchtelfangen Taubental N","11T0-0000-0604-N",0,0,0.13663,0.30775000000000002,-4.598E-2,0.94047999999999998,0,3540,{"$f":"IF((G2680*ALBE+H2680*ALDE+I2680*AT+J2680*BE+K2680*DE+L2680*FR+M2680*NL)>(N2680),1,0)","v":0},null,{"$f":"IF((C$6*G2680+D$6*H2680+E$6*I2680+F$6*J2680+G$6*K2680+H$6*L2680+I$6*M2680)>(N2680),1,0)","v":0}]
[null,1981,"[AT-AT] Westtirol Transformer WTRHU41 [OPP]_LTA_corner#20_#1","14T-38220-WT041O","BASECASE","N/A",0,0,0.98816000000000004,-2.2620000000000001E-2,0.11015999999999999,-0.10434,0,4631,{"$f":"IF((G2681*ALBE+H2681*ALDE+I2681*AT+J2681*BE+K2681*DE+L2681*FR+M2681*NL)>(N2681),1,0)","v":0},null,{"$f":"IF((C$6*G2681+D$6*H2681+E$6*I2681+F$6*J2681+G$6*K2681+H$6*L2681+I$6*M2681)>(N2681),1,0)","v":0}]
[null,1982,"[AT-AT] Westtirol Transformer WTRHU41 [OPP]_LTA_corner#20_#14","14T-38220-WT041O","BASECASE","N/A",0,0,0.98787000000000003,-2.6110000000000001E-2,0.12626999999999999,-8.6540000000000006E-2,0,4557,{"$f":"IF((G2682*ALBE+H2682*ALDE+I2682*AT+J2682*BE+K2682*DE+L2682*FR+M2682*NL)>(N2682),1,0)","v":0},null,{"$f":"IF((C$6*G2682+D$6*H2682+E$6*I2682+F$6*J2682+G$6*K2682+H$6*L2682+I$6*M2682)>(N2682),1,0)","v":0}]
[null,1983,"[D2-D2] Altheim - Sittling 220 [OPP]_LTA_corner#09_#25","11TD2L000000004J","[D2-AT] Pleinting - St. Peter 258","10T-AT-DE-000037",0,0,-0.96235000000000004,-0.11552,-0.15956000000000001,-0.18726999999999999,0,4246,{"$f":"IF((G2683*ALBE+H2683*ALDE+I2683*AT+J2683*BE+K2683*DE+L2683*FR+M2683*NL)>(N2683),1,0)","v":0},null,{"$f":"IF((C$6*G2683+D$6*H2683+E$6*I2683+F$6*J2683+G$6*K2683+H$6*L2683+I$6*M2683)>(N2683),1,0)","v":0}]
[null,1984,"[D7-FR] Ensdorf - Vigy 2S [OPP] [D7]_LTA_corner#23_#27","10T-DE-FR-000068","[D7-D7] Ensdorf - Uchtelfangen Taubental N","11T0-0000-0604-N",0,0,0.14208999999999999,0.34127999999999997,0,0.92915999999999999,0,3149,{"$f":"IF((G2684*ALBE+H2684*ALDE+I2684*AT+J2684*BE+K2684*DE+L2684*FR+M2684*NL)>(N2684),1,0)","v":0},null,{"$f":"IF((C$6*G2684+D$6*H2684+E$6*I2684+F$6*J2684+G$6*K2684+H$6*L2684+I$6*M2684)>(N2684),1,0)","v":0}]
[null,1985,"[D2-AT] Pleinting - St. Peter 258 [DIR] [AT]_LTA_corner#04_#18","10T-AT-DE-000037","[D2-D2] Pirach - Pleinting 257","11TD2L000000201H",0,0,-0.99758000000000002,-4.9200000000000001E-2,0,-4.9200000000000001E-2,0,4896,{"$f":"IF((G2685*ALBE+H2685*ALDE+I2685*AT+J2685*BE+K2685*DE+L2685*FR+M2685*NL)>(N2685),1,0)","v":0},null,{"$f":"IF((C$6*G2685+D$6*H2685+E$6*I2685+F$6*J2685+G$6*K2685+H$6*L2685+I$6*M2685)>(N2685),1,0)","v":0}]
[null,1986,"[BE-FR] Achene - Lonny 380.19 [DIR] [BE]_LTA_corner#09_#12","10T-BE-FR-000015","[BE-BE] Avelgem - Horta 380.102","22T20161020---1E",0,0,-0.44092999999999999,-0.47621999999999998,-0.34743000000000002,-0.67681999999999998,0,1735,{"$f":"IF((G2686*ALBE+H2686*ALDE+I2686*AT+J2686*BE+K2686*DE+L2686*FR+M2686*NL)>(N2686),1,0)","v":0},null,{"$f":"IF((C$6*G2686+D$6*H2686+E$6*I2686+F$6*J2686+G$6*K2686+H$6*L2686+I$6*M2686)>(N2686),1,0)","v":0}]
[null,1987,"[D2-AT] Pleinting - St. Peter 258 [DIR] [AT]_LTA_corner#07_#5","10T-AT-DE-000037","[D2-D2] Pirach - Pleinting 257","11TD2L000000201H",0,0,-0.99866999999999995,0,0,5.1529999999999999E-2,0,4972,{"$f":"IF((G2687*ALBE+H2687*ALDE+I2687*AT+J2687*BE+K2687*DE+L2687*FR+M2687*NL)>(N2687),1,0)","v":0},null,{"$f":"IF((C$6*G2687+D$6*H2687+E$6*I2687+F$6*J2687+G$6*K2687+H$6*L2687+I$6*M2687)>(N2687),1,0)","v":0}]
[null,1988,"[D2-D2] Altheim - Sittling 220 [OPP]_LTA_corner#04_#14","11TD2L000000004J","[D2-AT] Pleinting - St. Peter 258","10T-AT-DE-000037",0,0,-0.99582000000000004,-5.738E-2,0,-7.102E-2,0,4923,{"$f":"IF((G2688*ALBE+H2688*ALDE+I2688*AT+J2688*BE+K2688*DE+L2688*FR+M2688*NL)>(N2688),1,0)","v":0},null,{"$f":"IF((C$6*G2688+D$6*H2688+E$6*I2688+F$6*J2688+G$6*K2688+H$6*L2688+I$6*M2688)>(N2688),1,0)","v":0}]
[null,1989,"[D7-FR] Ensdorf - Vigy 2S [OPP] [D7]_LTA_corner#30_#12","10T-DE-FR-000068","[D7-D7] Ensdorf - Uchtelfangen Taubental N","11T0-0000-0604-N",0,0,-3.47E-3,0.31184000000000001,-0.23066,0.92169999999999996,0,4195,{"$f":"IF((G2689*ALBE+H2689*ALDE+I2689*AT+J2689*BE+K2689*DE+L2689*FR+M2689*NL)>(N2689),1,0)","v":0},null,{"$f":"IF((C$6*G2689+D$6*H2689+E$6*I2689+F$6*J2689+G$6*K2689+H$6*L2689+I$6*M2689)>(N2689),1,0)","v":0}]
[null,1990,"[D2-D2] Altheim - Sittling 220 [OPP]_LTA_corner#09_#0","11TD2L000000004J","[D2-AT] Pleinting - St. Peter 258","10T-AT-DE-000037",0,0,-0.99292999999999998,-7.4959999999999999E-2,-2.673E-2,-8.8120000000000004E-2,0,4820,{"$f":"IF((G2690*ALBE+H2690*ALDE+I2690*AT+J2690*BE+K2690*DE+L2690*FR+M2690*NL)>(N2690),1,0)","v":0},null,{"$f":"IF((C$6*G2690+D$6*H2690+E$6*I2690+F$6*J2690+G$6*K2690+H$6*L2690+I$6*M2690)>(N2690),1,0)","v":0}]
[null,1991,"[D2-D2] Altheim - Sittling 220 [OPP]_LTA_corner#05_#0","11TD2L000000004J","[D2-AT] Pleinting - St. Peter 258","10T-AT-DE-000037",0,0,-0.72399999999999998,0.27066000000000001,0.56040000000000001,0.29752000000000001,0,7273,{"$f":"IF((G2691*ALBE+H2691*ALDE+I2691*AT+J2691*BE+K2691*DE+L2691*FR+M2691*NL)>(N2691),1,0)","v":0},null,{"$f":"IF((C$6*G2691+D$6*H2691+E$6*I2691+F$6*J2691+G$6*K2691+H$6*L2691+I$6*M2691)>(N2691),1,0)","v":0}]
[null,1992,"[D2-D2] Altheim - Sittling 220 [OPP]_LTA_corner#09_#27","11TD2L000000004J","[D2-AT] Pleinting - St. Peter 258","10T-AT-DE-000037",0,0,-0.95316999999999996,-0.11631,-0.19739999999999999,-0.19739999999999999,0,4050,{"$f":"IF((G2692*ALBE+H2692*ALDE+I2692*AT+J2692*BE+K2692*DE+L2692*FR+M2692*NL)>(N2692),1,0)","v":0},null,{"$f":"IF((C$6*G2692+D$6*H2692+E$6*I2692+F$6*J2692+G$6*K2692+H$6*L2692+I$6*M2692)>(N2692),1,0)","v":0}]
[null,1993,"[BE-FR] Achene - Lonny 380.19 [DIR] [BE]_LTA_corner#09_#8","10T-BE-FR-000015","[BE-BE] Avelgem - Horta 380.102","22T20161020---1E",0,0,-0.40301999999999999,-0.60519999999999996,-0.3241,-0.60519999999999996,0,1561,{"$f":"IF((G2693*ALBE+H2693*ALDE+I2693*AT+J2693*BE+K2693*DE+L2693*FR+M2693*NL)>(N2693),1,0)","v":0},null,{"$f":"IF((C$6*G2693+D$6*H2693+E$6*I2693+F$6*J2693+G$6*K2693+H$6*L2693+I$6*M2693)>(N2693),1,0)","v":0}]
[null,1994,"[D2-AT] Pleinting - St. Peter 258 [DIR] [AT]_LTA_corner#04_#2","10T-AT-DE-000037","[D2-D2] Pirach - Pleinting 257","11TD2L000000201H",0,0,-0.99661999999999995,-2.6370000000000001E-2,7.3219999999999993E-2,-2.6370000000000001E-2,0,5356,{"$f":"IF((G2694*ALBE+H2694*ALDE+I2694*AT+J2694*BE+K2694*DE+L2694*FR+M2694*NL)>(N2694),1,0)","v":0},null,{"$f":"IF((C$6*G2694+D$6*H2694+E$6*I2694+F$6*J2694+G$6*K2694+H$6*L2694+I$6*M2694)>(N2694),1,0)","v":0}]
[null,1995,"[AT-AT] Westtirol Transformer WTRHU41 [OPP]_LTA_corner#17_#0","14T-38220-WT041O","BASECASE","N/A",0,0,0.99116000000000004,7.45E-3,0.11049,-7.3029999999999998E-2,0,4600,{"$f":"IF((G2695*ALBE+H2695*ALDE+I2695*AT+J2695*BE+K2695*DE+L2695*FR+M2695*NL)>(N2695),1,0)","v":0},null,{"$f":"IF((C$6*G2695+D$6*H2695+E$6*I2695+F$6*J2695+G$6*K2695+H$6*L2695+I$6*M2695)>(N2695),1,0)","v":0}]
[null,1996,"[D2-D2] Altheim - Sittling 220 [OPP]_LTA_corner#04_#4","11TD2L000000004J","[D2-AT] Pleinting - St. Peter 258","10T-AT-DE-000037",0,0,-0.99994000000000005,-3.4199999999999999E-3,0,-1.0030000000000001E-2,0,4837,{"$f":"IF((G2696*ALBE+H2696*ALDE+I2696*AT+J2696*BE+K2696*DE+L2696*FR+M2696*NL)>(N2696),1,0)","v":0},null,{"$f":"IF((C$6*G2696+D$6*H2696+E$6*I2696+F$6*J2696+G$6*K2696+H$6*L2696+I$6*M2696)>(N2696),1,0)","v":0}]
[null,1997,"[D2-AT] Pleinting - St. Peter 258 [DIR] [AT]_LTA_corner#11_#2","10T-AT-DE-000037","[D2-D2] Pirach - Pleinting 257","11TD2L000000201H",0,0,-0.99789000000000005,0,-5.9270000000000003E-2,-2.64E-2,0,4666,{"$f":"IF((G2697*ALBE+H2697*ALDE+I2697*AT+J2697*BE+K2697*DE+L2697*FR+M2697*NL)>(N2697),1,0)","v":0},null,{"$f":"IF((C$6*G2697+D$6*H2697+E$6*I2697+F$6*J2697+G$6*K2697+H$6*L2697+I$6*M2697)>(N2697),1,0)","v":0}]
[null,1998,"[BE-BE] PST_ZANDV_2 [N - S]_LTA_corner#13_#40","22T20161020---56","[NL-BE] Rilland - Zandvliet 380 White/30","10T-BE-NL-00004C",0,0,-0.38955000000000001,-0.66635999999999995,-0.32630999999999999,-0.54566000000000003,0,1678,{"$f":"IF((G2698*ALBE+H2698*ALDE+I2698*AT+J2698*BE+K2698*DE+L2698*FR+M2698*NL)>(N2698),1,0)","v":0},null,{"$f":"IF((C$6*G2698+D$6*H2698+E$6*I2698+F$6*J2698+G$6*K2698+H$6*L2698+I$6*M2698)>(N2698),1,0)","v":0}]
[null,1999,"[D2-AT] Pleinting - St. Peter 258 [DIR] [AT]_LTA_corner#12_#14","10T-AT-DE-000037","[D2-D2] Pirach - Pleinting 257","11TD2L000000201H",0,0,-0.99865999999999999,-2.1000000000000001E-4,0,5.178E-2,0,4973,{"$f":"IF((G2699*ALBE+H2699*ALDE+I2699*AT+J2699*BE+K2699*DE+L2699*FR+M2699*NL)>(N2699),1,0)","v":0},null,{"$f":"IF((C$6*G2699+D$6*H2699+E$6*I2699+F$6*J2699+G$6*K2699+H$6*L2699+I$6*M2699)>(N2699),1,0)","v":0}]
[null,2000,"[D2-AT] Pleinting - St. Peter 258 [DIR] [AT]_LTA_corner#11_#16","10T-AT-DE-000037","[D2-D2] Pirach - Pleinting 257","11TD2L000000201H",0,0,-0.99863999999999997,2.946E-2,-3.1269999999999999E-2,2.946E-2,0,4807,{"$f":"IF((G2700*ALBE+H2700*ALDE+I2700*AT+J2700*BE+K2700*DE+L2700*FR+M2700*NL)>(N2700),1,0)","v":0},null,{"$f":"IF((C$6*G2700+D$6*H2700+E$6*I2700+F$6*J2700+G$6*K2700+H$6*L2700+I$6*M2700)>(N2700),1,0)","v":0}]
[null,2001,"[D2-D2] Altheim - Sittling 220 [OPP]_LTA_corner#01_#7","11TD2L000000004J","[D2-AT] Pleinting - St. Peter 258","10T-AT-DE-000037",0,0,-0.99992999999999999,0,1.1560000000000001E-2,0,0,4900,{"$f":"IF((G2701*ALBE+H2701*ALDE+I2701*AT+J2701*BE+K2701*DE+L2701*FR+M2701*NL)>(N2701),1,0)","v":0},null,{"$f":"IF((C$6*G2701+D$6*H2701+E$6*I2701+F$6*J2701+G$6*K2701+H$6*L2701+I$6*M2701)>(N2701),1,0)","v":0}]
[null,2002,"[BE-BE] PST_ZANDV_2 [N - S]_LTA_corner#13_#32","22T20161020---56","[NL-BE] Rilland - Zandvliet 380 White/30","10T-BE-NL-00004C",0,0,-0.32079000000000002,-0.77939000000000003,-0.26213999999999998,-0.47003,0,1962,{"$f":"IF((G2702*ALBE+H2702*ALDE+I2702*AT+J2702*BE+K2702*DE+L2702*FR+M2702*NL)>(N2702),1,0)","v":0},null,{"$f":"IF((C$6*G2702+D$6*H2702+E$6*I2702+F$6*J2702+G$6*K2702+H$6*L2702+I$6*M2702)>(N2702),1,0)","v":0}]
[null,2003,"[D2-AT] Pleinting - St. Peter 258 [DIR] [AT]_LTA_corner#05_#18","10T-AT-DE-000037","[D2-D2] Pirach - Pleinting 257","11TD2L000000201H",0,0,-0.99917999999999996,0,2.8570000000000002E-2,2.8570000000000002E-2,0,5034,{"$f":"IF((G2703*ALBE+H2703*ALDE+I2703*AT+J2703*BE+K2703*DE+L2703*FR+M2703*NL)>(N2703),1,0)","v":0},null,{"$f":"IF((C$6*G2703+D$6*H2703+E$6*I2703+F$6*J2703+G$6*K2703+H$6*L2703+I$6*M2703)>(N2703),1,0)","v":0}]
[null,2004,"[D2-D2] Altheim - Sittling 220 [OPP]_LTA_corner#04_#1","11TD2L000000004J","[D2-AT] Pleinting - St. Peter 258","10T-AT-DE-000037",0,0,-0.99892999999999998,-3.2000000000000001E-2,0,-3.3259999999999998E-2,0,4874,{"$f":"IF((G2704*ALBE+H2704*ALDE+I2704*AT+J2704*BE+K2704*DE+L2704*FR+M2704*NL)>(N2704),1,0)","v":0},null,{"$f":"IF((C$6*G2704+D$6*H2704+E$6*I2704+F$6*J2704+G$6*K2704+H$6*L2704+I$6*M2704)>(N2704),1,0)","v":0}]
[null,2005,"[AT-AT] Westtirol Transformer WTRHU41 [OPP]_LTA_corner#20_#2","14T-38220-WT041O","BASECASE","N/A",0,0,0.99695999999999996,-2.3700000000000001E-3,7.7590000000000006E-2,-6.9499999999999996E-3,0,4603,{"$f":"IF((G2705*ALBE+H2705*ALDE+I2705*AT+J2705*BE+K2705*DE+L2705*FR+M2705*NL)>(N2705),1,0)","v":0},null,{"$f":"IF((C$6*G2705+D$6*H2705+E$6*I2705+F$6*J2705+G$6*K2705+H$6*L2705+I$6*M2705)>(N2705),1,0)","v":0}]
[null,2006,"[D2-D2] Altheim - Sittling 220 [OPP]_LTA_corner#01_#16","11TD2L000000004J","[D2-AT] Pleinting - St. Peter 258","10T-AT-DE-000037",0,0,-0.99890999999999996,2.5260000000000001E-2,0,-3.9350000000000003E-2,0,4909,{"$f":"IF((G2706*ALBE+H2706*ALDE+I2706*AT+J2706*BE+K2706*DE+L2706*FR+M2706*NL)>(N2706),1,0)","v":0},null,{"$f":"IF((C$6*G2706+D$6*H2706+E$6*I2706+F$6*J2706+G$6*K2706+H$6*L2706+I$6*M2706)>(N2706),1,0)","v":0}]
[null,2007,"[D2-D2] Altheim - Sittling 220 [OPP]_LTA_corner#09_#23","11TD2L000000004J","[D2-AT] Pleinting - St. Peter 258","10T-AT-DE-000037",0,0,-0.95567999999999997,-0.10922999999999999,-0.19331000000000001,-0.19331000000000001,0,4073,{"$f":"IF((G2707*ALBE+H2707*ALDE+I2707*AT+J2707*BE+K2707*DE+L2707*FR+M2707*NL)>(N2707),1,0)","v":0},null,{"$f":"IF((C$6*G2707+D$6*H2707+E$6*I2707+F$6*J2707+G$6*K2707+H$6*L2707+I$6*M2707)>(N2707),1,0)","v":0}]
[null,2008,"[D2-D2] Altheim - Sittling 220 [OPP]_LTA_corner#01_#21","11TD2L000000004J","[D2-AT] Pleinting - St. Peter 258","10T-AT-DE-000037",0,0,-0.99721000000000004,0,7.4590000000000004E-2,0,0,5322,{"$f":"IF((G2708*ALBE+H2708*ALDE+I2708*AT+J2708*BE+K2708*DE+L2708*FR+M2708*NL)>(N2708),1,0)","v":0},null,{"$f":"IF((C$6*G2708+D$6*H2708+E$6*I2708+F$6*J2708+G$6*K2708+H$6*L2708+I$6*M2708)>(N2708),1,0)","v":0}]
[null,2009,"[D7-FR] Ensdorf - Vigy 2S [OPP] [D7]_LTA_corner#23_#23","10T-DE-FR-000068","[D7-D7] Ensdorf - Uchtelfangen Taubental N","11T0-0000-0604-N",0,0,0.22733999999999999,0.36880000000000002,0.11869,0.89342999999999995,0,2818,{"$f":"IF((G2709*ALBE+H2709*ALDE+I2709*AT+J2709*BE+K2709*DE+L2709*FR+M2709*NL)>(N2709),1,0)","v":0},null,{"$f":"IF((C$6*G2709+D$6*H2709+E$6*I2709+F$6*J2709+G$6*K2709+H$6*L2709+I$6*M2709)>(N2709),1,0)","v":0}]
[null,2010,"[D7-FR] Ensdorf - Vigy 2S [OPP] [D7]_LTA_corner#23_#13","10T-DE-FR-000068","[D7-D7] Ensdorf - Uchtelfangen Taubental N","11T0-0000-0604-N",0,0,0.11604,0.37907999999999997,0,0.91805999999999999,0,2949,{"$f":"IF((G2710*ALBE+H2710*ALDE+I2710*AT+J2710*BE+K2710*DE+L2710*FR+M2710*NL)>(N2710),1,0)","v":0},null,{"$f":"IF((C$6*G2710+D$6*H2710+E$6*I2710+F$6*J2710+G$6*K2710+H$6*L2710+I$6*M2710)>(N2710),1,0)","v":0}]
[null,2011,"[BE-FR] Achene - Lonny 380.19 [OPP] [BE]","10T-BE-FR-000015","[BE-BE] Avelgem - Horta 380.102","22T20161020---1E",-0.28541,-7.5569999999999998E-2,2.0539999999999999E-2,-0.28199000000000002,-3.057E-2,0.15165000000000001,-0.13453000000000001,2337,{"$f":"IF((G2711*ALBE+H2711*ALDE+I2711*AT+J2711*BE+K2711*DE+L2711*FR+M2711*NL)>(N2711),1,0)","v":0},null,{"$f":"IF((C$6*G2711+D$6*H2711+E$6*I2711+F$6*J2711+G$6*K2711+H$6*L2711+I$6*M2711)>(N2711),1,0)","v":0}]
[null,2012,"[D2-D2] Altheim - Sittling 220 [OPP]_LTA_corner#05_#1","11TD2L000000004J","[D2-AT] Pleinting - St. Peter 258","10T-AT-DE-000037",0,0,-0.21118000000000001,0.40271000000000001,0.75441999999999998,0.47337000000000001,0,6121,{"$f":"IF((G2712*ALBE+H2712*ALDE+I2712*AT+J2712*BE+K2712*DE+L2712*FR+M2712*NL)>(N2712),1,0)","v":0},null,{"$f":"IF((C$6*G2712+D$6*H2712+E$6*I2712+F$6*J2712+G$6*K2712+H$6*L2712+I$6*M2712)>(N2712),1,0)","v":0}]
[null,2013,"[D2-AT] Pleinting - St. Peter 258 [DIR] [AT]_LTA_corner#02_#1","10T-AT-DE-000037","[D2-D2] Pirach - Pleinting 257","11TD2L000000201H",0,0,-0.99863000000000002,3.669E-2,-2.6419999999999999E-2,-2.6419999999999999E-2,0,4784,{"$f":"IF((G2713*ALBE+H2713*ALDE+I2713*AT+J2713*BE+K2713*DE+L2713*FR+M2713*NL)>(N2713),1,0)","v":0},null,{"$f":"IF((C$6*G2713+D$6*H2713+E$6*I2713+F$6*J2713+G$6*K2713+H$6*L2713+I$6*M2713)>(N2713),1,0)","v":0}]
[null,2014,"ALBE_import","N/A","BASECASE","N/A",-1,0,0,0,0,0,0,0,{"$f":"IF((G2714*ALBE+H2714*ALDE+I2714*AT+J2714*BE+K2714*DE+L2714*FR+M2714*NL)>(N2714),1,0)","v":0},null,{"$f":"IF((C$6*G2714+D$6*H2714+E$6*I2714+F$6*J2714+G$6*K2714+H$6*L2714+I$6*M2714)>(N2714),1,0)","v":0}]
[null,2015,"[D2-D2] Altheim - Sittling 220 [OPP]_LTA_corner#01_#13","11TD2L000000004J","[D2-AT] Pleinting - St. Peter 258","10T-AT-DE-000037",0,0,-0.82479000000000002,0.22028,0.47188999999999998,0.22028,0,7149,{"$f":"IF((G2715*ALBE+H2715*ALDE+I2715*AT+J2715*BE+K2715*DE+L2715*FR+M2715*NL)>(N2715),1,0)","v":0},null,{"$f":"IF((C$6*G2715+D$6*H2715+E$6*I2715+F$6*J2715+G$6*K2715+H$6*L2715+I$6*M2715)>(N2715),1,0)","v":0}]
[null,2016,"[D2-AT] Pleinting - St. Peter 258 [DIR] [AT]_LTA_corner#02_#8","10T-AT-DE-000037","[D2-D2] Pirach - Pleinting 257","11TD2L000000201H",0,0,-0.99827999999999995,5.7759999999999999E-2,-6.94E-3,-6.94E-3,0,4863,{"$f":"IF((G2716*ALBE+H2716*ALDE+I2716*AT+J2716*BE+K2716*DE+L2716*FR+M2716*NL)>(N2716),1,0)","v":0},null,{"$f":"IF((C$6*G2716+D$6*H2716+E$6*I2716+F$6*J2716+G$6*K2716+H$6*L2716+I$6*M2716)>(N2716),1,0)","v":0}]
[null,2017,"[NL-D7] Maasbracht - Oberzier 380 white [DIR] [D7]","10T-DE-NL-00005N","[NL-D7] Maasbracht - Siersdorf 380 black","10T-DE-NL-00006L",0.30696000000000001,-0.17480999999999999,2.3E-3,0.27022000000000002,7.7799999999999996E-3,7.9939999999999997E-2,0.23638000000000001,1053,{"$f":"IF((G2717*ALBE+H2717*ALDE+I2717*AT+J2717*BE+K2717*DE+L2717*FR+M2717*NL)>(N2717),1,0)","v":0},null,{"$f":"IF((C$6*G2717+D$6*H2717+E$6*I2717+F$6*J2717+G$6*K2717+H$6*L2717+I$6*M2717)>(N2717),1,0)","v":0}]
[null,2018,"[D2-AT] Pleinting - St. Peter 258 [DIR] [AT]_LTA_corner#14_#14","10T-AT-DE-000037","[D2-D2] Pirach - Pleinting 257","11TD2L000000201H",0,0,-0.99802999999999997,0,-5.5939999999999997E-2,2.8369999999999999E-2,0,4780,{"$f":"IF((G2718*ALBE+H2718*ALDE+I2718*AT+J2718*BE+K2718*DE+L2718*FR+M2718*NL)>(N2718),1,0)","v":0},null,{"$f":"IF((C$6*G2718+D$6*H2718+E$6*I2718+F$6*J2718+G$6*K2718+H$6*L2718+I$6*M2718)>(N2718),1,0)","v":0}]
[null,2019,"[D2-AT] Pleinting - St. Peter 258 [DIR] [AT]_LTA_corner#01_#5","10T-AT-DE-000037","[D2-D2] Pirach - Pleinting 257","11TD2L000000201H",0,0,-1,0,0,0,0,4821,{"$f":"IF((G2719*ALBE+H2719*ALDE+I2719*AT+J2719*BE+K2719*DE+L2719*FR+M2719*NL)>(N2719),1,0)","v":0},null,{"$f":"IF((C$6*G2719+D$6*H2719+E$6*I2719+F$6*J2719+G$6*K2719+H$6*L2719+I$6*M2719)>(N2719),1,0)","v":0}]
[null,2020,"[D2-AT] Pleinting - St. Peter 258 [DIR] [AT]_LTA_corner#01_#9","10T-AT-DE-000037","[D2-D2] Pirach - Pleinting 257","11TD2L000000201H",0,0,-0.99458999999999997,0,0.10050000000000001,-2.631E-2,0,5530,{"$f":"IF((G2720*ALBE+H2720*ALDE+I2720*AT+J2720*BE+K2720*DE+L2720*FR+M2720*NL)>(N2720),1,0)","v":0},null,{"$f":"IF((C$6*G2720+D$6*H2720+E$6*I2720+F$6*J2720+G$6*K2720+H$6*L2720+I$6*M2720)>(N2720),1,0)","v":0}]
["hour 20",2194,"[D2-D2] Altheim - Sittling 220 [OPP]_LTA_corner#01_#14","11TD2L000000004J","[D2-AT] Pleinting - St. Peter 258","10T-AT-DE-000037",0,0,-0.98599000000000003,0,0.10489999999999999,-0.12972,0,5685,{"$f":"IF((G2721*ALBE+H2721*ALDE+I2721*AT+J2721*BE+K2721*DE+L2721*FR+M2721*NL)>(N2721),1,0)","v":0},null,{"$f":"IF((C$6*G2721+D$6*H2721+E$6*I2721+F$6*J2721+G$6*K2721+H$6*L2721+I$6*M2721)>(N2721),1,0)","v":0}]
[null,2195,"[BE-BE] PST_ZANDV_2 [N - S]_LTA_corner#13_#2","22T20161020---56","[NL-BE] Rilland - Zandvliet 380 White/30","10T-BE-NL-00004C",0,0,-0.31685999999999998,-0.80083000000000004,-0.27091999999999999,-0.42997000000000002,0,1984,{"$f":"IF((G2722*ALBE+H2722*ALDE+I2722*AT+J2722*BE+K2722*DE+L2722*FR+M2722*NL)>(N2722),1,0)","v":0},null,{"$f":"IF((C$6*G2722+D$6*H2722+E$6*I2722+F$6*J2722+G$6*K2722+H$6*L2722+I$6*M2722)>(N2722),1,0)","v":0}]
[null,2196,"[D7-FR] Ensdorf - Vigy 2S [OPP] [D7]_LTA_corner#30_#31","10T-DE-FR-000068","[D7-FR] Ensdorf - Vigy 1N","10T-DE-FR-00005A",0,0,0.10806,0.38841999999999999,-7.0239999999999997E-2,0.91242999999999996,0,3413,{"$f":"IF((G2723*ALBE+H2723*ALDE+I2723*AT+J2723*BE+K2723*DE+L2723*FR+M2723*NL)>(N2723),1,0)","v":0},null,{"$f":"IF((C$6*G2723+D$6*H2723+E$6*I2723+F$6*J2723+G$6*K2723+H$6*L2723+I$6*M2723)>(N2723),1,0)","v":0}]
[null,2197,"[D2-AT] Pleinting - St. Peter 258 [DIR] [AT]_LTA_corner#09_#8","10T-AT-DE-000037","[D2-D2] Pirach - Pleinting 257","11TD2L000000201H",0,0,-0.99851000000000001,-3.15E-2,-3.15E-2,-3.15E-2,0,4729,{"$f":"IF((G2724*ALBE+H2724*ALDE+I2724*AT+J2724*BE+K2724*DE+L2724*FR+M2724*NL)>(N2724),1,0)","v":0},null,{"$f":"IF((C$6*G2724+D$6*H2724+E$6*I2724+F$6*J2724+G$6*K2724+H$6*L2724+I$6*M2724)>(N2724),1,0)","v":0}]
[null,2198,"[BE-FR] Achene - Lonny 380.19 [DIR] [BE]_LTA_corner#09_#1","10T-BE-FR-000015","[BE-BE] Avelgem - Horta 380.102","22T20161020---1E",0,0,-0.39761000000000002,-0.60702999999999996,-0.32391999999999999,-0.60702999999999996,0,1539,{"$f":"IF((G2725*ALBE+H2725*ALDE+I2725*AT+J2725*BE+K2725*DE+L2725*FR+M2725*NL)>(N2725),1,0)","v":0},null,{"$f":"IF((C$6*G2725+D$6*H2725+E$6*I2725+F$6*J2725+G$6*K2725+H$6*L2725+I$6*M2725)>(N2725),1,0)","v":0}]
[null,2199,"[D2-AT] Y - St. Peter (- Altheim - Simbach) 233/230 [OPP] [D2]","10T-AT-DE-00001B","[D2-AT] Y - St. Peter (- Altheim - Simbach) 234/230","10T-AT-DE-000045",-3.7620000000000001E-2,-3.8719999999999997E-2,2.3769999999999999E-2,-3.737E-2,-3.807E-2,-3.44E-2,-3.8240000000000003E-2,397,{"$f":"IF((G2726*ALBE+H2726*ALDE+I2726*AT+J2726*BE+K2726*DE+L2726*FR+M2726*NL)>(N2726),1,0)","v":0},null,{"$f":"IF((C$6*G2726+D$6*H2726+E$6*I2726+F$6*J2726+G$6*K2726+H$6*L2726+I$6*M2726)>(N2726),1,0)","v":0}]
[null,2200,"[NL-NL] Krimpen a/d IJssel - Geertruidenberg 380 Zwart [OPP]","49T0000000000282","[NL-NL] Diemen - Lelystad 380 Wit","49T0000000000096",0.10183,3.1800000000000002E-2,1.1599999999999999E-2,0.12499,-2.036E-2,5.901E-2,-0.24873000000000001,1907,{"$f":"IF((G2727*ALBE+H2727*ALDE+I2727*AT+J2727*BE+K2727*DE+L2727*FR+M2727*NL)>(N2727),1,0)","v":0},null,{"$f":"IF((C$6*G2727+D$6*H2727+E$6*I2727+F$6*J2727+G$6*K2727+H$6*L2727+I$6*M2727)>(N2727),1,0)","v":0}]
[null,2201,"[D2-D2] Altheim - Sittling 220 [OPP]_LTA_corner#05_#10","11TD2L000000004J","[D2-AT] Pleinting - St. Peter 258","10T-AT-DE-000037",0,0,3.1829999999999997E-2,0.40992000000000001,0.76415999999999995,0.497,0,5025,{"$f":"IF((G2728*ALBE+H2728*ALDE+I2728*AT+J2728*BE+K2728*DE+L2728*FR+M2728*NL)>(N2728),1,0)","v":0},null,{"$f":"IF((C$6*G2728+D$6*H2728+E$6*I2728+F$6*J2728+G$6*K2728+H$6*L2728+I$6*M2728)>(N2728),1,0)","v":0}]
[null,2202,"[BE-FR] Achene - Lonny 380.19 [DIR] [BE]_LTA_corner#02_#8","10T-BE-FR-000015","[BE-BE] Avelgem - Horta 380.102","22T20161020---1E",0,0,-0.42276000000000002,0.23738999999999999,-0.26521,-0.83342000000000005,0,2480,{"$f":"IF((G2729*ALBE+H2729*ALDE+I2729*AT+J2729*BE+K2729*DE+L2729*FR+M2729*NL)>(N2729),1,0)","v":0},null,{"$f":"IF((C$6*G2729+D$6*H2729+E$6*I2729+F$6*J2729+G$6*K2729+H$6*L2729+I$6*M2729)>(N2729),1,0)","v":0}]
[null,2203,"[D7-FR] Ensdorf - Vigy 2S [OPP] [D7]_LTA_corner#30_#47","10T-DE-FR-000068","[D7-FR] Ensdorf - Vigy 1N","10T-DE-FR-00005A",0,0,0.15597,0.34800999999999999,-1.8339999999999999E-2,0.92423999999999995,0,3332,{"$f":"IF((G2730*ALBE+H2730*ALDE+I2730*AT+J2730*BE+K2730*DE+L2730*FR+M2730*NL)>(N2730),1,0)","v":0},null,{"$f":"IF((C$6*G2730+D$6*H2730+E$6*I2730+F$6*J2730+G$6*K2730+H$6*L2730+I$6*M2730)>(N2730),1,0)","v":0}]
[null,2204,"[D2-D2] Altheim - Sittling 220 [OPP]_LTA_corner#04_#3","11TD2L000000004J","[D2-AT] Pleinting - St. Peter 258","10T-AT-DE-000037",0,0,-0.97748999999999997,-5.8299999999999998E-2,0,-0.20274,0,5046,{"$f":"IF((G2731*ALBE+H2731*ALDE+I2731*AT+J2731*BE+K2731*DE+L2731*FR+M2731*NL)>(N2731),1,0)","v":0},null,{"$f":"IF((C$6*G2731+D$6*H2731+E$6*I2731+F$6*J2731+G$6*K2731+H$6*L2731+I$6*M2731)>(N2731),1,0)","v":0}]
[null,2205,"[D2-AT] Pleinting - St. Peter 258 [DIR] [AT]_LTA_corner#13_#11","10T-AT-DE-000037","[D2-D2] Pirach - Pleinting 257","11TD2L000000201H",0,0,-0.99839999999999995,-4.2169999999999999E-2,-2.6630000000000001E-2,-2.6630000000000001E-2,0,4779,{"$f":"IF((G2732*ALBE+H2732*ALDE+I2732*AT+J2732*BE+K2732*DE+L2732*FR+M2732*NL)>(N2732),1,0)","v":0},null,{"$f":"IF((C$6*G2732+D$6*H2732+E$6*I2732+F$6*J2732+G$6*K2732+H$6*L2732+I$6*M2732)>(N2732),1,0)","v":0}]
[null,2206,"[D7-FR] Ensdorf - Vigy 2S [OPP] [D7]_LTA_corner#30_#37","10T-DE-FR-000068","[D7-FR] Ensdorf - Vigy 1N","10T-DE-FR-00005A",0,0,0.15340999999999999,0.37219000000000002,-3.3999999999999998E-3,0.91539000000000004,0,3154,{"$f":"IF((G2733*ALBE+H2733*ALDE+I2733*AT+J2733*BE+K2733*DE+L2733*FR+M2733*NL)>(N2733),1,0)","v":0},null,{"$f":"IF((C$6*G2733+D$6*H2733+E$6*I2733+F$6*J2733+G$6*K2733+H$6*L2733+I$6*M2733)>(N2733),1,0)","v":0}]
[null,2207,"[D7-FR] Ensdorf - Vigy 2S [OPP] [D7]_LTA_corner#30_#43","10T-DE-FR-000068","[D7-FR] Ensdorf - Vigy 1N","10T-DE-FR-00005A",0,0,0.11824999999999999,0.34645999999999999,-6.2420000000000003E-2,0.92849000000000004,0,3497,{"$f":"IF((G2734*ALBE+H2734*ALDE+I2734*AT+J2734*BE+K2734*DE+L2734*FR+M2734*NL)>(N2734),1,0)","v":0},null,{"$f":"IF((C$6*G2734+D$6*H2734+E$6*I2734+F$6*J2734+G$6*K2734+H$6*L2734+I$6*M2734)>(N2734),1,0)","v":0}]
[null,2208,"ALDE_export","N/A","BASECASE","N/A",0,1,0,0,0,0,0,0,{"$f":"IF((G2735*ALBE+H2735*ALDE+I2735*AT+J2735*BE+K2735*DE+L2735*FR+M2735*NL)>(N2735),1,0)","v":0},null,{"$f":"IF((C$6*G2735+D$6*H2735+E$6*I2735+F$6*J2735+G$6*K2735+H$6*L2735+I$6*M2735)>(N2735),1,0)","v":0}]
[null,2209,"[D2-AT] Pleinting - St. Peter 258 [DIR] [AT]_LTA_corner#14_#5","10T-AT-DE-000037","[D2-D2] Pirach - Pleinting 257","11TD2L000000201H",0,0,-0.99572000000000005,0,-8.3809999999999996E-2,3.891E-2,0,4743,{"$f":"IF((G2736*ALBE+H2736*ALDE+I2736*AT+J2736*BE+K2736*DE+L2736*FR+M2736*NL)>(N2736),1,0)","v":0},null,{"$f":"IF((C$6*G2736+D$6*H2736+E$6*I2736+F$6*J2736+G$6*K2736+H$6*L2736+I$6*M2736)>(N2736),1,0)","v":0}]
[null,2210,"[BE-BE] PST_ZANDV_2 [N - S]_LTA_corner#13_#41","22T20161020---56","[NL-BE] Rilland - Zandvliet 380 White/30","10T-BE-NL-00004C",0,0,-0.39073999999999998,-0.67257,-0.33143,-0.53398000000000001,0,1684,{"$f":"IF((G2737*ALBE+H2737*ALDE+I2737*AT+J2737*BE+K2737*DE+L2737*FR+M2737*NL)>(N2737),1,0)","v":0},null,{"$f":"IF((C$6*G2737+D$6*H2737+E$6*I2737+F$6*J2737+G$6*K2737+H$6*L2737+I$6*M2737)>(N2737),1,0)","v":0}]
[null,2211,"[NL-NL] Borssele - Rilland 380 Zwart [DIR]","49T000000000059S","[NL-NL] Borssele - Rilland 380 Grijs","49T000000000057W",-6.5100000000000002E-3,2.7399999999999998E-3,-8.1999999999999998E-4,-1.554E-2,1.2199999999999999E-3,-6.3800000000000003E-3,0.12105,457,{"$f":"IF((G2738*ALBE+H2738*ALDE+I2738*AT+J2738*BE+K2738*DE+L2738*FR+M2738*NL)>(N2738),1,0)","v":0},null,{"$f":"IF((C$6*G2738+D$6*H2738+E$6*I2738+F$6*J2738+G$6*K2738+H$6*L2738+I$6*M2738)>(N2738),1,0)","v":0}]
[null,2212,"[BE-FR] Achene - Lonny 380.19 [DIR] [BE]_LTA_corner#02_#15","10T-BE-FR-000015","[BE-BE] Avelgem - Horta 380.102","22T20161020---1E",0,0,-0.41217999999999999,0.39193,-0.31653999999999999,-0.75914000000000004,0,2270,{"$f":"IF((G2739*ALBE+H2739*ALDE+I2739*AT+J2739*BE+K2739*DE+L2739*FR+M2739*NL)>(N2739),1,0)","v":0},null,{"$f":"IF((C$6*G2739+D$6*H2739+E$6*I2739+F$6*J2739+G$6*K2739+H$6*L2739+I$6*M2739)>(N2739),1,0)","v":0}]
[null,2213,"[D7-D7] PST Gronau [OPP]","11T0-0000-0620-R","[NL-NL] Zwolle - Meeden 380 Zwart","49T000000000002K",-9.2859999999999998E-2,-4.879E-2,-1.12E-2,-9.4170000000000004E-2,2.7890000000000002E-2,-4.8689999999999997E-2,-0.15309,907,{"$f":"IF((G2740*ALBE+H2740*ALDE+I2740*AT+J2740*BE+K2740*DE+L2740*FR+M2740*NL)>(N2740),1,0)","v":0},null,{"$f":"IF((C$6*G2740+D$6*H2740+E$6*I2740+F$6*J2740+G$6*K2740+H$6*L2740+I$6*M2740)>(N2740),1,0)","v":0}]
[null,2214,"[D2-D2] Altheim - Sittling 220 [OPP]_LTA_corner#02_#0","11TD2L000000004J","[D2-AT] Pleinting - St. Peter 258","10T-AT-DE-000037",0,0,-0.99946000000000002,0,-1.41E-2,-2.9770000000000001E-2,0,4803,{"$f":"IF((G2741*ALBE+H2741*ALDE+I2741*AT+J2741*BE+K2741*DE+L2741*FR+M2741*NL)>(N2741),1,0)","v":0},null,{"$f":"IF((C$6*G2741+D$6*H2741+E$6*I2741+F$6*J2741+G$6*K2741+H$6*L2741+I$6*M2741)>(N2741),1,0)","v":0}]
[null,2215,"[D7-FR] Ensdorf - Vigy 2S [OPP] [D7]_LTA_corner#30_#1","10T-DE-FR-000068","[D7-FR] Ensdorf - Vigy 1N","10T-DE-FR-00005A",0,0,0.16089999999999999,0.36471999999999999,-6.4149999999999999E-2,0.91486000000000001,0,3655,{"$f":"IF((G2742*ALBE+H2742*ALDE+I2742*AT+J2742*BE+K2742*DE+L2742*FR+M2742*NL)>(N2742),1,0)","v":0},null,{"$f":"IF((C$6*G2742+D$6*H2742+E$6*I2742+F$6*J2742+G$6*K2742+H$6*L2742+I$6*M2742)>(N2742),1,0)","v":0}]
[null,2216,"[D2-NL] Diele - Meeden 380 Black [DIR] [D2]","10T-DE-NL-00001V","[D2-NL] Diele - Meeden 380 White ","10T-DE-NL-00002T",-6.6189999999999999E-2,-4.3799999999999999E-2,-1.158E-2,-6.8970000000000004E-2,1.018E-2,-4.0090000000000001E-2,-0.16328000000000001,702,{"$f":"IF((G2743*ALBE+H2743*ALDE+I2743*AT+J2743*BE+K2743*DE+L2743*FR+M2743*NL)>(N2743),1,0)","v":0},null,{"$f":"IF((C$6*G2743+D$6*H2743+E$6*I2743+F$6*J2743+G$6*K2743+H$6*L2743+I$6*M2743)>(N2743),1,0)","v":0}]
[null,2217,"[D2-AT] Pleinting - St. Peter 258 [DIR] [AT]_LTA_corner#01_#0","10T-AT-DE-000037","[D2-D2] Pirach - Pleinting 257","11TD2L000000201H",0,0,-1,0,0,0,0,4821,{"$f":"IF((G2744*ALBE+H2744*ALDE+I2744*AT+J2744*BE+K2744*DE+L2744*FR+M2744*NL)>(N2744),1,0)","v":0},null,{"$f":"IF((C$6*G2744+D$6*H2744+E$6*I2744+F$6*J2744+G$6*K2744+H$6*L2744+I$6*M2744)>(N2744),1,0)","v":0}]
[null,2218,"[D2-AT] Pleinting - St. Peter 258 [DIR] [AT]_LTA_corner#06_#5","10T-AT-DE-000037","[D2-D2] Pirach - Pleinting 257","11TD2L000000201H",0,0,-0.99680999999999997,-7.6649999999999996E-2,0,-2.2169999999999999E-2,0,4978,{"$f":"IF((G2745*ALBE+H2745*ALDE+I2745*AT+J2745*BE+K2745*DE+L2745*FR+M2745*NL)>(N2745),1,0)","v":0},null,{"$f":"IF((C$6*G2745+D$6*H2745+E$6*I2745+F$6*J2745+G$6*K2745+H$6*L2745+I$6*M2745)>(N2745),1,0)","v":0}]
[null,2219,"[D2-D2] Altheim - Sittling 220 [OPP]_LTA_corner#15_#7","11TD2L000000004J","[D2-AT] Pleinting - St. Peter 258","10T-AT-DE-000037",0,0,-0.93552999999999997,-0.13619999999999999,-0.23884,-0.2218,0,3862,{"$f":"IF((G2746*ALBE+H2746*ALDE+I2746*AT+J2746*BE+K2746*DE+L2746*FR+M2746*NL)>(N2746),1,0)","v":0},null,{"$f":"IF((C$6*G2746+D$6*H2746+E$6*I2746+F$6*J2746+G$6*K2746+H$6*L2746+I$6*M2746)>(N2746),1,0)","v":0}]
[null,2220,"[D2-AT] Pleinting - St. Peter 258 [DIR] [AT]_LTA_corner#01_#5","10T-AT-DE-000037","[D2-D2] Pirach - Pleinting 257","11TD2L000000201H",0,0,-0.99668000000000001,7.6740000000000003E-2,6.0699999999999999E-3,-2.6589999999999999E-2,0,4983,{"$f":"IF((G2747*ALBE+H2747*ALDE+I2747*AT+J2747*BE+K2747*DE+L2747*FR+M2747*NL)>(N2747),1,0)","v":0},null,{"$f":"IF((C$6*G2747+D$6*H2747+E$6*I2747+F$6*J2747+G$6*K2747+H$6*L2747+I$6*M2747)>(N2747),1,0)","v":0}]
[null,2221,"[D2-AT] Pleinting - St. Peter 258 [DIR] [AT]_LTA_corner#11_#13","10T-AT-DE-000037","[D2-D2] Pirach - Pleinting 257","11TD2L000000201H",0,0,-0.99760000000000004,0,-6.7180000000000004E-2,-1.6660000000000001E-2,0,4656,{"$f":"IF((G2748*ALBE+H2748*ALDE+I2748*AT+J2748*BE+K2748*DE+L2748*FR+M2748*NL)>(N2748),1,0)","v":0},null,{"$f":"IF((C$6*G2748+D$6*H2748+E$6*I2748+F$6*J2748+G$6*K2748+H$6*L2748+I$6*M2748)>(N2748),1,0)","v":0}]
[null,2222,"[D2-D2] Altheim - Sittling 220 [OPP]_LTA_corner#01_#2","11TD2L000000004J","[D2-AT] Pleinting - St. Peter 258","10T-AT-DE-000037",0,0,-0.99983999999999995,0,1.7850000000000001E-2,0,0,4943,{"$f":"IF((G2749*ALBE+H2749*ALDE+I2749*AT+J2749*BE+K2749*DE+L2749*FR+M2749*NL)>(N2749),1,0)","v":0},null,{"$f":"IF((C$6*G2749+D$6*H2749+E$6*I2749+F$6*J2749+G$6*K2749+H$6*L2749+I$6*M2749)>(N2749),1,0)","v":0}]
[null,2223,"[D2-AT] Pleinting - St. Peter 258 [DIR] [AT]_LTA_corner#14_#3","10T-AT-DE-000037","[D2-D2] Pirach - Pleinting 257","11TD2L000000201H",0,0,-0.99850000000000005,0,-4.6600000000000001E-3,5.4559999999999997E-2,0,4970,{"$f":"IF((G2750*ALBE+H2750*ALDE+I2750*AT+J2750*BE+K2750*DE+L2750*FR+M2750*NL)>(N2750),1,0)","v":0},null,{"$f":"IF((C$6*G2750+D$6*H2750+E$6*I2750+F$6*J2750+G$6*K2750+H$6*L2750+I$6*M2750)>(N2750),1,0)","v":0}]
[null,2224,"[D2-AT] Pleinting - St. Peter 258 [DIR] [AT]_LTA_corner#06_#19","10T-AT-DE-000037","[D2-D2] Pirach - Pleinting 257","11TD2L000000201H",0,0,-0.99907000000000001,-2.5400000000000002E-3,3.0429999999999999E-2,3.0429999999999999E-2,0,5054,{"$f":"IF((G2751*ALBE+H2751*ALDE+I2751*AT+J2751*BE+K2751*DE+L2751*FR+M2751*NL)>(N2751),1,0)","v":0},null,{"$f":"IF((C$6*G2751+D$6*H2751+E$6*I2751+F$6*J2751+G$6*K2751+H$6*L2751+I$6*M2751)>(N2751),1,0)","v":0}]
[null,2225,"[BE-FR] Achene - Lonny 380.19 [DIR] [BE]_LTA_corner#02_#6","10T-BE-FR-000015","[BE-BE] Avelgem - Horta 380.102","22T20161020---1E",0,0,-0.43156,0.185,-0.27400999999999998,-0.83931,0,2429,{"$f":"IF((G2752*ALBE+H2752*ALDE+I2752*AT+J2752*BE+K2752*DE+L2752*FR+M2752*NL)>(N2752),1,0)","v":0},null,{"$f":"IF((C$6*G2752+D$6*H2752+E$6*I2752+F$6*J2752+G$6*K2752+H$6*L2752+I$6*M2752)>(N2752),1,0)","v":0}]
[null,2226,"[D2-AT] Pleinting - St. Peter 258 [DIR] [AT]_LTA_corner#11_#10","10T-AT-DE-000037","[D2-D2] Pirach - Pleinting 257","11TD2L000000201H",0,0,-0.99790999999999996,3.764E-2,-3.6670000000000001E-2,3.764E-2,0,4808,{"$f":"IF((G2753*ALBE+H2753*ALDE+I2753*AT+J2753*BE+K2753*DE+L2753*FR+M2753*NL)>(N2753),1,0)","v":0},null,{"$f":"IF((C$6*G2753+D$6*H2753+E$6*I2753+F$6*J2753+G$6*K2753+H$6*L2753+I$6*M2753)>(N2753),1,0)","v":0}]
[null,2227,"[D2-D2] Altheim - Sittling 220 [OPP]_LTA_corner#04_#21","11TD2L000000004J","[D2-AT] Pleinting - St. Peter 258","10T-AT-DE-000037",0,0,-0.99480000000000002,-7.2029999999999997E-2,0,-7.2059999999999999E-2,0,4922,{"$f":"IF((G2754*ALBE+H2754*ALDE+I2754*AT+J2754*BE+K2754*DE+L2754*FR+M2754*NL)>(N2754),1,0)","v":0},null,{"$f":"IF((C$6*G2754+D$6*H2754+E$6*I2754+F$6*J2754+G$6*K2754+H$6*L2754+I$6*M2754)>(N2754),1,0)","v":0}]
[null,2228,"ALBE_export","N/A","BASECASE","N/A",1,0,0,0,0,0,0,0,{"$f":"IF((G2755*ALBE+H2755*ALDE+I2755*AT+J2755*BE+K2755*DE+L2755*FR+M2755*NL)>(N2755),1,0)","v":0},null,{"$f":"IF((C$6*G2755+D$6*H2755+E$6*I2755+F$6*J2755+G$6*K2755+H$6*L2755+I$6*M2755)>(N2755),1,0)","v":0}]
[null,2229,"[D2-D2] Altheim - Sittling 220 [OPP]_LTA_corner#06_#6","11TD2L000000004J","[D2-AT] Pleinting - St. Peter 258","10T-AT-DE-000037",0,0,-0.99909000000000003,-3.0030000000000001E-2,5.3699999999999998E-3,-2.9760000000000002E-2,0,4906,{"$f":"IF((G2756*ALBE+H2756*ALDE+I2756*AT+J2756*BE+K2756*DE+L2756*FR+M2756*NL)>(N2756),1,0)","v":0},null,{"$f":"IF((C$6*G2756+D$6*H2756+E$6*I2756+F$6*J2756+G$6*K2756+H$6*L2756+I$6*M2756)>(N2756),1,0)","v":0}]
[null,2230,"[D2-AT] Pleinting - St. Peter 258 [DIR] [AT]_LTA_corner#04_#1","10T-AT-DE-000037","[D2-D2] Pirach - Pleinting 257","11TD2L000000201H",0,0,-0.99414000000000002,-2.5300000000000001E-3,0.10471999999999999,-2.6519999999999998E-2,0,5558,{"$f":"IF((G2757*ALBE+H2757*ALDE+I2757*AT+J2757*BE+K2757*DE+L2757*FR+M2757*NL)>(N2757),1,0)","v":0},null,{"$f":"IF((C$6*G2757+D$6*H2757+E$6*I2757+F$6*J2757+G$6*K2757+H$6*L2757+I$6*M2757)>(N2757),1,0)","v":0}]
[null,2231,"[D2-AT] Pleinting - St. Peter 258 [DIR] [AT]_LTA_corner#12_#1","10T-AT-DE-000037","[D2-D2] Pirach - Pleinting 257","11TD2L000000201H",0,0,-0.99855000000000005,-2.5400000000000002E-3,6.0800000000000003E-3,5.3400000000000003E-2,0,5011,{"$f":"IF((G2758*ALBE+H2758*ALDE+I2758*AT+J2758*BE+K2758*DE+L2758*FR+M2758*NL)>(N2758),1,0)","v":0},null,{"$f":"IF((C$6*G2758+D$6*H2758+E$6*I2758+F$6*J2758+G$6*K2758+H$6*L2758+I$6*M2758)>(N2758),1,0)","v":0}]
[null,2232,"[D2-D2] Altheim - Sittling 220 [OPP]_LTA_corner#01_#15","11TD2L000000004J","[D2-AT] Pleinting - St. Peter 258","10T-AT-DE-000037",0,0,-0.99082000000000003,0,0,-0.13517999999999999,0,4993,{"$f":"IF((G2759*ALBE+H2759*ALDE+I2759*AT+J2759*BE+K2759*DE+L2759*FR+M2759*NL)>(N2759),1,0)","v":0},null,{"$f":"IF((C$6*G2759+D$6*H2759+E$6*I2759+F$6*J2759+G$6*K2759+H$6*L2759+I$6*M2759)>(N2759),1,0)","v":0}]
[null,2233,"[D2-AT] Pleinting - St. Peter 258 [DIR] [AT]_LTA_corner#15_#0","10T-AT-DE-000037","[D2-D2] Pirach - Pleinting 257","11TD2L000000201H",0,0,-0.99848999999999999,-2.664E-2,-3.9969999999999999E-2,-2.664E-2,0,4714,{"$f":"IF((G2760*ALBE+H2760*ALDE+I2760*AT+J2760*BE+K2760*DE+L2760*FR+M2760*NL)>(N2760),1,0)","v":0},null,{"$f":"IF((C$6*G2760+D$6*H2760+E$6*I2760+F$6*J2760+G$6*K2760+H$6*L2760+I$6*M2760)>(N2760),1,0)","v":0}]
[null,2234,"[D2-AT] Pleinting - St. Peter 258 [DIR] [AT]_LTA_corner#02_#8","10T-AT-DE-000037","[D2-D2] Pirach - Pleinting 257","11TD2L000000201H",0,0,-0.99773999999999996,6.522E-2,-1.124E-2,-1.124E-2,0,4858,{"$f":"IF((G2761*ALBE+H2761*ALDE+I2761*AT+J2761*BE+K2761*DE+L2761*FR+M2761*NL)>(N2761),1,0)","v":0},null,{"$f":"IF((C$6*G2761+D$6*H2761+E$6*I2761+F$6*J2761+G$6*K2761+H$6*L2761+I$6*M2761)>(N2761),1,0)","v":0}]
[null,2235,"[D7-FR] Ensdorf - Vigy 2S [OPP] [D7]_LTA_corner#30_#8","10T-DE-FR-000068","[D7-FR] Ensdorf - Vigy 1N","10T-DE-FR-00005A",0,0,4.6379999999999998E-2,0.35497000000000001,-0.15836,0.92020000000000002,0,3839,{"$f":"IF((G2762*ALBE+H2762*ALDE+I2762*AT+J2762*BE+K2762*DE+L2762*FR+M2762*NL)>(N2762),1,0)","v":0},null,{"$f":"IF((C$6*G2762+D$6*H2762+E$6*I2762+F$6*J2762+G$6*K2762+H$6*L2762+I$6*M2762)>(N2762),1,0)","v":0}]
[null,2236,"[BE-BE] PST_ZANDV_2 [N - S]_LTA_corner#13_#5","22T20161020---56","[NL-BE] Rilland - Zandvliet 380 White/30","10T-BE-NL-00004C",0,0,-0.38118000000000002,-0.69806000000000001,-0.32778000000000002,-0.50987000000000005,0,1734,{"$f":"IF((G2763*ALBE+H2763*ALDE+I2763*AT+J2763*BE+K2763*DE+L2763*FR+M2763*NL)>(N2763),1,0)","v":0},null,{"$f":"IF((C$6*G2763+D$6*H2763+E$6*I2763+F$6*J2763+G$6*K2763+H$6*L2763+I$6*M2763)>(N2763),1,0)","v":0}]
[null,2237,"[BE-FR] Achene - Lonny 380.19 [DIR] [BE]_LTA_corner#02_#22","10T-BE-FR-000015","[BE-BE] Avelgem - Horta 380.102","22T20161020---1E",0,0,-0.49567,0,-0.34134999999999999,-0.79862,0,2147,{"$f":"IF((G2764*ALBE+H2764*ALDE+I2764*AT+J2764*BE+K2764*DE+L2764*FR+M2764*NL)>(N2764),1,0)","v":0},null,{"$f":"IF((C$6*G2764+D$6*H2764+E$6*I2764+F$6*J2764+G$6*K2764+H$6*L2764+I$6*M2764)>(N2764),1,0)","v":0}]
[null,2238,"[D2-AT] Pleinting - St. Peter 258 [DIR] [AT]_LTA_corner#05_#3","10T-AT-DE-000037","[D2-D2] Pirach - Pleinting 257","11TD2L000000201H",0,0,-0.99917,0,2.886E-2,2.886E-2,0,5036,{"$f":"IF((G2765*ALBE+H2765*ALDE+I2765*AT+J2765*BE+K2765*DE+L2765*FR+M2765*NL)>(N2765),1,0)","v":0},null,{"$f":"IF((C$6*G2765+D$6*H2765+E$6*I2765+F$6*J2765+G$6*K2765+H$6*L2765+I$6*M2765)>(N2765),1,0)","v":0}]
[null,2239,"[D2-AT] Pleinting - St. Peter 258 [DIR] [AT]_LTA_corner#14_#4","10T-AT-DE-000037","[D2-D2] Pirach - Pleinting 257","11TD2L000000201H",0,0,-0.99851000000000001,0,-5.4000000000000001E-4,5.4629999999999998E-2,0,4979,{"$f":"IF((G2766*ALBE+H2766*ALDE+I2766*AT+J2766*BE+K2766*DE+L2766*FR+M2766*NL)>(N2766),1,0)","v":0},null,{"$f":"IF((C$6*G2766+D$6*H2766+E$6*I2766+F$6*J2766+G$6*K2766+H$6*L2766+I$6*M2766)>(N2766),1,0)","v":0}]
[null,2240,"[D2-AT] Pleinting - St. Peter 258 [DIR] [AT]_LTA_corner#03_#2","10T-AT-DE-000037","[D2-D2] Pirach - Pleinting 257","11TD2L000000201H",0,0,-0.99943000000000004,2.3400000000000001E-2,6.0800000000000003E-3,2.3400000000000001E-2,0,4892,{"$f":"IF((G2767*ALBE+H2767*ALDE+I2767*AT+J2767*BE+K2767*DE+L2767*FR+M2767*NL)>(N2767),1,0)","v":0},null,{"$f":"IF((C$6*G2767+D$6*H2767+E$6*I2767+F$6*J2767+G$6*K2767+H$6*L2767+I$6*M2767)>(N2767),1,0)","v":0}]
[null,2241,"[BE-BE] PST_ZANDV_2 [N - S]_LTA_corner#13_#30","22T20161020---56","[NL-BE] Rilland - Zandvliet 380 White/30","10T-BE-NL-00004C",0,0,-0.31556000000000001,-0.79651000000000005,-0.26591999999999999,-0.44190000000000002,0,1982,{"$f":"IF((G2768*ALBE+H2768*ALDE+I2768*AT+J2768*BE+K2768*DE+L2768*FR+M2768*NL)>(N2768),1,0)","v":0},null,{"$f":"IF((C$6*G2768+D$6*H2768+E$6*I2768+F$6*J2768+G$6*K2768+H$6*L2768+I$6*M2768)>(N2768),1,0)","v":0}]
[null,2242,"[BE-FR] Achene - Lonny 380.19 [DIR] [BE]_LTA_corner#09_#10","10T-BE-FR-000015","[BE-BE] Avelgem - Horta 380.102","22T20161020---1E",0,0,-0.40257999999999999,-0.60392999999999997,-0.32934000000000002,-0.60392999999999997,0,1533,{"$f":"IF((G2769*ALBE+H2769*ALDE+I2769*AT+J2769*BE+K2769*DE+L2769*FR+M2769*NL)>(N2769),1,0)","v":0},null,{"$f":"IF((C$6*G2769+D$6*H2769+E$6*I2769+F$6*J2769+G$6*K2769+H$6*L2769+I$6*M2769)>(N2769),1,0)","v":0}]
[null,2243,"[D7-FR] Ensdorf - Vigy 2S [OPP] [D7]_LTA_corner#30_#7","10T-DE-FR-000068","[D7-FR] Ensdorf - Vigy 1N","10T-DE-FR-00005A",0,0,-1.72E-3,0.40516999999999997,-0.18815999999999999,0.89466999999999997,0,3700,{"$f":"IF((G2770*ALBE+H2770*ALDE+I2770*AT+J2770*BE+K2770*DE+L2770*FR+M2770*NL)>(N2770),1,0)","v":0},null,{"$f":"IF((C$6*G2770+D$6*H2770+E$6*I2770+F$6*J2770+G$6*K2770+H$6*L2770+I$6*M2770)>(N2770),1,0)","v":0}]
[null,2244,"[BE-BE] PST_ZANDV_2 [N - S]_LTA_corner#13_#33","22T20161020---56","[NL-BE] Rilland - Zandvliet 380 White/30","10T-BE-NL-00004C",0,0,-0.34983999999999998,-0.73207999999999995,-0.30939,-0.49592999999999998,0,1758,{"$f":"IF((G2771*ALBE+H2771*ALDE+I2771*AT+J2771*BE+K2771*DE+L2771*FR+M2771*NL)>(N2771),1,0)","v":0},null,{"$f":"IF((C$6*G2771+D$6*H2771+E$6*I2771+F$6*J2771+G$6*K2771+H$6*L2771+I$6*M2771)>(N2771),1,0)","v":0}]
[null,2245,"[D2-AT] Pleinting - St. Peter 258 [DIR] [AT]_LTA_corner#11_#7","10T-AT-DE-000037","[D2-D2] Pirach - Pleinting 257","11TD2L000000201H",0,0,-0.99631000000000003,3.8120000000000001E-2,-6.6790000000000002E-2,3.8120000000000001E-2,0,4738,{"$f":"IF((G2772*ALBE+H2772*ALDE+I2772*AT+J2772*BE+K2772*DE+L2772*FR+M2772*NL)>(N2772),1,0)","v":0},null,{"$f":"IF((C$6*G2772+D$6*H2772+E$6*I2772+F$6*J2772+G$6*K2772+H$6*L2772+I$6*M2772)>(N2772),1,0)","v":0}]
[null,2246,"[D7-FR] Ensdorf - Vigy 2S [OPP] [D7]_LTA_corner#30_#0","10T-DE-FR-000068","[D7-FR] Ensdorf - Vigy 1N","10T-DE-FR-00005A",0,0,3.1579999999999997E-2,0.40395999999999999,-0.15218999999999999,0.90146999999999999,0,3612,{"$f":"IF((G2773*ALBE+H2773*ALDE+I2773*AT+J2773*BE+K2773*DE+L2773*FR+M2773*NL)>(N2773),1,0)","v":0},null,{"$f":"IF((C$6*G2773+D$6*H2773+E$6*I2773+F$6*J2773+G$6*K2773+H$6*L2773+I$6*M2773)>(N2773),1,0)","v":0}]
[null,2247,"[D2-AT] Pleinting - St. Peter 258 [DIR] [AT]_LTA_corner#04_#2","10T-AT-DE-000037","[D2-D2] Pirach - Pleinting 257","11TD2L000000201H",0,0,-0.99426000000000003,-2.5300000000000001E-3,6.0499999999999998E-3,-0.10679,0,5006,{"$f":"IF((G2774*ALBE+H2774*ALDE+I2774*AT+J2774*BE+K2774*DE+L2774*FR+M2774*NL)>(N2774),1,0)","v":0},null,{"$f":"IF((C$6*G2774+D$6*H2774+E$6*I2774+F$6*J2774+G$6*K2774+H$6*L2774+I$6*M2774)>(N2774),1,0)","v":0}]
[null,2248,"[BE-FR] Achene - Lonny 380.19 [DIR] [BE]_LTA_corner#02_#19","10T-BE-FR-000015","[BE-BE] Avelgem - Horta 380.102","22T20161020---1E",0,0,-0.29615000000000002,0.80728999999999995,-0.22719,-0.45712999999999998,0,2132,{"$f":"IF((G2775*ALBE+H2775*ALDE+I2775*AT+J2775*BE+K2775*DE+L2775*FR+M2775*NL)>(N2775),1,0)","v":0},null,{"$f":"IF((C$6*G2775+D$6*H2775+E$6*I2775+F$6*J2775+G$6*K2775+H$6*L2775+I$6*M2775)>(N2775),1,0)","v":0}]
[null,2249,"[BE-FR] Achene - Lonny 380.19 [DIR] [BE]_LTA_corner#09_#4","10T-BE-FR-000015","[BE-BE] Avelgem - Horta 380.102","22T20161020---1E",0,0,-0.39671000000000001,-0.61041000000000001,-0.31212000000000001,-0.61041000000000001,0,1593,{"$f":"IF((G2776*ALBE+H2776*ALDE+I2776*AT+J2776*BE+K2776*DE+L2776*FR+M2776*NL)>(N2776),1,0)","v":0},null,{"$f":"IF((C$6*G2776+D$6*H2776+E$6*I2776+F$6*J2776+G$6*K2776+H$6*L2776+I$6*M2776)>(N2776),1,0)","v":0}]
[null,2250,"[D2-AT] Pleinting - St. Peter 258 [DIR] [AT]_LTA_corner#13_#7","10T-AT-DE-000037","[D2-D2] Pirach - Pleinting 257","11TD2L000000201H",0,0,-0.99783999999999995,-6.3810000000000006E-2,-1.124E-2,-1.124E-2,0,4909,{"$f":"IF((G2777*ALBE+H2777*ALDE+I2777*AT+J2777*BE+K2777*DE+L2777*FR+M2777*NL)>(N2777),1,0)","v":0},null,{"$f":"IF((C$6*G2777+D$6*H2777+E$6*I2777+F$6*J2777+G$6*K2777+H$6*L2777+I$6*M2777)>(N2777),1,0)","v":0}]
[null,2251,"[D2-D2] Altheim - Sittling 220 [OPP]_LTA_corner#01_#9","11TD2L000000004J","[D2-AT] Pleinting - St. Peter 258","10T-AT-DE-000037",0,0,-0.99941000000000002,1.6879999999999999E-2,0,-2.9770000000000001E-2,0,4886,{"$f":"IF((G2778*ALBE+H2778*ALDE+I2778*AT+J2778*BE+K2778*DE+L2778*FR+M2778*NL)>(N2778),1,0)","v":0},null,{"$f":"IF((C$6*G2778+D$6*H2778+E$6*I2778+F$6*J2778+G$6*K2778+H$6*L2778+I$6*M2778)>(N2778),1,0)","v":0}]
[null,2252,"[BE-FR] Achene - Lonny 380.19 [DIR] [BE]_LTA_corner#09_#11","10T-BE-FR-000015","[BE-BE] Avelgem - Horta 380.102","22T20161020---1E",0,0,-0.40789999999999998,-0.60097,-0.33357999999999999,-0.60097,0,1535,{"$f":"IF((G2779*ALBE+H2779*ALDE+I2779*AT+J2779*BE+K2779*DE+L2779*FR+M2779*NL)>(N2779),1,0)","v":0},null,{"$f":"IF((C$6*G2779+D$6*H2779+E$6*I2779+F$6*J2779+G$6*K2779+H$6*L2779+I$6*M2779)>(N2779),1,0)","v":0}]
[null,2253,"[D2-D2] Altheim - Sittling 220 [OPP]_LTA_corner#04_#12","11TD2L000000004J","[D2-AT] Pleinting - St. Peter 258","10T-AT-DE-000037",0,0,-0.99934000000000001,-2.547E-2,5.3699999999999998E-3,-2.547E-2,0,4899,{"$f":"IF((G2780*ALBE+H2780*ALDE+I2780*AT+J2780*BE+K2780*DE+L2780*FR+M2780*NL)>(N2780),1,0)","v":0},null,{"$f":"IF((C$6*G2780+D$6*H2780+E$6*I2780+F$6*J2780+G$6*K2780+H$6*L2780+I$6*M2780)>(N2780),1,0)","v":0}]
[null,2254,"[BE-FR] Achene - Lonny 380.19 [DIR] [BE]_LTA_corner#02_#18","10T-BE-FR-000015","[BE-BE] Avelgem - Horta 380.102","22T20161020---1E",0,0,-0.47323999999999999,0,-0.36179,-0.80320999999999998,0,1956,{"$f":"IF((G2781*ALBE+H2781*ALDE+I2781*AT+J2781*BE+K2781*DE+L2781*FR+M2781*NL)>(N2781),1,0)","v":0},null,{"$f":"IF((C$6*G2781+D$6*H2781+E$6*I2781+F$6*J2781+G$6*K2781+H$6*L2781+I$6*M2781)>(N2781),1,0)","v":0}]
[null,2255,"[D7-FR] Ensdorf - Vigy 2S [OPP] [D7]_LTA_corner#30_#6","10T-DE-FR-000068","[D7-FR] Ensdorf - Vigy 1N","10T-DE-FR-00005A",0,0,3.8429999999999999E-2,0.40293000000000001,-0.14441999999999999,0.90293999999999996,0,3592,{"$f":"IF((G2782*ALBE+H2782*ALDE+I2782*AT+J2782*BE+K2782*DE+L2782*FR+M2782*NL)>(N2782),1,0)","v":0},null,{"$f":"IF((C$6*G2782+D$6*H2782+E$6*I2782+F$6*J2782+G$6*K2782+H$6*L2782+I$6*M2782)>(N2782),1,0)","v":0}]
[null,2256,"[D2-D2] Altheim - Sittling 220 [OPP]_LTA_corner#09_#1","11TD2L000000004J","[D2-AT] Pleinting - St. Peter 258","10T-AT-DE-000037",0,0,-0.95616999999999996,-9.9500000000000005E-2,-0.19472,-0.19472,0,4069,{"$f":"IF((G2783*ALBE+H2783*ALDE+I2783*AT+J2783*BE+K2783*DE+L2783*FR+M2783*NL)>(N2783),1,0)","v":0},null,{"$f":"IF((C$6*G2783+D$6*H2783+E$6*I2783+F$6*J2783+G$6*K2783+H$6*L2783+I$6*M2783)>(N2783),1,0)","v":0}]
[null,2257,"[D2-AT] Pleinting - St. Peter 258 [DIR] [AT]_LTA_corner#14_#1","10T-AT-DE-000037","[D2-D2] Pirach - Pleinting 257","11TD2L000000201H",0,0,-0.99543999999999999,2.249E-2,-5.91E-2,7.1400000000000005E-2,0,4868,{"$f":"IF((G2784*ALBE+H2784*ALDE+I2784*AT+J2784*BE+K2784*DE+L2784*FR+M2784*NL)>(N2784),1,0)","v":0},null,{"$f":"IF((C$6*G2784+D$6*H2784+E$6*I2784+F$6*J2784+G$6*K2784+H$6*L2784+I$6*M2784)>(N2784),1,0)","v":0}]
[null,2258,"[D2-AT] Pleinting - St. Peter 258 [DIR] [AT]_LTA_corner#01_#21","10T-AT-DE-000037","[D2-D2] Pirach - Pleinting 257","11TD2L000000201H",0,0,-0.99870999999999999,5.0799999999999998E-2,0,0,0,4877,{"$f":"IF((G2785*ALBE+H2785*ALDE+I2785*AT+J2785*BE+K2785*DE+L2785*FR+M2785*NL)>(N2785),1,0)","v":0},null,{"$f":"IF((C$6*G2785+D$6*H2785+E$6*I2785+F$6*J2785+G$6*K2785+H$6*L2785+I$6*M2785)>(N2785),1,0)","v":0}]
[null,2259,"[D2-AT] Pleinting - St. Peter 258 [DIR] [AT]_LTA_corner#14_#9","10T-AT-DE-000037","[D2-D2] Pirach - Pleinting 257","11TD2L000000201H",0,0,-0.99282999999999999,1.8100000000000002E-2,-0.10489999999999999,5.4339999999999999E-2,0,4712,{"$f":"IF((G2786*ALBE+H2786*ALDE+I2786*AT+J2786*BE+K2786*DE+L2786*FR+M2786*NL)>(N2786),1,0)","v":0},null,{"$f":"IF((C$6*G2786+D$6*H2786+E$6*I2786+F$6*J2786+G$6*K2786+H$6*L2786+I$6*M2786)>(N2786),1,0)","v":0}]
[null,2260,"[D2-D2] Altheim - Sittling 220 [OPP]_LTA_corner#01_#0","11TD2L000000004J","[D2-AT] Pleinting - St. Peter 258","10T-AT-DE-000037",0,0,-0.57686999999999999,0.36695,0.63080000000000003,0.36695,0,6995,{"$f":"IF((G2787*ALBE+H2787*ALDE+I2787*AT+J2787*BE+K2787*DE+L2787*FR+M2787*NL)>(N2787),1,0)","v":0},null,{"$f":"IF((C$6*G2787+D$6*H2787+E$6*I2787+F$6*J2787+G$6*K2787+H$6*L2787+I$6*M2787)>(N2787),1,0)","v":0}]
[null,2261,"[D2-AT] Pleinting - St. Peter 258 [DIR] [AT]_LTA_corner#01_#9","10T-AT-DE-000037","[D2-D2] Pirach - Pleinting 257","11TD2L000000201H",0,0,-0.99951000000000001,1.8120000000000001E-2,1.8120000000000001E-2,1.8120000000000001E-2,0,4937,{"$f":"IF((G2788*ALBE+H2788*ALDE+I2788*AT+J2788*BE+K2788*DE+L2788*FR+M2788*NL)>(N2788),1,0)","v":0},null,{"$f":"IF((C$6*G2788+D$6*H2788+E$6*I2788+F$6*J2788+G$6*K2788+H$6*L2788+I$6*M2788)>(N2788),1,0)","v":0}]
[null,2262,"[D2-AT] Pleinting - St. Peter 258 [DIR] [AT]_LTA_corner#11_#1","10T-AT-DE-000037","[D2-D2] Pirach - Pleinting 257","11TD2L000000201H",0,0,-0.99744999999999995,0,-7.1360000000000007E-2,0,0,4659,{"$f":"IF((G2789*ALBE+H2789*ALDE+I2789*AT+J2789*BE+K2789*DE+L2789*FR+M2789*NL)>(N2789),1,0)","v":0},null,{"$f":"IF((C$6*G2789+D$6*H2789+E$6*I2789+F$6*J2789+G$6*K2789+H$6*L2789+I$6*M2789)>(N2789),1,0)","v":0}]
[null,2263,"[D2-AT] Pleinting - St. Peter 258 [DIR] [AT]_LTA_corner#06_#0","10T-AT-DE-000037","[D2-D2] Pirach - Pleinting 257","11TD2L000000201H",0,0,-0.99614000000000003,-8.3430000000000004E-2,6.0600000000000003E-3,-2.657E-2,0,5030,{"$f":"IF((G2790*ALBE+H2790*ALDE+I2790*AT+J2790*BE+K2790*DE+L2790*FR+M2790*NL)>(N2790),1,0)","v":0},null,{"$f":"IF((C$6*G2790+D$6*H2790+E$6*I2790+F$6*J2790+G$6*K2790+H$6*L2790+I$6*M2790)>(N2790),1,0)","v":0}]
[null,2264,"[D2-D2] Altheim - Sittling 220 [OPP]_LTA_corner#05_#14","11TD2L000000004J","[D2-AT] Pleinting - St. Peter 258","10T-AT-DE-000037",0,0,-0.99180000000000001,0,0.12759999999999999,7.7499999999999999E-3,0,5667,{"$f":"IF((G2791*ALBE+H2791*ALDE+I2791*AT+J2791*BE+K2791*DE+L2791*FR+M2791*NL)>(N2791),1,0)","v":0},null,{"$f":"IF((C$6*G2791+D$6*H2791+E$6*I2791+F$6*J2791+G$6*K2791+H$6*L2791+I$6*M2791)>(N2791),1,0)","v":0}]
[null,2265,"[D2-AT] Pleinting - St. Peter 258 [DIR] [AT]_LTA_corner#11_#2","10T-AT-DE-000037","[D2-D2] Pirach - Pleinting 257","11TD2L000000201H",0,0,-0.99626000000000003,3.168E-2,-7.3889999999999997E-2,3.168E-2,0,4710,{"$f":"IF((G2792*ALBE+H2792*ALDE+I2792*AT+J2792*BE+K2792*DE+L2792*FR+M2792*NL)>(N2792),1,0)","v":0},null,{"$f":"IF((C$6*G2792+D$6*H2792+E$6*I2792+F$6*J2792+G$6*K2792+H$6*L2792+I$6*M2792)>(N2792),1,0)","v":0}]
[null,2266,"[D7-D7] PST Gronau [OPP]","11T0-0000-0620-R","[D7-D7] Gronau - Kusenhorst Hamaland","11T0-0000-0618-7",-7.6200000000000004E-2,-4.7910000000000001E-2,-1.091E-2,-7.621E-2,2.5229999999999999E-2,-4.2180000000000002E-2,-0.11443,738,{"$f":"IF((G2793*ALBE+H2793*ALDE+I2793*AT+J2793*BE+K2793*DE+L2793*FR+M2793*NL)>(N2793),1,0)","v":0},null,{"$f":"IF((C$6*G2793+D$6*H2793+E$6*I2793+F$6*J2793+G$6*K2793+H$6*L2793+I$6*M2793)>(N2793),1,0)","v":0}]
[null,2267,"[D2-AT] Pleinting - St. Peter 258 [DIR] [AT]_LTA_corner#01_#29","10T-AT-DE-000037","[D2-D2] Pirach - Pleinting 257","11TD2L000000201H",0,0,-0.99714999999999998,7.2370000000000004E-2,0,-2.121E-2,0,4929,{"$f":"IF((G2794*ALBE+H2794*ALDE+I2794*AT+J2794*BE+K2794*DE+L2794*FR+M2794*NL)>(N2794),1,0)","v":0},null,{"$f":"IF((C$6*G2794+D$6*H2794+E$6*I2794+F$6*J2794+G$6*K2794+H$6*L2794+I$6*M2794)>(N2794),1,0)","v":0}]
[null,2268,"[D2-AT] Pleinting - St. Peter 258 [DIR] [AT]_LTA_corner#01_#14","10T-AT-DE-000037","[D2-D2] Pirach - Pleinting 257","11TD2L000000201H",0,0,-0.99912000000000001,4.0980000000000003E-2,6.0800000000000003E-3,6.0800000000000003E-3,0,4899,{"$f":"IF((G2795*ALBE+H2795*ALDE+I2795*AT+J2795*BE+K2795*DE+L2795*FR+M2795*NL)>(N2795),1,0)","v":0},null,{"$f":"IF((C$6*G2795+D$6*H2795+E$6*I2795+F$6*J2795+G$6*K2795+H$6*L2795+I$6*M2795)>(N2795),1,0)","v":0}]
[null,2269,"[D2-D2] Altheim - Sittling 220 [OPP]_LTA_corner#09_#30","11TD2L000000004J","[D2-AT] Pleinting - St. Peter 258","10T-AT-DE-000037",0,0,-0.99814999999999998,-4.2930000000000003E-2,-1.81E-3,-4.2930000000000003E-2,0,4879,{"$f":"IF((G2796*ALBE+H2796*ALDE+I2796*AT+J2796*BE+K2796*DE+L2796*FR+M2796*NL)>(N2796),1,0)","v":0},null,{"$f":"IF((C$6*G2796+D$6*H2796+E$6*I2796+F$6*J2796+G$6*K2796+H$6*L2796+I$6*M2796)>(N2796),1,0)","v":0}]
[null,2270,"[D2-AT] Pleinting - St. Peter 258 [DIR] [AT]_LTA_corner#04_#15","10T-AT-DE-000037","[D2-D2] Pirach - Pleinting 257","11TD2L000000201H",0,0,-0.99507999999999996,-2.5300000000000001E-3,0,-9.9000000000000005E-2,0,4956,{"$f":"IF((G2797*ALBE+H2797*ALDE+I2797*AT+J2797*BE+K2797*DE+L2797*FR+M2797*NL)>(N2797),1,0)","v":0},null,{"$f":"IF((C$6*G2797+D$6*H2797+E$6*I2797+F$6*J2797+G$6*K2797+H$6*L2797+I$6*M2797)>(N2797),1,0)","v":0}]
[null,2271,"[D2-AT] Pleinting - St. Peter 258 [DIR] [AT]_LTA_corner#02_#11","10T-AT-DE-000037","[D2-D2] Pirach - Pleinting 257","11TD2L000000201H",0,0,-0.99799000000000004,6.2649999999999997E-2,-6.9899999999999997E-3,-6.9899999999999997E-3,0,4868,{"$f":"IF((G2798*ALBE+H2798*ALDE+I2798*AT+J2798*BE+K2798*DE+L2798*FR+M2798*NL)>(N2798),1,0)","v":0},null,{"$f":"IF((C$6*G2798+D$6*H2798+E$6*I2798+F$6*J2798+G$6*K2798+H$6*L2798+I$6*M2798)>(N2798),1,0)","v":0}]
[null,2272,"[D2-AT] Pleinting - St. Peter 258 [DIR] [AT]_LTA_corner#03_#4","10T-AT-DE-000037","[D2-D2] Pirach - Pleinting 257","11TD2L000000201H",0,0,-0.99936000000000003,2.521E-2,0,2.521E-2,0,4868,{"$f":"IF((G2799*ALBE+H2799*ALDE+I2799*AT+J2799*BE+K2799*DE+L2799*FR+M2799*NL)>(N2799),1,0)","v":0},null,{"$f":"IF((C$6*G2799+D$6*H2799+E$6*I2799+F$6*J2799+G$6*K2799+H$6*L2799+I$6*M2799)>(N2799),1,0)","v":0}]
[null,2273,"[AT-AT] Westtirol Transformer WTRHU41 [OPP]","14T-38220-WT041O","BASECASE","N/A",-4.8030000000000003E-2,-4.5220000000000003E-2,0.12686,-4.8750000000000002E-2,-2.5680000000000001E-2,-5.7520000000000002E-2,-4.4830000000000002E-2,863,{"$f":"IF((G2800*ALBE+H2800*ALDE+I2800*AT+J2800*BE+K2800*DE+L2800*FR+M2800*NL)>(N2800),1,0)","v":0},null,{"$f":"IF((C$6*G2800+D$6*H2800+E$6*I2800+F$6*J2800+G$6*K2800+H$6*L2800+I$6*M2800)>(N2800),1,0)","v":0}]
[null,2274,"[D2-D2] Altheim - Sittling 220 [OPP]_LTA_corner#04_#1","11TD2L000000004J","[D2-AT] Pleinting - St. Peter 258","10T-AT-DE-000037",0,0,-0.97782000000000002,-5.8529999999999999E-2,0,-0.2011,0,5045,{"$f":"IF((G2801*ALBE+H2801*ALDE+I2801*AT+J2801*BE+K2801*DE+L2801*FR+M2801*NL)>(N2801),1,0)","v":0},null,{"$f":"IF((C$6*G2801+D$6*H2801+E$6*I2801+F$6*J2801+G$6*K2801+H$6*L2801+I$6*M2801)>(N2801),1,0)","v":0}]
[null,2275,"[D2-D2] Altheim - Sittling 220 [OPP]_LTA_corner#09_#11","11TD2L000000004J","[D2-AT] Pleinting - St. Peter 258","10T-AT-DE-000037",0,0,-0.99224999999999997,-2.299E-2,-8.4070000000000006E-2,-8.8539999999999994E-2,0,4554,{"$f":"IF((G2802*ALBE+H2802*ALDE+I2802*AT+J2802*BE+K2802*DE+L2802*FR+M2802*NL)>(N2802),1,0)","v":0},null,{"$f":"IF((C$6*G2802+D$6*H2802+E$6*I2802+F$6*J2802+G$6*K2802+H$6*L2802+I$6*M2802)>(N2802),1,0)","v":0}]
[null,2276,"[D2-AT] Pleinting - St. Peter 258 [DIR] [AT]_LTA_corner#02_#1","10T-AT-DE-000037","[D2-D2] Pirach - Pleinting 257","11TD2L000000201H",0,0,-0.99809000000000003,0,-4.3650000000000001E-2,-4.3650000000000001E-2,0,4687,{"$f":"IF((G2803*ALBE+H2803*ALDE+I2803*AT+J2803*BE+K2803*DE+L2803*FR+M2803*NL)>(N2803),1,0)","v":0},null,{"$f":"IF((C$6*G2803+D$6*H2803+E$6*I2803+F$6*J2803+G$6*K2803+H$6*L2803+I$6*M2803)>(N2803),1,0)","v":0}]
[null,2277,"[D7-FR] Ensdorf - Vigy 2S [OPP] [D7]_LTA_corner#30_#45","10T-DE-FR-000068","[D7-FR] Ensdorf - Vigy 1N","10T-DE-FR-00005A",0,0,0.15434999999999999,0.37267,-2.96E-3,0.91503000000000001,0,3154,{"$f":"IF((G2804*ALBE+H2804*ALDE+I2804*AT+J2804*BE+K2804*DE+L2804*FR+M2804*NL)>(N2804),1,0)","v":0},null,{"$f":"IF((C$6*G2804+D$6*H2804+E$6*I2804+F$6*J2804+G$6*K2804+H$6*L2804+I$6*M2804)>(N2804),1,0)","v":0}]
[null,2278,"[BE-BE] PST_ZANDV_2 [N - S]_LTA_corner#13_#13","22T20161020---56","[NL-BE] Rilland - Zandvliet 380 White/30","10T-BE-NL-00004C",0,0,-0.33563999999999999,-0.74078999999999995,-0.29450999999999999,-0.50183,0,1773,{"$f":"IF((G2805*ALBE+H2805*ALDE+I2805*AT+J2805*BE+K2805*DE+L2805*FR+M2805*NL)>(N2805),1,0)","v":0},null,{"$f":"IF((C$6*G2805+D$6*H2805+E$6*I2805+F$6*J2805+G$6*K2805+H$6*L2805+I$6*M2805)>(N2805),1,0)","v":0}]
[null,2279,"[BE-FR] Achene - Lonny 380.19 [DIR] [BE]_LTA_corner#02_#17","10T-BE-FR-000015","[BE-BE] Avelgem - Horta 380.102","22T20161020---1E",0,0,-0.47111999999999998,0,-0.36004000000000003,-0.80525000000000002,0,1956,{"$f":"IF((G2806*ALBE+H2806*ALDE+I2806*AT+J2806*BE+K2806*DE+L2806*FR+M2806*NL)>(N2806),1,0)","v":0},null,{"$f":"IF((C$6*G2806+D$6*H2806+E$6*I2806+F$6*J2806+G$6*K2806+H$6*L2806+I$6*M2806)>(N2806),1,0)","v":0}]
[null,2280,"[BE-FR] Achene - Lonny 380.19 [DIR] [BE]_LTA_corner#02_#10","10T-BE-FR-000015","[BE-BE] Avelgem - Horta 380.102","22T20161020---1E",0,0,-0.45732,0,-0.31119000000000002,-0.83308000000000004,0,2152,{"$f":"IF((G2807*ALBE+H2807*ALDE+I2807*AT+J2807*BE+K2807*DE+L2807*FR+M2807*NL)>(N2807),1,0)","v":0},null,{"$f":"IF((C$6*G2807+D$6*H2807+E$6*I2807+F$6*J2807+G$6*K2807+H$6*L2807+I$6*M2807)>(N2807),1,0)","v":0}]
[null,2281,"[D2-D2] Altheim - Sittling 220 [OPP]_LTA_corner#01_#1","11TD2L000000004J","[D2-AT] Pleinting - St. Peter 258","10T-AT-DE-000037",0,0,-0.99209000000000003,0,0.12551000000000001,0,0,5649,{"$f":"IF((G2808*ALBE+H2808*ALDE+I2808*AT+J2808*BE+K2808*DE+L2808*FR+M2808*NL)>(N2808),1,0)","v":0},null,{"$f":"IF((C$6*G2808+D$6*H2808+E$6*I2808+F$6*J2808+G$6*K2808+H$6*L2808+I$6*M2808)>(N2808),1,0)","v":0}]
[null,2282,"[BE-FR] Achene - Lonny 380.19 [OPP] [BE]","10T-BE-FR-000015","[BE-BE] Avelgem - Horta 380.102","22T20161020---1E",-0.28541,-7.5569999999999998E-2,2.0539999999999999E-2,-0.28199999999999997,-3.057E-2,0.15107999999999999,-0.13453999999999999,2517,{"$f":"IF((G2809*ALBE+H2809*ALDE+I2809*AT+J2809*BE+K2809*DE+L2809*FR+M2809*NL)>(N2809),1,0)","v":0},null,{"$f":"IF((C$6*G2809+D$6*H2809+E$6*I2809+F$6*J2809+G$6*K2809+H$6*L2809+I$6*M2809)>(N2809),1,0)","v":0}]
[null,2283,"[D2-AT] Pleinting - St. Peter 258 [DIR] [AT]_LTA_corner#01_#30","10T-AT-DE-000037","[D2-D2] Pirach - Pleinting 257","11TD2L000000201H",0,0,-0.99739999999999995,6.9919999999999996E-2,0,-1.7479999999999999E-2,0,4922,{"$f":"IF((G2810*ALBE+H2810*ALDE+I2810*AT+J2810*BE+K2810*DE+L2810*FR+M2810*NL)>(N2810),1,0)","v":0},null,{"$f":"IF((C$6*G2810+D$6*H2810+E$6*I2810+F$6*J2810+G$6*K2810+H$6*L2810+I$6*M2810)>(N2810),1,0)","v":0}]
[null,2284,"ALBE_import","N/A","BASECASE","N/A",-1,0,0,0,0,0,0,0,{"$f":"IF((G2811*ALBE+H2811*ALDE+I2811*AT+J2811*BE+K2811*DE+L2811*FR+M2811*NL)>(N2811),1,0)","v":0},null,{"$f":"IF((C$6*G2811+D$6*H2811+E$6*I2811+F$6*J2811+G$6*K2811+H$6*L2811+I$6*M2811)>(N2811),1,0)","v":0}]
[null,2285,"[D2-D2] Altheim - Sittling 220 [OPP]_LTA_corner#09_#4","11TD2L000000004J","[D2-AT] Pleinting - St. Peter 258","10T-AT-DE-000037",0,0,-0.95331999999999995,-0.12573000000000001,-0.19414000000000001,-0.19414000000000001,0,4061,{"$f":"IF((G2812*ALBE+H2812*ALDE+I2812*AT+J2812*BE+K2812*DE+L2812*FR+M2812*NL)>(N2812),1,0)","v":0},null,{"$f":"IF((C$6*G2812+D$6*H2812+E$6*I2812+F$6*J2812+G$6*K2812+H$6*L2812+I$6*M2812)>(N2812),1,0)","v":0}]
[null,2286,"[D2-D2] Altheim - Sittling 220 [OPP]_LTA_corner#09_#21","11TD2L000000004J","[D2-AT] Pleinting - St. Peter 258","10T-AT-DE-000037",0,0,-0.99156,-8.9520000000000002E-2,-2.8060000000000002E-2,-8.9520000000000002E-2,0,4812,{"$f":"IF((G2813*ALBE+H2813*ALDE+I2813*AT+J2813*BE+K2813*DE+L2813*FR+M2813*NL)>(N2813),1,0)","v":0},null,{"$f":"IF((C$6*G2813+D$6*H2813+E$6*I2813+F$6*J2813+G$6*K2813+H$6*L2813+I$6*M2813)>(N2813),1,0)","v":0}]
[null,2287,"[D2-D2] Altheim - Sittling 220 [OPP]_LTA_corner#09_#9","11TD2L000000004J","[D2-AT] Pleinting - St. Peter 258","10T-AT-DE-000037",0,0,-0.98470000000000002,-4.8120000000000003E-2,-0.11842999999999999,-0.11842999999999999,0,4417,{"$f":"IF((G2814*ALBE+H2814*ALDE+I2814*AT+J2814*BE+K2814*DE+L2814*FR+M2814*NL)>(N2814),1,0)","v":0},null,{"$f":"IF((C$6*G2814+D$6*H2814+E$6*I2814+F$6*J2814+G$6*K2814+H$6*L2814+I$6*M2814)>(N2814),1,0)","v":0}]
[null,2288,"[D7-FR] Ensdorf - Vigy 2S [OPP] [D7]_LTA_corner#30_#12","10T-DE-FR-000068","[D7-FR] Ensdorf - Vigy 1N","10T-DE-FR-00005A",0,0,0.15540999999999999,0.37569000000000002,-1.8799999999999999E-3,0.91361999999999999,0,3143,{"$f":"IF((G2815*ALBE+H2815*ALDE+I2815*AT+J2815*BE+K2815*DE+L2815*FR+M2815*NL)>(N2815),1,0)","v":0},null,{"$f":"IF((C$6*G2815+D$6*H2815+E$6*I2815+F$6*J2815+G$6*K2815+H$6*L2815+I$6*M2815)>(N2815),1,0)","v":0}]
[null,2289,"[D2-AT] Pleinting - St. Peter 258 [DIR] [AT]_LTA_corner#06_#21","10T-AT-DE-000037","[D2-D2] Pirach - Pleinting 257","11TD2L000000201H",0,0,-0.99855000000000005,-5.3749999999999999E-2,0,0,0,4946,{"$f":"IF((G2816*ALBE+H2816*ALDE+I2816*AT+J2816*BE+K2816*DE+L2816*FR+M2816*NL)>(N2816),1,0)","v":0},null,{"$f":"IF((C$6*G2816+D$6*H2816+E$6*I2816+F$6*J2816+G$6*K2816+H$6*L2816+I$6*M2816)>(N2816),1,0)","v":0}]
[null,2290,"[D7-FR] Ensdorf - Vigy 2S [OPP] [D7]_LTA_corner#30_#35","10T-DE-FR-000068","[D7-FR] Ensdorf - Vigy 1N","10T-DE-FR-00005A",0,0,0.14527999999999999,0.34694000000000003,-3.1009999999999999E-2,0.92605000000000004,0,3383,{"$f":"IF((G2817*ALBE+H2817*ALDE+I2817*AT+J2817*BE+K2817*DE+L2817*FR+M2817*NL)>(N2817),1,0)","v":0},null,{"$f":"IF((C$6*G2817+D$6*H2817+E$6*I2817+F$6*J2817+G$6*K2817+H$6*L2817+I$6*M2817)>(N2817),1,0)","v":0}]
[null,2291,"[BE-BE] PST_ZANDV_2 [N - S]_LTA_corner#13_#3","22T20161020---56","[NL-BE] Rilland - Zandvliet 380 White/30","10T-BE-NL-00004C",0,0,-0.32403999999999999,-0.79224000000000006,-0.27544999999999997,-0.43758000000000002,0,1972,{"$f":"IF((G2818*ALBE+H2818*ALDE+I2818*AT+J2818*BE+K2818*DE+L2818*FR+M2818*NL)>(N2818),1,0)","v":0},null,{"$f":"IF((C$6*G2818+D$6*H2818+E$6*I2818+F$6*J2818+G$6*K2818+H$6*L2818+I$6*M2818)>(N2818),1,0)","v":0}]
[null,2292,"[D2-AT] Pleinting - St. Peter 258 [DIR] [AT]_LTA_corner#15_#2","10T-AT-DE-000037","[D2-D2] Pirach - Pleinting 257","11TD2L000000201H",0,0,-0.99770000000000003,-2.5400000000000002E-3,-6.232E-2,-2.6620000000000001E-2,0,4659,{"$f":"IF((G2819*ALBE+H2819*ALDE+I2819*AT+J2819*BE+K2819*DE+L2819*FR+M2819*NL)>(N2819),1,0)","v":0},null,{"$f":"IF((C$6*G2819+D$6*H2819+E$6*I2819+F$6*J2819+G$6*K2819+H$6*L2819+I$6*M2819)>(N2819),1,0)","v":0}]
[null,2293,"[D2-AT] Pleinting - St. Peter 258 [DIR] [AT]_LTA_corner#14_#2","10T-AT-DE-000037","[D2-D2] Pirach - Pleinting 257","11TD2L000000201H",0,0,-0.99575999999999998,0,-7.8299999999999995E-2,4.8349999999999997E-2,0,4783,{"$f":"IF((G2820*ALBE+H2820*ALDE+I2820*AT+J2820*BE+K2820*DE+L2820*FR+M2820*NL)>(N2820),1,0)","v":0},null,{"$f":"IF((C$6*G2820+D$6*H2820+E$6*I2820+F$6*J2820+G$6*K2820+H$6*L2820+I$6*M2820)>(N2820),1,0)","v":0}]
[null,2294,"[D2-AT] Pleinting - St. Peter 258 [DIR] [AT]_LTA_corner#06_#14","10T-AT-DE-000037","[D2-D2] Pirach - Pleinting 257","11TD2L000000201H",0,0,-0.99877000000000005,-4.8849999999999998E-2,6.0800000000000003E-3,6.0800000000000003E-3,0,4981,{"$f":"IF((G2821*ALBE+H2821*ALDE+I2821*AT+J2821*BE+K2821*DE+L2821*FR+M2821*NL)>(N2821),1,0)","v":0},null,{"$f":"IF((C$6*G2821+D$6*H2821+E$6*I2821+F$6*J2821+G$6*K2821+H$6*L2821+I$6*M2821)>(N2821),1,0)","v":0}]
[null,2295,"[D2-D2] Altheim - Sittling 220 [OPP]_LTA_corner#01_#13","11TD2L000000004J","[D2-AT] Pleinting - St. Peter 258","10T-AT-DE-000037",0,0,-0.98702000000000001,0,0.10682999999999999,-0.11994,0,5687,{"$f":"IF((G2822*ALBE+H2822*ALDE+I2822*AT+J2822*BE+K2822*DE+L2822*FR+M2822*NL)>(N2822),1,0)","v":0},null,{"$f":"IF((C$6*G2822+D$6*H2822+E$6*I2822+F$6*J2822+G$6*K2822+H$6*L2822+I$6*M2822)>(N2822),1,0)","v":0}]
[null,2296,"[D2-AT] Pleinting - St. Peter 258 [DIR] [AT]_LTA_corner#02_#6","10T-AT-DE-000037","[D2-D2] Pirach - Pleinting 257","11TD2L000000201H",0,0,-0.99780000000000002,6.3740000000000005E-2,-1.2840000000000001E-2,-1.2840000000000001E-2,0,4851,{"$f":"IF((G2823*ALBE+H2823*ALDE+I2823*AT+J2823*BE+K2823*DE+L2823*FR+M2823*NL)>(N2823),1,0)","v":0},null,{"$f":"IF((C$6*G2823+D$6*H2823+E$6*I2823+F$6*J2823+G$6*K2823+H$6*L2823+I$6*M2823)>(N2823),1,0)","v":0}]
[null,2297,"[BE-FR] Achene - Lonny 380.19 [DIR] [BE]_LTA_corner#02_#4","10T-BE-FR-000015","[BE-BE] Avelgem - Horta 380.102","22T20161020---1E",0,0,-0.31057000000000001,0.68950999999999996,-0.18729999999999999,-0.62692999999999999,0,2507,{"$f":"IF((G2824*ALBE+H2824*ALDE+I2824*AT+J2824*BE+K2824*DE+L2824*FR+M2824*NL)>(N2824),1,0)","v":0},null,{"$f":"IF((C$6*G2824+D$6*H2824+E$6*I2824+F$6*J2824+G$6*K2824+H$6*L2824+I$6*M2824)>(N2824),1,0)","v":0}]
[null,2298,"[BE-BE] PST_VANYK_2 [S - N]","22T-BE-PST--002U","[NL-BE] Rilland - Zandvliet 380 Grey/29","10T-BE-NL-00003E",0.49088999999999999,-5.101E-2,1.153E-2,0.26050000000000001,-1.6789999999999999E-2,8.9039999999999994E-2,-2.776E-2,920,{"$f":"IF((G2825*ALBE+H2825*ALDE+I2825*AT+J2825*BE+K2825*DE+L2825*FR+M2825*NL)>(N2825),1,0)","v":0},null,{"$f":"IF((C$6*G2825+D$6*H2825+E$6*I2825+F$6*J2825+G$6*K2825+H$6*L2825+I$6*M2825)>(N2825),1,0)","v":0}]
[null,2299,"[BE-FR] Achene - Lonny 380.19 [DIR] [BE]_LTA_corner#02_#0","10T-BE-FR-000015","[BE-BE] Avelgem - Horta 380.102","22T20161020---1E",0,0,-0.45851999999999998,0,-0.34534999999999999,-0.81882999999999995,0,1983,{"$f":"IF((G2826*ALBE+H2826*ALDE+I2826*AT+J2826*BE+K2826*DE+L2826*FR+M2826*NL)>(N2826),1,0)","v":0},null,{"$f":"IF((C$6*G2826+D$6*H2826+E$6*I2826+F$6*J2826+G$6*K2826+H$6*L2826+I$6*M2826)>(N2826),1,0)","v":0}]
[null,2300,"ALDE_import","N/A","BASECASE","N/A",0,-1,0,0,0,0,0,0,{"$f":"IF((G2827*ALBE+H2827*ALDE+I2827*AT+J2827*BE+K2827*DE+L2827*FR+M2827*NL)>(N2827),1,0)","v":0},null,{"$f":"IF((C$6*G2827+D$6*H2827+E$6*I2827+F$6*J2827+G$6*K2827+H$6*L2827+I$6*M2827)>(N2827),1,0)","v":0}]
[null,2301,"[D2-AT] Pleinting - St. Peter 258 [DIR] [AT]_LTA_corner#07_#3","10T-AT-DE-000037","[D2-D2] Pirach - Pleinting 257","11TD2L000000201H",0,0,-0.99870999999999999,0,6.0800000000000003E-3,5.0349999999999999E-2,0,4996,{"$f":"IF((G2828*ALBE+H2828*ALDE+I2828*AT+J2828*BE+K2828*DE+L2828*FR+M2828*NL)>(N2828),1,0)","v":0},null,{"$f":"IF((C$6*G2828+D$6*H2828+E$6*I2828+F$6*J2828+G$6*K2828+H$6*L2828+I$6*M2828)>(N2828),1,0)","v":0}]
[null,2302,"[D2-AT] Pleinting - St. Peter 258 [DIR] [AT]_LTA_corner#14_#0","10T-AT-DE-000037","[D2-D2] Pirach - Pleinting 257","11TD2L000000201H",0,0,-0.99173999999999995,2.3519999999999999E-2,-0.104,7.1249999999999994E-2,0,4754,{"$f":"IF((G2829*ALBE+H2829*ALDE+I2829*AT+J2829*BE+K2829*DE+L2829*FR+M2829*NL)>(N2829),1,0)","v":0},null,{"$f":"IF((C$6*G2829+D$6*H2829+E$6*I2829+F$6*J2829+G$6*K2829+H$6*L2829+I$6*M2829)>(N2829),1,0)","v":0}]
[null,2303,"[D2-D2] Altheim - Sittling 220 [OPP]_LTA_corner#09_#34","11TD2L000000004J","[D2-AT] Pleinting - St. Peter 258","10T-AT-DE-000037",0,0,-0.99468000000000001,-7.2870000000000004E-2,-1.2999999999999999E-3,-7.2870000000000004E-2,0,4917,{"$f":"IF((G2830*ALBE+H2830*ALDE+I2830*AT+J2830*BE+K2830*DE+L2830*FR+M2830*NL)>(N2830),1,0)","v":0},null,{"$f":"IF((C$6*G2830+D$6*H2830+E$6*I2830+F$6*J2830+G$6*K2830+H$6*L2830+I$6*M2830)>(N2830),1,0)","v":0}]
[null,2304,"[D2-AT] Pleinting - St. Peter 258 [DIR] [AT]_LTA_corner#06_#6","10T-AT-DE-000037","[D2-D2] Pirach - Pleinting 257","11TD2L000000201H",0,0,-0.99687000000000003,-7.6219999999999996E-2,0,-2.12E-2,0,4978,{"$f":"IF((G2831*ALBE+H2831*ALDE+I2831*AT+J2831*BE+K2831*DE+L2831*FR+M2831*NL)>(N2831),1,0)","v":0},null,{"$f":"IF((C$6*G2831+D$6*H2831+E$6*I2831+F$6*J2831+G$6*K2831+H$6*L2831+I$6*M2831)>(N2831),1,0)","v":0}]
[null,2305,"[D2-D2] Altheim - Sittling 220 [OPP]_LTA_corner#09_#10","11TD2L000000004J","[D2-AT] Pleinting - St. Peter 258","10T-AT-DE-000037",0,0,-0.99853000000000003,-2.3130000000000001E-2,-3.4729999999999997E-2,-3.4729999999999997E-2,0,4718,{"$f":"IF((G2832*ALBE+H2832*ALDE+I2832*AT+J2832*BE+K2832*DE+L2832*FR+M2832*NL)>(N2832),1,0)","v":0},null,{"$f":"IF((C$6*G2832+D$6*H2832+E$6*I2832+F$6*J2832+G$6*K2832+H$6*L2832+I$6*M2832)>(N2832),1,0)","v":0}]
[null,2306,"[D7-FR] Ensdorf - Vigy 2S [OPP] [D7]_LTA_corner#30_#14","10T-DE-FR-000068","[D7-FR] Ensdorf - Vigy 1N","10T-DE-FR-00005A",0,0,7.1840000000000001E-2,0.35169,-0.12388,0.92510000000000003,0,3721,{"$f":"IF((G2833*ALBE+H2833*ALDE+I2833*AT+J2833*BE+K2833*DE+L2833*FR+M2833*NL)>(N2833),1,0)","v":0},null,{"$f":"IF((C$6*G2833+D$6*H2833+E$6*I2833+F$6*J2833+G$6*K2833+H$6*L2833+I$6*M2833)>(N2833),1,0)","v":0}]
[null,2307,"[D7-FR] Ensdorf - Vigy 2S [OPP] [D7]_LTA_corner#30_#17","10T-DE-FR-000068","[D7-FR] Ensdorf - Vigy 1N","10T-DE-FR-00005A",0,0,5.1240000000000001E-2,0.37761,-0.10952000000000001,0.91803999999999997,0,3464,{"$f":"IF((G2834*ALBE+H2834*ALDE+I2834*AT+J2834*BE+K2834*DE+L2834*FR+M2834*NL)>(N2834),1,0)","v":0},null,{"$f":"IF((C$6*G2834+D$6*H2834+E$6*I2834+F$6*J2834+G$6*K2834+H$6*L2834+I$6*M2834)>(N2834),1,0)","v":0}]
[null,2308,"[BE-BE] PST_ZANDV_2 [N - S]_LTA_corner#13_#35","22T20161020---56","[NL-BE] Rilland - Zandvliet 380 White/30","10T-BE-NL-00004C",0,0,-0.39673000000000003,-0.65344000000000002,-0.33344000000000001,-0.55176000000000003,0,1645,{"$f":"IF((G2835*ALBE+H2835*ALDE+I2835*AT+J2835*BE+K2835*DE+L2835*FR+M2835*NL)>(N2835),1,0)","v":0},null,{"$f":"IF((C$6*G2835+D$6*H2835+E$6*I2835+F$6*J2835+G$6*K2835+H$6*L2835+I$6*M2835)>(N2835),1,0)","v":0}]
[null,2309,"[D2-AT] Pleinting - St. Peter 258 [DIR] [AT]_LTA_corner#11_#16","10T-AT-DE-000037","[D2-D2] Pirach - Pleinting 257","11TD2L000000201H",0,0,-0.99785000000000001,0,-5.9950000000000003E-2,-2.6620000000000001E-2,0,4665,{"$f":"IF((G2836*ALBE+H2836*ALDE+I2836*AT+J2836*BE+K2836*DE+L2836*FR+M2836*NL)>(N2836),1,0)","v":0},null,{"$f":"IF((C$6*G2836+D$6*H2836+E$6*I2836+F$6*J2836+G$6*K2836+H$6*L2836+I$6*M2836)>(N2836),1,0)","v":0}]
[null,2310,"[BE-FR] Achene - Lonny 380.19 [DIR] [BE]_LTA_corner#09_#15","10T-BE-FR-000015","[BE-BE] Avelgem - Horta 380.102","22T20161020---1E",0,0,-0.41155000000000003,-0.59899999999999998,-0.33618999999999999,-0.59899999999999998,0,1537,{"$f":"IF((G2837*ALBE+H2837*ALDE+I2837*AT+J2837*BE+K2837*DE+L2837*FR+M2837*NL)>(N2837),1,0)","v":0},null,{"$f":"IF((C$6*G2837+D$6*H2837+E$6*I2837+F$6*J2837+G$6*K2837+H$6*L2837+I$6*M2837)>(N2837),1,0)","v":0}]
[null,2311,"[BE-BE] PST_VANYK_2 [S - N]","22T-BE-PST--002U","[NL-BE] Maasbracht - Van Eyck 380 Black/27","10T-BE-NL-00002G",0.50263000000000002,-5.8029999999999998E-2,1.2460000000000001E-2,0.28466000000000002,-1.7999999999999999E-2,9.7909999999999997E-2,-1.34E-2,935,{"$f":"IF((G2838*ALBE+H2838*ALDE+I2838*AT+J2838*BE+K2838*DE+L2838*FR+M2838*NL)>(N2838),1,0)","v":0},null,{"$f":"IF((C$6*G2838+D$6*H2838+E$6*I2838+F$6*J2838+G$6*K2838+H$6*L2838+I$6*M2838)>(N2838),1,0)","v":0}]
[null,2312,"[D2-AT] Pleinting - St. Peter 258 [DIR] [AT]_LTA_corner#11_#0","10T-AT-DE-000037","[D2-D2] Pirach - Pleinting 257","11TD2L000000201H",0,0,-0.99690000000000001,5.7099999999999998E-3,-7.8310000000000005E-2,5.7099999999999998E-3,0,4653,{"$f":"IF((G2839*ALBE+H2839*ALDE+I2839*AT+J2839*BE+K2839*DE+L2839*FR+M2839*NL)>(N2839),1,0)","v":0},null,{"$f":"IF((C$6*G2839+D$6*H2839+E$6*I2839+F$6*J2839+G$6*K2839+H$6*L2839+I$6*M2839)>(N2839),1,0)","v":0}]
[null,2313,"[D7-FR] Ensdorf - Vigy 2S [OPP] [D7]_LTA_corner#30_#2","10T-DE-FR-000068","[D7-FR] Ensdorf - Vigy 1N","10T-DE-FR-00005A",0,0,7.5170000000000001E-2,0.36987999999999999,-7.5600000000000001E-2,0.92293999999999998,0,3347,{"$f":"IF((G2840*ALBE+H2840*ALDE+I2840*AT+J2840*BE+K2840*DE+L2840*FR+M2840*NL)>(N2840),1,0)","v":0},null,{"$f":"IF((C$6*G2840+D$6*H2840+E$6*I2840+F$6*J2840+G$6*K2840+H$6*L2840+I$6*M2840)>(N2840),1,0)","v":0}]
[null,2314,"[D2-D2] Altheim - Sittling 220 [OPP]_LTA_corner#01_#8","11TD2L000000004J","[D2-AT] Pleinting - St. Peter 258","10T-AT-DE-000037",0,0,-0.56106,0.33487,0.67891999999999997,0.33487,0,7263,{"$f":"IF((G2841*ALBE+H2841*ALDE+I2841*AT+J2841*BE+K2841*DE+L2841*FR+M2841*NL)>(N2841),1,0)","v":0},null,{"$f":"IF((C$6*G2841+D$6*H2841+E$6*I2841+F$6*J2841+G$6*K2841+H$6*L2841+I$6*M2841)>(N2841),1,0)","v":0}]
[null,2315,"[D2-D2] Altheim - Sittling 220 [OPP]_LTA_corner#01_#11","11TD2L000000004J","[D2-AT] Pleinting - St. Peter 258","10T-AT-DE-000037",0,0,-0.99582999999999999,5.6660000000000002E-2,0,-7.1510000000000004E-2,0,4984,{"$f":"IF((G2842*ALBE+H2842*ALDE+I2842*AT+J2842*BE+K2842*DE+L2842*FR+M2842*NL)>(N2842),1,0)","v":0},null,{"$f":"IF((C$6*G2842+D$6*H2842+E$6*I2842+F$6*J2842+G$6*K2842+H$6*L2842+I$6*M2842)>(N2842),1,0)","v":0}]
[null,2316,"[D2-D2] Altheim - Sittling 220 [OPP]_LTA_corner#01_#7","11TD2L000000004J","[D2-AT] Pleinting - St. Peter 258","10T-AT-DE-000037",0,0,-0.74990000000000001,0.25335000000000002,0.55611999999999995,0.25335000000000002,0,7356,{"$f":"IF((G2843*ALBE+H2843*ALDE+I2843*AT+J2843*BE+K2843*DE+L2843*FR+M2843*NL)>(N2843),1,0)","v":0},null,{"$f":"IF((C$6*G2843+D$6*H2843+E$6*I2843+F$6*J2843+G$6*K2843+H$6*L2843+I$6*M2843)>(N2843),1,0)","v":0}]
[null,2317,"[D2-D2] Altheim - Sittling 220 [OPP]_LTA_corner#01_#3","11TD2L000000004J","[D2-AT] Pleinting - St. Peter 258","10T-AT-DE-000037",0,0,-0.93369999999999997,0.15873000000000001,0.27895999999999999,0.15873000000000001,0,6366,{"$f":"IF((G2844*ALBE+H2844*ALDE+I2844*AT+J2844*BE+K2844*DE+L2844*FR+M2844*NL)>(N2844),1,0)","v":0},null,{"$f":"IF((C$6*G2844+D$6*H2844+E$6*I2844+F$6*J2844+G$6*K2844+H$6*L2844+I$6*M2844)>(N2844),1,0)","v":0}]
[null,2318,"[D2-AT] Pleinting - St. Peter 258 [DIR] [AT]_LTA_corner#13_#9","10T-AT-DE-000037","[D2-D2] Pirach - Pleinting 257","11TD2L000000201H",0,0,-0.99782000000000004,-6.3390000000000002E-2,-1.2840000000000001E-2,-1.2840000000000001E-2,0,4900,{"$f":"IF((G2845*ALBE+H2845*ALDE+I2845*AT+J2845*BE+K2845*DE+L2845*FR+M2845*NL)>(N2845),1,0)","v":0},null,{"$f":"IF((C$6*G2845+D$6*H2845+E$6*I2845+F$6*J2845+G$6*K2845+H$6*L2845+I$6*M2845)>(N2845),1,0)","v":0}]
[null,2319,"[D2-AT] Pleinting - St. Peter 258 [DIR] [AT]_LTA_corner#07_#6","10T-AT-DE-000037","[D2-D2] Pirach - Pleinting 257","11TD2L000000201H",0,0,-0.99853000000000003,0,0,5.4239999999999997E-2,0,4979,{"$f":"IF((G2846*ALBE+H2846*ALDE+I2846*AT+J2846*BE+K2846*DE+L2846*FR+M2846*NL)>(N2846),1,0)","v":0},null,{"$f":"IF((C$6*G2846+D$6*H2846+E$6*I2846+F$6*J2846+G$6*K2846+H$6*L2846+I$6*M2846)>(N2846),1,0)","v":0}]
[null,2320,"[D2-D2] Altheim - Sittling 220 [OPP]_LTA_corner#04_#23","11TD2L000000004J","[D2-AT] Pleinting - St. Peter 258","10T-AT-DE-000037",0,0,-0.99480000000000002,-7.2029999999999997E-2,0,-7.2029999999999997E-2,0,4922,{"$f":"IF((G2847*ALBE+H2847*ALDE+I2847*AT+J2847*BE+K2847*DE+L2847*FR+M2847*NL)>(N2847),1,0)","v":0},null,{"$f":"IF((C$6*G2847+D$6*H2847+E$6*I2847+F$6*J2847+G$6*K2847+H$6*L2847+I$6*M2847)>(N2847),1,0)","v":0}]
[null,2321,"[BE-BE] PST_ZANDV_2 [N - S]_LTA_corner#13_#44","22T20161020---56","[NL-BE] Rilland - Zandvliet 380 White/30","10T-BE-NL-00004C",0,0,-0.37439,-0.68898000000000004,-0.32169999999999999,-0.53071000000000002,0,1691,{"$f":"IF((G2848*ALBE+H2848*ALDE+I2848*AT+J2848*BE+K2848*DE+L2848*FR+M2848*NL)>(N2848),1,0)","v":0},null,{"$f":"IF((C$6*G2848+D$6*H2848+E$6*I2848+F$6*J2848+G$6*K2848+H$6*L2848+I$6*M2848)>(N2848),1,0)","v":0}]
[null,2322,"[BE-BE] PST_VANYK_2 [S - N]","22T-BE-PST--002U","[BE-FR] Achene - Lonny 380.19","10T-BE-FR-000015",0.58408000000000004,-2.8410000000000001E-2,5.3499999999999997E-3,0.32887,-7.4999999999999997E-3,4.6859999999999999E-2,1.6320000000000001E-2,814,{"$f":"IF((G2849*ALBE+H2849*ALDE+I2849*AT+J2849*BE+K2849*DE+L2849*FR+M2849*NL)>(N2849),1,0)","v":0},null,{"$f":"IF((C$6*G2849+D$6*H2849+E$6*I2849+F$6*J2849+G$6*K2849+H$6*L2849+I$6*M2849)>(N2849),1,0)","v":0}]
[null,2323,"[BE-FR] Achene - Lonny 380.19 [DIR] [BE]_LTA_corner#02_#1","10T-BE-FR-000015","[BE-BE] Avelgem - Horta 380.102","22T20161020---1E",0,0,-0.3831,0.40317999999999998,-0.28427000000000002,-0.78093999999999997,0,2322,{"$f":"IF((G2850*ALBE+H2850*ALDE+I2850*AT+J2850*BE+K2850*DE+L2850*FR+M2850*NL)>(N2850),1,0)","v":0},null,{"$f":"IF((C$6*G2850+D$6*H2850+E$6*I2850+F$6*J2850+G$6*K2850+H$6*L2850+I$6*M2850)>(N2850),1,0)","v":0}]
[null,2324,"[D2-D2] Altheim - Sittling 220 [OPP]_LTA_corner#09_#6","11TD2L000000004J","[D2-AT] Pleinting - St. Peter 258","10T-AT-DE-000037",0,0,-0.99914000000000003,-2.1909999999999999E-2,-2.486E-2,-2.486E-2,0,4749,{"$f":"IF((G2851*ALBE+H2851*ALDE+I2851*AT+J2851*BE+K2851*DE+L2851*FR+M2851*NL)>(N2851),1,0)","v":0},null,{"$f":"IF((C$6*G2851+D$6*H2851+E$6*I2851+F$6*J2851+G$6*K2851+H$6*L2851+I$6*M2851)>(N2851),1,0)","v":0}]
[null,2325,"[BE-BE] PST_ZANDV_2 [N - S]_LTA_corner#13_#19","22T20161020---56","[NL-BE] Rilland - Zandvliet 380 White/30","10T-BE-NL-00004C",0,0,-0.31585999999999997,-0.77715999999999996,-0.25034000000000001,-0.48331000000000002,0,1976,{"$f":"IF((G2852*ALBE+H2852*ALDE+I2852*AT+J2852*BE+K2852*DE+L2852*FR+M2852*NL)>(N2852),1,0)","v":0},null,{"$f":"IF((C$6*G2852+D$6*H2852+E$6*I2852+F$6*J2852+G$6*K2852+H$6*L2852+I$6*M2852)>(N2852),1,0)","v":0}]
[null,2326,"[D2-D2] Altheim - Sittling 220 [OPP]_LTA_corner#09_#3","11TD2L000000004J","[D2-AT] Pleinting - St. Peter 258","10T-AT-DE-000037",0,0,-0.94447999999999999,-0.13239000000000001,-0.21265000000000001,-0.21265000000000001,0,3967,{"$f":"IF((G2853*ALBE+H2853*ALDE+I2853*AT+J2853*BE+K2853*DE+L2853*FR+M2853*NL)>(N2853),1,0)","v":0},null,{"$f":"IF((C$6*G2853+D$6*H2853+E$6*I2853+F$6*J2853+G$6*K2853+H$6*L2853+I$6*M2853)>(N2853),1,0)","v":0}]
[null,2327,"[D2-D2] Altheim - Sittling 220 [OPP]_LTA_corner#09_#2","11TD2L000000004J","[D2-AT] Pleinting - St. Peter 258","10T-AT-DE-000037",0,0,-0.94140000000000001,-0.12995999999999999,-0.22009000000000001,-0.22009000000000001,0,3931,{"$f":"IF((G2854*ALBE+H2854*ALDE+I2854*AT+J2854*BE+K2854*DE+L2854*FR+M2854*NL)>(N2854),1,0)","v":0},null,{"$f":"IF((C$6*G2854+D$6*H2854+E$6*I2854+F$6*J2854+G$6*K2854+H$6*L2854+I$6*M2854)>(N2854),1,0)","v":0}]
[null,2328,"[D2-D2] Altheim - Sittling 220 [OPP]_LTA_corner#05_#15","11TD2L000000004J","[D2-AT] Pleinting - St. Peter 258","10T-AT-DE-000037",0,0,-0.99165999999999999,0,0.12831999999999999,1.1860000000000001E-2,0,5674,{"$f":"IF((G2855*ALBE+H2855*ALDE+I2855*AT+J2855*BE+K2855*DE+L2855*FR+M2855*NL)>(N2855),1,0)","v":0},null,{"$f":"IF((C$6*G2855+D$6*H2855+E$6*I2855+F$6*J2855+G$6*K2855+H$6*L2855+I$6*M2855)>(N2855),1,0)","v":0}]
[null,2329,"[BE-FR] Achene - Lonny 380.19 [DIR] [BE]_LTA_corner#02_#23","10T-BE-FR-000015","[BE-BE] Avelgem - Horta 380.102","22T20161020---1E",0,0,-0.49324000000000001,0,-0.37641000000000002,-0.78424000000000005,0,1957,{"$f":"IF((G2856*ALBE+H2856*ALDE+I2856*AT+J2856*BE+K2856*DE+L2856*FR+M2856*NL)>(N2856),1,0)","v":0},null,{"$f":"IF((C$6*G2856+D$6*H2856+E$6*I2856+F$6*J2856+G$6*K2856+H$6*L2856+I$6*M2856)>(N2856),1,0)","v":0}]
[null,2330,"[D2-D2] Altheim - Sittling 220 [OPP]_LTA_corner#05_#13","11TD2L000000004J","[D2-AT] Pleinting - St. Peter 258","10T-AT-DE-000037",0,0,-0.48232000000000003,0.34177000000000002,0.69955999999999996,0.40146999999999999,0,7065,{"$f":"IF((G2857*ALBE+H2857*ALDE+I2857*AT+J2857*BE+K2857*DE+L2857*FR+M2857*NL)>(N2857),1,0)","v":0},null,{"$f":"IF((C$6*G2857+D$6*H2857+E$6*I2857+F$6*J2857+G$6*K2857+H$6*L2857+I$6*M2857)>(N2857),1,0)","v":0}]
[null,2331,"[D2-D2] Altheim - Sittling 220 [OPP]_LTA_corner#09_#7","11TD2L000000004J","[D2-AT] Pleinting - St. Peter 258","10T-AT-DE-000037",0,0,-0.97121999999999997,-7.4380000000000002E-2,-2.6270000000000002E-2,-0.22475999999999999,0,4936,{"$f":"IF((G2858*ALBE+H2858*ALDE+I2858*AT+J2858*BE+K2858*DE+L2858*FR+M2858*NL)>(N2858),1,0)","v":0},null,{"$f":"IF((C$6*G2858+D$6*H2858+E$6*I2858+F$6*J2858+G$6*K2858+H$6*L2858+I$6*M2858)>(N2858),1,0)","v":0}]
[null,2332,"[D2-AT] Pleinting - St. Peter 258 [DIR] [AT]_LTA_corner#01_#27","10T-AT-DE-000037","[D2-D2] Pirach - Pleinting 257","11TD2L000000201H",0,0,-0.99726000000000004,6.9000000000000006E-2,0,-2.6599999999999999E-2,0,4934,{"$f":"IF((G2859*ALBE+H2859*ALDE+I2859*AT+J2859*BE+K2859*DE+L2859*FR+M2859*NL)>(N2859),1,0)","v":0},null,{"$f":"IF((C$6*G2859+D$6*H2859+E$6*I2859+F$6*J2859+G$6*K2859+H$6*L2859+I$6*M2859)>(N2859),1,0)","v":0}]
[null,2333,"[D7-FR] Ensdorf - Vigy 2S [OPP] [D7]_LTA_corner#30_#36","10T-DE-FR-000068","[D7-FR] Ensdorf - Vigy 1N","10T-DE-FR-00005A",0,0,0.14824000000000001,0.37064000000000002,-8.4100000000000008E-3,0.91683000000000003,0,3173,{"$f":"IF((G2860*ALBE+H2860*ALDE+I2860*AT+J2860*BE+K2860*DE+L2860*FR+M2860*NL)>(N2860),1,0)","v":0},null,{"$f":"IF((C$6*G2860+D$6*H2860+E$6*I2860+F$6*J2860+G$6*K2860+H$6*L2860+I$6*M2860)>(N2860),1,0)","v":0}]
[null,2334,"[BE-FR] Achene - Lonny 380.19 [DIR] [BE]_LTA_corner#02_#3","10T-BE-FR-000015","[BE-BE] Avelgem - Horta 380.102","22T20161020---1E",0,0,-0.42308000000000001,0.40228999999999998,-0.22800000000000001,-0.77922000000000002,0,2762,{"$f":"IF((G2861*ALBE+H2861*ALDE+I2861*AT+J2861*BE+K2861*DE+L2861*FR+M2861*NL)>(N2861),1,0)","v":0},null,{"$f":"IF((C$6*G2861+D$6*H2861+E$6*I2861+F$6*J2861+G$6*K2861+H$6*L2861+I$6*M2861)>(N2861),1,0)","v":0}]
[null,2335,"[BE-BE] PST_ZANDV_2 [N - S]_LTA_corner#13_#21","22T20161020---56","[NL-BE] Rilland - Zandvliet 380 White/30","10T-BE-NL-00004C",0,0,-0.31280999999999998,-0.78993999999999998,-0.25430999999999998,-0.46203,0,1990,{"$f":"IF((G2862*ALBE+H2862*ALDE+I2862*AT+J2862*BE+K2862*DE+L2862*FR+M2862*NL)>(N2862),1,0)","v":0},null,{"$f":"IF((C$6*G2862+D$6*H2862+E$6*I2862+F$6*J2862+G$6*K2862+H$6*L2862+I$6*M2862)>(N2862),1,0)","v":0}]
[null,2336,"[BE-BE] PST_ZANDV_2 [N - S]_LTA_corner#13_#43","22T20161020---56","[NL-BE] Rilland - Zandvliet 380 White/30","10T-BE-NL-00004C",0,0,-0.39199000000000001,-0.66722999999999999,-0.33174999999999999,-0.53952999999999995,0,1672,{"$f":"IF((G2863*ALBE+H2863*ALDE+I2863*AT+J2863*BE+K2863*DE+L2863*FR+M2863*NL)>(N2863),1,0)","v":0},null,{"$f":"IF((C$6*G2863+D$6*H2863+E$6*I2863+F$6*J2863+G$6*K2863+H$6*L2863+I$6*M2863)>(N2863),1,0)","v":0}]
[null,2337,"[D2-AT] Pleinting - St. Peter 258 [DIR] [AT]_LTA_corner#12_#9","10T-AT-DE-000037","[D2-D2] Pirach - Pleinting 257","11TD2L000000201H",0,0,-0.99851000000000001,-2.1000000000000001E-4,0,5.4480000000000001E-2,0,4980,{"$f":"IF((G2864*ALBE+H2864*ALDE+I2864*AT+J2864*BE+K2864*DE+L2864*FR+M2864*NL)>(N2864),1,0)","v":0},null,{"$f":"IF((C$6*G2864+D$6*H2864+E$6*I2864+F$6*J2864+G$6*K2864+H$6*L2864+I$6*M2864)>(N2864),1,0)","v":0}]
[null,2338,"[NL-D7] Maasbracht - Oberzier 380 white [DIR] [D7]","10T-DE-NL-00005N","[NL-D7] Maasbracht - Siersdorf 380 black","10T-DE-NL-00006L",0.30696000000000001,-0.17480999999999999,2.3E-3,0.27022000000000002,7.7799999999999996E-3,7.9619999999999996E-2,0.23638000000000001,1159,{"$f":"IF((G2865*ALBE+H2865*ALDE+I2865*AT+J2865*BE+K2865*DE+L2865*FR+M2865*NL)>(N2865),1,0)","v":0},null,{"$f":"IF((C$6*G2865+D$6*H2865+E$6*I2865+F$6*J2865+G$6*K2865+H$6*L2865+I$6*M2865)>(N2865),1,0)","v":0}]
["hour 21",3161,"[D2-AT] Pleinting - St. Peter 258 [DIR] [AT]_LTA_corner#07_#11","10T-AT-DE-000037","[D2-D2] Pirach - Pleinting 257","11TD2L000000201H",0,0,-0.99978,0,0,2.0750000000000001E-2,0,4883,{"$f":"IF((G2866*ALBE+H2866*ALDE+I2866*AT+J2866*BE+K2866*DE+L2866*FR+M2866*NL)>(N2866),1,0)","v":0},null,{"$f":"IF((C$6*G2866+D$6*H2866+E$6*I2866+F$6*J2866+G$6*K2866+H$6*L2866+I$6*M2866)>(N2866),1,0)","v":0}]
[null,3162,"[D2-AT] Pleinting - St. Peter 258 [DIR] [AT]_LTA_corner#07_#1","10T-AT-DE-000037","[D2-D2] Pirach - Pleinting 257","11TD2L000000201H",0,0,-0.99978999999999996,0,6.5300000000000002E-3,1.933E-2,0,4909,{"$f":"IF((G2867*ALBE+H2867*ALDE+I2867*AT+J2867*BE+K2867*DE+L2867*FR+M2867*NL)>(N2867),1,0)","v":0},null,{"$f":"IF((C$6*G2867+D$6*H2867+E$6*I2867+F$6*J2867+G$6*K2867+H$6*L2867+I$6*M2867)>(N2867),1,0)","v":0}]
[null,3163,"[AT-AT] Westtirol Transformer WTRHU41 [OPP]_LTA_corner#17_#2","14T-38220-WT041O","BASECASE","N/A",0,0,0.99261999999999995,0,9.5799999999999996E-2,-7.4310000000000001E-2,0,4640,{"$f":"IF((G2868*ALBE+H2868*ALDE+I2868*AT+J2868*BE+K2868*DE+L2868*FR+M2868*NL)>(N2868),1,0)","v":0},null,{"$f":"IF((C$6*G2868+D$6*H2868+E$6*I2868+F$6*J2868+G$6*K2868+H$6*L2868+I$6*M2868)>(N2868),1,0)","v":0}]
[null,3164,"[D2-AT] Pleinting - St. Peter 258 [DIR] [AT]_LTA_corner#01_#8","10T-AT-DE-000037","[D2-D2] Pirach - Pleinting 257","11TD2L000000201H",0,0,-0.99988999999999995,1.1469999999999999E-2,6.5300000000000002E-3,6.5300000000000002E-3,0,4869,{"$f":"IF((G2869*ALBE+H2869*ALDE+I2869*AT+J2869*BE+K2869*DE+L2869*FR+M2869*NL)>(N2869),1,0)","v":0},null,{"$f":"IF((C$6*G2869+D$6*H2869+E$6*I2869+F$6*J2869+G$6*K2869+H$6*L2869+I$6*M2869)>(N2869),1,0)","v":0}]
[null,3165,"[D2-D2] Altheim - Sittling 220 [OPP]_LTA_corner#01_#10","11TD2L000000004J","[D2-AT] Pleinting - St. Peter 258","10T-AT-DE-000037",0,0,-0.99351999999999996,0,0,-0.11369,0,4972,{"$f":"IF((G2870*ALBE+H2870*ALDE+I2870*AT+J2870*BE+K2870*DE+L2870*FR+M2870*NL)>(N2870),1,0)","v":0},null,{"$f":"IF((C$6*G2870+D$6*H2870+E$6*I2870+F$6*J2870+G$6*K2870+H$6*L2870+I$6*M2870)>(N2870),1,0)","v":0}]
[null,3166,"[D2-AT] Pleinting - St. Peter 258 [DIR] [AT]_LTA_corner#14_#15","10T-AT-DE-000037","[D2-D2] Pirach - Pleinting 257","11TD2L000000201H",0,0,-0.99951999999999996,9.3399999999999993E-3,-2.3189999999999999E-2,1.8110000000000001E-2,0,4815,{"$f":"IF((G2871*ALBE+H2871*ALDE+I2871*AT+J2871*BE+K2871*DE+L2871*FR+M2871*NL)>(N2871),1,0)","v":0},null,{"$f":"IF((C$6*G2871+D$6*H2871+E$6*I2871+F$6*J2871+G$6*K2871+H$6*L2871+I$6*M2871)>(N2871),1,0)","v":0}]
[null,3167,"[NL-D7] Maasbracht - Oberzier 380 white [DIR] [D7]","10T-DE-NL-00005N","[NL-D7] Maasbracht - Siersdorf 380 black","10T-DE-NL-00006L",0.30696000000000001,-0.17480999999999999,2.3E-3,0.27022000000000002,6.8900000000000003E-3,7.9689999999999997E-2,0.22697000000000001,1236,{"$f":"IF((G2872*ALBE+H2872*ALDE+I2872*AT+J2872*BE+K2872*DE+L2872*FR+M2872*NL)>(N2872),1,0)","v":0},null,{"$f":"IF((C$6*G2872+D$6*H2872+E$6*I2872+F$6*J2872+G$6*K2872+H$6*L2872+I$6*M2872)>(N2872),1,0)","v":0}]
[null,3168,"[BE-FR] Achene - Lonny 380.19 [DIR] [BE]_LTA_corner#02_#18","10T-BE-FR-000015","[BE-BE] Avelgem - Horta 380.102","22T20161020---1E",0,0,-0.41871000000000003,0.20649000000000001,-0.25944,-0.84541999999999995,0,2468,{"$f":"IF((G2873*ALBE+H2873*ALDE+I2873*AT+J2873*BE+K2873*DE+L2873*FR+M2873*NL)>(N2873),1,0)","v":0},null,{"$f":"IF((C$6*G2873+D$6*H2873+E$6*I2873+F$6*J2873+G$6*K2873+H$6*L2873+I$6*M2873)>(N2873),1,0)","v":0}]
[null,3169,"[D2-AT] Pleinting - St. Peter 258 [DIR] [AT]_LTA_corner#01_#10","10T-AT-DE-000037","[D2-D2] Pirach - Pleinting 257","11TD2L000000201H",0,0,-0.99956,0,2.9739999999999999E-2,0,0,5024,{"$f":"IF((G2874*ALBE+H2874*ALDE+I2874*AT+J2874*BE+K2874*DE+L2874*FR+M2874*NL)>(N2874),1,0)","v":0},null,{"$f":"IF((C$6*G2874+D$6*H2874+E$6*I2874+F$6*J2874+G$6*K2874+H$6*L2874+I$6*M2874)>(N2874),1,0)","v":0}]
[null,3170,"[D2-D2] Altheim - Sittling 220 [OPP]_LTA_corner#09_#17","11TD2L000000004J","[D2-AT] Pleinting - St. Peter 258","10T-AT-DE-000037",0,0,-0.95538999999999996,-0.11421000000000001,-0.19111,-0.19405,0,4083,{"$f":"IF((G2875*ALBE+H2875*ALDE+I2875*AT+J2875*BE+K2875*DE+L2875*FR+M2875*NL)>(N2875),1,0)","v":0},null,{"$f":"IF((C$6*G2875+D$6*H2875+E$6*I2875+F$6*J2875+G$6*K2875+H$6*L2875+I$6*M2875)>(N2875),1,0)","v":0}]
[null,3171,"[BE-FR] Achene - Lonny 380.19 [DIR] [BE]_LTA_corner#02_#12","10T-BE-FR-000015","[BE-BE] Avelgem - Horta 380.102","22T20161020---1E",0,0,-0.41827999999999999,0.41538000000000003,-0.21592,-0.77837999999999996,0,2807,{"$f":"IF((G2876*ALBE+H2876*ALDE+I2876*AT+J2876*BE+K2876*DE+L2876*FR+M2876*NL)>(N2876),1,0)","v":0},null,{"$f":"IF((C$6*G2876+D$6*H2876+E$6*I2876+F$6*J2876+G$6*K2876+H$6*L2876+I$6*M2876)>(N2876),1,0)","v":0}]
[null,3172,"[D2-AT] Pleinting - St. Peter 258 [DIR] [AT]_LTA_corner#06_#8","10T-AT-DE-000037","[D2-D2] Pirach - Pleinting 257","11TD2L000000201H",0,0,-0.99978999999999996,-2.32E-3,1.455E-2,1.455E-2,0,4936,{"$f":"IF((G2877*ALBE+H2877*ALDE+I2877*AT+J2877*BE+K2877*DE+L2877*FR+M2877*NL)>(N2877),1,0)","v":0},null,{"$f":"IF((C$6*G2877+D$6*H2877+E$6*I2877+F$6*J2877+G$6*K2877+H$6*L2877+I$6*M2877)>(N2877),1,0)","v":0}]
[null,3173,"[D2-AT] Pleinting - St. Peter 258 [DIR] [AT]_LTA_corner#02_#12","10T-AT-DE-000037","[D2-D2] Pirach - Pleinting 257","11TD2L000000201H",0,0,-0.99955000000000005,2.8539999999999999E-2,-6.6699999999999997E-3,-6.6699999999999997E-3,0,4835,{"$f":"IF((G2878*ALBE+H2878*ALDE+I2878*AT+J2878*BE+K2878*DE+L2878*FR+M2878*NL)>(N2878),1,0)","v":0},null,{"$f":"IF((C$6*G2878+D$6*H2878+E$6*I2878+F$6*J2878+G$6*K2878+H$6*L2878+I$6*M2878)>(N2878),1,0)","v":0}]
[null,3174,"[D2-AT] Pleinting - St. Peter 258 [DIR] [AT]_LTA_corner#01_#6","10T-AT-DE-000037","[D2-D2] Pirach - Pleinting 257","11TD2L000000201H",0,0,-0.99892000000000003,4.1489999999999999E-2,0,-2.07E-2,0,4899,{"$f":"IF((G2879*ALBE+H2879*ALDE+I2879*AT+J2879*BE+K2879*DE+L2879*FR+M2879*NL)>(N2879),1,0)","v":0},null,{"$f":"IF((C$6*G2879+D$6*H2879+E$6*I2879+F$6*J2879+G$6*K2879+H$6*L2879+I$6*M2879)>(N2879),1,0)","v":0}]
[null,3175,"[D2-AT] Pleinting - St. Peter 258 [DIR] [AT]_LTA_corner#11_#0","10T-AT-DE-000037","[D2-D2] Pirach - Pleinting 257","11TD2L000000201H",0,0,-0.99912000000000001,0,-3.814E-2,-1.754E-2,0,4723,{"$f":"IF((G2880*ALBE+H2880*ALDE+I2880*AT+J2880*BE+K2880*DE+L2880*FR+M2880*NL)>(N2880),1,0)","v":0},null,{"$f":"IF((C$6*G2880+D$6*H2880+E$6*I2880+F$6*J2880+G$6*K2880+H$6*L2880+I$6*M2880)>(N2880),1,0)","v":0}]
[null,3176,"[D2-D2] Altheim - Sittling 220 [OPP]_LTA_corner#01_#2","11TD2L000000004J","[D2-AT] Pleinting - St. Peter 258","10T-AT-DE-000037",0,0,-0.95565,0.10271,0.25620999999999999,0.10271,0,6336,{"$f":"IF((G2881*ALBE+H2881*ALDE+I2881*AT+J2881*BE+K2881*DE+L2881*FR+M2881*NL)>(N2881),1,0)","v":0},null,{"$f":"IF((C$6*G2881+D$6*H2881+E$6*I2881+F$6*J2881+G$6*K2881+H$6*L2881+I$6*M2881)>(N2881),1,0)","v":0}]
[null,3177,"[D2-AT] Pleinting - St. Peter 258 [DIR] [AT]_LTA_corner#06_#9","10T-AT-DE-000037","[D2-D2] Pirach - Pleinting 257","11TD2L000000201H",0,0,-0.99980000000000002,-1.7590000000000001E-2,6.5300000000000002E-3,6.5300000000000002E-3,0,4913,{"$f":"IF((G2882*ALBE+H2882*ALDE+I2882*AT+J2882*BE+K2882*DE+L2882*FR+M2882*NL)>(N2882),1,0)","v":0},null,{"$f":"IF((C$6*G2882+D$6*H2882+E$6*I2882+F$6*J2882+G$6*K2882+H$6*L2882+I$6*M2882)>(N2882),1,0)","v":0}]
[null,3178,"[D2-D2] Altheim - Sittling 220 [OPP]_LTA_corner#01_#5","11TD2L000000004J","[D2-AT] Pleinting - St. Peter 258","10T-AT-DE-000037",0,0,-0.81513000000000002,0.23516000000000001,0.4743,0.23516000000000001,0,7113,{"$f":"IF((G2883*ALBE+H2883*ALDE+I2883*AT+J2883*BE+K2883*DE+L2883*FR+M2883*NL)>(N2883),1,0)","v":0},null,{"$f":"IF((C$6*G2883+D$6*H2883+E$6*I2883+F$6*J2883+G$6*K2883+H$6*L2883+I$6*M2883)>(N2883),1,0)","v":0}]
[null,3179,"[BE-FR] Achene - Lonny 380.19 [DIR] [BE]_LTA_corner#09_#4","10T-BE-FR-000015","[BE-BE] Avelgem - Horta 380.102","22T20161020---1E",0,0,-0.40126000000000001,-0.60933999999999999,-0.31048999999999999,-0.60933999999999999,0,1620,{"$f":"IF((G2884*ALBE+H2884*ALDE+I2884*AT+J2884*BE+K2884*DE+L2884*FR+M2884*NL)>(N2884),1,0)","v":0},null,{"$f":"IF((C$6*G2884+D$6*H2884+E$6*I2884+F$6*J2884+G$6*K2884+H$6*L2884+I$6*M2884)>(N2884),1,0)","v":0}]
[null,3180,"[NL-NL] Krimpen a/d IJssel - Geertruidenberg 380 Zwart [OPP]","49T0000000000282","[NL-NL] Diemen - Lelystad 380 Wit","49T0000000000096",0.10184,3.1809999999999998E-2,1.1610000000000001E-2,0.125,-1.9269999999999999E-2,5.9060000000000001E-2,-0.30342999999999998,2043,{"$f":"IF((G2885*ALBE+H2885*ALDE+I2885*AT+J2885*BE+K2885*DE+L2885*FR+M2885*NL)>(N2885),1,0)","v":0},null,{"$f":"IF((C$6*G2885+D$6*H2885+E$6*I2885+F$6*J2885+G$6*K2885+H$6*L2885+I$6*M2885)>(N2885),1,0)","v":0}]
[null,3181,"[D2-D2] Altheim - Sittling 220 [OPP]_LTA_corner#01_#3","11TD2L000000004J","[D2-AT] Pleinting - St. Peter 258","10T-AT-DE-000037",0,0,-0.66754999999999998,0.33449000000000001,0.57499,0.33449000000000001,0,7059,{"$f":"IF((G2886*ALBE+H2886*ALDE+I2886*AT+J2886*BE+K2886*DE+L2886*FR+M2886*NL)>(N2886),1,0)","v":0},null,{"$f":"IF((C$6*G2886+D$6*H2886+E$6*I2886+F$6*J2886+G$6*K2886+H$6*L2886+I$6*M2886)>(N2886),1,0)","v":0}]
[null,3182,"[D2-D2] Altheim - Sittling 220 [OPP]_LTA_corner#01_#13","11TD2L000000004J","[D2-AT] Pleinting - St. Peter 258","10T-AT-DE-000037",0,0,-0.99138999999999999,0,7.8420000000000004E-2,-0.10489,0,5488,{"$f":"IF((G2887*ALBE+H2887*ALDE+I2887*AT+J2887*BE+K2887*DE+L2887*FR+M2887*NL)>(N2887),1,0)","v":0},null,{"$f":"IF((C$6*G2887+D$6*H2887+E$6*I2887+F$6*J2887+G$6*K2887+H$6*L2887+I$6*M2887)>(N2887),1,0)","v":0}]
[null,3183,"[AT-AT] Westtirol Transformer WTRHU41 [OPP]_LTA_corner#17_#7","14T-38220-WT041O","BASECASE","N/A",0,0,0.99333000000000005,0,9.2689999999999995E-2,-6.8629999999999997E-2,0,4643,{"$f":"IF((G2888*ALBE+H2888*ALDE+I2888*AT+J2888*BE+K2888*DE+L2888*FR+M2888*NL)>(N2888),1,0)","v":0},null,{"$f":"IF((C$6*G2888+D$6*H2888+E$6*I2888+F$6*J2888+G$6*K2888+H$6*L2888+I$6*M2888)>(N2888),1,0)","v":0}]
[null,3184,"[AT-AT] Westtirol Transformer WTRHU41 [OPP]_LTA_corner#17_#6","14T-38220-WT041O","BASECASE","N/A",0,0,0.99539,0,9.1009999999999994E-2,-3.0249999999999999E-2,0,4596,{"$f":"IF((G2889*ALBE+H2889*ALDE+I2889*AT+J2889*BE+K2889*DE+L2889*FR+M2889*NL)>(N2889),1,0)","v":0},null,{"$f":"IF((C$6*G2889+D$6*H2889+E$6*I2889+F$6*J2889+G$6*K2889+H$6*L2889+I$6*M2889)>(N2889),1,0)","v":0}]
[null,3185,"[D2-D2] Altheim - Sittling 220 [OPP]_LTA_corner#05_#0","11TD2L000000004J","[D2-AT] Pleinting - St. Peter 258","10T-AT-DE-000037",0,0,-0.21984000000000001,0.4143,0.74299999999999999,0.47747000000000001,0,6074,{"$f":"IF((G2890*ALBE+H2890*ALDE+I2890*AT+J2890*BE+K2890*DE+L2890*FR+M2890*NL)>(N2890),1,0)","v":0},null,{"$f":"IF((C$6*G2890+D$6*H2890+E$6*I2890+F$6*J2890+G$6*K2890+H$6*L2890+I$6*M2890)>(N2890),1,0)","v":0}]
[null,3186,"[AT-AT] Westtirol Transformer WTRHU41 [OPP]_LTA_corner#17_#1","14T-38220-WT041O","BASECASE","N/A",0,0,0.98960000000000004,0,0.11216,-9.0069999999999997E-2,0,4606,{"$f":"IF((G2891*ALBE+H2891*ALDE+I2891*AT+J2891*BE+K2891*DE+L2891*FR+M2891*NL)>(N2891),1,0)","v":0},null,{"$f":"IF((C$6*G2891+D$6*H2891+E$6*I2891+F$6*J2891+G$6*K2891+H$6*L2891+I$6*M2891)>(N2891),1,0)","v":0}]
[null,3187,"[BE-FR] Achene - Lonny 380.19 [DIR] [BE]_LTA_corner#02_#0","10T-BE-FR-000015","[BE-BE] Avelgem - Horta 380.102","22T20161020---1E",0,0,-0.28645999999999999,0.81862999999999997,-0.21944,-0.44679000000000002,0,2117,{"$f":"IF((G2892*ALBE+H2892*ALDE+I2892*AT+J2892*BE+K2892*DE+L2892*FR+M2892*NL)>(N2892),1,0)","v":0},null,{"$f":"IF((C$6*G2892+D$6*H2892+E$6*I2892+F$6*J2892+G$6*K2892+H$6*L2892+I$6*M2892)>(N2892),1,0)","v":0}]
[null,3188,"[D2-AT] Pleinting - St. Peter 258 [DIR] [AT]_LTA_corner#01_#1","10T-AT-DE-000037","[D2-D2] Pirach - Pleinting 257","11TD2L000000201H",0,0,-0.99848999999999999,4.7620000000000003E-2,6.5199999999999998E-3,-2.6419999999999999E-2,0,4959,{"$f":"IF((G2893*ALBE+H2893*ALDE+I2893*AT+J2893*BE+K2893*DE+L2893*FR+M2893*NL)>(N2893),1,0)","v":0},null,{"$f":"IF((C$6*G2893+D$6*H2893+E$6*I2893+F$6*J2893+G$6*K2893+H$6*L2893+I$6*M2893)>(N2893),1,0)","v":0}]
[null,3189,"[D2-AT] Pleinting - St. Peter 258 [DIR] [AT]_LTA_corner#04_#12","10T-AT-DE-000037","[D2-D2] Pirach - Pleinting 257","11TD2L000000201H",0,0,-0.99856999999999996,-3.7859999999999998E-2,6.7000000000000002E-4,-3.7859999999999998E-2,0,4885,{"$f":"IF((G2894*ALBE+H2894*ALDE+I2894*AT+J2894*BE+K2894*DE+L2894*FR+M2894*NL)>(N2894),1,0)","v":0},null,{"$f":"IF((C$6*G2894+D$6*H2894+E$6*I2894+F$6*J2894+G$6*K2894+H$6*L2894+I$6*M2894)>(N2894),1,0)","v":0}]
[null,3190,"[D2-AT] Pleinting - St. Peter 258 [DIR] [AT]_LTA_corner#04_#3","10T-AT-DE-000037","[D2-D2] Pirach - Pleinting 257","11TD2L000000201H",0,0,-0.99861,-3.7289999999999997E-2,0,-3.7289999999999997E-2,0,4880,{"$f":"IF((G2895*ALBE+H2895*ALDE+I2895*AT+J2895*BE+K2895*DE+L2895*FR+M2895*NL)>(N2895),1,0)","v":0},null,{"$f":"IF((C$6*G2895+D$6*H2895+E$6*I2895+F$6*J2895+G$6*K2895+H$6*L2895+I$6*M2895)>(N2895),1,0)","v":0}]
[null,3191,"[D4-AT] Buers - Westtirol 421 weiss [OPP] [D4]_LTA_corner#20_#23","10T-AT-DE-000061","[AT-AT] Westtirol Transformer WTRHU41","14T-38220-WT041O",0,0,0.98711000000000004,-3.9460000000000002E-2,0.10655000000000001,-0.11269999999999999,0,4651,{"$f":"IF((G2896*ALBE+H2896*ALDE+I2896*AT+J2896*BE+K2896*DE+L2896*FR+M2896*NL)>(N2896),1,0)","v":0},null,{"$f":"IF((C$6*G2896+D$6*H2896+E$6*I2896+F$6*J2896+G$6*K2896+H$6*L2896+I$6*M2896)>(N2896),1,0)","v":0}]
[null,3192,"[D2-AT] Pleinting - St. Peter 258 [DIR] [AT]_LTA_corner#01_#22","10T-AT-DE-000037","[D2-D2] Pirach - Pleinting 257","11TD2L000000201H",0,0,-0.99780999999999997,0,0,-6.615E-2,0,4916,{"$f":"IF((G2897*ALBE+H2897*ALDE+I2897*AT+J2897*BE+K2897*DE+L2897*FR+M2897*NL)>(N2897),1,0)","v":0},null,{"$f":"IF((C$6*G2897+D$6*H2897+E$6*I2897+F$6*J2897+G$6*K2897+H$6*L2897+I$6*M2897)>(N2897),1,0)","v":0}]
[null,3193,"ALBE_export","N/A","BASECASE","N/A",1,0,0,0,0,0,0,0,{"$f":"IF((G2898*ALBE+H2898*ALDE+I2898*AT+J2898*BE+K2898*DE+L2898*FR+M2898*NL)>(N2898),1,0)","v":0},null,{"$f":"IF((C$6*G2898+D$6*H2898+E$6*I2898+F$6*J2898+G$6*K2898+H$6*L2898+I$6*M2898)>(N2898),1,0)","v":0}]
[null,3194,"[D2-AT] Pleinting - St. Peter 258 [DIR] [AT]_LTA_corner#11_#11","10T-AT-DE-000037","[D2-D2] Pirach - Pleinting 257","11TD2L000000201H",0,0,-0.99963999999999997,1.286E-2,-1.9689999999999999E-2,1.286E-2,0,4803,{"$f":"IF((G2899*ALBE+H2899*ALDE+I2899*AT+J2899*BE+K2899*DE+L2899*FR+M2899*NL)>(N2899),1,0)","v":0},null,{"$f":"IF((C$6*G2899+D$6*H2899+E$6*I2899+F$6*J2899+G$6*K2899+H$6*L2899+I$6*M2899)>(N2899),1,0)","v":0}]
[null,3195,"[BE-FR] Achene - Lonny 380.19 [DIR] [BE]_LTA_corner#02_#6","10T-BE-FR-000015","[BE-BE] Avelgem - Horta 380.102","22T20161020---1E",0,0,-0.46744999999999998,0,-0.36175000000000002,-0.80661000000000005,0,1933,{"$f":"IF((G2900*ALBE+H2900*ALDE+I2900*AT+J2900*BE+K2900*DE+L2900*FR+M2900*NL)>(N2900),1,0)","v":0},null,{"$f":"IF((C$6*G2900+D$6*H2900+E$6*I2900+F$6*J2900+G$6*K2900+H$6*L2900+I$6*M2900)>(N2900),1,0)","v":0}]
[null,3196,"[D2-AT] Pleinting - St. Peter 258 [DIR] [AT]_LTA_corner#04_#2","10T-AT-DE-000037","[D2-D2] Pirach - Pleinting 257","11TD2L000000201H",0,0,-0.99934999999999996,-2.32E-3,3.5950000000000003E-2,-2.32E-3,0,5070,{"$f":"IF((G2901*ALBE+H2901*ALDE+I2901*AT+J2901*BE+K2901*DE+L2901*FR+M2901*NL)>(N2901),1,0)","v":0},null,{"$f":"IF((C$6*G2901+D$6*H2901+E$6*I2901+F$6*J2901+G$6*K2901+H$6*L2901+I$6*M2901)>(N2901),1,0)","v":0}]
[null,3197,"[D2-AT] Pleinting - St. Peter 258 [DIR] [AT]_LTA_corner#03_#12","10T-AT-DE-000037","[D2-D2] Pirach - Pleinting 257","11TD2L000000201H",0,0,-0.99990999999999997,9.7400000000000004E-3,0,9.7400000000000004E-3,0,4840,{"$f":"IF((G2902*ALBE+H2902*ALDE+I2902*AT+J2902*BE+K2902*DE+L2902*FR+M2902*NL)>(N2902),1,0)","v":0},null,{"$f":"IF((C$6*G2902+D$6*H2902+E$6*I2902+F$6*J2902+G$6*K2902+H$6*L2902+I$6*M2902)>(N2902),1,0)","v":0}]
[null,3198,"[D7-FR] Ensdorf - Vigy 2S [OPP] [D7]","10T-DE-FR-000068","[D7-D7] Ensdorf - Uchtelfangen Taubental N","11T0-0000-0604-N",5.7369999999999997E-2,-5.6079999999999998E-2,2.1600000000000001E-2,7.603E-2,-1.529E-2,0.19167999999999999,-2.5100000000000001E-3,853,{"$f":"IF((G2903*ALBE+H2903*ALDE+I2903*AT+J2903*BE+K2903*DE+L2903*FR+M2903*NL)>(N2903),1,0)","v":0},null,{"$f":"IF((C$6*G2903+D$6*H2903+E$6*I2903+F$6*J2903+G$6*K2903+H$6*L2903+I$6*M2903)>(N2903),1,0)","v":0}]
[null,3199,"[BE-FR] Achene - Lonny 380.19 [DIR] [BE]_LTA_corner#09_#2","10T-BE-FR-000015","[BE-BE] Avelgem - Horta 380.102","22T20161020---1E",0,0,-0.39226,-0.61312,-0.30708000000000002,-0.61312,0,1599,{"$f":"IF((G2904*ALBE+H2904*ALDE+I2904*AT+J2904*BE+K2904*DE+L2904*FR+M2904*NL)>(N2904),1,0)","v":0},null,{"$f":"IF((C$6*G2904+D$6*H2904+E$6*I2904+F$6*J2904+G$6*K2904+H$6*L2904+I$6*M2904)>(N2904),1,0)","v":0}]
[null,3200,"[D2-D2] Altheim - Sittling 220 [OPP]_LTA_corner#01_#4","11TD2L000000004J","[D2-AT] Pleinting - St. Peter 258","10T-AT-DE-000037",0,0,-0.64502999999999999,0.32374999999999998,0.61180999999999996,0.32374999999999998,0,7208,{"$f":"IF((G2905*ALBE+H2905*ALDE+I2905*AT+J2905*BE+K2905*DE+L2905*FR+M2905*NL)>(N2905),1,0)","v":0},null,{"$f":"IF((C$6*G2905+D$6*H2905+E$6*I2905+F$6*J2905+G$6*K2905+H$6*L2905+I$6*M2905)>(N2905),1,0)","v":0}]
[null,3201,"[D2-AT] Pleinting - St. Peter 258 [DIR] [AT]_LTA_corner#04_#10","10T-AT-DE-000037","[D2-D2] Pirach - Pleinting 257","11TD2L000000201H",0,0,-0.99856999999999996,-3.6389999999999999E-2,0,-3.918E-2,0,4882,{"$f":"IF((G2906*ALBE+H2906*ALDE+I2906*AT+J2906*BE+K2906*DE+L2906*FR+M2906*NL)>(N2906),1,0)","v":0},null,{"$f":"IF((C$6*G2906+D$6*H2906+E$6*I2906+F$6*J2906+G$6*K2906+H$6*L2906+I$6*M2906)>(N2906),1,0)","v":0}]
[null,3202,"[BE-FR] Achene - Lonny 380.19 [DIR] [BE]_LTA_corner#02_#4","10T-BE-FR-000015","[BE-BE] Avelgem - Horta 380.102","22T20161020---1E",0,0,-0.28571000000000002,0.73362000000000005,-0.16883999999999999,-0.59301000000000004,0,2469,{"$f":"IF((G2907*ALBE+H2907*ALDE+I2907*AT+J2907*BE+K2907*DE+L2907*FR+M2907*NL)>(N2907),1,0)","v":0},null,{"$f":"IF((C$6*G2907+D$6*H2907+E$6*I2907+F$6*J2907+G$6*K2907+H$6*L2907+I$6*M2907)>(N2907),1,0)","v":0}]
[null,3203,"[AT-AT] Westtirol Transformer WTRHU41 [OPP]_LTA_corner#20_#0","14T-38220-WT041O","BASECASE","N/A",0,0,0.99450000000000005,-2.3769999999999999E-2,6.9690000000000002E-2,-7.4450000000000002E-2,0,4724,{"$f":"IF((G2908*ALBE+H2908*ALDE+I2908*AT+J2908*BE+K2908*DE+L2908*FR+M2908*NL)>(N2908),1,0)","v":0},null,{"$f":"IF((C$6*G2908+D$6*H2908+E$6*I2908+F$6*J2908+G$6*K2908+H$6*L2908+I$6*M2908)>(N2908),1,0)","v":0}]
[null,3204,"[D2-AT] Pleinting - St. Peter 258 [DIR] [AT]_LTA_corner#02_#8","10T-AT-DE-000037","[D2-D2] Pirach - Pleinting 257","11TD2L000000201H",0,0,-0.99936000000000003,3.2070000000000001E-2,-1.102E-2,-1.102E-2,0,4826,{"$f":"IF((G2909*ALBE+H2909*ALDE+I2909*AT+J2909*BE+K2909*DE+L2909*FR+M2909*NL)>(N2909),1,0)","v":0},null,{"$f":"IF((C$6*G2909+D$6*H2909+E$6*I2909+F$6*J2909+G$6*K2909+H$6*L2909+I$6*M2909)>(N2909),1,0)","v":0}]
[null,3205,"[D2-D2] Altheim - Sittling 220 [OPP]_LTA_corner#01_#0","11TD2L000000004J","[D2-AT] Pleinting - St. Peter 258","10T-AT-DE-000037",0,0,-0.99690000000000001,3.5619999999999999E-2,0,-7.0180000000000006E-2,0,4962,{"$f":"IF((G2910*ALBE+H2910*ALDE+I2910*AT+J2910*BE+K2910*DE+L2910*FR+M2910*NL)>(N2910),1,0)","v":0},null,{"$f":"IF((C$6*G2910+D$6*H2910+E$6*I2910+F$6*J2910+G$6*K2910+H$6*L2910+I$6*M2910)>(N2910),1,0)","v":0}]
[null,3206,"[BE-FR] Achene - Lonny 380.19 [DIR] [BE]_LTA_corner#02_#11","10T-BE-FR-000015","[BE-BE] Avelgem - Horta 380.102","22T20161020---1E",0,0,-0.49729000000000001,0,-0.33459,-0.80047000000000001,0,2188,{"$f":"IF((G2911*ALBE+H2911*ALDE+I2911*AT+J2911*BE+K2911*DE+L2911*FR+M2911*NL)>(N2911),1,0)","v":0},null,{"$f":"IF((C$6*G2911+D$6*H2911+E$6*I2911+F$6*J2911+G$6*K2911+H$6*L2911+I$6*M2911)>(N2911),1,0)","v":0}]
[null,3207,"[D2-AT] Pleinting - St. Peter 258 [DIR] [AT]_LTA_corner#11_#6","10T-AT-DE-000037","[D2-D2] Pirach - Pleinting 257","11TD2L000000201H",0,0,-0.99909999999999999,1.29E-2,-3.8249999999999999E-2,1.29E-2,0,4762,{"$f":"IF((G2912*ALBE+H2912*ALDE+I2912*AT+J2912*BE+K2912*DE+L2912*FR+M2912*NL)>(N2912),1,0)","v":0},null,{"$f":"IF((C$6*G2912+D$6*H2912+E$6*I2912+F$6*J2912+G$6*K2912+H$6*L2912+I$6*M2912)>(N2912),1,0)","v":0}]
[null,3208,"[D2-D2] Altheim - Sittling 220 [OPP]_LTA_corner#09_#0","11TD2L000000004J","[D2-AT] Pleinting - St. Peter 258","10T-AT-DE-000037",0,0,-0.97653000000000001,-6.7489999999999994E-2,-3.1419999999999997E-2,-0.2021,0,4901,{"$f":"IF((G2913*ALBE+H2913*ALDE+I2913*AT+J2913*BE+K2913*DE+L2913*FR+M2913*NL)>(N2913),1,0)","v":0},null,{"$f":"IF((C$6*G2913+D$6*H2913+E$6*I2913+F$6*J2913+G$6*K2913+H$6*L2913+I$6*M2913)>(N2913),1,0)","v":0}]
[null,3209,"[D2-AT] Pleinting - St. Peter 258 [DIR] [AT]_LTA_corner#04_#9","10T-AT-DE-000037","[D2-D2] Pirach - Pleinting 257","11TD2L000000201H",0,0,-0.99761,-1.9720000000000001E-2,0,-6.6280000000000006E-2,0,4918,{"$f":"IF((G2914*ALBE+H2914*ALDE+I2914*AT+J2914*BE+K2914*DE+L2914*FR+M2914*NL)>(N2914),1,0)","v":0},null,{"$f":"IF((C$6*G2914+D$6*H2914+E$6*I2914+F$6*J2914+G$6*K2914+H$6*L2914+I$6*M2914)>(N2914),1,0)","v":0}]
[null,3210,"[D7-D7] PST Gronau [OPP]","11T0-0000-0620-R","[NL-NL] Zwolle - Meeden 380 Zwart","49T000000000002K",-9.2869999999999994E-2,-4.879E-2,-1.12E-2,-9.418E-2,2.5309999999999999E-2,-4.8730000000000002E-2,-0.15645999999999999,866,{"$f":"IF((G2915*ALBE+H2915*ALDE+I2915*AT+J2915*BE+K2915*DE+L2915*FR+M2915*NL)>(N2915),1,0)","v":0},null,{"$f":"IF((C$6*G2915+D$6*H2915+E$6*I2915+F$6*J2915+G$6*K2915+H$6*L2915+I$6*M2915)>(N2915),1,0)","v":0}]
[null,3211,"[D2-AT] Pleinting - St. Peter 258 [DIR] [AT]_LTA_corner#11_#3","10T-AT-DE-000037","[D2-D2] Pirach - Pleinting 257","11TD2L000000201H",0,0,-0.99922999999999995,0,-3.9170000000000003E-2,0,0,4735,{"$f":"IF((G2916*ALBE+H2916*ALDE+I2916*AT+J2916*BE+K2916*DE+L2916*FR+M2916*NL)>(N2916),1,0)","v":0},null,{"$f":"IF((C$6*G2916+D$6*H2916+E$6*I2916+F$6*J2916+G$6*K2916+H$6*L2916+I$6*M2916)>(N2916),1,0)","v":0}]
[null,3212,"[D2-D2] Altheim - Sittling 220 [OPP]_LTA_corner#04_#4","11TD2L000000004J","[D2-AT] Pleinting - St. Peter 258","10T-AT-DE-000037",0,0,-0.99631000000000003,-4.9459999999999997E-2,0,-7.0139999999999994E-2,0,4923,{"$f":"IF((G2917*ALBE+H2917*ALDE+I2917*AT+J2917*BE+K2917*DE+L2917*FR+M2917*NL)>(N2917),1,0)","v":0},null,{"$f":"IF((C$6*G2917+D$6*H2917+E$6*I2917+F$6*J2917+G$6*K2917+H$6*L2917+I$6*M2917)>(N2917),1,0)","v":0}]
[null,3213,"[D2-AT] Pleinting - St. Peter 258 [DIR] [AT]_LTA_corner#13_#11","10T-AT-DE-000037","[D2-D2] Pirach - Pleinting 257","11TD2L000000201H",0,0,-0.99941999999999998,-2.9000000000000001E-2,-1.265E-2,-1.265E-2,0,4824,{"$f":"IF((G2918*ALBE+H2918*ALDE+I2918*AT+J2918*BE+K2918*DE+L2918*FR+M2918*NL)>(N2918),1,0)","v":0},null,{"$f":"IF((C$6*G2918+D$6*H2918+E$6*I2918+F$6*J2918+G$6*K2918+H$6*L2918+I$6*M2918)>(N2918),1,0)","v":0}]
[null,3214,"[D2-AT] Pleinting - St. Peter 258 [DIR] [AT]_LTA_corner#12_#22","10T-AT-DE-000037","[D2-D2] Pirach - Pleinting 257","11TD2L000000201H",0,0,-0.99978,-7.6000000000000004E-4,0,2.0969999999999999E-2,0,4886,{"$f":"IF((G2919*ALBE+H2919*ALDE+I2919*AT+J2919*BE+K2919*DE+L2919*FR+M2919*NL)>(N2919),1,0)","v":0},null,{"$f":"IF((C$6*G2919+D$6*H2919+E$6*I2919+F$6*J2919+G$6*K2919+H$6*L2919+I$6*M2919)>(N2919),1,0)","v":0}]
[null,3215,"[D2-AT] Pleinting - St. Peter 258 [DIR] [AT]_LTA_corner#14_#16","10T-AT-DE-000037","[D2-D2] Pirach - Pleinting 257","11TD2L000000201H",0,0,-0.99978,0,-3.1800000000000001E-3,2.07E-2,0,4876,{"$f":"IF((G2920*ALBE+H2920*ALDE+I2920*AT+J2920*BE+K2920*DE+L2920*FR+M2920*NL)>(N2920),1,0)","v":0},null,{"$f":"IF((C$6*G2920+D$6*H2920+E$6*I2920+F$6*J2920+G$6*K2920+H$6*L2920+I$6*M2920)>(N2920),1,0)","v":0}]
[null,3216,"[BE-BE] PST_ZANDV_2 [N - S]_LTA_corner#13_#23","22T20161020---56","[NL-BE] Rilland - Zandvliet 380 White/30","10T-BE-NL-00004C",0,0,-0.33141999999999999,-0.74541999999999997,-0.28956999999999999,-0.50065999999999999,0,1786,{"$f":"IF((G2921*ALBE+H2921*ALDE+I2921*AT+J2921*BE+K2921*DE+L2921*FR+M2921*NL)>(N2921),1,0)","v":0},null,{"$f":"IF((C$6*G2921+D$6*H2921+E$6*I2921+F$6*J2921+G$6*K2921+H$6*L2921+I$6*M2921)>(N2921),1,0)","v":0}]
[null,3217,"[BE-FR] Achene - Lonny 380.19 [DIR] [BE]_LTA_corner#09_#0","10T-BE-FR-000015","[BE-BE] Avelgem - Horta 380.102","22T20161020---1E",0,0,-0.40726000000000001,-0.60199000000000003,-0.33068999999999998,-0.60199000000000003,0,1546,{"$f":"IF((G2922*ALBE+H2922*ALDE+I2922*AT+J2922*BE+K2922*DE+L2922*FR+M2922*NL)>(N2922),1,0)","v":0},null,{"$f":"IF((C$6*G2922+D$6*H2922+E$6*I2922+F$6*J2922+G$6*K2922+H$6*L2922+I$6*M2922)>(N2922),1,0)","v":0}]
[null,3218,"[BE-BE] PST_VANYK_2 [S - N]","22T-BE-PST--002U","[NL-BE] Rilland - Zandvliet 380 Grey/29","10T-BE-NL-00003E",0.49088999999999999,-5.0999999999999997E-2,1.154E-2,0.26050000000000001,-1.6199999999999999E-2,8.9130000000000001E-2,-2.8500000000000001E-2,1025,{"$f":"IF((G2923*ALBE+H2923*ALDE+I2923*AT+J2923*BE+K2923*DE+L2923*FR+M2923*NL)>(N2923),1,0)","v":0},null,{"$f":"IF((C$6*G2923+D$6*H2923+E$6*I2923+F$6*J2923+G$6*K2923+H$6*L2923+I$6*M2923)>(N2923),1,0)","v":0}]
[null,3219,"[BE-FR] Achene - Lonny 380.19 [DIR] [BE]_LTA_corner#02_#1","10T-BE-FR-000015","[BE-BE] Avelgem - Horta 380.102","22T20161020---1E",0,0,-0.49136999999999997,0,-0.37563999999999997,-0.78578000000000003,0,1954,{"$f":"IF((G2924*ALBE+H2924*ALDE+I2924*AT+J2924*BE+K2924*DE+L2924*FR+M2924*NL)>(N2924),1,0)","v":0},null,{"$f":"IF((C$6*G2924+D$6*H2924+E$6*I2924+F$6*J2924+G$6*K2924+H$6*L2924+I$6*M2924)>(N2924),1,0)","v":0}]
[null,3220,"[D2-AT] Pleinting - St. Peter 258 [DIR] [AT]_LTA_corner#01_#9","10T-AT-DE-000037","[D2-D2] Pirach - Pleinting 257","11TD2L000000201H",0,0,-0.99980999999999998,1.9640000000000001E-2,0,0,0,4844,{"$f":"IF((G2925*ALBE+H2925*ALDE+I2925*AT+J2925*BE+K2925*DE+L2925*FR+M2925*NL)>(N2925),1,0)","v":0},null,{"$f":"IF((C$6*G2925+D$6*H2925+E$6*I2925+F$6*J2925+G$6*K2925+H$6*L2925+I$6*M2925)>(N2925),1,0)","v":0}]
[null,3221,"[D2-AT] Pleinting - St. Peter 258 [DIR] [AT]_LTA_corner#06_#22","10T-AT-DE-000037","[D2-D2] Pirach - Pleinting 257","11TD2L000000201H",0,0,-0.99977000000000005,-2.128E-2,0,0,0,4872,{"$f":"IF((G2926*ALBE+H2926*ALDE+I2926*AT+J2926*BE+K2926*DE+L2926*FR+M2926*NL)>(N2926),1,0)","v":0},null,{"$f":"IF((C$6*G2926+D$6*H2926+E$6*I2926+F$6*J2926+G$6*K2926+H$6*L2926+I$6*M2926)>(N2926),1,0)","v":0}]
[null,3222,"[D2-AT] Pleinting - St. Peter 258 [DIR] [AT]_LTA_corner#03_#6","10T-AT-DE-000037","[D2-D2] Pirach - Pleinting 257","11TD2L000000201H",0,0,-0.99990000000000001,8.9800000000000001E-3,6.5300000000000002E-3,8.9800000000000001E-3,0,4868,{"$f":"IF((G2927*ALBE+H2927*ALDE+I2927*AT+J2927*BE+K2927*DE+L2927*FR+M2927*NL)>(N2927),1,0)","v":0},null,{"$f":"IF((C$6*G2927+D$6*H2927+E$6*I2927+F$6*J2927+G$6*K2927+H$6*L2927+I$6*M2927)>(N2927),1,0)","v":0}]
[null,3223,"[D2-D2] Altheim - Sittling 220 [OPP]_LTA_corner#04_#10","11TD2L000000004J","[D2-AT] Pleinting - St. Peter 258","10T-AT-DE-000037",0,0,-0.98389000000000004,-4.6489999999999997E-2,0,-0.17261000000000001,0,5026,{"$f":"IF((G2928*ALBE+H2928*ALDE+I2928*AT+J2928*BE+K2928*DE+L2928*FR+M2928*NL)>(N2928),1,0)","v":0},null,{"$f":"IF((C$6*G2928+D$6*H2928+E$6*I2928+F$6*J2928+G$6*K2928+H$6*L2928+I$6*M2928)>(N2928),1,0)","v":0}]
[null,3224,"[D2-AT] Pleinting - St. Peter 258 [DIR] [AT]_LTA_corner#02_#9","10T-AT-DE-000037","[D2-D2] Pirach - Pleinting 257","11TD2L000000201H",0,0,-0.99926999999999999,7.6400000000000001E-3,-2.6440000000000002E-2,-2.6440000000000002E-2,0,4751,{"$f":"IF((G2929*ALBE+H2929*ALDE+I2929*AT+J2929*BE+K2929*DE+L2929*FR+M2929*NL)>(N2929),1,0)","v":0},null,{"$f":"IF((C$6*G2929+D$6*H2929+E$6*I2929+F$6*J2929+G$6*K2929+H$6*L2929+I$6*M2929)>(N2929),1,0)","v":0}]
[null,3225,"[D4-AT] Buers - Westtirol 421 weiss [OPP] [D4]_LTA_corner#20_#7","10T-AT-DE-000061","[AT-AT] Westtirol Transformer WTRHU41","14T-38220-WT041O",0,0,0.98884000000000005,-3.2289999999999999E-2,0.1173,-8.5989999999999997E-2,0,4586,{"$f":"IF((G2930*ALBE+H2930*ALDE+I2930*AT+J2930*BE+K2930*DE+L2930*FR+M2930*NL)>(N2930),1,0)","v":0},null,{"$f":"IF((C$6*G2930+D$6*H2930+E$6*I2930+F$6*J2930+G$6*K2930+H$6*L2930+I$6*M2930)>(N2930),1,0)","v":0}]
[null,3226,"[D2-AT] Pleinting - St. Peter 258 [DIR] [AT]_LTA_corner#01_#4","10T-AT-DE-000037","[D2-D2] Pirach - Pleinting 257","11TD2L000000201H",0,0,-0.99888999999999994,4.1750000000000002E-2,0,-2.1739999999999999E-2,0,4901,{"$f":"IF((G2931*ALBE+H2931*ALDE+I2931*AT+J2931*BE+K2931*DE+L2931*FR+M2931*NL)>(N2931),1,0)","v":0},null,{"$f":"IF((C$6*G2931+D$6*H2931+E$6*I2931+F$6*J2931+G$6*K2931+H$6*L2931+I$6*M2931)>(N2931),1,0)","v":0}]
[null,3227,"[AT-AT] Westtirol Transformer WTRHU41 [OPP]_LTA_corner#20_#11","14T-38220-WT041O","BASECASE","N/A",0,0,0.98604999999999998,-2.3570000000000001E-2,0.14729,-7.3819999999999997E-2,0,4470,{"$f":"IF((G2932*ALBE+H2932*ALDE+I2932*AT+J2932*BE+K2932*DE+L2932*FR+M2932*NL)>(N2932),1,0)","v":0},null,{"$f":"IF((C$6*G2932+D$6*H2932+E$6*I2932+F$6*J2932+G$6*K2932+H$6*L2932+I$6*M2932)>(N2932),1,0)","v":0}]
[null,3228,"[D2-AT] Pleinting - St. Peter 258 [DIR] [AT]_LTA_corner#11_#10","10T-AT-DE-000037","[D2-D2] Pirach - Pleinting 257","11TD2L000000201H",0,0,-0.99909999999999999,0,-3.3279999999999997E-2,-2.6429999999999999E-2,0,4727,{"$f":"IF((G2933*ALBE+H2933*ALDE+I2933*AT+J2933*BE+K2933*DE+L2933*FR+M2933*NL)>(N2933),1,0)","v":0},null,{"$f":"IF((C$6*G2933+D$6*H2933+E$6*I2933+F$6*J2933+G$6*K2933+H$6*L2933+I$6*M2933)>(N2933),1,0)","v":0}]
[null,3229,"[BE-BE] PST_ZANDV_2 [N - S]_LTA_corner#13_#27","22T20161020---56","[NL-BE] Rilland - Zandvliet 380 White/30","10T-BE-NL-00004C",0,0,-0.30741000000000002,-0.79496,-0.24918000000000001,-0.45983000000000002,0,2000,{"$f":"IF((G2934*ALBE+H2934*ALDE+I2934*AT+J2934*BE+K2934*DE+L2934*FR+M2934*NL)>(N2934),1,0)","v":0},null,{"$f":"IF((C$6*G2934+D$6*H2934+E$6*I2934+F$6*J2934+G$6*K2934+H$6*L2934+I$6*M2934)>(N2934),1,0)","v":0}]
[null,3230,"[BE-BE] PST_VANYK_2 [S - N]","22T-BE-PST--002U","[BE-FR] Achene - Lonny 380.19","10T-BE-FR-000015",0.58408000000000004,-2.8410000000000001E-2,5.3499999999999997E-3,0.32887,-7.26E-3,4.6899999999999997E-2,1.4409999999999999E-2,890,{"$f":"IF((G2935*ALBE+H2935*ALDE+I2935*AT+J2935*BE+K2935*DE+L2935*FR+M2935*NL)>(N2935),1,0)","v":0},null,{"$f":"IF((C$6*G2935+D$6*H2935+E$6*I2935+F$6*J2935+G$6*K2935+H$6*L2935+I$6*M2935)>(N2935),1,0)","v":0}]
[null,3231,"[D2-AT] Pleinting - St. Peter 258 [DIR] [AT]_LTA_corner#06_#25","10T-AT-DE-000037","[D2-D2] Pirach - Pleinting 257","11TD2L000000201H",0,0,-0.99878999999999996,-4.419E-2,0,-2.1729999999999999E-2,0,4908,{"$f":"IF((G2936*ALBE+H2936*ALDE+I2936*AT+J2936*BE+K2936*DE+L2936*FR+M2936*NL)>(N2936),1,0)","v":0},null,{"$f":"IF((C$6*G2936+D$6*H2936+E$6*I2936+F$6*J2936+G$6*K2936+H$6*L2936+I$6*M2936)>(N2936),1,0)","v":0}]
[null,3232,"[D2-D2] Altheim - Sittling 220 [OPP]_LTA_corner#01_#11","11TD2L000000004J","[D2-AT] Pleinting - St. Peter 258","10T-AT-DE-000037",0,0,-0.99646000000000001,0,8.2030000000000006E-2,-1.8239999999999999E-2,0,5399,{"$f":"IF((G2937*ALBE+H2937*ALDE+I2937*AT+J2937*BE+K2937*DE+L2937*FR+M2937*NL)>(N2937),1,0)","v":0},null,{"$f":"IF((C$6*G2937+D$6*H2937+E$6*I2937+F$6*J2937+G$6*K2937+H$6*L2937+I$6*M2937)>(N2937),1,0)","v":0}]
[null,3233,"ALBE_import","N/A","BASECASE","N/A",-1,0,0,0,0,0,0,0,{"$f":"IF((G2938*ALBE+H2938*ALDE+I2938*AT+J2938*BE+K2938*DE+L2938*FR+M2938*NL)>(N2938),1,0)","v":0},null,{"$f":"IF((C$6*G2938+D$6*H2938+E$6*I2938+F$6*J2938+G$6*K2938+H$6*L2938+I$6*M2938)>(N2938),1,0)","v":0}]
[null,3234,"[BE-BE] PST_ZANDV_2 [N - S]_LTA_corner#13_#2","22T20161020---56","[NL-BE] Rilland - Zandvliet 380 White/30","10T-BE-NL-00004C",0,0,-0.34515000000000001,-0.73712999999999995,-0.30395,-0.49509999999999998,0,1772,{"$f":"IF((G2939*ALBE+H2939*ALDE+I2939*AT+J2939*BE+K2939*DE+L2939*FR+M2939*NL)>(N2939),1,0)","v":0},null,{"$f":"IF((C$6*G2939+D$6*H2939+E$6*I2939+F$6*J2939+G$6*K2939+H$6*L2939+I$6*M2939)>(N2939),1,0)","v":0}]
[null,3235,"[AT-AT] Westtirol Transformer WTRHU41 [OPP]_LTA_corner#17_#4","14T-38220-WT041O","BASECASE","N/A",0,0,0.98926000000000003,0,0.12598999999999999,-7.4060000000000001E-2,0,4541,{"$f":"IF((G2940*ALBE+H2940*ALDE+I2940*AT+J2940*BE+K2940*DE+L2940*FR+M2940*NL)>(N2940),1,0)","v":0},null,{"$f":"IF((C$6*G2940+D$6*H2940+E$6*I2940+F$6*J2940+G$6*K2940+H$6*L2940+I$6*M2940)>(N2940),1,0)","v":0}]
[null,3236,"[BE-BE] PST_ZANDV_2 [N - S]_LTA_corner#13_#1","22T20161020---56","[NL-BE] Rilland - Zandvliet 380 White/30","10T-BE-NL-00004C",0,0,-0.31629000000000002,-0.79801999999999995,-0.26862999999999998,-0.437,0,1980,{"$f":"IF((G2941*ALBE+H2941*ALDE+I2941*AT+J2941*BE+K2941*DE+L2941*FR+M2941*NL)>(N2941),1,0)","v":0},null,{"$f":"IF((C$6*G2941+D$6*H2941+E$6*I2941+F$6*J2941+G$6*K2941+H$6*L2941+I$6*M2941)>(N2941),1,0)","v":0}]
[null,3237,"[D2-AT] Pleinting - St. Peter 258 [DIR] [AT]_LTA_corner#15_#1","10T-AT-DE-000037","[D2-D2] Pirach - Pleinting 257","11TD2L000000201H",0,0,-0.99902000000000002,-2.32E-3,-3.5459999999999998E-2,-2.6429999999999999E-2,0,4722,{"$f":"IF((G2942*ALBE+H2942*ALDE+I2942*AT+J2942*BE+K2942*DE+L2942*FR+M2942*NL)>(N2942),1,0)","v":0},null,{"$f":"IF((C$6*G2942+D$6*H2942+E$6*I2942+F$6*J2942+G$6*K2942+H$6*L2942+I$6*M2942)>(N2942),1,0)","v":0}]
[null,3238,"[D2-AT] Pleinting - St. Peter 258 [DIR] [AT]_LTA_corner#14_#2","10T-AT-DE-000037","[D2-D2] Pirach - Pleinting 257","11TD2L000000201H",0,0,-0.99873999999999996,7.9000000000000008E-3,-4.7919999999999997E-2,1.273E-2,0,4744,{"$f":"IF((G2943*ALBE+H2943*ALDE+I2943*AT+J2943*BE+K2943*DE+L2943*FR+M2943*NL)>(N2943),1,0)","v":0},null,{"$f":"IF((C$6*G2943+D$6*H2943+E$6*I2943+F$6*J2943+G$6*K2943+H$6*L2943+I$6*M2943)>(N2943),1,0)","v":0}]
[null,3239,"ALDE_import","N/A","BASECASE","N/A",0,-1,0,0,0,0,0,0,{"$f":"IF((G2944*ALBE+H2944*ALDE+I2944*AT+J2944*BE+K2944*DE+L2944*FR+M2944*NL)>(N2944),1,0)","v":0},null,{"$f":"IF((C$6*G2944+D$6*H2944+E$6*I2944+F$6*J2944+G$6*K2944+H$6*L2944+I$6*M2944)>(N2944),1,0)","v":0}]
[null,3240,"[BE-FR] Achene - Lonny 380.19 [DIR] [BE]_LTA_corner#02_#13","10T-BE-FR-000015","[BE-BE] Avelgem - Horta 380.102","22T20161020---1E",0,0,-0.4521,0,-0.34399000000000002,-0.82296999999999998,0,1965,{"$f":"IF((G2945*ALBE+H2945*ALDE+I2945*AT+J2945*BE+K2945*DE+L2945*FR+M2945*NL)>(N2945),1,0)","v":0},null,{"$f":"IF((C$6*G2945+D$6*H2945+E$6*I2945+F$6*J2945+G$6*K2945+H$6*L2945+I$6*M2945)>(N2945),1,0)","v":0}]
[null,3241,"[D7-D7] PST Gronau [OPP]","11T0-0000-0620-R","[D7-D7] Gronau - Kusenhorst Hamaland","11T0-0000-0618-7",-7.6200000000000004E-2,-4.7910000000000001E-2,-1.091E-2,-7.6219999999999996E-2,2.1839999999999998E-2,-4.2209999999999998E-2,-0.11651,711,{"$f":"IF((G2946*ALBE+H2946*ALDE+I2946*AT+J2946*BE+K2946*DE+L2946*FR+M2946*NL)>(N2946),1,0)","v":0},null,{"$f":"IF((C$6*G2946+D$6*H2946+E$6*I2946+F$6*J2946+G$6*K2946+H$6*L2946+I$6*M2946)>(N2946),1,0)","v":0}]
[null,3242,"[NL-D7] Maasbracht - Oberzier 380 white [OPP] [D7]","10T-DE-NL-00005N","[NL-D7] Maasbracht - Siersdorf 380 black","10T-DE-NL-00006L",-0.30696000000000001,0.17480999999999999,-2.3E-3,-0.27022000000000002,-6.8900000000000003E-3,-7.9689999999999997E-2,-0.22697000000000001,2017,{"$f":"IF((G2947*ALBE+H2947*ALDE+I2947*AT+J2947*BE+K2947*DE+L2947*FR+M2947*NL)>(N2947),1,0)","v":0},null,{"$f":"IF((C$6*G2947+D$6*H2947+E$6*I2947+F$6*J2947+G$6*K2947+H$6*L2947+I$6*M2947)>(N2947),1,0)","v":0}]
[null,3243,"[AT-AT] Westtirol Transformer WTRHU41 [OPP]_LTA_corner#20_#4","14T-38220-WT041O","BASECASE","N/A",0,0,0.98677999999999999,-2.359E-2,0.11183999999999999,-0.11484999999999999,0,4636,{"$f":"IF((G2948*ALBE+H2948*ALDE+I2948*AT+J2948*BE+K2948*DE+L2948*FR+M2948*NL)>(N2948),1,0)","v":0},null,{"$f":"IF((C$6*G2948+D$6*H2948+E$6*I2948+F$6*J2948+G$6*K2948+H$6*L2948+I$6*M2948)>(N2948),1,0)","v":0}]
[null,3244,"[AT-AT] Westtirol Transformer WTRHU41 [OPP]_LTA_corner#20_#17","14T-38220-WT041O","BASECASE","N/A",0,0,0.98677000000000004,-2.7900000000000001E-2,0.13155,-9.0529999999999999E-2,0,4544,{"$f":"IF((G2949*ALBE+H2949*ALDE+I2949*AT+J2949*BE+K2949*DE+L2949*FR+M2949*NL)>(N2949),1,0)","v":0},null,{"$f":"IF((C$6*G2949+D$6*H2949+E$6*I2949+F$6*J2949+G$6*K2949+H$6*L2949+I$6*M2949)>(N2949),1,0)","v":0}]
[null,3245,"[D2-AT] Pleinting - St. Peter 258 [DIR] [AT]_LTA_corner#05_#0","10T-AT-DE-000037","[D2-D2] Pirach - Pleinting 257","11TD2L000000201H",0,0,-0.99983,0,1.312E-2,1.312E-2,0,4920,{"$f":"IF((G2950*ALBE+H2950*ALDE+I2950*AT+J2950*BE+K2950*DE+L2950*FR+M2950*NL)>(N2950),1,0)","v":0},null,{"$f":"IF((C$6*G2950+D$6*H2950+E$6*I2950+F$6*J2950+G$6*K2950+H$6*L2950+I$6*M2950)>(N2950),1,0)","v":0}]
[null,3246,"[D2-AT] Pleinting - St. Peter 258 [DIR] [AT]_LTA_corner#12_#0","10T-AT-DE-000037","[D2-D2] Pirach - Pleinting 257","11TD2L000000201H",0,0,-0.99973000000000001,-2.32E-3,6.5300000000000002E-3,2.213E-2,0,4923,{"$f":"IF((G2951*ALBE+H2951*ALDE+I2951*AT+J2951*BE+K2951*DE+L2951*FR+M2951*NL)>(N2951),1,0)","v":0},null,{"$f":"IF((C$6*G2951+D$6*H2951+E$6*I2951+F$6*J2951+G$6*K2951+H$6*L2951+I$6*M2951)>(N2951),1,0)","v":0}]
[null,3247,"[D2-D2] Altheim - Sittling 220 [OPP]_LTA_corner#01_#12","11TD2L000000004J","[D2-AT] Pleinting - St. Peter 258","10T-AT-DE-000037",0,0,-0.99048999999999998,0,7.7759999999999996E-2,-0.11352,0,5493,{"$f":"IF((G2952*ALBE+H2952*ALDE+I2952*AT+J2952*BE+K2952*DE+L2952*FR+M2952*NL)>(N2952),1,0)","v":0},null,{"$f":"IF((C$6*G2952+D$6*H2952+E$6*I2952+F$6*J2952+G$6*K2952+H$6*L2952+I$6*M2952)>(N2952),1,0)","v":0}]
[null,3248,"[D2-D2] Altheim - Sittling 220 [OPP]_LTA_corner#01_#1","11TD2L000000004J","[D2-AT] Pleinting - St. Peter 258","10T-AT-DE-000037",0,0,-0.94628000000000001,0.13749,0.25835000000000002,0.13749,0,6292,{"$f":"IF((G2953*ALBE+H2953*ALDE+I2953*AT+J2953*BE+K2953*DE+L2953*FR+M2953*NL)>(N2953),1,0)","v":0},null,{"$f":"IF((C$6*G2953+D$6*H2953+E$6*I2953+F$6*J2953+G$6*K2953+H$6*L2953+I$6*M2953)>(N2953),1,0)","v":0}]
[null,3249,"[BE-BE] PST_ZANDV_2 [N - S]_LTA_corner#13_#15","22T20161020---56","[NL-BE] Rilland - Zandvliet 380 White/30","10T-BE-NL-00004C",0,0,-0.31330999999999998,-0.79693999999999998,-0.26299,-0.44447999999999999,0,1983,{"$f":"IF((G2954*ALBE+H2954*ALDE+I2954*AT+J2954*BE+K2954*DE+L2954*FR+M2954*NL)>(N2954),1,0)","v":0},null,{"$f":"IF((C$6*G2954+D$6*H2954+E$6*I2954+F$6*J2954+G$6*K2954+H$6*L2954+I$6*M2954)>(N2954),1,0)","v":0}]
[null,3250,"[AT-AT] Westtirol Transformer WTRHU41 [OPP]_LTA_corner#17_#0","14T-38220-WT041O","BASECASE","N/A",0,0,0.99077999999999999,1.5789999999999998E-2,0.11229,-7.417E-2,0,4605,{"$f":"IF((G2955*ALBE+H2955*ALDE+I2955*AT+J2955*BE+K2955*DE+L2955*FR+M2955*NL)>(N2955),1,0)","v":0},null,{"$f":"IF((C$6*G2955+D$6*H2955+E$6*I2955+F$6*J2955+G$6*K2955+H$6*L2955+I$6*M2955)>(N2955),1,0)","v":0}]
[null,3251,"[BE-BE] PST_ZANDV_2 [N - S]_LTA_corner#13_#18","22T20161020---56","[NL-BE] Rilland - Zandvliet 380 White/30","10T-BE-NL-00004C",0,0,-0.38207999999999998,-0.68474000000000002,-0.32256000000000001,-0.53019000000000005,0,1714,{"$f":"IF((G2956*ALBE+H2956*ALDE+I2956*AT+J2956*BE+K2956*DE+L2956*FR+M2956*NL)>(N2956),1,0)","v":0},null,{"$f":"IF((C$6*G2956+D$6*H2956+E$6*I2956+F$6*J2956+G$6*K2956+H$6*L2956+I$6*M2956)>(N2956),1,0)","v":0}]
[null,3252,"ALDE_export","N/A","BASECASE","N/A",0,1,0,0,0,0,0,0,{"$f":"IF((G2957*ALBE+H2957*ALDE+I2957*AT+J2957*BE+K2957*DE+L2957*FR+M2957*NL)>(N2957),1,0)","v":0},null,{"$f":"IF((C$6*G2957+D$6*H2957+E$6*I2957+F$6*J2957+G$6*K2957+H$6*L2957+I$6*M2957)>(N2957),1,0)","v":0}]
[null,3253,"[AT-AT] Westtirol Transformer WTRHU41 [OPP]_LTA_corner#20_#18","14T-38220-WT041O","BASECASE","N/A",0,0,0.99267000000000005,-2.3730000000000001E-2,0.11251,-3.7260000000000001E-2,0,4539,{"$f":"IF((G2958*ALBE+H2958*ALDE+I2958*AT+J2958*BE+K2958*DE+L2958*FR+M2958*NL)>(N2958),1,0)","v":0},null,{"$f":"IF((C$6*G2958+D$6*H2958+E$6*I2958+F$6*J2958+G$6*K2958+H$6*L2958+I$6*M2958)>(N2958),1,0)","v":0}]
[null,3254,"[D2-AT] Pleinting - St. Peter 258 [DIR] [AT]_LTA_corner#11_#2","10T-AT-DE-000037","[D2-D2] Pirach - Pleinting 257","11TD2L000000201H",0,0,-0.99892000000000003,1.005E-2,-4.4200000000000003E-2,1.005E-2,0,4743,{"$f":"IF((G2959*ALBE+H2959*ALDE+I2959*AT+J2959*BE+K2959*DE+L2959*FR+M2959*NL)>(N2959),1,0)","v":0},null,{"$f":"IF((C$6*G2959+D$6*H2959+E$6*I2959+F$6*J2959+G$6*K2959+H$6*L2959+I$6*M2959)>(N2959),1,0)","v":0}]
[null,3255,"[BE-FR] Achene - Lonny 380.19 [DIR] [BE]_LTA_corner#02_#21","10T-BE-FR-000015","[BE-BE] Avelgem - Horta 380.102","22T20161020---1E",0,0,-0.44811000000000001,0,-0.29886000000000001,-0.84253999999999996,0,2178,{"$f":"IF((G2960*ALBE+H2960*ALDE+I2960*AT+J2960*BE+K2960*DE+L2960*FR+M2960*NL)>(N2960),1,0)","v":0},null,{"$f":"IF((C$6*G2960+D$6*H2960+E$6*I2960+F$6*J2960+G$6*K2960+H$6*L2960+I$6*M2960)>(N2960),1,0)","v":0}]
[null,3256,"[D2-AT] Pleinting - St. Peter 258 [DIR] [AT]_LTA_corner#01_#12","10T-AT-DE-000037","[D2-D2] Pirach - Pleinting 257","11TD2L000000201H",0,0,-1,0,0,0,0,4821,{"$f":"IF((G2961*ALBE+H2961*ALDE+I2961*AT+J2961*BE+K2961*DE+L2961*FR+M2961*NL)>(N2961),1,0)","v":0},null,{"$f":"IF((C$6*G2961+D$6*H2961+E$6*I2961+F$6*J2961+G$6*K2961+H$6*L2961+I$6*M2961)>(N2961),1,0)","v":0}]
[null,3257,"[D2-AT] Pleinting - St. Peter 258 [DIR] [AT]_LTA_corner#14_#4","10T-AT-DE-000037","[D2-D2] Pirach - Pleinting 257","11TD2L000000201H",0,0,-0.99933000000000005,0,-3.5099999999999999E-2,1.013E-2,0,4775,{"$f":"IF((G2962*ALBE+H2962*ALDE+I2962*AT+J2962*BE+K2962*DE+L2962*FR+M2962*NL)>(N2962),1,0)","v":0},null,{"$f":"IF((C$6*G2962+D$6*H2962+E$6*I2962+F$6*J2962+G$6*K2962+H$6*L2962+I$6*M2962)>(N2962),1,0)","v":0}]
[null,3258,"[D2-AT] Pleinting - St. Peter 258 [DIR] [AT]_LTA_corner#04_#6","10T-AT-DE-000037","[D2-D2] Pirach - Pleinting 257","11TD2L000000201H",0,0,-0.99860000000000004,-3.5369999999999999E-2,1.711E-2,-3.5369999999999999E-2,0,4994,{"$f":"IF((G2963*ALBE+H2963*ALDE+I2963*AT+J2963*BE+K2963*DE+L2963*FR+M2963*NL)>(N2963),1,0)","v":0},null,{"$f":"IF((C$6*G2963+D$6*H2963+E$6*I2963+F$6*J2963+G$6*K2963+H$6*L2963+I$6*M2963)>(N2963),1,0)","v":0}]
[null,3259,"[D2-AT] Pleinting - St. Peter 258 [DIR] [AT]_LTA_corner#04_#11","10T-AT-DE-000037","[D2-D2] Pirach - Pleinting 257","11TD2L000000201H",0,0,-0.99839,-4.0050000000000002E-2,4.2900000000000004E-3,-4.0050000000000002E-2,0,4913,{"$f":"IF((G2964*ALBE+H2964*ALDE+I2964*AT+J2964*BE+K2964*DE+L2964*FR+M2964*NL)>(N2964),1,0)","v":0},null,{"$f":"IF((C$6*G2964+D$6*H2964+E$6*I2964+F$6*J2964+G$6*K2964+H$6*L2964+I$6*M2964)>(N2964),1,0)","v":0}]
[null,3260,"[AT-AT] Westtirol Transformer WTRHU41 [OPP]_LTA_corner#20_#2","14T-38220-WT041O","BASECASE","N/A",0,0,0.98895,-6.2719999999999998E-2,0.11209,-7.4029999999999999E-2,0,4587,{"$f":"IF((G2965*ALBE+H2965*ALDE+I2965*AT+J2965*BE+K2965*DE+L2965*FR+M2965*NL)>(N2965),1,0)","v":0},null,{"$f":"IF((C$6*G2965+D$6*H2965+E$6*I2965+F$6*J2965+G$6*K2965+H$6*L2965+I$6*M2965)>(N2965),1,0)","v":0}]
[null,3261,"[BE-BE] PST_ZANDV_2 [N - S]_LTA_corner#13_#10","22T20161020---56","[NL-BE] Rilland - Zandvliet 380 White/30","10T-BE-NL-00004C",0,0,-0.37284,-0.70820000000000005,-0.31852000000000003,-0.50792999999999999,0,1761,{"$f":"IF((G2966*ALBE+H2966*ALDE+I2966*AT+J2966*BE+K2966*DE+L2966*FR+M2966*NL)>(N2966),1,0)","v":0},null,{"$f":"IF((C$6*G2966+D$6*H2966+E$6*I2966+F$6*J2966+G$6*K2966+H$6*L2966+I$6*M2966)>(N2966),1,0)","v":0}]
[null,3262,"[D2-AT] Pleinting - St. Peter 258 [DIR] [AT]_LTA_corner#07_#9","10T-AT-DE-000037","[D2-D2] Pirach - Pleinting 257","11TD2L000000201H",0,0,-0.99978,0,6.0999999999999997E-4,2.0820000000000002E-2,0,4886,{"$f":"IF((G2967*ALBE+H2967*ALDE+I2967*AT+J2967*BE+K2967*DE+L2967*FR+M2967*NL)>(N2967),1,0)","v":0},null,{"$f":"IF((C$6*G2967+D$6*H2967+E$6*I2967+F$6*J2967+G$6*K2967+H$6*L2967+I$6*M2967)>(N2967),1,0)","v":0}]
[null,3263,"[D2-NL] Diele - Meeden 380 Black [DIR] [D2]","10T-DE-NL-00001V","[D2-NL] Diele - Meeden 380 White ","10T-DE-NL-00002T",-6.6199999999999995E-2,-4.3810000000000002E-2,-1.159E-2,-6.8970000000000004E-2,9.6299999999999997E-3,-4.0120000000000003E-2,-0.17169000000000001,696,{"$f":"IF((G2968*ALBE+H2968*ALDE+I2968*AT+J2968*BE+K2968*DE+L2968*FR+M2968*NL)>(N2968),1,0)","v":0},null,{"$f":"IF((C$6*G2968+D$6*H2968+E$6*I2968+F$6*J2968+G$6*K2968+H$6*L2968+I$6*M2968)>(N2968),1,0)","v":0}]
[null,3264,"[NL-NL] Krimpen a/d IJssel - Geertruidenberg 380 Zwart [OPP]","49T0000000000282","[BE-BE] Avelgem - Horta 380.102","22T20161020---1E",0.12842999999999999,4.3749999999999997E-2,1.048E-2,0.16625000000000001,-1.7950000000000001E-2,4.5190000000000001E-2,-0.26533000000000001,1886,{"$f":"IF((G2969*ALBE+H2969*ALDE+I2969*AT+J2969*BE+K2969*DE+L2969*FR+M2969*NL)>(N2969),1,0)","v":0},null,{"$f":"IF((C$6*G2969+D$6*H2969+E$6*I2969+F$6*J2969+G$6*K2969+H$6*L2969+I$6*M2969)>(N2969),1,0)","v":0}]
[null,3265,"[D2-AT] Pleinting - St. Peter 258 [DIR] [AT]_LTA_corner#01_#7","10T-AT-DE-000037","[D2-D2] Pirach - Pleinting 257","11TD2L000000201H",0,0,-0.99990000000000001,8.2299999999999995E-3,8.2299999999999995E-3,8.2299999999999995E-3,0,4874,{"$f":"IF((G2970*ALBE+H2970*ALDE+I2970*AT+J2970*BE+K2970*DE+L2970*FR+M2970*NL)>(N2970),1,0)","v":0},null,{"$f":"IF((C$6*G2970+D$6*H2970+E$6*I2970+F$6*J2970+G$6*K2970+H$6*L2970+I$6*M2970)>(N2970),1,0)","v":0}]
[null,3266,"[BE-FR] Achene - Lonny 380.19 [DIR] [BE]_LTA_corner#02_#19","10T-BE-FR-000015","[BE-BE] Avelgem - Horta 380.102","22T20161020---1E",0,0,-0.47671000000000002,0,-0.31,-0.82259000000000004,0,2234,{"$f":"IF((G2971*ALBE+H2971*ALDE+I2971*AT+J2971*BE+K2971*DE+L2971*FR+M2971*NL)>(N2971),1,0)","v":0},null,{"$f":"IF((C$6*G2971+D$6*H2971+E$6*I2971+F$6*J2971+G$6*K2971+H$6*L2971+I$6*M2971)>(N2971),1,0)","v":0}]
[null,3267,"[D2-AT] Pleinting - St. Peter 258 [DIR] [AT]_LTA_corner#04_#4","10T-AT-DE-000037","[D2-D2] Pirach - Pleinting 257","11TD2L000000201H",0,0,-0.99802000000000002,-8.6999999999999994E-3,3.5659999999999997E-2,-5.1029999999999999E-2,0,5140,{"$f":"IF((G2972*ALBE+H2972*ALDE+I2972*AT+J2972*BE+K2972*DE+L2972*FR+M2972*NL)>(N2972),1,0)","v":0},null,{"$f":"IF((C$6*G2972+D$6*H2972+E$6*I2972+F$6*J2972+G$6*K2972+H$6*L2972+I$6*M2972)>(N2972),1,0)","v":0}]
[null,3268,"[BE-FR] Achene - Lonny 380.19 [DIR] [BE]_LTA_corner#09_#3","10T-BE-FR-000015","[BE-BE] Avelgem - Horta 380.102","22T20161020---1E",0,0,-0.39394000000000001,-0.60919999999999996,-0.32025999999999999,-0.60919999999999996,0,1541,{"$f":"IF((G2973*ALBE+H2973*ALDE+I2973*AT+J2973*BE+K2973*DE+L2973*FR+M2973*NL)>(N2973),1,0)","v":0},null,{"$f":"IF((C$6*G2973+D$6*H2973+E$6*I2973+F$6*J2973+G$6*K2973+H$6*L2973+I$6*M2973)>(N2973),1,0)","v":0}]
[null,3269,"[D4-AT] Buers - Westtirol 421 weiss [OPP] [D4]_LTA_corner#20_#26","10T-AT-DE-000061","[AT-AT] Westtirol Transformer WTRHU41","14T-38220-WT041O",0,0,0.98719000000000001,-3.857E-2,0.11444,-0.10428,0,4617,{"$f":"IF((G2974*ALBE+H2974*ALDE+I2974*AT+J2974*BE+K2974*DE+L2974*FR+M2974*NL)>(N2974),1,0)","v":0},null,{"$f":"IF((C$6*G2974+D$6*H2974+E$6*I2974+F$6*J2974+G$6*K2974+H$6*L2974+I$6*M2974)>(N2974),1,0)","v":0}]
[null,3270,"[D2-AT] Pleinting - St. Peter 258 [DIR] [AT]_LTA_corner#09_#24","10T-AT-DE-000037","[D2-D2] Pirach - Pleinting 257","11TD2L000000201H",0,0,-0.99941999999999998,-1.9709999999999998E-2,-1.9709999999999998E-2,-1.9709999999999998E-2,0,4765,{"$f":"IF((G2975*ALBE+H2975*ALDE+I2975*AT+J2975*BE+K2975*DE+L2975*FR+M2975*NL)>(N2975),1,0)","v":0},null,{"$f":"IF((C$6*G2975+D$6*H2975+E$6*I2975+F$6*J2975+G$6*K2975+H$6*L2975+I$6*M2975)>(N2975),1,0)","v":0}]
[null,3271,"[AT-AT] Westtirol Transformer WTRHU41 [OPP]_LTA_corner#20_#10","14T-38220-WT041O","BASECASE","N/A",0,0,0.99636000000000002,-5.1000000000000004E-3,8.3750000000000005E-2,-1.5350000000000001E-2,0,4597,{"$f":"IF((G2976*ALBE+H2976*ALDE+I2976*AT+J2976*BE+K2976*DE+L2976*FR+M2976*NL)>(N2976),1,0)","v":0},null,{"$f":"IF((C$6*G2976+D$6*H2976+E$6*I2976+F$6*J2976+G$6*K2976+H$6*L2976+I$6*M2976)>(N2976),1,0)","v":0}]
[null,3272,"[D2-AT] Pleinting - St. Peter 258 [DIR] [AT]_LTA_corner#11_#1","10T-AT-DE-000037","[D2-D2] Pirach - Pleinting 257","11TD2L000000201H",0,0,-0.99892000000000003,6.1999999999999998E-3,-4.5539999999999997E-2,6.1999999999999998E-3,0,4732,{"$f":"IF((G2977*ALBE+H2977*ALDE+I2977*AT+J2977*BE+K2977*DE+L2977*FR+M2977*NL)>(N2977),1,0)","v":0},null,{"$f":"IF((C$6*G2977+D$6*H2977+E$6*I2977+F$6*J2977+G$6*K2977+H$6*L2977+I$6*M2977)>(N2977),1,0)","v":0}]
[null,3273,"[D2-D2] Altheim - Sittling 220 [OPP]_LTA_corner#01_#6","11TD2L000000004J","[D2-AT] Pleinting - St. Peter 258","10T-AT-DE-000037",0,0,-0.91634000000000004,0.15157999999999999,0.33817000000000003,0.15157999999999999,0,6694,{"$f":"IF((G2978*ALBE+H2978*ALDE+I2978*AT+J2978*BE+K2978*DE+L2978*FR+M2978*NL)>(N2978),1,0)","v":0},null,{"$f":"IF((C$6*G2978+D$6*H2978+E$6*I2978+F$6*J2978+G$6*K2978+H$6*L2978+I$6*M2978)>(N2978),1,0)","v":0}]
[null,3274,"[BE-BE] PST_VANYK_2 [S - N]","22T-BE-PST--002U","[NL-BE] Maasbracht - Van Eyck 380 Black/27","10T-BE-NL-00002G",0.50263000000000002,-5.8029999999999998E-2,1.2460000000000001E-2,0.28466000000000002,-1.738E-2,9.8000000000000004E-2,-1.5100000000000001E-2,1041,{"$f":"IF((G2979*ALBE+H2979*ALDE+I2979*AT+J2979*BE+K2979*DE+L2979*FR+M2979*NL)>(N2979),1,0)","v":0},null,{"$f":"IF((C$6*G2979+D$6*H2979+E$6*I2979+F$6*J2979+G$6*K2979+H$6*L2979+I$6*M2979)>(N2979),1,0)","v":0}]
[null,3275,"[BE-FR] Achene - Lonny 380.19 [DIR] [BE]_LTA_corner#09_#1","10T-BE-FR-000015","[BE-BE] Avelgem - Horta 380.102","22T20161020---1E",0,0,-0.39907999999999999,-0.60602999999999996,-0.32585999999999998,-0.60602999999999996,0,1536,{"$f":"IF((G2980*ALBE+H2980*ALDE+I2980*AT+J2980*BE+K2980*DE+L2980*FR+M2980*NL)>(N2980),1,0)","v":0},null,{"$f":"IF((C$6*G2980+D$6*H2980+E$6*I2980+F$6*J2980+G$6*K2980+H$6*L2980+I$6*M2980)>(N2980),1,0)","v":0}]
[null,3276,"[D2-AT] Pleinting - St. Peter 258 [DIR] [AT]_LTA_corner#14_#5","10T-AT-DE-000037","[D2-D2] Pirach - Pleinting 257","11TD2L000000201H",0,0,-0.99917,0,-4.0090000000000001E-2,7.0899999999999999E-3,0,4754,{"$f":"IF((G2981*ALBE+H2981*ALDE+I2981*AT+J2981*BE+K2981*DE+L2981*FR+M2981*NL)>(N2981),1,0)","v":0},null,{"$f":"IF((C$6*G2981+D$6*H2981+E$6*I2981+F$6*J2981+G$6*K2981+H$6*L2981+I$6*M2981)>(N2981),1,0)","v":0}]
[null,3277,"[NL-NL] Borssele - Rilland 380 Zwart [DIR]","49T000000000059S","[NL-NL] Borssele - Rilland 380 Grijs","49T000000000057W",-6.5100000000000002E-3,2.7399999999999998E-3,-8.1999999999999998E-4,-1.554E-2,1.17E-3,-6.3800000000000003E-3,0.11162999999999999,457,{"$f":"IF((G2982*ALBE+H2982*ALDE+I2982*AT+J2982*BE+K2982*DE+L2982*FR+M2982*NL)>(N2982),1,0)","v":0},null,{"$f":"IF((C$6*G2982+D$6*H2982+E$6*I2982+F$6*J2982+G$6*K2982+H$6*L2982+I$6*M2982)>(N2982),1,0)","v":0}]
[null,3278,"[D2-D2] Altheim - Sittling 220 [OPP]_LTA_corner#01_#9","11TD2L000000004J","[D2-AT] Pleinting - St. Peter 258","10T-AT-DE-000037",0,0,-0.99651999999999996,0,8.1839999999999996E-2,-1.5859999999999999E-2,0,5394,{"$f":"IF((G2983*ALBE+H2983*ALDE+I2983*AT+J2983*BE+K2983*DE+L2983*FR+M2983*NL)>(N2983),1,0)","v":0},null,{"$f":"IF((C$6*G2983+D$6*H2983+E$6*I2983+F$6*J2983+G$6*K2983+H$6*L2983+I$6*M2983)>(N2983),1,0)","v":0}]
[null,3279,"[BE-FR] Achene - Lonny 380.19 [OPP] [BE]","10T-BE-FR-000015","[BE-BE] Avelgem - Horta 380.102","22T20161020---1E",-0.28539999999999999,-7.5560000000000002E-2,2.0539999999999999E-2,-0.28199000000000002,-2.9420000000000002E-2,0.15121999999999999,-0.13125000000000001,2709,{"$f":"IF((G2984*ALBE+H2984*ALDE+I2984*AT+J2984*BE+K2984*DE+L2984*FR+M2984*NL)>(N2984),1,0)","v":0},null,{"$f":"IF((C$6*G2984+D$6*H2984+E$6*I2984+F$6*J2984+G$6*K2984+H$6*L2984+I$6*M2984)>(N2984),1,0)","v":0}]
[null,3280,"[D2-AT] Pleinting - St. Peter 258 [DIR] [AT]_LTA_corner#02_#7","10T-AT-DE-000037","[D2-D2] Pirach - Pleinting 257","11TD2L000000201H",0,0,-0.99934999999999996,3.143E-2,-1.265E-2,-1.265E-2,0,4820,{"$f":"IF((G2985*ALBE+H2985*ALDE+I2985*AT+J2985*BE+K2985*DE+L2985*FR+M2985*NL)>(N2985),1,0)","v":0},null,{"$f":"IF((C$6*G2985+D$6*H2985+E$6*I2985+F$6*J2985+G$6*K2985+H$6*L2985+I$6*M2985)>(N2985),1,0)","v":0}]
[null,3281,"[D2-AT] Pleinting - St. Peter 258 [DIR] [AT]_LTA_corner#02_#10","10T-AT-DE-000037","[D2-D2] Pirach - Pleinting 257","11TD2L000000201H",0,0,-0.99909999999999999,0,-2.9929999999999998E-2,-2.9929999999999998E-2,0,4731,{"$f":"IF((G2986*ALBE+H2986*ALDE+I2986*AT+J2986*BE+K2986*DE+L2986*FR+M2986*NL)>(N2986),1,0)","v":0},null,{"$f":"IF((C$6*G2986+D$6*H2986+E$6*I2986+F$6*J2986+G$6*K2986+H$6*L2986+I$6*M2986)>(N2986),1,0)","v":0}]
[null,3282,"[D2-D2] Altheim - Sittling 220 [OPP]_LTA_corner#05_#7","11TD2L000000004J","[D2-AT] Pleinting - St. Peter 258","10T-AT-DE-000037",0,0,-0.75209999999999999,0.26854,0.52959999999999996,0.28592000000000001,0,7190,{"$f":"IF((G2987*ALBE+H2987*ALDE+I2987*AT+J2987*BE+K2987*DE+L2987*FR+M2987*NL)>(N2987),1,0)","v":0},null,{"$f":"IF((C$6*G2987+D$6*H2987+E$6*I2987+F$6*J2987+G$6*K2987+H$6*L2987+I$6*M2987)>(N2987),1,0)","v":0}]
[null,3283,"[D2-AT] Pleinting - St. Peter 258 [DIR] [AT]_LTA_corner#14_#0","10T-AT-DE-000037","[D2-D2] Pirach - Pleinting 257","11TD2L000000201H",0,0,-0.99883999999999995,9.7000000000000003E-3,-4.369E-2,1.7680000000000001E-2,0,4767,{"$f":"IF((G2988*ALBE+H2988*ALDE+I2988*AT+J2988*BE+K2988*DE+L2988*FR+M2988*NL)>(N2988),1,0)","v":0},null,{"$f":"IF((C$6*G2988+D$6*H2988+E$6*I2988+F$6*J2988+G$6*K2988+H$6*L2988+I$6*M2988)>(N2988),1,0)","v":0}]
[null,3284,"[D2-AT] Pleinting - St. Peter 258 [DIR] [AT]_LTA_corner#09_#18","10T-AT-DE-000037","[D2-D2] Pirach - Pleinting 257","11TD2L000000201H",0,0,-0.99919999999999998,-2.6440000000000002E-2,-1.396E-2,-2.6440000000000002E-2,0,4801,{"$f":"IF((G2989*ALBE+H2989*ALDE+I2989*AT+J2989*BE+K2989*DE+L2989*FR+M2989*NL)>(N2989),1,0)","v":0},null,{"$f":"IF((C$6*G2989+D$6*H2989+E$6*I2989+F$6*J2989+G$6*K2989+H$6*L2989+I$6*M2989)>(N2989),1,0)","v":0}]
[null,3285,"[BE-FR] Achene - Lonny 380.19 [DIR] [BE]_LTA_corner#02_#9","10T-BE-FR-000015","[BE-BE] Avelgem - Horta 380.102","22T20161020---1E",0,0,-0.37180999999999997,0.41649999999999998,-0.28136,-0.78047,0,2296,{"$f":"IF((G2990*ALBE+H2990*ALDE+I2990*AT+J2990*BE+K2990*DE+L2990*FR+M2990*NL)>(N2990),1,0)","v":0},null,{"$f":"IF((C$6*G2990+D$6*H2990+E$6*I2990+F$6*J2990+G$6*K2990+H$6*L2990+I$6*M2990)>(N2990),1,0)","v":0}]
[null,3286,"[BE-BE] PST_ZANDV_2 [N - S]_LTA_corner#13_#28","22T20161020---56","[NL-BE] Rilland - Zandvliet 380 White/30","10T-BE-NL-00004C",0,0,-0.30875999999999998,-0.78376999999999997,-0.24318999999999999,-0.48087999999999997,0,1991,{"$f":"IF((G2991*ALBE+H2991*ALDE+I2991*AT+J2991*BE+K2991*DE+L2991*FR+M2991*NL)>(N2991),1,0)","v":0},null,{"$f":"IF((C$6*G2991+D$6*H2991+E$6*I2991+F$6*J2991+G$6*K2991+H$6*L2991+I$6*M2991)>(N2991),1,0)","v":0}]
[null,3287,"[D2-AT] Pleinting - St. Peter 258 [DIR] [AT]_LTA_corner#06_#24","10T-AT-DE-000037","[D2-D2] Pirach - Pleinting 257","11TD2L000000201H",0,0,-0.99885000000000002,-4.3270000000000003E-2,0,-2.07E-2,0,4907,{"$f":"IF((G2992*ALBE+H2992*ALDE+I2992*AT+J2992*BE+K2992*DE+L2992*FR+M2992*NL)>(N2992),1,0)","v":0},null,{"$f":"IF((C$6*G2992+D$6*H2992+E$6*I2992+F$6*J2992+G$6*K2992+H$6*L2992+I$6*M2992)>(N2992),1,0)","v":0}]
[null,3288,"[BE-FR] Achene - Lonny 380.19 [DIR] [BE]_LTA_corner#02_#7","10T-BE-FR-000015","[BE-BE] Avelgem - Horta 380.102","22T20161020---1E",0,0,-0.40600999999999998,0.4032,-0.31894,-0.75556000000000001,0,2238,{"$f":"IF((G2993*ALBE+H2993*ALDE+I2993*AT+J2993*BE+K2993*DE+L2993*FR+M2993*NL)>(N2993),1,0)","v":0},null,{"$f":"IF((C$6*G2993+D$6*H2993+E$6*I2993+F$6*J2993+G$6*K2993+H$6*L2993+I$6*M2993)>(N2993),1,0)","v":0}]
[null,3289,"[AT-AT] Westtirol Transformer WTRHU41 [OPP]_LTA_corner#20_#3","14T-38220-WT041O","BASECASE","N/A",0,0,0.99580999999999997,-2.1229999999999999E-2,6.4979999999999996E-2,-6.0760000000000002E-2,0,4721,{"$f":"IF((G2994*ALBE+H2994*ALDE+I2994*AT+J2994*BE+K2994*DE+L2994*FR+M2994*NL)>(N2994),1,0)","v":0},null,{"$f":"IF((C$6*G2994+D$6*H2994+E$6*I2994+F$6*J2994+G$6*K2994+H$6*L2994+I$6*M2994)>(N2994),1,0)","v":0}]
[null,3290,"[D2-AT] Pleinting - St. Peter 258 [DIR] [AT]_LTA_corner#06_#21","10T-AT-DE-000037","[D2-D2] Pirach - Pleinting 257","11TD2L000000201H",0,0,-0.99868999999999997,-4.3869999999999999E-2,0,-2.6419999999999999E-2,0,4904,{"$f":"IF((G2995*ALBE+H2995*ALDE+I2995*AT+J2995*BE+K2995*DE+L2995*FR+M2995*NL)>(N2995),1,0)","v":0},null,{"$f":"IF((C$6*G2995+D$6*H2995+E$6*I2995+F$6*J2995+G$6*K2995+H$6*L2995+I$6*M2995)>(N2995),1,0)","v":0}]
[null,3291,"[D2-AT] Pleinting - St. Peter 258 [DIR] [AT]_LTA_corner#06_#2","10T-AT-DE-000037","[D2-D2] Pirach - Pleinting 257","11TD2L000000201H",0,0,-0.99824999999999997,-5.2589999999999998E-2,6.5199999999999998E-3,-2.6409999999999999E-2,0,4968,{"$f":"IF((G2996*ALBE+H2996*ALDE+I2996*AT+J2996*BE+K2996*DE+L2996*FR+M2996*NL)>(N2996),1,0)","v":0},null,{"$f":"IF((C$6*G2996+D$6*H2996+E$6*I2996+F$6*J2996+G$6*K2996+H$6*L2996+I$6*M2996)>(N2996),1,0)","v":0}]
[null,3292,"[D2-AT] Pleinting - St. Peter 258 [DIR] [AT]_LTA_corner#04_#5","10T-AT-DE-000037","[D2-D2] Pirach - Pleinting 257","11TD2L000000201H",0,0,-0.99858999999999998,-2.6419999999999999E-2,3.7749999999999999E-2,-2.6419999999999999E-2,0,5121,{"$f":"IF((G2997*ALBE+H2997*ALDE+I2997*AT+J2997*BE+K2997*DE+L2997*FR+M2997*NL)>(N2997),1,0)","v":0},null,{"$f":"IF((C$6*G2997+D$6*H2997+E$6*I2997+F$6*J2997+G$6*K2997+H$6*L2997+I$6*M2997)>(N2997),1,0)","v":0}]
[null,3293,"[BE-FR] Achene - Lonny 380.19 [DIR] [BE]_LTA_corner#02_#22","10T-BE-FR-000015","[BE-BE] Avelgem - Horta 380.102","22T20161020---1E",0,0,-0.42837999999999998,0.14169999999999999,-0.26937,-0.85079000000000005,0,2400,{"$f":"IF((G2998*ALBE+H2998*ALDE+I2998*AT+J2998*BE+K2998*DE+L2998*FR+M2998*NL)>(N2998),1,0)","v":0},null,{"$f":"IF((C$6*G2998+D$6*H2998+E$6*I2998+F$6*J2998+G$6*K2998+H$6*L2998+I$6*M2998)>(N2998),1,0)","v":0}]
["hour 22",918,"[D2-D2] Altheim - Sittling 220 [OPP]_LTA_corner#09_#1","11TD2L000000004J","[D2-AT] Pleinting - St. Peter 258","10T-AT-DE-000037",0,0,-0.9839,-5.6219999999999999E-2,-0.10584,-0.13256000000000001,0,4493,{"$f":"IF((G2999*ALBE+H2999*ALDE+I2999*AT+J2999*BE+K2999*DE+L2999*FR+M2999*NL)>(N2999),1,0)","v":0},null,{"$f":"IF((C$6*G2999+D$6*H2999+E$6*I2999+F$6*J2999+G$6*K2999+H$6*L2999+I$6*M2999)>(N2999),1,0)","v":0}]
[null,919,"[D2-AT] Pleinting - St. Peter 258 [DIR] [AT]_LTA_corner#11_#6","10T-AT-DE-000037","[D2-D2] Pirach - Pleinting 257","11TD2L000000201H",0,0,-0.99977000000000005,0,-2.1049999999999999E-2,-3.9699999999999996E-3,0,4773,{"$f":"IF((G3000*ALBE+H3000*ALDE+I3000*AT+J3000*BE+K3000*DE+L3000*FR+M3000*NL)>(N3000),1,0)","v":0},null,{"$f":"IF((C$6*G3000+D$6*H3000+E$6*I3000+F$6*J3000+G$6*K3000+H$6*L3000+I$6*M3000)>(N3000),1,0)","v":0}]
[null,920,"[AT-AT] Westtirol Transformer WTRHU41 [OPP]_LTA_corner#20_#7","14T-38220-WT041O","BASECASE","N/A",0,0,0.98767000000000005,-2.085E-2,0.13808000000000001,-7.0749999999999993E-2,0,4498,{"$f":"IF((G3001*ALBE+H3001*ALDE+I3001*AT+J3001*BE+K3001*DE+L3001*FR+M3001*NL)>(N3001),1,0)","v":0},null,{"$f":"IF((C$6*G3001+D$6*H3001+E$6*I3001+F$6*J3001+G$6*K3001+H$6*L3001+I$6*M3001)>(N3001),1,0)","v":0}]
[null,921,"[D2-AT] Pleinting - St. Peter 258 [DIR] [AT]_LTA_corner#09_#8","10T-AT-DE-000037","[D2-D2] Pirach - Pleinting 257","11TD2L000000201H",0,0,-0.99997999999999998,-4.4000000000000002E-4,-4.7800000000000004E-3,-4.7800000000000004E-3,0,4807,{"$f":"IF((G3002*ALBE+H3002*ALDE+I3002*AT+J3002*BE+K3002*DE+L3002*FR+M3002*NL)>(N3002),1,0)","v":0},null,{"$f":"IF((C$6*G3002+D$6*H3002+E$6*I3002+F$6*J3002+G$6*K3002+H$6*L3002+I$6*M3002)>(N3002),1,0)","v":0}]
[null,922,"[D7-FR] Ensdorf - Vigy 2S [OPP] [D7]_LTA_corner#30_#9","10T-DE-FR-000068","[D7-D7] Ensdorf - Uchtelfangen Taubental N","11T0-0000-0604-N",0,0,5.5E-2,0.37809999999999999,-0.12687000000000001,0.91537999999999997,0,3604,{"$f":"IF((G3003*ALBE+H3003*ALDE+I3003*AT+J3003*BE+K3003*DE+L3003*FR+M3003*NL)>(N3003),1,0)","v":0},null,{"$f":"IF((C$6*G3003+D$6*H3003+E$6*I3003+F$6*J3003+G$6*K3003+H$6*L3003+I$6*M3003)>(N3003),1,0)","v":0}]
[null,923,"[D2-AT] Pleinting - St. Peter 258 [DIR] [AT]_LTA_corner#01_#2","10T-AT-DE-000037","[D2-D2] Pirach - Pleinting 257","11TD2L000000201H",0,0,-0.99997999999999998,0,0,-6.8199999999999997E-3,0,4832,{"$f":"IF((G3004*ALBE+H3004*ALDE+I3004*AT+J3004*BE+K3004*DE+L3004*FR+M3004*NL)>(N3004),1,0)","v":0},null,{"$f":"IF((C$6*G3004+D$6*H3004+E$6*I3004+F$6*J3004+G$6*K3004+H$6*L3004+I$6*M3004)>(N3004),1,0)","v":0}]
[null,924,"[D2-AT] Pleinting - St. Peter 258 [DIR] [AT]_LTA_corner#01_#14","10T-AT-DE-000037","[D2-D2] Pirach - Pleinting 257","11TD2L000000201H",0,0,-0.99890000000000001,0,3.16E-3,-4.6739999999999997E-2,0,4912,{"$f":"IF((G3005*ALBE+H3005*ALDE+I3005*AT+J3005*BE+K3005*DE+L3005*FR+M3005*NL)>(N3005),1,0)","v":0},null,{"$f":"IF((C$6*G3005+D$6*H3005+E$6*I3005+F$6*J3005+G$6*K3005+H$6*L3005+I$6*M3005)>(N3005),1,0)","v":0}]
[null,925,"[BE-FR] Achene - Lonny 380.19 [DIR] [BE]_LTA_corner#02_#12","10T-BE-FR-000015","[BE-BE] Avelgem - Horta 380.102","22T20161020---1E",0,0,-0.48598999999999998,0,-0.34909000000000001,-0.80122000000000004,0,2070,{"$f":"IF((G3006*ALBE+H3006*ALDE+I3006*AT+J3006*BE+K3006*DE+L3006*FR+M3006*NL)>(N3006),1,0)","v":0},null,{"$f":"IF((C$6*G3006+D$6*H3006+E$6*I3006+F$6*J3006+G$6*K3006+H$6*L3006+I$6*M3006)>(N3006),1,0)","v":0}]
[null,926,"[BE-FR] Achene - Lonny 380.19 [OPP] [BE]","10T-BE-FR-000015","[BE-BE] Avelgem - Horta 380.102","22T20161020---1E",-0.28539999999999999,-7.5560000000000002E-2,2.0539999999999999E-2,-0.28199000000000002,-2.9420000000000002E-2,0.15162999999999999,-0.13941999999999999,2486,{"$f":"IF((G3007*ALBE+H3007*ALDE+I3007*AT+J3007*BE+K3007*DE+L3007*FR+M3007*NL)>(N3007),1,0)","v":0},null,{"$f":"IF((C$6*G3007+D$6*H3007+E$6*I3007+F$6*J3007+G$6*K3007+H$6*L3007+I$6*M3007)>(N3007),1,0)","v":0}]
[null,927,"[D2-AT] Pleinting - St. Peter 258 [DIR] [AT]_LTA_corner#09_#9","10T-AT-DE-000037","[D2-D2] Pirach - Pleinting 257","11TD2L000000201H",0,0,-0.99978,-8.8400000000000006E-3,-1.3310000000000001E-2,-1.3310000000000001E-2,0,4783,{"$f":"IF((G3008*ALBE+H3008*ALDE+I3008*AT+J3008*BE+K3008*DE+L3008*FR+M3008*NL)>(N3008),1,0)","v":0},null,{"$f":"IF((C$6*G3008+D$6*H3008+E$6*I3008+F$6*J3008+G$6*K3008+H$6*L3008+I$6*M3008)>(N3008),1,0)","v":0}]
[null,928,"[D7-FR] Ensdorf - Vigy 2S [OPP] [D7]_LTA_corner#30_#36","10T-DE-FR-000068","[D7-D7] Ensdorf - Uchtelfangen Taubental N","11T0-0000-0604-N",0,0,0.12519,0.35036,-5.0590000000000003E-2,0.92683000000000004,0,3432,{"$f":"IF((G3009*ALBE+H3009*ALDE+I3009*AT+J3009*BE+K3009*DE+L3009*FR+M3009*NL)>(N3009),1,0)","v":0},null,{"$f":"IF((C$6*G3009+D$6*H3009+E$6*I3009+F$6*J3009+G$6*K3009+H$6*L3009+I$6*M3009)>(N3009),1,0)","v":0}]
[null,929,"[D2-AT] Pleinting - St. Peter 258 [DIR] [AT]_LTA_corner#04_#10","10T-AT-DE-000037","[D2-D2] Pirach - Pleinting 257","11TD2L000000201H",0,0,-0.99997999999999998,-6.6E-4,0,-6.1900000000000002E-3,0,4831,{"$f":"IF((G3010*ALBE+H3010*ALDE+I3010*AT+J3010*BE+K3010*DE+L3010*FR+M3010*NL)>(N3010),1,0)","v":0},null,{"$f":"IF((C$6*G3010+D$6*H3010+E$6*I3010+F$6*J3010+G$6*K3010+H$6*L3010+I$6*M3010)>(N3010),1,0)","v":0}]
[null,930,"[AT-AT] Westtirol Transformer WTRHU41 [OPP]_LTA_corner#20_#4","14T-38220-WT041O","BASECASE","N/A",0,0,0.99207999999999996,-2.094E-2,0.11484999999999999,-4.6350000000000002E-2,0,4544,{"$f":"IF((G3011*ALBE+H3011*ALDE+I3011*AT+J3011*BE+K3011*DE+L3011*FR+M3011*NL)>(N3011),1,0)","v":0},null,{"$f":"IF((C$6*G3011+D$6*H3011+E$6*I3011+F$6*J3011+G$6*K3011+H$6*L3011+I$6*M3011)>(N3011),1,0)","v":0}]
[null,931,"[AT-AT] Westtirol Transformer WTRHU41 [OPP]_LTA_corner#20_#2","14T-38220-WT041O","BASECASE","N/A",0,0,0.98977000000000004,-4.6989999999999997E-2,0.11458,-7.0900000000000005E-2,0,4577,{"$f":"IF((G3012*ALBE+H3012*ALDE+I3012*AT+J3012*BE+K3012*DE+L3012*FR+M3012*NL)>(N3012),1,0)","v":0},null,{"$f":"IF((C$6*G3012+D$6*H3012+E$6*I3012+F$6*J3012+G$6*K3012+H$6*L3012+I$6*M3012)>(N3012),1,0)","v":0}]
[null,932,"[D2-D2] Altheim - Sittling 220 [OPP]_LTA_corner#04_#10","11TD2L000000004J","[D2-AT] Pleinting - St. Peter 258","10T-AT-DE-000037",0,0,-0.99233000000000005,-2.7949999999999999E-2,0,-0.12044000000000001,0,4981,{"$f":"IF((G3013*ALBE+H3013*ALDE+I3013*AT+J3013*BE+K3013*DE+L3013*FR+M3013*NL)>(N3013),1,0)","v":0},null,{"$f":"IF((C$6*G3013+D$6*H3013+E$6*I3013+F$6*J3013+G$6*K3013+H$6*L3013+I$6*M3013)>(N3013),1,0)","v":0}]
[null,933,"[BE-BE] PST_ZANDV_2 [N - S]_LTA_corner#13_#26","22T20161020---56","[NL-BE] Rilland - Zandvliet 380 White/30","10T-BE-NL-00004C",0,0,-0.33938000000000001,-0.76195000000000002,-0.28903000000000001,-0.4698,0,1889,{"$f":"IF((G3014*ALBE+H3014*ALDE+I3014*AT+J3014*BE+K3014*DE+L3014*FR+M3014*NL)>(N3014),1,0)","v":0},null,{"$f":"IF((C$6*G3014+D$6*H3014+E$6*I3014+F$6*J3014+G$6*K3014+H$6*L3014+I$6*M3014)>(N3014),1,0)","v":0}]
[null,934,"[D2-AT] Pleinting - St. Peter 258 [DIR] [AT]_LTA_corner#02_#3","10T-AT-DE-000037","[D2-D2] Pirach - Pleinting 257","11TD2L000000201H",0,0,-0.99997000000000003,0,-5.0699999999999999E-3,-5.0699999999999999E-3,0,4806,{"$f":"IF((G3015*ALBE+H3015*ALDE+I3015*AT+J3015*BE+K3015*DE+L3015*FR+M3015*NL)>(N3015),1,0)","v":0},null,{"$f":"IF((C$6*G3015+D$6*H3015+E$6*I3015+F$6*J3015+G$6*K3015+H$6*L3015+I$6*M3015)>(N3015),1,0)","v":0}]
[null,935,"[BE-BE] PST_ZANDV_2 [N - S]_LTA_corner#13_#31","22T20161020---56","[NL-BE] Rilland - Zandvliet 380 White/30","10T-BE-NL-00004C",0,0,-0.33739999999999998,-0.75302999999999998,-0.27811999999999998,-0.49168000000000001,0,1891,{"$f":"IF((G3016*ALBE+H3016*ALDE+I3016*AT+J3016*BE+K3016*DE+L3016*FR+M3016*NL)>(N3016),1,0)","v":0},null,{"$f":"IF((C$6*G3016+D$6*H3016+E$6*I3016+F$6*J3016+G$6*K3016+H$6*L3016+I$6*M3016)>(N3016),1,0)","v":0}]
[null,936,"[NL-NL] Borssele - Rilland 380 Zwart [DIR]","49T000000000059S","[NL-NL] Borssele - Rilland 380 Grijs","49T000000000057W",-6.5100000000000002E-3,2.7399999999999998E-3,-8.1999999999999998E-4,-1.554E-2,1.17E-3,-6.4000000000000003E-3,0.13331000000000001,464,{"$f":"IF((G3017*ALBE+H3017*ALDE+I3017*AT+J3017*BE+K3017*DE+L3017*FR+M3017*NL)>(N3017),1,0)","v":0},null,{"$f":"IF((C$6*G3017+D$6*H3017+E$6*I3017+F$6*J3017+G$6*K3017+H$6*L3017+I$6*M3017)>(N3017),1,0)","v":0}]
[null,937,"[BE-BE] PST_ZANDV_2 [N - S]_LTA_corner#13_#2","22T20161020---56","[NL-BE] Rilland - Zandvliet 380 White/30","10T-BE-NL-00004C",0,0,-0.37359999999999999,-0.70821000000000001,-0.32127,-0.50561999999999996,0,1754,{"$f":"IF((G3018*ALBE+H3018*ALDE+I3018*AT+J3018*BE+K3018*DE+L3018*FR+M3018*NL)>(N3018),1,0)","v":0},null,{"$f":"IF((C$6*G3018+D$6*H3018+E$6*I3018+F$6*J3018+G$6*K3018+H$6*L3018+I$6*M3018)>(N3018),1,0)","v":0}]
[null,938,"[D2-D2] Altheim - Sittling 220 [OPP]_LTA_corner#02_#9","11TD2L000000004J","[D2-AT] Pleinting - St. Peter 258","10T-AT-DE-000037",0,0,-0.99604000000000004,0,-2.716E-2,-8.4699999999999998E-2,0,4816,{"$f":"IF((G3019*ALBE+H3019*ALDE+I3019*AT+J3019*BE+K3019*DE+L3019*FR+M3019*NL)>(N3019),1,0)","v":0},null,{"$f":"IF((C$6*G3019+D$6*H3019+E$6*I3019+F$6*J3019+G$6*K3019+H$6*L3019+I$6*M3019)>(N3019),1,0)","v":0}]
[null,939,"[D2-AT] Pleinting - St. Peter 258 [DIR] [AT]_LTA_corner#02_#1","10T-AT-DE-000037","[D2-D2] Pirach - Pleinting 257","11TD2L000000201H",0,0,-0.99997999999999998,0,-1.9E-3,-6.13E-3,0,4822,{"$f":"IF((G3020*ALBE+H3020*ALDE+I3020*AT+J3020*BE+K3020*DE+L3020*FR+M3020*NL)>(N3020),1,0)","v":0},null,{"$f":"IF((C$6*G3020+D$6*H3020+E$6*I3020+F$6*J3020+G$6*K3020+H$6*L3020+I$6*M3020)>(N3020),1,0)","v":0}]
[null,940,"[D2-AT] Pleinting - St. Peter 258 [DIR] [AT]_LTA_corner#01_#21","10T-AT-DE-000037","[D2-D2] Pirach - Pleinting 257","11TD2L000000201H",0,0,-0.99888999999999994,0,6.0800000000000003E-3,-4.6769999999999999E-2,0,4932,{"$f":"IF((G3021*ALBE+H3021*ALDE+I3021*AT+J3021*BE+K3021*DE+L3021*FR+M3021*NL)>(N3021),1,0)","v":0},null,{"$f":"IF((C$6*G3021+D$6*H3021+E$6*I3021+F$6*J3021+G$6*K3021+H$6*L3021+I$6*M3021)>(N3021),1,0)","v":0}]
[null,941,"[BE-FR] Achene - Lonny 380.19 [DIR] [BE]_LTA_corner#02_#16","10T-BE-FR-000015","[BE-BE] Avelgem - Horta 380.102","22T20161020---1E",0,0,-0.42797000000000002,0.38144,-0.25488,-0.77869999999999995,0,2639,{"$f":"IF((G3022*ALBE+H3022*ALDE+I3022*AT+J3022*BE+K3022*DE+L3022*FR+M3022*NL)>(N3022),1,0)","v":0},null,{"$f":"IF((C$6*G3022+D$6*H3022+E$6*I3022+F$6*J3022+G$6*K3022+H$6*L3022+I$6*M3022)>(N3022),1,0)","v":0}]
[null,942,"[AT-AT] Westtirol Transformer WTRHU41 [OPP]_LTA_corner#20_#13","14T-38220-WT041O","BASECASE","N/A",0,0,0.99350000000000005,-2.0969999999999999E-2,8.6319999999999994E-2,-7.1169999999999997E-2,0,4668,{"$f":"IF((G3023*ALBE+H3023*ALDE+I3023*AT+J3023*BE+K3023*DE+L3023*FR+M3023*NL)>(N3023),1,0)","v":0},null,{"$f":"IF((C$6*G3023+D$6*H3023+E$6*I3023+F$6*J3023+G$6*K3023+H$6*L3023+I$6*M3023)>(N3023),1,0)","v":0}]
[null,943,"[D2-AT] Pleinting - St. Peter 258 [DIR] [AT]_LTA_corner#02_#7","10T-AT-DE-000037","[D2-D2] Pirach - Pleinting 257","11TD2L000000201H",0,0,-0.99980999999999998,9.8899999999999995E-3,-1.175E-2,-1.175E-2,0,4799,{"$f":"IF((G3024*ALBE+H3024*ALDE+I3024*AT+J3024*BE+K3024*DE+L3024*FR+M3024*NL)>(N3024),1,0)","v":0},null,{"$f":"IF((C$6*G3024+D$6*H3024+E$6*I3024+F$6*J3024+G$6*K3024+H$6*L3024+I$6*M3024)>(N3024),1,0)","v":0}]
[null,944,"[BE-BE] PST_VANYK_2 [S - N]","22T-BE-PST--002U","[NL-BE] Maasbracht - Van Eyck 380 Black/27","10T-BE-NL-00002G",0.50263000000000002,-5.8029999999999998E-2,1.2460000000000001E-2,0.28466000000000002,-1.738E-2,9.8269999999999996E-2,-9.75E-3,995,{"$f":"IF((G3025*ALBE+H3025*ALDE+I3025*AT+J3025*BE+K3025*DE+L3025*FR+M3025*NL)>(N3025),1,0)","v":0},null,{"$f":"IF((C$6*G3025+D$6*H3025+E$6*I3025+F$6*J3025+G$6*K3025+H$6*L3025+I$6*M3025)>(N3025),1,0)","v":0}]
[null,945,"[D2-AT] Pleinting - St. Peter 258 [DIR] [AT]_LTA_corner#04_#5","10T-AT-DE-000037","[D2-D2] Pirach - Pleinting 257","11TD2L000000201H",0,0,-0.99997999999999998,-1.4599999999999999E-3,0,-5.4799999999999996E-3,0,4830,{"$f":"IF((G3026*ALBE+H3026*ALDE+I3026*AT+J3026*BE+K3026*DE+L3026*FR+M3026*NL)>(N3026),1,0)","v":0},null,{"$f":"IF((C$6*G3026+D$6*H3026+E$6*I3026+F$6*J3026+G$6*K3026+H$6*L3026+I$6*M3026)>(N3026),1,0)","v":0}]
[null,946,"[BE-FR] Achene - Lonny 380.19 [DIR] [BE]_LTA_corner#02_#4","10T-BE-FR-000015","[BE-BE] Avelgem - Horta 380.102","22T20161020---1E",0,0,-0.35317999999999999,0.68915999999999999,-0.26461000000000001,-0.57472000000000001,0,2284,{"$f":"IF((G3027*ALBE+H3027*ALDE+I3027*AT+J3027*BE+K3027*DE+L3027*FR+M3027*NL)>(N3027),1,0)","v":0},null,{"$f":"IF((C$6*G3027+D$6*H3027+E$6*I3027+F$6*J3027+G$6*K3027+H$6*L3027+I$6*M3027)>(N3027),1,0)","v":0}]
[null,947,"[D2-AT] Pleinting - St. Peter 258 [DIR] [AT]_LTA_corner#04_#1","10T-AT-DE-000037","[D2-D2] Pirach - Pleinting 257","11TD2L000000201H",0,0,-0.99995999999999996,-2.7699999999999999E-3,6.0899999999999999E-3,-5.9100000000000003E-3,0,4873,{"$f":"IF((G3028*ALBE+H3028*ALDE+I3028*AT+J3028*BE+K3028*DE+L3028*FR+M3028*NL)>(N3028),1,0)","v":0},null,{"$f":"IF((C$6*G3028+D$6*H3028+E$6*I3028+F$6*J3028+G$6*K3028+H$6*L3028+I$6*M3028)>(N3028),1,0)","v":0}]
[null,948,"[D2-AT] Pleinting - St. Peter 258 [DIR] [AT]_LTA_corner#09_#10","10T-AT-DE-000037","[D2-D2] Pirach - Pleinting 257","11TD2L000000201H",0,0,-0.99961999999999995,-9.8999999999999999E-4,-1.9369999999999998E-2,-1.9369999999999998E-2,0,4764,{"$f":"IF((G3029*ALBE+H3029*ALDE+I3029*AT+J3029*BE+K3029*DE+L3029*FR+M3029*NL)>(N3029),1,0)","v":0},null,{"$f":"IF((C$6*G3029+D$6*H3029+E$6*I3029+F$6*J3029+G$6*K3029+H$6*L3029+I$6*M3029)>(N3029),1,0)","v":0}]
[null,949,"[D2-AT] Pleinting - St. Peter 258 [DIR] [AT]_LTA_corner#11_#0","10T-AT-DE-000037","[D2-D2] Pirach - Pleinting 257","11TD2L000000201H",0,0,-0.99946000000000002,3.7799999999999999E-3,-3.2660000000000002E-2,1.0000000000000001E-5,0,4754,{"$f":"IF((G3030*ALBE+H3030*ALDE+I3030*AT+J3030*BE+K3030*DE+L3030*FR+M3030*NL)>(N3030),1,0)","v":0},null,{"$f":"IF((C$6*G3030+D$6*H3030+E$6*I3030+F$6*J3030+G$6*K3030+H$6*L3030+I$6*M3030)>(N3030),1,0)","v":0}]
[null,950,"[D2-D2] Altheim - Sittling 220 [OPP]_LTA_corner#04_#0","11TD2L000000004J","[D2-AT] Pleinting - St. Peter 258","10T-AT-DE-000037",0,0,-0.99851000000000001,-8.1799999999999998E-3,0,-5.391E-2,0,4901,{"$f":"IF((G3031*ALBE+H3031*ALDE+I3031*AT+J3031*BE+K3031*DE+L3031*FR+M3031*NL)>(N3031),1,0)","v":0},null,{"$f":"IF((C$6*G3031+D$6*H3031+E$6*I3031+F$6*J3031+G$6*K3031+H$6*L3031+I$6*M3031)>(N3031),1,0)","v":0}]
[null,951,"[AT-AT] Westtirol Transformer WTRHU41 [OPP]_LTA_corner#17_#8","14T-38220-WT041O","BASECASE","N/A",0,0,0.99117999999999995,0,0.11473999999999999,-6.6269999999999996E-2,0,4568,{"$f":"IF((G3032*ALBE+H3032*ALDE+I3032*AT+J3032*BE+K3032*DE+L3032*FR+M3032*NL)>(N3032),1,0)","v":0},null,{"$f":"IF((C$6*G3032+D$6*H3032+E$6*I3032+F$6*J3032+G$6*K3032+H$6*L3032+I$6*M3032)>(N3032),1,0)","v":0}]
[null,952,"[D7-FR] Ensdorf - Vigy 2S [OPP] [D7]_LTA_corner#30_#5","10T-DE-FR-000068","[D7-D7] Ensdorf - Uchtelfangen Taubental N","11T0-0000-0604-N",0,0,0.13449,0.35909000000000002,-7.7640000000000001E-2,0.92029000000000005,0,3652,{"$f":"IF((G3033*ALBE+H3033*ALDE+I3033*AT+J3033*BE+K3033*DE+L3033*FR+M3033*NL)>(N3033),1,0)","v":0},null,{"$f":"IF((C$6*G3033+D$6*H3033+E$6*I3033+F$6*J3033+G$6*K3033+H$6*L3033+I$6*M3033)>(N3033),1,0)","v":0}]
[null,953,"[AT-AT] Westtirol Transformer WTRHU41 [OPP]_LTA_corner#20_#11","14T-38220-WT041O","BASECASE","N/A",0,0,0.98834999999999995,-2.086E-2,0.11441,-9.819E-2,0,4610,{"$f":"IF((G3034*ALBE+H3034*ALDE+I3034*AT+J3034*BE+K3034*DE+L3034*FR+M3034*NL)>(N3034),1,0)","v":0},null,{"$f":"IF((C$6*G3034+D$6*H3034+E$6*I3034+F$6*J3034+G$6*K3034+H$6*L3034+I$6*M3034)>(N3034),1,0)","v":0}]
[null,954,"[BE-BE] PST_ZANDV_2 [N - S]_LTA_corner#13_#8","22T20161020---56","[NL-BE] Rilland - Zandvliet 380 White/30","10T-BE-NL-00004C",0,0,-0.35785,-0.72502,-0.31235000000000002,-0.49872,0,1764,{"$f":"IF((G3035*ALBE+H3035*ALDE+I3035*AT+J3035*BE+K3035*DE+L3035*FR+M3035*NL)>(N3035),1,0)","v":0},null,{"$f":"IF((C$6*G3035+D$6*H3035+E$6*I3035+F$6*J3035+G$6*K3035+H$6*L3035+I$6*M3035)>(N3035),1,0)","v":0}]
[null,955,"[BE-FR] Achene - Lonny 380.19 [DIR] [BE]_LTA_corner#02_#0","10T-BE-FR-000015","[BE-BE] Avelgem - Horta 380.102","22T20161020---1E",0,0,-0.48462,0,-0.36487000000000003,-0.79498999999999997,0,1984,{"$f":"IF((G3036*ALBE+H3036*ALDE+I3036*AT+J3036*BE+K3036*DE+L3036*FR+M3036*NL)>(N3036),1,0)","v":0},null,{"$f":"IF((C$6*G3036+D$6*H3036+E$6*I3036+F$6*J3036+G$6*K3036+H$6*L3036+I$6*M3036)>(N3036),1,0)","v":0}]
[null,956,"[D2-AT] Pleinting - St. Peter 258 [DIR] [AT]_LTA_corner#11_#9","10T-AT-DE-000037","[D2-D2] Pirach - Pleinting 257","11TD2L000000201H",0,0,-0.99963999999999997,0,-2.2100000000000002E-2,-1.5350000000000001E-2,0,4761,{"$f":"IF((G3037*ALBE+H3037*ALDE+I3037*AT+J3037*BE+K3037*DE+L3037*FR+M3037*NL)>(N3037),1,0)","v":0},null,{"$f":"IF((C$6*G3037+D$6*H3037+E$6*I3037+F$6*J3037+G$6*K3037+H$6*L3037+I$6*M3037)>(N3037),1,0)","v":0}]
[null,957,"[NL-NL] Krimpen a/d IJssel - Geertruidenberg 380 Zwart [OPP]","49T0000000000282","[BE-BE] Avelgem - Horta 380.102","22T20161020---1E",0.12842999999999999,4.3749999999999997E-2,1.048E-2,0.16625000000000001,-1.7950000000000001E-2,4.5280000000000001E-2,-0.29194999999999999,1795,{"$f":"IF((G3038*ALBE+H3038*ALDE+I3038*AT+J3038*BE+K3038*DE+L3038*FR+M3038*NL)>(N3038),1,0)","v":0},null,{"$f":"IF((C$6*G3038+D$6*H3038+E$6*I3038+F$6*J3038+G$6*K3038+H$6*L3038+I$6*M3038)>(N3038),1,0)","v":0}]
[null,958,"[AT-AT] Westtirol Transformer WTRHU41 [OPP]_LTA_corner#20_#22","14T-38220-WT041O","BASECASE","N/A",0,0,0.98826999999999998,-2.6009999999999998E-2,0.11877,-9.2410000000000006E-2,0,4589,{"$f":"IF((G3039*ALBE+H3039*ALDE+I3039*AT+J3039*BE+K3039*DE+L3039*FR+M3039*NL)>(N3039),1,0)","v":0},null,{"$f":"IF((C$6*G3039+D$6*H3039+E$6*I3039+F$6*J3039+G$6*K3039+H$6*L3039+I$6*M3039)>(N3039),1,0)","v":0}]
[null,959,"[D7-FR] Ensdorf - Vigy 2S [OPP] [D7]_LTA_corner#30_#28","10T-DE-FR-000068","[D7-D7] Ensdorf - Uchtelfangen Taubental N","11T0-0000-0604-N",0,0,0.10292,0.34841,-7.6530000000000001E-2,0.92852999999999997,0,3528,{"$f":"IF((G3040*ALBE+H3040*ALDE+I3040*AT+J3040*BE+K3040*DE+L3040*FR+M3040*NL)>(N3040),1,0)","v":0},null,{"$f":"IF((C$6*G3040+D$6*H3040+E$6*I3040+F$6*J3040+G$6*K3040+H$6*L3040+I$6*M3040)>(N3040),1,0)","v":0}]
[null,960,"ALBE_export","N/A","BASECASE","N/A",1,0,0,0,0,0,0,0,{"$f":"IF((G3041*ALBE+H3041*ALDE+I3041*AT+J3041*BE+K3041*DE+L3041*FR+M3041*NL)>(N3041),1,0)","v":0},null,{"$f":"IF((C$6*G3041+D$6*H3041+E$6*I3041+F$6*J3041+G$6*K3041+H$6*L3041+I$6*M3041)>(N3041),1,0)","v":0}]
[null,961,"[AT-AT] Westtirol Transformer WTRHU41 [OPP]_LTA_corner#17_#5","14T-38220-WT041O","BASECASE","N/A",0,0,0.99146999999999996,0,0.10929,-7.102E-2,0,4592,{"$f":"IF((G3042*ALBE+H3042*ALDE+I3042*AT+J3042*BE+K3042*DE+L3042*FR+M3042*NL)>(N3042),1,0)","v":0},null,{"$f":"IF((C$6*G3042+D$6*H3042+E$6*I3042+F$6*J3042+G$6*K3042+H$6*L3042+I$6*M3042)>(N3042),1,0)","v":0}]
[null,962,"[D2-AT] Pleinting - St. Peter 258 [DIR] [AT]_LTA_corner#02_#2","10T-AT-DE-000037","[D2-D2] Pirach - Pleinting 257","11TD2L000000201H",0,0,-0.99994000000000005,3.7499999999999999E-3,-7.5100000000000002E-3,-7.5100000000000002E-3,0,4804,{"$f":"IF((G3043*ALBE+H3043*ALDE+I3043*AT+J3043*BE+K3043*DE+L3043*FR+M3043*NL)>(N3043),1,0)","v":0},null,{"$f":"IF((C$6*G3043+D$6*H3043+E$6*I3043+F$6*J3043+G$6*K3043+H$6*L3043+I$6*M3043)>(N3043),1,0)","v":0}]
[null,963,"[D2-AT] Pleinting - St. Peter 258 [DIR] [AT]_LTA_corner#01_#20","10T-AT-DE-000037","[D2-D2] Pirach - Pleinting 257","11TD2L000000201H",0,0,-0.99917,0,3.0839999999999999E-2,-2.665E-2,0,5072,{"$f":"IF((G3044*ALBE+H3044*ALDE+I3044*AT+J3044*BE+K3044*DE+L3044*FR+M3044*NL)>(N3044),1,0)","v":0},null,{"$f":"IF((C$6*G3044+D$6*H3044+E$6*I3044+F$6*J3044+G$6*K3044+H$6*L3044+I$6*M3044)>(N3044),1,0)","v":0}]
[null,964,"[D2-AT] Pleinting - St. Peter 258 [DIR] [AT]_LTA_corner#01_#9","10T-AT-DE-000037","[D2-D2] Pirach - Pleinting 257","11TD2L000000201H",0,0,-0.99961,1.6500000000000001E-2,0,-2.247E-2,0,4875,{"$f":"IF((G3045*ALBE+H3045*ALDE+I3045*AT+J3045*BE+K3045*DE+L3045*FR+M3045*NL)>(N3045),1,0)","v":0},null,{"$f":"IF((C$6*G3045+D$6*H3045+E$6*I3045+F$6*J3045+G$6*K3045+H$6*L3045+I$6*M3045)>(N3045),1,0)","v":0}]
[null,965,"[BE-FR] Achene - Lonny 380.19 [DIR] [BE]_LTA_corner#02_#21","10T-BE-FR-000015","[BE-BE] Avelgem - Horta 380.102","22T20161020---1E",0,0,-0.45506999999999997,0.37092999999999998,-0.28619,-0.75724000000000002,0,2583,{"$f":"IF((G3046*ALBE+H3046*ALDE+I3046*AT+J3046*BE+K3046*DE+L3046*FR+M3046*NL)>(N3046),1,0)","v":0},null,{"$f":"IF((C$6*G3046+D$6*H3046+E$6*I3046+F$6*J3046+G$6*K3046+H$6*L3046+I$6*M3046)>(N3046),1,0)","v":0}]
[null,966,"[BE-FR] Achene - Lonny 380.19 [DIR] [BE]_LTA_corner#02_#3","10T-BE-FR-000015","[BE-BE] Avelgem - Horta 380.102","22T20161020---1E",0,0,-0.47549999999999998,0,-0.35859999999999997,-0.80330999999999997,0,1981,{"$f":"IF((G3047*ALBE+H3047*ALDE+I3047*AT+J3047*BE+K3047*DE+L3047*FR+M3047*NL)>(N3047),1,0)","v":0},null,{"$f":"IF((C$6*G3047+D$6*H3047+E$6*I3047+F$6*J3047+G$6*K3047+H$6*L3047+I$6*M3047)>(N3047),1,0)","v":0}]
[null,967,"[D2-AT] Pleinting - St. Peter 258 [DIR] [AT]_LTA_corner#11_#8","10T-AT-DE-000037","[D2-D2] Pirach - Pleinting 257","11TD2L000000201H",0,0,-0.99963999999999997,0,-2.6679999999999999E-2,-4.1099999999999999E-3,0,4760,{"$f":"IF((G3048*ALBE+H3048*ALDE+I3048*AT+J3048*BE+K3048*DE+L3048*FR+M3048*NL)>(N3048),1,0)","v":0},null,{"$f":"IF((C$6*G3048+D$6*H3048+E$6*I3048+F$6*J3048+G$6*K3048+H$6*L3048+I$6*M3048)>(N3048),1,0)","v":0}]
[null,968,"[D2-D2] Altheim - Sittling 220 [OPP]_LTA_corner#01_#3","11TD2L000000004J","[D2-AT] Pleinting - St. Peter 258","10T-AT-DE-000037",0,0,-0.99741000000000002,9.75E-3,0,-7.1309999999999998E-2,0,4934,{"$f":"IF((G3049*ALBE+H3049*ALDE+I3049*AT+J3049*BE+K3049*DE+L3049*FR+M3049*NL)>(N3049),1,0)","v":0},null,{"$f":"IF((C$6*G3049+D$6*H3049+E$6*I3049+F$6*J3049+G$6*K3049+H$6*L3049+I$6*M3049)>(N3049),1,0)","v":0}]
[null,969,"[NL-D7] Maasbracht - Oberzier 380 white [DIR] [D7]","10T-DE-NL-00005N","[NL-D7] Maasbracht - Siersdorf 380 black","10T-DE-NL-00006L",0.30696000000000001,-0.17480999999999999,2.3E-3,0.27022000000000002,6.8900000000000003E-3,7.9949999999999993E-2,0.2472,1212,{"$f":"IF((G3050*ALBE+H3050*ALDE+I3050*AT+J3050*BE+K3050*DE+L3050*FR+M3050*NL)>(N3050),1,0)","v":0},null,{"$f":"IF((C$6*G3050+D$6*H3050+E$6*I3050+F$6*J3050+G$6*K3050+H$6*L3050+I$6*M3050)>(N3050),1,0)","v":0}]
[null,970,"[D7-FR] Ensdorf - Vigy 2S [OPP] [D7]_LTA_corner#30_#3","10T-DE-FR-000068","[D7-D7] Ensdorf - Uchtelfangen Taubental N","11T0-0000-0604-N",0,0,5.6759999999999998E-2,0.36623,-0.10967,0.92229000000000005,0,3517,{"$f":"IF((G3051*ALBE+H3051*ALDE+I3051*AT+J3051*BE+K3051*DE+L3051*FR+M3051*NL)>(N3051),1,0)","v":0},null,{"$f":"IF((C$6*G3051+D$6*H3051+E$6*I3051+F$6*J3051+G$6*K3051+H$6*L3051+I$6*M3051)>(N3051),1,0)","v":0}]
[null,971,"[D7-FR] Ensdorf - Vigy 2S [OPP] [D7]_LTA_corner#30_#22","10T-DE-FR-000068","[D7-D7] Ensdorf - Uchtelfangen Taubental N","11T0-0000-0604-N",0,0,6.3880000000000006E-2,0.35387000000000002,-0.12819,0.92425999999999997,0,3710,{"$f":"IF((G3052*ALBE+H3052*ALDE+I3052*AT+J3052*BE+K3052*DE+L3052*FR+M3052*NL)>(N3052),1,0)","v":0},null,{"$f":"IF((C$6*G3052+D$6*H3052+E$6*I3052+F$6*J3052+G$6*K3052+H$6*L3052+I$6*M3052)>(N3052),1,0)","v":0}]
[null,972,"[D2-AT] Pleinting - St. Peter 258 [DIR] [AT]_LTA_corner#01_#5","10T-AT-DE-000037","[D2-D2] Pirach - Pleinting 257","11TD2L000000201H",0,0,-0.99994000000000005,0,6.0899999999999999E-3,-8.5500000000000003E-3,0,4876,{"$f":"IF((G3053*ALBE+H3053*ALDE+I3053*AT+J3053*BE+K3053*DE+L3053*FR+M3053*NL)>(N3053),1,0)","v":0},null,{"$f":"IF((C$6*G3053+D$6*H3053+E$6*I3053+F$6*J3053+G$6*K3053+H$6*L3053+I$6*M3053)>(N3053),1,0)","v":0}]
[null,973,"[BE-BE] PST_ZANDV_2 [N - S]_LTA_corner#13_#3","22T20161020---56","[NL-BE] Rilland - Zandvliet 380 White/30","10T-BE-NL-00004C",0,0,-0.34131,-0.76246999999999998,-0.29264000000000001,-0.46529999999999999,0,1887,{"$f":"IF((G3054*ALBE+H3054*ALDE+I3054*AT+J3054*BE+K3054*DE+L3054*FR+M3054*NL)>(N3054),1,0)","v":0},null,{"$f":"IF((C$6*G3054+D$6*H3054+E$6*I3054+F$6*J3054+G$6*K3054+H$6*L3054+I$6*M3054)>(N3054),1,0)","v":0}]
[null,974,"[BE-FR] Achene - Lonny 380.19 [DIR] [BE]_LTA_corner#02_#2","10T-BE-FR-000015","[BE-BE] Avelgem - Horta 380.102","22T20161020---1E",0,0,-0.47032000000000002,0,-0.35249999999999998,-0.80903999999999998,0,1992,{"$f":"IF((G3055*ALBE+H3055*ALDE+I3055*AT+J3055*BE+K3055*DE+L3055*FR+M3055*NL)>(N3055),1,0)","v":0},null,{"$f":"IF((C$6*G3055+D$6*H3055+E$6*I3055+F$6*J3055+G$6*K3055+H$6*L3055+I$6*M3055)>(N3055),1,0)","v":0}]
[null,975,"[NL-D7] Maasbracht - Oberzier 380 white [OPP] [D7]","10T-DE-NL-00005N","[NL-D7] Maasbracht - Siersdorf 380 black","10T-DE-NL-00006L",-0.30696000000000001,0.17480999999999999,-2.3E-3,-0.27022000000000002,-6.8900000000000003E-3,-7.9949999999999993E-2,-0.2472,2040,{"$f":"IF((G3056*ALBE+H3056*ALDE+I3056*AT+J3056*BE+K3056*DE+L3056*FR+M3056*NL)>(N3056),1,0)","v":0},null,{"$f":"IF((C$6*G3056+D$6*H3056+E$6*I3056+F$6*J3056+G$6*K3056+H$6*L3056+I$6*M3056)>(N3056),1,0)","v":0}]
[null,976,"[D2-AT] Pleinting - St. Peter 258 [DIR] [AT]_LTA_corner#02_#8","10T-AT-DE-000037","[D2-D2] Pirach - Pleinting 257","11TD2L000000201H",0,0,-0.99965000000000004,0,-1.882E-2,-1.882E-2,0,4766,{"$f":"IF((G3057*ALBE+H3057*ALDE+I3057*AT+J3057*BE+K3057*DE+L3057*FR+M3057*NL)>(N3057),1,0)","v":0},null,{"$f":"IF((C$6*G3057+D$6*H3057+E$6*I3057+F$6*J3057+G$6*K3057+H$6*L3057+I$6*M3057)>(N3057),1,0)","v":0}]
[null,977,"[D7-FR] Ensdorf - Vigy 2S [OPP] [D7]_LTA_corner#30_#7","10T-DE-FR-000068","[D7-D7] Ensdorf - Uchtelfangen Taubental N","11T0-0000-0604-N",0,0,7.961E-2,0.36113000000000001,-8.4220000000000003E-2,0.92527999999999999,0,3450,{"$f":"IF((G3058*ALBE+H3058*ALDE+I3058*AT+J3058*BE+K3058*DE+L3058*FR+M3058*NL)>(N3058),1,0)","v":0},null,{"$f":"IF((C$6*G3058+D$6*H3058+E$6*I3058+F$6*J3058+G$6*K3058+H$6*L3058+I$6*M3058)>(N3058),1,0)","v":0}]
[null,978,"[BE-FR] Achene - Lonny 380.19 [DIR] [BE]_LTA_corner#02_#7","10T-BE-FR-000015","[BE-BE] Avelgem - Horta 380.102","22T20161020---1E",0,0,-0.41971999999999998,0.37408999999999998,-0.31730000000000003,-0.76368000000000003,0,2289,{"$f":"IF((G3059*ALBE+H3059*ALDE+I3059*AT+J3059*BE+K3059*DE+L3059*FR+M3059*NL)>(N3059),1,0)","v":0},null,{"$f":"IF((C$6*G3059+D$6*H3059+E$6*I3059+F$6*J3059+G$6*K3059+H$6*L3059+I$6*M3059)>(N3059),1,0)","v":0}]
[null,979,"[D2-AT] Pleinting - St. Peter 258 [DIR] [AT]_LTA_corner#04_#0","10T-AT-DE-000037","[D2-D2] Pirach - Pleinting 257","11TD2L000000201H",0,0,-0.99931999999999999,-2.4719999999999999E-2,6.0800000000000003E-3,-2.665E-2,0,4906,{"$f":"IF((G3060*ALBE+H3060*ALDE+I3060*AT+J3060*BE+K3060*DE+L3060*FR+M3060*NL)>(N3060),1,0)","v":0},null,{"$f":"IF((C$6*G3060+D$6*H3060+E$6*I3060+F$6*J3060+G$6*K3060+H$6*L3060+I$6*M3060)>(N3060),1,0)","v":0}]
[null,980,"[D2-AT] Y - St. Peter (- Altheim - Simbach) 234/230 [OPP] [D2]","10T-AT-DE-000045","[D2-AT] Y - St. Peter (- Altheim - Simbach) 233/230 ","10T-AT-DE-00001B",-3.7510000000000002E-2,-3.8609999999999998E-2,2.3709999999999998E-2,-3.7260000000000001E-2,-3.7940000000000002E-2,-3.4340000000000002E-2,-3.8109999999999998E-2,334,{"$f":"IF((G3061*ALBE+H3061*ALDE+I3061*AT+J3061*BE+K3061*DE+L3061*FR+M3061*NL)>(N3061),1,0)","v":0},null,{"$f":"IF((C$6*G3061+D$6*H3061+E$6*I3061+F$6*J3061+G$6*K3061+H$6*L3061+I$6*M3061)>(N3061),1,0)","v":0}]
[null,981,"[D2-AT] Pleinting - St. Peter 258 [DIR] [AT]_LTA_corner#01_#8","10T-AT-DE-000037","[D2-D2] Pirach - Pleinting 257","11TD2L000000201H",0,0,-0.99963999999999997,1.6129999999999999E-2,0,-2.1569999999999999E-2,0,4873,{"$f":"IF((G3062*ALBE+H3062*ALDE+I3062*AT+J3062*BE+K3062*DE+L3062*FR+M3062*NL)>(N3062),1,0)","v":0},null,{"$f":"IF((C$6*G3062+D$6*H3062+E$6*I3062+F$6*J3062+G$6*K3062+H$6*L3062+I$6*M3062)>(N3062),1,0)","v":0}]
[null,982,"[D2-D2] Altheim - Sittling 220 [OPP]_LTA_corner#04_#8","11TD2L000000004J","[D2-AT] Pleinting - St. Peter 258","10T-AT-DE-000037",0,0,-0.99700999999999995,-2.9690000000000001E-2,0,-7.1279999999999996E-2,0,4925,{"$f":"IF((G3063*ALBE+H3063*ALDE+I3063*AT+J3063*BE+K3063*DE+L3063*FR+M3063*NL)>(N3063),1,0)","v":0},null,{"$f":"IF((C$6*G3063+D$6*H3063+E$6*I3063+F$6*J3063+G$6*K3063+H$6*L3063+I$6*M3063)>(N3063),1,0)","v":0}]
[null,983,"[D2-AT] Pleinting - St. Peter 258 [DIR] [AT]_LTA_corner#01_#0","10T-AT-DE-000037","[D2-D2] Pirach - Pleinting 257","11TD2L000000201H",0,0,-0.99943000000000004,1.9879999999999998E-2,6.0800000000000003E-3,-2.665E-2,0,4927,{"$f":"IF((G3064*ALBE+H3064*ALDE+I3064*AT+J3064*BE+K3064*DE+L3064*FR+M3064*NL)>(N3064),1,0)","v":0},null,{"$f":"IF((C$6*G3064+D$6*H3064+E$6*I3064+F$6*J3064+G$6*K3064+H$6*L3064+I$6*M3064)>(N3064),1,0)","v":0}]
[null,984,"[D2-AT] Pleinting - St. Peter 258 [DIR] [AT]_LTA_corner#04_#11","10T-AT-DE-000037","[D2-D2] Pirach - Pleinting 257","11TD2L000000201H",0,0,-0.99956,-1.9400000000000001E-2,0,-2.247E-2,0,4858,{"$f":"IF((G3065*ALBE+H3065*ALDE+I3065*AT+J3065*BE+K3065*DE+L3065*FR+M3065*NL)>(N3065),1,0)","v":0},null,{"$f":"IF((C$6*G3065+D$6*H3065+E$6*I3065+F$6*J3065+G$6*K3065+H$6*L3065+I$6*M3065)>(N3065),1,0)","v":0}]
[null,985,"[D7-D7] PST Gronau [OPP]","11T0-0000-0620-R","[NL-NL] Zwolle - Meeden 380 Zwart","49T000000000002K",-9.2869999999999994E-2,-4.879E-2,-1.12E-2,-9.418E-2,2.5309999999999999E-2,-4.8829999999999998E-2,-0.16764000000000001,998,{"$f":"IF((G3066*ALBE+H3066*ALDE+I3066*AT+J3066*BE+K3066*DE+L3066*FR+M3066*NL)>(N3066),1,0)","v":0},null,{"$f":"IF((C$6*G3066+D$6*H3066+E$6*I3066+F$6*J3066+G$6*K3066+H$6*L3066+I$6*M3066)>(N3066),1,0)","v":0}]
[null,986,"[NL-NL] Krimpen a/d IJssel - Geertruidenberg 380 Zwart [OPP]","49T0000000000282","[NL-NL] Diemen - Lelystad 380 Wit","49T0000000000096",0.10184,3.1809999999999998E-2,1.1610000000000001E-2,0.125,-1.9269999999999999E-2,5.919E-2,-0.33868999999999999,1939,{"$f":"IF((G3067*ALBE+H3067*ALDE+I3067*AT+J3067*BE+K3067*DE+L3067*FR+M3067*NL)>(N3067),1,0)","v":0},null,{"$f":"IF((C$6*G3067+D$6*H3067+E$6*I3067+F$6*J3067+G$6*K3067+H$6*L3067+I$6*M3067)>(N3067),1,0)","v":0}]
[null,987,"[BE-BE] PST_ZANDV_2 [N - S]_LTA_corner#13_#4","22T20161020---56","[NL-BE] Rilland - Zandvliet 380 White/30","10T-BE-NL-00004C",0,0,-0.37797999999999998,-0.69677999999999995,-0.32285000000000003,-0.51710999999999996,0,1732,{"$f":"IF((G3068*ALBE+H3068*ALDE+I3068*AT+J3068*BE+K3068*DE+L3068*FR+M3068*NL)>(N3068),1,0)","v":0},null,{"$f":"IF((C$6*G3068+D$6*H3068+E$6*I3068+F$6*J3068+G$6*K3068+H$6*L3068+I$6*M3068)>(N3068),1,0)","v":0}]
[null,988,"[D2-D2] Altheim - Sittling 220 [OPP]_LTA_corner#01_#9","11TD2L000000004J","[D2-AT] Pleinting - St. Peter 258","10T-AT-DE-000037",0,0,-0.99577000000000004,0,5.2089999999999997E-2,-7.5630000000000003E-2,0,5281,{"$f":"IF((G3069*ALBE+H3069*ALDE+I3069*AT+J3069*BE+K3069*DE+L3069*FR+M3069*NL)>(N3069),1,0)","v":0},null,{"$f":"IF((C$6*G3069+D$6*H3069+E$6*I3069+F$6*J3069+G$6*K3069+H$6*L3069+I$6*M3069)>(N3069),1,0)","v":0}]
[null,989,"[AT-AT] Westtirol Transformer WTRHU41 [OPP]_LTA_corner#20_#0","14T-38220-WT041O","BASECASE","N/A",0,0,0.99380000000000002,-1.336E-2,0.10077,-4.5089999999999998E-2,0,4587,{"$f":"IF((G3070*ALBE+H3070*ALDE+I3070*AT+J3070*BE+K3070*DE+L3070*FR+M3070*NL)>(N3070),1,0)","v":0},null,{"$f":"IF((C$6*G3070+D$6*H3070+E$6*I3070+F$6*J3070+G$6*K3070+H$6*L3070+I$6*M3070)>(N3070),1,0)","v":0}]
[null,990,"[D2-AT] Pleinting - St. Peter 258 [DIR] [AT]_LTA_corner#01_#16","10T-AT-DE-000037","[D2-D2] Pirach - Pleinting 257","11TD2L000000201H",0,0,-0.99924000000000002,3.0899999999999999E-3,0,-3.8769999999999999E-2,0,4883,{"$f":"IF((G3071*ALBE+H3071*ALDE+I3071*AT+J3071*BE+K3071*DE+L3071*FR+M3071*NL)>(N3071),1,0)","v":0},null,{"$f":"IF((C$6*G3071+D$6*H3071+E$6*I3071+F$6*J3071+G$6*K3071+H$6*L3071+I$6*M3071)>(N3071),1,0)","v":0}]
[null,991,"[BE-FR] Achene - Lonny 380.19 [DIR] [BE]_LTA_corner#09_#0","10T-BE-FR-000015","[BE-BE] Avelgem - Horta 380.102","22T20161020---1E",0,0,-0.43992999999999999,-0.48061999999999999,-0.34993000000000002,-0.67306999999999995,0,1713,{"$f":"IF((G3072*ALBE+H3072*ALDE+I3072*AT+J3072*BE+K3072*DE+L3072*FR+M3072*NL)>(N3072),1,0)","v":0},null,{"$f":"IF((C$6*G3072+D$6*H3072+E$6*I3072+F$6*J3072+G$6*K3072+H$6*L3072+I$6*M3072)>(N3072),1,0)","v":0}]
[null,992,"[BE-FR] Achene - Lonny 380.19 [DIR] [BE]_LTA_corner#02_#11","10T-BE-FR-000015","[BE-BE] Avelgem - Horta 380.102","22T20161020---1E",0,0,-0.43380000000000002,0.22466,-0.28650999999999999,-0.82416999999999996,0,2408,{"$f":"IF((G3073*ALBE+H3073*ALDE+I3073*AT+J3073*BE+K3073*DE+L3073*FR+M3073*NL)>(N3073),1,0)","v":0},null,{"$f":"IF((C$6*G3073+D$6*H3073+E$6*I3073+F$6*J3073+G$6*K3073+H$6*L3073+I$6*M3073)>(N3073),1,0)","v":0}]
[null,993,"[D7-FR] Ensdorf - Vigy 2S [OPP] [D7]_LTA_corner#30_#19","10T-DE-FR-000068","[D7-D7] Ensdorf - Uchtelfangen Taubental N","11T0-0000-0604-N",0,0,9.6949999999999995E-2,0.37119000000000002,-8.1309999999999993E-2,0.91990000000000005,0,3484,{"$f":"IF((G3074*ALBE+H3074*ALDE+I3074*AT+J3074*BE+K3074*DE+L3074*FR+M3074*NL)>(N3074),1,0)","v":0},null,{"$f":"IF((C$6*G3074+D$6*H3074+E$6*I3074+F$6*J3074+G$6*K3074+H$6*L3074+I$6*M3074)>(N3074),1,0)","v":0}]
[null,994,"[D7-FR] Ensdorf - Vigy 2S [OPP] [D7]_LTA_corner#30_#0","10T-DE-FR-000068","[D7-D7] Ensdorf - Uchtelfangen Taubental N","11T0-0000-0604-N",0,0,0.12324,0.36449999999999999,-4.3950000000000003E-2,0.92196,0,3343,{"$f":"IF((G3075*ALBE+H3075*ALDE+I3075*AT+J3075*BE+K3075*DE+L3075*FR+M3075*NL)>(N3075),1,0)","v":0},null,{"$f":"IF((C$6*G3075+D$6*H3075+E$6*I3075+F$6*J3075+G$6*K3075+H$6*L3075+I$6*M3075)>(N3075),1,0)","v":0}]
[null,995,"[BE-BE] PST_ZANDV_2 [N - S]_LTA_corner#13_#16","22T20161020---56","[NL-BE] Rilland - Zandvliet 380 White/30","10T-BE-NL-00004C",0,0,-0.34477000000000002,-0.75792999999999999,-0.29483999999999999,-0.46877000000000002,0,1880,{"$f":"IF((G3076*ALBE+H3076*ALDE+I3076*AT+J3076*BE+K3076*DE+L3076*FR+M3076*NL)>(N3076),1,0)","v":0},null,{"$f":"IF((C$6*G3076+D$6*H3076+E$6*I3076+F$6*J3076+G$6*K3076+H$6*L3076+I$6*M3076)>(N3076),1,0)","v":0}]
[null,996,"[AT-AT] Westtirol Transformer WTRHU41 [OPP]_LTA_corner#20_#1","14T-38220-WT041O","BASECASE","N/A",0,0,0.99387999999999999,-1.9619999999999999E-2,8.8120000000000004E-2,-6.3600000000000004E-2,0,4653,{"$f":"IF((G3077*ALBE+H3077*ALDE+I3077*AT+J3077*BE+K3077*DE+L3077*FR+M3077*NL)>(N3077),1,0)","v":0},null,{"$f":"IF((C$6*G3077+D$6*H3077+E$6*I3077+F$6*J3077+G$6*K3077+H$6*L3077+I$6*M3077)>(N3077),1,0)","v":0}]
[null,997,"[D2-D2] Altheim - Sittling 220 [OPP]_LTA_corner#01_#0","11TD2L000000004J","[D2-AT] Pleinting - St. Peter 258","10T-AT-DE-000037",0,0,-0.97375,8.0420000000000005E-2,0.20655999999999999,5.1810000000000002E-2,0,6135,{"$f":"IF((G3078*ALBE+H3078*ALDE+I3078*AT+J3078*BE+K3078*DE+L3078*FR+M3078*NL)>(N3078),1,0)","v":0},null,{"$f":"IF((C$6*G3078+D$6*H3078+E$6*I3078+F$6*J3078+G$6*K3078+H$6*L3078+I$6*M3078)>(N3078),1,0)","v":0}]
[null,998,"[BE-FR] Achene - Lonny 380.19 [DIR] [BE]_LTA_corner#02_#19","10T-BE-FR-000015","[BE-BE] Avelgem - Horta 380.102","22T20161020---1E",0,0,-0.46899000000000002,0,-0.3367,-0.81650999999999996,0,2068,{"$f":"IF((G3079*ALBE+H3079*ALDE+I3079*AT+J3079*BE+K3079*DE+L3079*FR+M3079*NL)>(N3079),1,0)","v":0},null,{"$f":"IF((C$6*G3079+D$6*H3079+E$6*I3079+F$6*J3079+G$6*K3079+H$6*L3079+I$6*M3079)>(N3079),1,0)","v":0}]
[null,999,"[D2-AT] Pleinting - St. Peter 258 [DIR] [AT]_LTA_corner#02_#15","10T-AT-DE-000037","[D2-D2] Pirach - Pleinting 257","11TD2L000000201H",0,0,-0.99916000000000005,0,-1.16E-3,-4.1070000000000002E-2,0,4877,{"$f":"IF((G3080*ALBE+H3080*ALDE+I3080*AT+J3080*BE+K3080*DE+L3080*FR+M3080*NL)>(N3080),1,0)","v":0},null,{"$f":"IF((C$6*G3080+D$6*H3080+E$6*I3080+F$6*J3080+G$6*K3080+H$6*L3080+I$6*M3080)>(N3080),1,0)","v":0}]
[null,1000,"[D2-D2] Altheim - Sittling 220 [OPP]_LTA_corner#01_#8","11TD2L000000004J","[D2-AT] Pleinting - St. Peter 258","10T-AT-DE-000037",0,0,-0.99775000000000003,0,5.4260000000000003E-2,-3.9440000000000003E-2,0,5248,{"$f":"IF((G3081*ALBE+H3081*ALDE+I3081*AT+J3081*BE+K3081*DE+L3081*FR+M3081*NL)>(N3081),1,0)","v":0},null,{"$f":"IF((C$6*G3081+D$6*H3081+E$6*I3081+F$6*J3081+G$6*K3081+H$6*L3081+I$6*M3081)>(N3081),1,0)","v":0}]
[null,1001,"[BE-FR] Achene - Lonny 380.19 [DIR] [BE]_LTA_corner#02_#1","10T-BE-FR-000015","[BE-BE] Avelgem - Horta 380.102","22T20161020---1E",0,0,-0.39950000000000002,0.38188,-0.29464000000000001,-0.77959000000000001,0,2327,{"$f":"IF((G3082*ALBE+H3082*ALDE+I3082*AT+J3082*BE+K3082*DE+L3082*FR+M3082*NL)>(N3082),1,0)","v":0},null,{"$f":"IF((C$6*G3082+D$6*H3082+E$6*I3082+F$6*J3082+G$6*K3082+H$6*L3082+I$6*M3082)>(N3082),1,0)","v":0}]
[null,1002,"[AT-AT] Westtirol Transformer WTRHU41 [OPP]_LTA_corner#17_#3","14T-38220-WT041O","BASECASE","N/A",0,0,0.99033000000000004,0,0.1192,-7.0940000000000003E-2,0,4559,{"$f":"IF((G3083*ALBE+H3083*ALDE+I3083*AT+J3083*BE+K3083*DE+L3083*FR+M3083*NL)>(N3083),1,0)","v":0},null,{"$f":"IF((C$6*G3083+D$6*H3083+E$6*I3083+F$6*J3083+G$6*K3083+H$6*L3083+I$6*M3083)>(N3083),1,0)","v":0}]
[null,1003,"ALDE_import","N/A","BASECASE","N/A",0,-1,0,0,0,0,0,0,{"$f":"IF((G3084*ALBE+H3084*ALDE+I3084*AT+J3084*BE+K3084*DE+L3084*FR+M3084*NL)>(N3084),1,0)","v":0},null,{"$f":"IF((C$6*G3084+D$6*H3084+E$6*I3084+F$6*J3084+G$6*K3084+H$6*L3084+I$6*M3084)>(N3084),1,0)","v":0}]
[null,1004,"[AT-AT] Westtirol Transformer WTRHU41 [OPP]_LTA_corner#20_#25","14T-38220-WT041O","BASECASE","N/A",0,0,0.99387999999999999,-1.9619999999999999E-2,8.8120000000000004E-2,-6.361E-2,0,4653,{"$f":"IF((G3085*ALBE+H3085*ALDE+I3085*AT+J3085*BE+K3085*DE+L3085*FR+M3085*NL)>(N3085),1,0)","v":0},null,{"$f":"IF((C$6*G3085+D$6*H3085+E$6*I3085+F$6*J3085+G$6*K3085+H$6*L3085+I$6*M3085)>(N3085),1,0)","v":0}]
[null,1005,"[D2-D2] Altheim - Sittling 220 [OPP]_LTA_corner#01_#7","11TD2L000000004J","[D2-AT] Pleinting - St. Peter 258","10T-AT-DE-000037",0,0,-0.99650000000000005,0,0,-8.3610000000000004E-2,0,4938,{"$f":"IF((G3086*ALBE+H3086*ALDE+I3086*AT+J3086*BE+K3086*DE+L3086*FR+M3086*NL)>(N3086),1,0)","v":0},null,{"$f":"IF((C$6*G3086+D$6*H3086+E$6*I3086+F$6*J3086+G$6*K3086+H$6*L3086+I$6*M3086)>(N3086),1,0)","v":0}]
[null,1006,"[BE-FR] Achene - Lonny 380.19 [DIR] [BE]_LTA_corner#02_#20","10T-BE-FR-000015","[BE-BE] Avelgem - Horta 380.102","22T20161020---1E",0,0,-0.47887999999999997,0,-0.34082000000000001,-0.80901999999999996,0,2085,{"$f":"IF((G3087*ALBE+H3087*ALDE+I3087*AT+J3087*BE+K3087*DE+L3087*FR+M3087*NL)>(N3087),1,0)","v":0},null,{"$f":"IF((C$6*G3087+D$6*H3087+E$6*I3087+F$6*J3087+G$6*K3087+H$6*L3087+I$6*M3087)>(N3087),1,0)","v":0}]
[null,1007,"[AT-AT] Westtirol Transformer WTRHU41 [OPP]_LTA_corner#17_#9","14T-38220-WT041O","BASECASE","N/A",0,0,0.99156999999999995,0,0.10936,-6.9500000000000006E-2,0,4590,{"$f":"IF((G3088*ALBE+H3088*ALDE+I3088*AT+J3088*BE+K3088*DE+L3088*FR+M3088*NL)>(N3088),1,0)","v":0},null,{"$f":"IF((C$6*G3088+D$6*H3088+E$6*I3088+F$6*J3088+G$6*K3088+H$6*L3088+I$6*M3088)>(N3088),1,0)","v":0}]
[null,1008,"[D7-FR] Ensdorf - Vigy 2S [OPP] [D7]_LTA_corner#30_#23","10T-DE-FR-000068","[D7-D7] Ensdorf - Uchtelfangen Taubental N","11T0-0000-0604-N",0,0,6.7110000000000003E-2,0.35364000000000001,-0.12316000000000001,0.92481000000000002,0,3690,{"$f":"IF((G3089*ALBE+H3089*ALDE+I3089*AT+J3089*BE+K3089*DE+L3089*FR+M3089*NL)>(N3089),1,0)","v":0},null,{"$f":"IF((C$6*G3089+D$6*H3089+E$6*I3089+F$6*J3089+G$6*K3089+H$6*L3089+I$6*M3089)>(N3089),1,0)","v":0}]
[null,1009,"[D2-AT] Pleinting - St. Peter 258 [DIR] [AT]_LTA_corner#02_#11","10T-AT-DE-000037","[D2-D2] Pirach - Pleinting 257","11TD2L000000201H",0,0,-0.99977000000000005,1.023E-2,-1.3310000000000001E-2,-1.3310000000000001E-2,0,4794,{"$f":"IF((G3090*ALBE+H3090*ALDE+I3090*AT+J3090*BE+K3090*DE+L3090*FR+M3090*NL)>(N3090),1,0)","v":0},null,{"$f":"IF((C$6*G3090+D$6*H3090+E$6*I3090+F$6*J3090+G$6*K3090+H$6*L3090+I$6*M3090)>(N3090),1,0)","v":0}]
[null,1010,"[D2-AT] Pleinting - St. Peter 258 [DIR] [AT]_LTA_corner#04_#6","10T-AT-DE-000037","[D2-D2] Pirach - Pleinting 257","11TD2L000000201H",0,0,-0.99960000000000004,-1.8499999999999999E-2,0,-2.1569999999999999E-2,0,4856,{"$f":"IF((G3091*ALBE+H3091*ALDE+I3091*AT+J3091*BE+K3091*DE+L3091*FR+M3091*NL)>(N3091),1,0)","v":0},null,{"$f":"IF((C$6*G3091+D$6*H3091+E$6*I3091+F$6*J3091+G$6*K3091+H$6*L3091+I$6*M3091)>(N3091),1,0)","v":0}]
[null,1011,"ALDE_export","N/A","BASECASE","N/A",0,1,0,0,0,0,0,0,{"$f":"IF((G3092*ALBE+H3092*ALDE+I3092*AT+J3092*BE+K3092*DE+L3092*FR+M3092*NL)>(N3092),1,0)","v":0},null,{"$f":"IF((C$6*G3092+D$6*H3092+E$6*I3092+F$6*J3092+G$6*K3092+H$6*L3092+I$6*M3092)>(N3092),1,0)","v":0}]
[null,1012,"[BE-BE] PST_VANYK_2 [S - N]","22T-BE-PST--002U","[BE-FR] Achene - Lonny 380.19","10T-BE-FR-000015",0.58408000000000004,-2.8410000000000001E-2,5.3499999999999997E-3,0.32887,-7.26E-3,4.7019999999999999E-2,1.9980000000000001E-2,905,{"$f":"IF((G3093*ALBE+H3093*ALDE+I3093*AT+J3093*BE+K3093*DE+L3093*FR+M3093*NL)>(N3093),1,0)","v":0},null,{"$f":"IF((C$6*G3093+D$6*H3093+E$6*I3093+F$6*J3093+G$6*K3093+H$6*L3093+I$6*M3093)>(N3093),1,0)","v":0}]
[null,1013,"[AT-AT] Westtirol Transformer WTRHU41 [OPP]_LTA_corner#17_#0","14T-38220-WT041O","BASECASE","N/A",0,0,0.99085000000000001,5.1900000000000002E-3,0.1147,-7.0980000000000001E-2,0,4581,{"$f":"IF((G3094*ALBE+H3094*ALDE+I3094*AT+J3094*BE+K3094*DE+L3094*FR+M3094*NL)>(N3094),1,0)","v":0},null,{"$f":"IF((C$6*G3094+D$6*H3094+E$6*I3094+F$6*J3094+G$6*K3094+H$6*L3094+I$6*M3094)>(N3094),1,0)","v":0}]
[null,1014,"[BE-FR] Achene - Lonny 380.19 [OPP] [BE]","10T-BE-FR-000015","[NL-BE] Maasbracht - Van Eyck 380 White/28","10T-BE-NL-00001I",-0.40078999999999998,-3.32E-2,9.3100000000000006E-3,-0.27811000000000002,-1.3559999999999999E-2,5.9479999999999998E-2,-7.7350000000000002E-2,2116,{"$f":"IF((G3095*ALBE+H3095*ALDE+I3095*AT+J3095*BE+K3095*DE+L3095*FR+M3095*NL)>(N3095),1,0)","v":0},null,{"$f":"IF((C$6*G3095+D$6*H3095+E$6*I3095+F$6*J3095+G$6*K3095+H$6*L3095+I$6*M3095)>(N3095),1,0)","v":0}]
[null,1015,"ALBE_import","N/A","BASECASE","N/A",-1,0,0,0,0,0,0,0,{"$f":"IF((G3096*ALBE+H3096*ALDE+I3096*AT+J3096*BE+K3096*DE+L3096*FR+M3096*NL)>(N3096),1,0)","v":0},null,{"$f":"IF((C$6*G3096+D$6*H3096+E$6*I3096+F$6*J3096+G$6*K3096+H$6*L3096+I$6*M3096)>(N3096),1,0)","v":0}]
[null,1016,"[D2-AT] Pleinting - St. Peter 258 [DIR] [AT]_LTA_corner#01_#10","10T-AT-DE-000037","[D2-D2] Pirach - Pleinting 257","11TD2L000000201H",0,0,-0.99970999999999999,0,1.9109999999999999E-2,-1.468E-2,0,4975,{"$f":"IF((G3097*ALBE+H3097*ALDE+I3097*AT+J3097*BE+K3097*DE+L3097*FR+M3097*NL)>(N3097),1,0)","v":0},null,{"$f":"IF((C$6*G3097+D$6*H3097+E$6*I3097+F$6*J3097+G$6*K3097+H$6*L3097+I$6*M3097)>(N3097),1,0)","v":0}]
[null,1017,"[D7-FR] Ensdorf - Vigy 2S [OPP] [D7]_LTA_corner#30_#15","10T-DE-FR-000068","[D7-D7] Ensdorf - Uchtelfangen Taubental N","11T0-0000-0604-N",0,0,0.11890000000000001,0.34939999999999999,-5.8009999999999999E-2,0.92759000000000003,0,3461,{"$f":"IF((G3098*ALBE+H3098*ALDE+I3098*AT+J3098*BE+K3098*DE+L3098*FR+M3098*NL)>(N3098),1,0)","v":0},null,{"$f":"IF((C$6*G3098+D$6*H3098+E$6*I3098+F$6*J3098+G$6*K3098+H$6*L3098+I$6*M3098)>(N3098),1,0)","v":0}]
[null,1018,"[D2-AT] Pleinting - St. Peter 258 [DIR] [AT]_LTA_corner#11_#3","10T-AT-DE-000037","[D2-D2] Pirach - Pleinting 257","11TD2L000000201H",0,0,-0.99963999999999997,4.2300000000000003E-3,-2.6589999999999999E-2,6.6E-4,0,4769,{"$f":"IF((G3099*ALBE+H3099*ALDE+I3099*AT+J3099*BE+K3099*DE+L3099*FR+M3099*NL)>(N3099),1,0)","v":0},null,{"$f":"IF((C$6*G3099+D$6*H3099+E$6*I3099+F$6*J3099+G$6*K3099+H$6*L3099+I$6*M3099)>(N3099),1,0)","v":0}]
[null,1019,"[D7-FR] Ensdorf - Vigy 2S [OPP] [D7]_LTA_corner#30_#4","10T-DE-FR-000068","[D7-D7] Ensdorf - Uchtelfangen Taubental N","11T0-0000-0604-N",0,0,3.8330000000000003E-2,0.37828000000000001,-0.14527999999999999,0.91342000000000001,0,3656,{"$f":"IF((G3100*ALBE+H3100*ALDE+I3100*AT+J3100*BE+K3100*DE+L3100*FR+M3100*NL)>(N3100),1,0)","v":0},null,{"$f":"IF((C$6*G3100+D$6*H3100+E$6*I3100+F$6*J3100+G$6*K3100+H$6*L3100+I$6*M3100)>(N3100),1,0)","v":0}]
[null,1020,"[BE-BE] PST_ZANDV_2 [N - S]_LTA_corner#13_#9","22T20161020---56","[NL-BE] Rilland - Zandvliet 380 White/30","10T-BE-NL-00004C",0,0,-0.35060000000000002,-0.72962000000000005,-0.30470000000000003,-0.50188999999999995,0,1772,{"$f":"IF((G3101*ALBE+H3101*ALDE+I3101*AT+J3101*BE+K3101*DE+L3101*FR+M3101*NL)>(N3101),1,0)","v":0},null,{"$f":"IF((C$6*G3101+D$6*H3101+E$6*I3101+F$6*J3101+G$6*K3101+H$6*L3101+I$6*M3101)>(N3101),1,0)","v":0}]
[null,1021,"[AT-AT] Westtirol Transformer WTRHU41 [OPP]_LTA_corner#17_#7","14T-38220-WT041O","BASECASE","N/A",0,0,0.99175999999999997,0,0.11094999999999999,-6.3979999999999995E-2,0,4578,{"$f":"IF((G3102*ALBE+H3102*ALDE+I3102*AT+J3102*BE+K3102*DE+L3102*FR+M3102*NL)>(N3102),1,0)","v":0},null,{"$f":"IF((C$6*G3102+D$6*H3102+E$6*I3102+F$6*J3102+G$6*K3102+H$6*L3102+I$6*M3102)>(N3102),1,0)","v":0}]
[null,1022,"[D2-AT] Y - St. Peter (- Altheim - Simbach) 233/230 [OPP] [D2]","10T-AT-DE-00001B","[D2-AT] Y - St. Peter (- Altheim - Simbach) 234/230","10T-AT-DE-000045",-3.7609999999999998E-2,-3.8710000000000001E-2,2.3779999999999999E-2,-3.7359999999999997E-2,-3.805E-2,-3.4430000000000002E-2,-3.8210000000000001E-2,335,{"$f":"IF((G3103*ALBE+H3103*ALDE+I3103*AT+J3103*BE+K3103*DE+L3103*FR+M3103*NL)>(N3103),1,0)","v":0},null,{"$f":"IF((C$6*G3103+D$6*H3103+E$6*I3103+F$6*J3103+G$6*K3103+H$6*L3103+I$6*M3103)>(N3103),1,0)","v":0}]
[null,1023,"[BE-BE] PST_ZANDV_2 [N - S]_LTA_corner#13_#30","22T20161020---56","[NL-BE] Rilland - Zandvliet 380 White/30","10T-BE-NL-00004C",0,0,-0.36030000000000001,-0.72997999999999996,-0.29186000000000001,-0.50212999999999997,0,1876,{"$f":"IF((G3104*ALBE+H3104*ALDE+I3104*AT+J3104*BE+K3104*DE+L3104*FR+M3104*NL)>(N3104),1,0)","v":0},null,{"$f":"IF((C$6*G3104+D$6*H3104+E$6*I3104+F$6*J3104+G$6*K3104+H$6*L3104+I$6*M3104)>(N3104),1,0)","v":0}]
[null,1024,"[BE-FR] Achene - Lonny 380.19 [DIR] [BE]_LTA_corner#02_#13","10T-BE-FR-000015","[BE-BE] Avelgem - Horta 380.102","22T20161020---1E",0,0,-0.42649999999999999,0.26601999999999998,-0.27953,-0.81803999999999999,0,2445,{"$f":"IF((G3105*ALBE+H3105*ALDE+I3105*AT+J3105*BE+K3105*DE+L3105*FR+M3105*NL)>(N3105),1,0)","v":0},null,{"$f":"IF((C$6*G3105+D$6*H3105+E$6*I3105+F$6*J3105+G$6*K3105+H$6*L3105+I$6*M3105)>(N3105),1,0)","v":0}]
[null,1025,"[BE-BE] PST_ZANDV_2 [N - S]_LTA_corner#13_#20","22T20161020---56","[NL-BE] Rilland - Zandvliet 380 White/30","10T-BE-NL-00004C",0,0,-0.33587,-0.76070000000000004,-0.28066000000000002,-0.47932999999999998,0,1900,{"$f":"IF((G3106*ALBE+H3106*ALDE+I3106*AT+J3106*BE+K3106*DE+L3106*FR+M3106*NL)>(N3106),1,0)","v":0},null,{"$f":"IF((C$6*G3106+D$6*H3106+E$6*I3106+F$6*J3106+G$6*K3106+H$6*L3106+I$6*M3106)>(N3106),1,0)","v":0}]
[null,1026,"[D2-D2] Altheim - Sittling 220 [OPP]_LTA_corner#01_#5","11TD2L000000004J","[D2-AT] Pleinting - St. Peter 258","10T-AT-DE-000037",0,0,-0.99807000000000001,0,0,-6.2059999999999997E-2,0,4911,{"$f":"IF((G3107*ALBE+H3107*ALDE+I3107*AT+J3107*BE+K3107*DE+L3107*FR+M3107*NL)>(N3107),1,0)","v":0},null,{"$f":"IF((C$6*G3107+D$6*H3107+E$6*I3107+F$6*J3107+G$6*K3107+H$6*L3107+I$6*M3107)>(N3107),1,0)","v":0}]
[null,1027,"[BE-FR] Achene - Lonny 380.19 [DIR] [BE]_LTA_corner#02_#15","10T-BE-FR-000015","[BE-BE] Avelgem - Horta 380.102","22T20161020---1E",0,0,-0.34339999999999998,0.61992000000000003,-0.21909999999999999,-0.67064000000000001,0,2509,{"$f":"IF((G3108*ALBE+H3108*ALDE+I3108*AT+J3108*BE+K3108*DE+L3108*FR+M3108*NL)>(N3108),1,0)","v":0},null,{"$f":"IF((C$6*G3108+D$6*H3108+E$6*I3108+F$6*J3108+G$6*K3108+H$6*L3108+I$6*M3108)>(N3108),1,0)","v":0}]
[null,1028,"[D2-AT] Pleinting - St. Peter 258 [DIR] [AT]_LTA_corner#01_#12","10T-AT-DE-000037","[D2-D2] Pirach - Pleinting 257","11TD2L000000201H",0,0,-0.99980000000000002,0,1.5709999999999998E-2,-1.2200000000000001E-2,0,4948,{"$f":"IF((G3109*ALBE+H3109*ALDE+I3109*AT+J3109*BE+K3109*DE+L3109*FR+M3109*NL)>(N3109),1,0)","v":0},null,{"$f":"IF((C$6*G3109+D$6*H3109+E$6*I3109+F$6*J3109+G$6*K3109+H$6*L3109+I$6*M3109)>(N3109),1,0)","v":0}]
[null,1029,"[BE-BE] PST_ZANDV_2 [N - S]_LTA_corner#13_#12","22T20161020---56","[NL-BE] Rilland - Zandvliet 380 White/30","10T-BE-NL-00004C",0,0,-0.39844000000000002,-0.62939999999999996,-0.32746999999999998,-0.58126,0,1600,{"$f":"IF((G3110*ALBE+H3110*ALDE+I3110*AT+J3110*BE+K3110*DE+L3110*FR+M3110*NL)>(N3110),1,0)","v":0},null,{"$f":"IF((C$6*G3110+D$6*H3110+E$6*I3110+F$6*J3110+G$6*K3110+H$6*L3110+I$6*M3110)>(N3110),1,0)","v":0}]
[null,1030,"[D2-AT] Pleinting - St. Peter 258 [DIR] [AT]_LTA_corner#04_#13","10T-AT-DE-000037","[D2-D2] Pirach - Pleinting 257","11TD2L000000201H",0,0,-0.99904999999999999,-2.7599999999999999E-3,3.4450000000000001E-2,-2.664E-2,0,5097,{"$f":"IF((G3111*ALBE+H3111*ALDE+I3111*AT+J3111*BE+K3111*DE+L3111*FR+M3111*NL)>(N3111),1,0)","v":0},null,{"$f":"IF((C$6*G3111+D$6*H3111+E$6*I3111+F$6*J3111+G$6*K3111+H$6*L3111+I$6*M3111)>(N3111),1,0)","v":0}]
[null,1031,"[D2-AT] Pleinting - St. Peter 258 [DIR] [AT]_LTA_corner#11_#7","10T-AT-DE-000037","[D2-D2] Pirach - Pleinting 257","11TD2L000000201H",0,0,-0.99997000000000003,0,-6.8399999999999997E-3,-4.28E-3,0,4803,{"$f":"IF((G3112*ALBE+H3112*ALDE+I3112*AT+J3112*BE+K3112*DE+L3112*FR+M3112*NL)>(N3112),1,0)","v":0},null,{"$f":"IF((C$6*G3112+D$6*H3112+E$6*I3112+F$6*J3112+G$6*K3112+H$6*L3112+I$6*M3112)>(N3112),1,0)","v":0}]
[null,1032,"[AT-AT] Westtirol Transformer WTRHU41 [OPP]_LTA_corner#17_#1","14T-38220-WT041O","BASECASE","N/A",0,0,0.99048000000000003,0,0.11466,-7.621E-2,0,4581,{"$f":"IF((G3113*ALBE+H3113*ALDE+I3113*AT+J3113*BE+K3113*DE+L3113*FR+M3113*NL)>(N3113),1,0)","v":0},null,{"$f":"IF((C$6*G3113+D$6*H3113+E$6*I3113+F$6*J3113+G$6*K3113+H$6*L3113+I$6*M3113)>(N3113),1,0)","v":0}]
["hour 23",1202,"[BE-FR] Achene - Lonny 380.19 [OPP] [BE]","10T-BE-FR-000015","[BE-BE] Avelgem - Horta 380.102","22T20161020---1E",-0.28541,-7.5569999999999998E-2,2.0539999999999999E-2,-0.28199999999999997,-2.7300000000000001E-2,0.15185999999999999,-0.14143,2455,{"$f":"IF((G3114*ALBE+H3114*ALDE+I3114*AT+J3114*BE+K3114*DE+L3114*FR+M3114*NL)>(N3114),1,0)","v":0},null,{"$f":"IF((C$6*G3114+D$6*H3114+E$6*I3114+F$6*J3114+G$6*K3114+H$6*L3114+I$6*M3114)>(N3114),1,0)","v":0}]
[null,1203,"[BE-FR] Achene - Lonny 380.19 [DIR] [BE]_LTA_corner#02_#19","10T-BE-FR-000015","[BE-BE] Avelgem - Horta 380.102","22T20161020---1E",0,0,-0.48344999999999999,0,-0.36901,-0.79379,0,1958,{"$f":"IF((G3115*ALBE+H3115*ALDE+I3115*AT+J3115*BE+K3115*DE+L3115*FR+M3115*NL)>(N3115),1,0)","v":0},null,{"$f":"IF((C$6*G3115+D$6*H3115+E$6*I3115+F$6*J3115+G$6*K3115+H$6*L3115+I$6*M3115)>(N3115),1,0)","v":0}]
[null,1204,"[AT-AT] Westtirol Transformer WTRHU41 [OPP]_LTA_corner#20_#1","14T-38220-WT041O","BASECASE","N/A",0,0,0.99133000000000004,-2.0279999999999999E-2,0.11935,-5.1119999999999999E-2,0,4535,{"$f":"IF((G3116*ALBE+H3116*ALDE+I3116*AT+J3116*BE+K3116*DE+L3116*FR+M3116*NL)>(N3116),1,0)","v":0},null,{"$f":"IF((C$6*G3116+D$6*H3116+E$6*I3116+F$6*J3116+G$6*K3116+H$6*L3116+I$6*M3116)>(N3116),1,0)","v":0}]
[null,1205,"[D2-AT] Pleinting - St. Peter 258 [DIR] [AT]_LTA_corner#04_#22","10T-AT-DE-000037","[D2-D2] Pirach - Pleinting 257","11TD2L000000201H",0,0,-0.99970999999999999,-2.1299999999999999E-3,1.98E-3,-2.3810000000000001E-2,0,4872,{"$f":"IF((G3117*ALBE+H3117*ALDE+I3117*AT+J3117*BE+K3117*DE+L3117*FR+M3117*NL)>(N3117),1,0)","v":0},null,{"$f":"IF((C$6*G3117+D$6*H3117+E$6*I3117+F$6*J3117+G$6*K3117+H$6*L3117+I$6*M3117)>(N3117),1,0)","v":0}]
[null,1206,"[BE-FR] Achene - Lonny 380.19 [DIR] [BE]_LTA_corner#02_#13","10T-BE-FR-000015","[BE-BE] Avelgem - Horta 380.102","22T20161020---1E",0,0,-0.43440000000000001,0.22925000000000001,-0.29547000000000001,-0.81942000000000004,0,2369,{"$f":"IF((G3118*ALBE+H3118*ALDE+I3118*AT+J3118*BE+K3118*DE+L3118*FR+M3118*NL)>(N3118),1,0)","v":0},null,{"$f":"IF((C$6*G3118+D$6*H3118+E$6*I3118+F$6*J3118+G$6*K3118+H$6*L3118+I$6*M3118)>(N3118),1,0)","v":0}]
[null,1207,"[D7-FR] Ensdorf - Vigy 2S [OPP] [D7]_LTA_corner#23_#21","10T-DE-FR-000068","[D7-D7] Ensdorf - Uchtelfangen Taubental N","11T0-0000-0604-N",0,0,0.16675000000000001,0.32596999999999998,0,0.93056000000000005,0,3289,{"$f":"IF((G3119*ALBE+H3119*ALDE+I3119*AT+J3119*BE+K3119*DE+L3119*FR+M3119*NL)>(N3119),1,0)","v":0},null,{"$f":"IF((C$6*G3119+D$6*H3119+E$6*I3119+F$6*J3119+G$6*K3119+H$6*L3119+I$6*M3119)>(N3119),1,0)","v":0}]
[null,1208,"[D7-FR] Ensdorf - Vigy 2S [OPP] [D7]_LTA_corner#30_#28","10T-DE-FR-000068","[D7-D7] Ensdorf - Uchtelfangen Taubental N","11T0-0000-0604-N",0,0,0.10951,0.32451000000000002,-6.6369999999999998E-2,0.93716999999999995,0,3535,{"$f":"IF((G3120*ALBE+H3120*ALDE+I3120*AT+J3120*BE+K3120*DE+L3120*FR+M3120*NL)>(N3120),1,0)","v":0},null,{"$f":"IF((C$6*G3120+D$6*H3120+E$6*I3120+F$6*J3120+G$6*K3120+H$6*L3120+I$6*M3120)>(N3120),1,0)","v":0}]
[null,1209,"[BE-BE] PST_ZANDV_2 [N - S]_LTA_corner#13_#33","22T20161020---56","[NL-BE] Rilland - Zandvliet 380 White/30","10T-BE-NL-00004C",0,0,-0.34953000000000001,-0.74988999999999995,-0.30155999999999999,-0.47388000000000002,0,1850,{"$f":"IF((G3121*ALBE+H3121*ALDE+I3121*AT+J3121*BE+K3121*DE+L3121*FR+M3121*NL)>(N3121),1,0)","v":0},null,{"$f":"IF((C$6*G3121+D$6*H3121+E$6*I3121+F$6*J3121+G$6*K3121+H$6*L3121+I$6*M3121)>(N3121),1,0)","v":0}]
[null,1210,"[BE-BE] PST_ZANDV_2 [N - S]_LTA_corner#13_#25","22T20161020---56","[NL-BE] Rilland - Zandvliet 380 White/30","10T-BE-NL-00004C",0,0,-0.34520000000000001,-0.75295999999999996,-0.29681000000000002,-0.47517999999999999,0,1857,{"$f":"IF((G3122*ALBE+H3122*ALDE+I3122*AT+J3122*BE+K3122*DE+L3122*FR+M3122*NL)>(N3122),1,0)","v":0},null,{"$f":"IF((C$6*G3122+D$6*H3122+E$6*I3122+F$6*J3122+G$6*K3122+H$6*L3122+I$6*M3122)>(N3122),1,0)","v":0}]
[null,1211,"[BE-FR] Achene - Lonny 380.19 [DIR] [BE]_LTA_corner#02_#1","10T-BE-FR-000015","[BE-BE] Avelgem - Horta 380.102","22T20161020---1E",0,0,-0.40312999999999999,0.37322,-0.30302000000000001,-0.77869999999999995,0,2295,{"$f":"IF((G3123*ALBE+H3123*ALDE+I3123*AT+J3123*BE+K3123*DE+L3123*FR+M3123*NL)>(N3123),1,0)","v":0},null,{"$f":"IF((C$6*G3123+D$6*H3123+E$6*I3123+F$6*J3123+G$6*K3123+H$6*L3123+I$6*M3123)>(N3123),1,0)","v":0}]
[null,1212,"[AT-AT] Westtirol Transformer WTRHU41 [OPP]_LTA_corner#20_#14","14T-38220-WT041O","BASECASE","N/A",0,0,0.99256,-2.0299999999999999E-2,9.74E-2,-7.0250000000000007E-2,0,4632,{"$f":"IF((G3124*ALBE+H3124*ALDE+I3124*AT+J3124*BE+K3124*DE+L3124*FR+M3124*NL)>(N3124),1,0)","v":0},null,{"$f":"IF((C$6*G3124+D$6*H3124+E$6*I3124+F$6*J3124+G$6*K3124+H$6*L3124+I$6*M3124)>(N3124),1,0)","v":0}]
[null,1213,"[D2-AT] Pleinting - St. Peter 258 [DIR] [AT]_LTA_corner#04_#2","10T-AT-DE-000037","[D2-D2] Pirach - Pleinting 257","11TD2L000000201H",0,0,-0.99966999999999995,-2.33E-3,7.4200000000000004E-3,-2.453E-2,0,4910,{"$f":"IF((G3125*ALBE+H3125*ALDE+I3125*AT+J3125*BE+K3125*DE+L3125*FR+M3125*NL)>(N3125),1,0)","v":0},null,{"$f":"IF((C$6*G3125+D$6*H3125+E$6*I3125+F$6*J3125+G$6*K3125+H$6*L3125+I$6*M3125)>(N3125),1,0)","v":0}]
[null,1214,"[AT-AT] Westtirol Transformer WTRHU41 [OPP]_LTA_corner#20_#6","14T-38220-WT041O","BASECASE","N/A",0,0,0.99038999999999999,-3.2000000000000003E-4,0.11924,-7.009E-2,0,4558,{"$f":"IF((G3126*ALBE+H3126*ALDE+I3126*AT+J3126*BE+K3126*DE+L3126*FR+M3126*NL)>(N3126),1,0)","v":0},null,{"$f":"IF((C$6*G3126+D$6*H3126+E$6*I3126+F$6*J3126+G$6*K3126+H$6*L3126+I$6*M3126)>(N3126),1,0)","v":0}]
[null,1215,"ALDE_export","N/A","BASECASE","N/A",0,1,0,0,0,0,0,0,{"$f":"IF((G3127*ALBE+H3127*ALDE+I3127*AT+J3127*BE+K3127*DE+L3127*FR+M3127*NL)>(N3127),1,0)","v":0},null,{"$f":"IF((C$6*G3127+D$6*H3127+E$6*I3127+F$6*J3127+G$6*K3127+H$6*L3127+I$6*M3127)>(N3127),1,0)","v":0}]
[null,1216,"[BE-BE] PST_ZANDV_2 [N - S]_LTA_corner#13_#14","22T20161020---56","[NL-BE] Rilland - Zandvliet 380 White/30","10T-BE-NL-00004C",0,0,-0.36054999999999998,-0.72162999999999999,-0.31637999999999999,-0.49915999999999999,0,1750,{"$f":"IF((G3128*ALBE+H3128*ALDE+I3128*AT+J3128*BE+K3128*DE+L3128*FR+M3128*NL)>(N3128),1,0)","v":0},null,{"$f":"IF((C$6*G3128+D$6*H3128+E$6*I3128+F$6*J3128+G$6*K3128+H$6*L3128+I$6*M3128)>(N3128),1,0)","v":0}]
[null,1217,"[AT-AT] Westtirol Transformer WTRHU41 [OPP]_LTA_corner#20_#2","14T-38220-WT041O","BASECASE","N/A",0,0,0.98958000000000002,-4.036E-2,0.11914,-7.0040000000000005E-2,0,4561,{"$f":"IF((G3129*ALBE+H3129*ALDE+I3129*AT+J3129*BE+K3129*DE+L3129*FR+M3129*NL)>(N3129),1,0)","v":0},null,{"$f":"IF((C$6*G3129+D$6*H3129+E$6*I3129+F$6*J3129+G$6*K3129+H$6*L3129+I$6*M3129)>(N3129),1,0)","v":0}]
[null,1218,"[BE-BE] PST_ZANDV_2 [N - S]_LTA_corner#13_#3","22T20161020---56","[NL-BE] Rilland - Zandvliet 380 White/30","10T-BE-NL-00004C",0,0,-0.37753999999999999,-0.69774999999999998,-0.32540000000000002,-0.51451999999999998,0,1723,{"$f":"IF((G3130*ALBE+H3130*ALDE+I3130*AT+J3130*BE+K3130*DE+L3130*FR+M3130*NL)>(N3130),1,0)","v":0},null,{"$f":"IF((C$6*G3130+D$6*H3130+E$6*I3130+F$6*J3130+G$6*K3130+H$6*L3130+I$6*M3130)>(N3130),1,0)","v":0}]
[null,1219,"[BE-FR] Achene - Lonny 380.19 [DIR] [BE]_LTA_corner#02_#15","10T-BE-FR-000015","[BE-BE] Avelgem - Horta 380.102","22T20161020---1E",0,0,-0.48432999999999998,0,-0.35642000000000001,-0.79898999999999998,0,2026,{"$f":"IF((G3131*ALBE+H3131*ALDE+I3131*AT+J3131*BE+K3131*DE+L3131*FR+M3131*NL)>(N3131),1,0)","v":0},null,{"$f":"IF((C$6*G3131+D$6*H3131+E$6*I3131+F$6*J3131+G$6*K3131+H$6*L3131+I$6*M3131)>(N3131),1,0)","v":0}]
[null,1220,"[D7-FR] Ensdorf - Vigy 2S [OPP] [D7]_LTA_corner#23_#6","10T-DE-FR-000068","[D7-D7] Ensdorf - Uchtelfangen Taubental N","11T0-0000-0604-N",0,0,0.14097999999999999,0.36931000000000003,0,0.91854999999999998,0,3082,{"$f":"IF((G3132*ALBE+H3132*ALDE+I3132*AT+J3132*BE+K3132*DE+L3132*FR+M3132*NL)>(N3132),1,0)","v":0},null,{"$f":"IF((C$6*G3132+D$6*H3132+E$6*I3132+F$6*J3132+G$6*K3132+H$6*L3132+I$6*M3132)>(N3132),1,0)","v":0}]
[null,1221,"[AT-AT] Westtirol Transformer WTRHU41 [OPP]_LTA_corner#20_#13","14T-38220-WT041O","BASECASE","N/A",0,0,0.98838999999999999,-2.4060000000000002E-2,0.12272,-8.6269999999999999E-2,0,4569,{"$f":"IF((G3133*ALBE+H3133*ALDE+I3133*AT+J3133*BE+K3133*DE+L3133*FR+M3133*NL)>(N3133),1,0)","v":0},null,{"$f":"IF((C$6*G3133+D$6*H3133+E$6*I3133+F$6*J3133+G$6*K3133+H$6*L3133+I$6*M3133)>(N3133),1,0)","v":0}]
[null,1222,"[NL-NL] Krimpen a/d IJssel - Geertruidenberg 380 Zwart [OPP]","49T0000000000282","[BE-BE] Avelgem - Horta 380.102","22T20161020---1E",0.12842999999999999,4.3749999999999997E-2,1.048E-2,0.16624,-1.7340000000000001E-2,4.5330000000000002E-2,-0.29316999999999999,1774,{"$f":"IF((G3134*ALBE+H3134*ALDE+I3134*AT+J3134*BE+K3134*DE+L3134*FR+M3134*NL)>(N3134),1,0)","v":0},null,{"$f":"IF((C$6*G3134+D$6*H3134+E$6*I3134+F$6*J3134+G$6*K3134+H$6*L3134+I$6*M3134)>(N3134),1,0)","v":0}]
[null,1223,"[D7-FR] Ensdorf - Vigy 2S [OPP] [D7]_LTA_corner#23_#16","10T-DE-FR-000068","[D7-D7] Ensdorf - Uchtelfangen Taubental N","11T0-0000-0604-N",0,0,0.17974000000000001,0.32619999999999999,1.5310000000000001E-2,0.92793000000000003,0,3265,{"$f":"IF((G3135*ALBE+H3135*ALDE+I3135*AT+J3135*BE+K3135*DE+L3135*FR+M3135*NL)>(N3135),1,0)","v":0},null,{"$f":"IF((C$6*G3135+D$6*H3135+E$6*I3135+F$6*J3135+G$6*K3135+H$6*L3135+I$6*M3135)>(N3135),1,0)","v":0}]
[null,1224,"[D7-FR] Ensdorf - Vigy 2S [OPP] [D7]_LTA_corner#30_#0","10T-DE-FR-000068","[D7-D7] Ensdorf - Uchtelfangen Taubental N","11T0-0000-0604-N",0,0,0.18795000000000001,0.35341,-6.6290000000000002E-2,0.91398999999999997,0,3811,{"$f":"IF((G3136*ALBE+H3136*ALDE+I3136*AT+J3136*BE+K3136*DE+L3136*FR+M3136*NL)>(N3136),1,0)","v":0},null,{"$f":"IF((C$6*G3136+D$6*H3136+E$6*I3136+F$6*J3136+G$6*K3136+H$6*L3136+I$6*M3136)>(N3136),1,0)","v":0}]
[null,1225,"[D2-D2] Altheim - Sittling 220 [OPP]_LTA_corner#04_#1","11TD2L000000004J","[D2-AT] Pleinting - St. Peter 258","10T-AT-DE-000037",0,0,-0.99724999999999997,-1.4109999999999999E-2,0,-7.2709999999999997E-2,0,4926,{"$f":"IF((G3137*ALBE+H3137*ALDE+I3137*AT+J3137*BE+K3137*DE+L3137*FR+M3137*NL)>(N3137),1,0)","v":0},null,{"$f":"IF((C$6*G3137+D$6*H3137+E$6*I3137+F$6*J3137+G$6*K3137+H$6*L3137+I$6*M3137)>(N3137),1,0)","v":0}]
[null,1226,"[BE-BE] PST_ZANDV_2 [N - S]_LTA_corner#13_#7","22T20161020---56","[NL-BE] Rilland - Zandvliet 380 White/30","10T-BE-NL-00004C",0,0,-0.34344999999999998,-0.74541000000000002,-0.28791,-0.49347000000000002,0,1857,{"$f":"IF((G3138*ALBE+H3138*ALDE+I3138*AT+J3138*BE+K3138*DE+L3138*FR+M3138*NL)>(N3138),1,0)","v":0},null,{"$f":"IF((C$6*G3138+D$6*H3138+E$6*I3138+F$6*J3138+G$6*K3138+H$6*L3138+I$6*M3138)>(N3138),1,0)","v":0}]
[null,1227,"[D2-D2] Altheim - Sittling 220 [OPP]_LTA_corner#04_#0","11TD2L000000004J","[D2-AT] Pleinting - St. Peter 258","10T-AT-DE-000037",0,0,-0.99683999999999995,-1.3650000000000001E-2,0,-7.8320000000000001E-2,0,4933,{"$f":"IF((G3139*ALBE+H3139*ALDE+I3139*AT+J3139*BE+K3139*DE+L3139*FR+M3139*NL)>(N3139),1,0)","v":0},null,{"$f":"IF((C$6*G3139+D$6*H3139+E$6*I3139+F$6*J3139+G$6*K3139+H$6*L3139+I$6*M3139)>(N3139),1,0)","v":0}]
[null,1228,"[D7-FR] Ensdorf - Vigy 2S [OPP] [D7]_LTA_corner#30_#7","10T-DE-FR-000068","[D7-D7] Ensdorf - Uchtelfangen Taubental N","11T0-0000-0604-N",0,0,3.4500000000000003E-2,0.35935,-9.0079999999999993E-2,0.92820999999999998,0,3287,{"$f":"IF((G3140*ALBE+H3140*ALDE+I3140*AT+J3140*BE+K3140*DE+L3140*FR+M3140*NL)>(N3140),1,0)","v":0},null,{"$f":"IF((C$6*G3140+D$6*H3140+E$6*I3140+F$6*J3140+G$6*K3140+H$6*L3140+I$6*M3140)>(N3140),1,0)","v":0}]
[null,1229,"[D2-AT] Pleinting - St. Peter 258 [DIR] [AT]_LTA_corner#04_#0","10T-AT-DE-000037","[D2-D2] Pirach - Pleinting 257","11TD2L000000201H",0,0,-0.99963000000000002,-8.4999999999999995E-4,5.9699999999999996E-3,-2.6429999999999999E-2,0,4903,{"$f":"IF((G3141*ALBE+H3141*ALDE+I3141*AT+J3141*BE+K3141*DE+L3141*FR+M3141*NL)>(N3141),1,0)","v":0},null,{"$f":"IF((C$6*G3141+D$6*H3141+E$6*I3141+F$6*J3141+G$6*K3141+H$6*L3141+I$6*M3141)>(N3141),1,0)","v":0}]
[null,1230,"[BE-BE] PST_ZANDV_2 [N - S]_LTA_corner#13_#19","22T20161020---56","[NL-BE] Rilland - Zandvliet 380 White/30","10T-BE-NL-00004C",0,0,-0.35454999999999998,-0.72548000000000001,-0.31007000000000001,-0.50182000000000004,0,1757,{"$f":"IF((G3142*ALBE+H3142*ALDE+I3142*AT+J3142*BE+K3142*DE+L3142*FR+M3142*NL)>(N3142),1,0)","v":0},null,{"$f":"IF((C$6*G3142+D$6*H3142+E$6*I3142+F$6*J3142+G$6*K3142+H$6*L3142+I$6*M3142)>(N3142),1,0)","v":0}]
[null,1231,"[BE-BE] PST_VANYK_2 [S - N]","22T-BE-PST--002U","[BE-FR] Achene - Lonny 380.19","10T-BE-FR-000015",0.58408000000000004,-2.8410000000000001E-2,5.3499999999999997E-3,0.32887,-6.6800000000000002E-3,4.7039999999999998E-2,2.1430000000000001E-2,890,{"$f":"IF((G3143*ALBE+H3143*ALDE+I3143*AT+J3143*BE+K3143*DE+L3143*FR+M3143*NL)>(N3143),1,0)","v":0},null,{"$f":"IF((C$6*G3143+D$6*H3143+E$6*I3143+F$6*J3143+G$6*K3143+H$6*L3143+I$6*M3143)>(N3143),1,0)","v":0}]
[null,1232,"[D2-D2] Altheim - Sittling 220 [OPP]_LTA_corner#04_#4","11TD2L000000004J","[D2-AT] Pleinting - St. Peter 258","10T-AT-DE-000037",0,0,-0.99746000000000001,-1.12E-2,0,-7.0349999999999996E-2,0,4923,{"$f":"IF((G3144*ALBE+H3144*ALDE+I3144*AT+J3144*BE+K3144*DE+L3144*FR+M3144*NL)>(N3144),1,0)","v":0},null,{"$f":"IF((C$6*G3144+D$6*H3144+E$6*I3144+F$6*J3144+G$6*K3144+H$6*L3144+I$6*M3144)>(N3144),1,0)","v":0}]
[null,1233,"[D2-D2] Altheim - Sittling 220 [OPP]_LTA_corner#09_#14","11TD2L000000004J","[D2-AT] Pleinting - St. Peter 258","10T-AT-DE-000037",0,0,-0.99356,-3.0679999999999999E-2,-4.5990000000000003E-2,-9.8879999999999996E-2,0,4748,{"$f":"IF((G3145*ALBE+H3145*ALDE+I3145*AT+J3145*BE+K3145*DE+L3145*FR+M3145*NL)>(N3145),1,0)","v":0},null,{"$f":"IF((C$6*G3145+D$6*H3145+E$6*I3145+F$6*J3145+G$6*K3145+H$6*L3145+I$6*M3145)>(N3145),1,0)","v":0}]
[null,1234,"[D2-D2] Altheim - Sittling 220 [OPP]_LTA_corner#09_#2","11TD2L000000004J","[D2-AT] Pleinting - St. Peter 258","10T-AT-DE-000037",0,0,-0.99553999999999998,-2.8799999999999999E-2,-2.4230000000000002E-2,-8.6510000000000004E-2,0,4834,{"$f":"IF((G3146*ALBE+H3146*ALDE+I3146*AT+J3146*BE+K3146*DE+L3146*FR+M3146*NL)>(N3146),1,0)","v":0},null,{"$f":"IF((C$6*G3146+D$6*H3146+E$6*I3146+F$6*J3146+G$6*K3146+H$6*L3146+I$6*M3146)>(N3146),1,0)","v":0}]
[null,1235,"[BE-BE] PST_ZANDV_2 [N - S]_LTA_corner#13_#12","22T20161020---56","[NL-BE] Rilland - Zandvliet 380 White/30","10T-BE-NL-00004C",0,0,-0.34671999999999997,-0.75363000000000002,-0.29973,-0.47115000000000001,0,1856,{"$f":"IF((G3147*ALBE+H3147*ALDE+I3147*AT+J3147*BE+K3147*DE+L3147*FR+M3147*NL)>(N3147),1,0)","v":0},null,{"$f":"IF((C$6*G3147+D$6*H3147+E$6*I3147+F$6*J3147+G$6*K3147+H$6*L3147+I$6*M3147)>(N3147),1,0)","v":0}]
[null,1236,"[AT-AT] Westtirol Transformer WTRHU41 [OPP]_LTA_corner#20_#12","14T-38220-WT041O","BASECASE","N/A",0,0,0.98850000000000005,-2.0219999999999998E-2,0.11901,-9.1079999999999994E-2,0,4586,{"$f":"IF((G3148*ALBE+H3148*ALDE+I3148*AT+J3148*BE+K3148*DE+L3148*FR+M3148*NL)>(N3148),1,0)","v":0},null,{"$f":"IF((C$6*G3148+D$6*H3148+E$6*I3148+F$6*J3148+G$6*K3148+H$6*L3148+I$6*M3148)>(N3148),1,0)","v":0}]
[null,1237,"[BE-FR] Achene - Lonny 380.19 [DIR] [BE]_LTA_corner#09_#1","10T-BE-FR-000015","[BE-BE] Avelgem - Horta 380.102","22T20161020---1E",0,0,-0.45732,-0.39128000000000002,-0.36365999999999998,-0.71099000000000001,0,1783,{"$f":"IF((G3149*ALBE+H3149*ALDE+I3149*AT+J3149*BE+K3149*DE+L3149*FR+M3149*NL)>(N3149),1,0)","v":0},null,{"$f":"IF((C$6*G3149+D$6*H3149+E$6*I3149+F$6*J3149+G$6*K3149+H$6*L3149+I$6*M3149)>(N3149),1,0)","v":0}]
[null,1238,"[D2-AT] Pleinting - St. Peter 258 [DIR] [AT]_LTA_corner#04_#18","10T-AT-DE-000037","[D2-D2] Pirach - Pleinting 257","11TD2L000000201H",0,0,-0.99961999999999995,-4.7000000000000002E-3,5.9699999999999996E-3,-2.6429999999999999E-2,0,4903,{"$f":"IF((G3150*ALBE+H3150*ALDE+I3150*AT+J3150*BE+K3150*DE+L3150*FR+M3150*NL)>(N3150),1,0)","v":0},null,{"$f":"IF((C$6*G3150+D$6*H3150+E$6*I3150+F$6*J3150+G$6*K3150+H$6*L3150+I$6*M3150)>(N3150),1,0)","v":0}]
[null,1239,"[BE-BE] PST_ZANDV_2 [N - S]_LTA_corner#13_#4","22T20161020---56","[NL-BE] Rilland - Zandvliet 380 White/30","10T-BE-NL-00004C",0,0,-0.39412999999999998,-0.64368999999999998,-0.32951999999999998,-0.56721999999999995,0,1615,{"$f":"IF((G3151*ALBE+H3151*ALDE+I3151*AT+J3151*BE+K3151*DE+L3151*FR+M3151*NL)>(N3151),1,0)","v":0},null,{"$f":"IF((C$6*G3151+D$6*H3151+E$6*I3151+F$6*J3151+G$6*K3151+H$6*L3151+I$6*M3151)>(N3151),1,0)","v":0}]
[null,1240,"[AT-AT] Westtirol Transformer WTRHU41 [OPP]_LTA_corner#20_#0","14T-38220-WT041O","BASECASE","N/A",0,0,0.98785999999999996,-2.0199999999999999E-2,0.13725000000000001,-6.991E-2,0,4500,{"$f":"IF((G3152*ALBE+H3152*ALDE+I3152*AT+J3152*BE+K3152*DE+L3152*FR+M3152*NL)>(N3152),1,0)","v":0},null,{"$f":"IF((C$6*G3152+D$6*H3152+E$6*I3152+F$6*J3152+G$6*K3152+H$6*L3152+I$6*M3152)>(N3152),1,0)","v":0}]
[null,1241,"[BE-FR] Achene - Lonny 380.19 [DIR] [BE]_LTA_corner#02_#18","10T-BE-FR-000015","[BE-BE] Avelgem - Horta 380.102","22T20161020---1E",0,0,-0.47875000000000001,0,-0.34999000000000002,-0.80517000000000005,0,2038,{"$f":"IF((G3153*ALBE+H3153*ALDE+I3153*AT+J3153*BE+K3153*DE+L3153*FR+M3153*NL)>(N3153),1,0)","v":0},null,{"$f":"IF((C$6*G3153+D$6*H3153+E$6*I3153+F$6*J3153+G$6*K3153+H$6*L3153+I$6*M3153)>(N3153),1,0)","v":0}]
[null,1242,"ALDE_import","N/A","BASECASE","N/A",0,-1,0,0,0,0,0,0,{"$f":"IF((G3154*ALBE+H3154*ALDE+I3154*AT+J3154*BE+K3154*DE+L3154*FR+M3154*NL)>(N3154),1,0)","v":0},null,{"$f":"IF((C$6*G3154+D$6*H3154+E$6*I3154+F$6*J3154+G$6*K3154+H$6*L3154+I$6*M3154)>(N3154),1,0)","v":0}]
[null,1243,"[D7-FR] Ensdorf - Vigy 2S [OPP] [D7]_LTA_corner#30_#6","10T-DE-FR-000068","[D7-D7] Ensdorf - Uchtelfangen Taubental N","11T0-0000-0604-N",0,0,-4.3319999999999997E-2,0.37239,-0.17871999999999999,0.90968000000000004,0,3510,{"$f":"IF((G3155*ALBE+H3155*ALDE+I3155*AT+J3155*BE+K3155*DE+L3155*FR+M3155*NL)>(N3155),1,0)","v":0},null,{"$f":"IF((C$6*G3155+D$6*H3155+E$6*I3155+F$6*J3155+G$6*K3155+H$6*L3155+I$6*M3155)>(N3155),1,0)","v":0}]
[null,1244,"[BE-BE] Achene - Gramme 380.10 [OPP]_LTA_corner","22T-BE-IN-LI0130","[BE-BE] Avelgem - Horta 380.102","22T20161020---1E",0.28541,7.5569999999999998E-2,-2.0539999999999999E-2,0.28199999999999997,2.7300000000000001E-2,-0.15185999999999999,0.14143,913,{"$f":"IF((G3156*ALBE+H3156*ALDE+I3156*AT+J3156*BE+K3156*DE+L3156*FR+M3156*NL)>(N3156),1,0)","v":0},null,{"$f":"IF((C$6*G3156+D$6*H3156+E$6*I3156+F$6*J3156+G$6*K3156+H$6*L3156+I$6*M3156)>(N3156),1,0)","v":0}]
[null,1245,"[BE-FR] Achene - Lonny 380.19 [OPP] [BE]","10T-BE-FR-000015","[NL-BE] Maasbracht - Van Eyck 380 White/28","10T-BE-NL-00001I",-0.40078999999999998,-3.32E-2,9.3100000000000006E-3,-0.27811000000000002,-1.2579999999999999E-2,5.9700000000000003E-2,-7.8710000000000002E-2,2113,{"$f":"IF((G3157*ALBE+H3157*ALDE+I3157*AT+J3157*BE+K3157*DE+L3157*FR+M3157*NL)>(N3157),1,0)","v":0},null,{"$f":"IF((C$6*G3157+D$6*H3157+E$6*I3157+F$6*J3157+G$6*K3157+H$6*L3157+I$6*M3157)>(N3157),1,0)","v":0}]
[null,1246,"[D2-D2] Altheim - Sittling 220 [OPP]_LTA_corner#09_#4","11TD2L000000004J","[D2-AT] Pleinting - St. Peter 258","10T-AT-DE-000037",0,0,-0.99585000000000001,-1.4540000000000001E-2,-2.4240000000000001E-2,-8.6540000000000006E-2,0,4834,{"$f":"IF((G3158*ALBE+H3158*ALDE+I3158*AT+J3158*BE+K3158*DE+L3158*FR+M3158*NL)>(N3158),1,0)","v":0},null,{"$f":"IF((C$6*G3158+D$6*H3158+E$6*I3158+F$6*J3158+G$6*K3158+H$6*L3158+I$6*M3158)>(N3158),1,0)","v":0}]
[null,1247,"[D7-FR] Ensdorf - Vigy 2S [OPP] [D7]_LTA_corner#23_#2","10T-DE-FR-000068","[D7-D7] Ensdorf - Uchtelfangen Taubental N","11T0-0000-0604-N",0,0,0.17354,0.36330000000000001,0,0.91537000000000002,0,3235,{"$f":"IF((G3159*ALBE+H3159*ALDE+I3159*AT+J3159*BE+K3159*DE+L3159*FR+M3159*NL)>(N3159),1,0)","v":0},null,{"$f":"IF((C$6*G3159+D$6*H3159+E$6*I3159+F$6*J3159+G$6*K3159+H$6*L3159+I$6*M3159)>(N3159),1,0)","v":0}]
[null,1248,"[BE-FR] Achene - Lonny 380.19 [DIR] [BE]_LTA_corner#02_#10","10T-BE-FR-000015","[BE-BE] Avelgem - Horta 380.102","22T20161020---1E",0,0,-0.42970999999999998,0.37292999999999998,-0.26613999999999999,-0.77810000000000001,0,2586,{"$f":"IF((G3160*ALBE+H3160*ALDE+I3160*AT+J3160*BE+K3160*DE+L3160*FR+M3160*NL)>(N3160),1,0)","v":0},null,{"$f":"IF((C$6*G3160+D$6*H3160+E$6*I3160+F$6*J3160+G$6*K3160+H$6*L3160+I$6*M3160)>(N3160),1,0)","v":0}]
[null,1249,"[D2-AT] Y - St. Peter (- Altheim - Simbach) 233/230 [OPP] [D2]","10T-AT-DE-00001B","[D2-AT] Y - St. Peter (- Altheim - Simbach) 234/230","10T-AT-DE-000045",-3.7620000000000001E-2,-3.8719999999999997E-2,2.3779999999999999E-2,-3.737E-2,-3.8150000000000003E-2,-3.4450000000000001E-2,-3.8199999999999998E-2,315,{"$f":"IF((G3161*ALBE+H3161*ALDE+I3161*AT+J3161*BE+K3161*DE+L3161*FR+M3161*NL)>(N3161),1,0)","v":0},null,{"$f":"IF((C$6*G3161+D$6*H3161+E$6*I3161+F$6*J3161+G$6*K3161+H$6*L3161+I$6*M3161)>(N3161),1,0)","v":0}]
[null,1250,"[NL-NL] Borssele - Rilland 380 Zwart [DIR]","49T000000000059S","[NL-NL] Borssele - Rilland 380 Grijs","49T000000000057W",-6.5100000000000002E-3,2.7399999999999998E-3,-8.1999999999999998E-4,-1.554E-2,1.09E-3,-6.4000000000000003E-3,0.14141000000000001,549,{"$f":"IF((G3162*ALBE+H3162*ALDE+I3162*AT+J3162*BE+K3162*DE+L3162*FR+M3162*NL)>(N3162),1,0)","v":0},null,{"$f":"IF((C$6*G3162+D$6*H3162+E$6*I3162+F$6*J3162+G$6*K3162+H$6*L3162+I$6*M3162)>(N3162),1,0)","v":0}]
[null,1251,"[NL-NL] Krimpen a/d IJssel - Geertruidenberg 380 Zwart [OPP]","49T0000000000282","[NL-NL] Diemen - Lelystad 380 Wit","49T0000000000096",0.10183,3.1800000000000002E-2,1.1610000000000001E-2,0.12499,-1.8499999999999999E-2,5.9220000000000002E-2,-0.34403,1936,{"$f":"IF((G3163*ALBE+H3163*ALDE+I3163*AT+J3163*BE+K3163*DE+L3163*FR+M3163*NL)>(N3163),1,0)","v":0},null,{"$f":"IF((C$6*G3163+D$6*H3163+E$6*I3163+F$6*J3163+G$6*K3163+H$6*L3163+I$6*M3163)>(N3163),1,0)","v":0}]
[null,1252,"[D7-FR] Ensdorf - Vigy 2S [OPP] [D7]_LTA_corner#23_#11","10T-DE-FR-000068","[D7-D7] Ensdorf - Uchtelfangen Taubental N","11T0-0000-0604-N",0,0,0.16774,0.36599999999999999,0,0.91537000000000002,0,3204,{"$f":"IF((G3164*ALBE+H3164*ALDE+I3164*AT+J3164*BE+K3164*DE+L3164*FR+M3164*NL)>(N3164),1,0)","v":0},null,{"$f":"IF((C$6*G3164+D$6*H3164+E$6*I3164+F$6*J3164+G$6*K3164+H$6*L3164+I$6*M3164)>(N3164),1,0)","v":0}]
[null,1253,"[D2-D2] Altheim - Sittling 220 [OPP]_LTA_corner#04_#5","11TD2L000000004J","[D2-AT] Pleinting - St. Peter 258","10T-AT-DE-000037",0,0,-0.99797000000000002,-1.6299999999999999E-3,2.3769999999999999E-2,-5.9089999999999997E-2,0,5070,{"$f":"IF((G3165*ALBE+H3165*ALDE+I3165*AT+J3165*BE+K3165*DE+L3165*FR+M3165*NL)>(N3165),1,0)","v":0},null,{"$f":"IF((C$6*G3165+D$6*H3165+E$6*I3165+F$6*J3165+G$6*K3165+H$6*L3165+I$6*M3165)>(N3165),1,0)","v":0}]
[null,1254,"[D2-D2] Altheim - Sittling 220 [OPP]_LTA_corner#09_#11","11TD2L000000004J","[D2-AT] Pleinting - St. Peter 258","10T-AT-DE-000037",0,0,-0.99655000000000005,-1.9050000000000001E-2,-2.0049999999999998E-2,-7.8289999999999998E-2,0,4843,{"$f":"IF((G3166*ALBE+H3166*ALDE+I3166*AT+J3166*BE+K3166*DE+L3166*FR+M3166*NL)>(N3166),1,0)","v":0},null,{"$f":"IF((C$6*G3166+D$6*H3166+E$6*I3166+F$6*J3166+G$6*K3166+H$6*L3166+I$6*M3166)>(N3166),1,0)","v":0}]
[null,1255,"[D7-FR] Ensdorf - Vigy 2S [OPP] [D7]_LTA_corner#30_#10","10T-DE-FR-000068","[D7-D7] Ensdorf - Uchtelfangen Taubental N","11T0-0000-0604-N",0,0,-5.62E-2,0.40964,-0.23796999999999999,0.87887000000000004,0,3760,{"$f":"IF((G3167*ALBE+H3167*ALDE+I3167*AT+J3167*BE+K3167*DE+L3167*FR+M3167*NL)>(N3167),1,0)","v":0},null,{"$f":"IF((C$6*G3167+D$6*H3167+E$6*I3167+F$6*J3167+G$6*K3167+H$6*L3167+I$6*M3167)>(N3167),1,0)","v":0}]
[null,1256,"ALBE_import","N/A","BASECASE","N/A",-1,0,0,0,0,0,0,0,{"$f":"IF((G3168*ALBE+H3168*ALDE+I3168*AT+J3168*BE+K3168*DE+L3168*FR+M3168*NL)>(N3168),1,0)","v":0},null,{"$f":"IF((C$6*G3168+D$6*H3168+E$6*I3168+F$6*J3168+G$6*K3168+H$6*L3168+I$6*M3168)>(N3168),1,0)","v":0}]
[null,1257,"[BE-FR] Achene - Lonny 380.19 [DIR] [BE]_LTA_corner#02_#6","10T-BE-FR-000015","[BE-BE] Avelgem - Horta 380.102","22T20161020---1E",0,0,-0.42753999999999998,0.26735999999999999,-0.28883999999999999,-0.81381999999999999,0,2403,{"$f":"IF((G3169*ALBE+H3169*ALDE+I3169*AT+J3169*BE+K3169*DE+L3169*FR+M3169*NL)>(N3169),1,0)","v":0},null,{"$f":"IF((C$6*G3169+D$6*H3169+E$6*I3169+F$6*J3169+G$6*K3169+H$6*L3169+I$6*M3169)>(N3169),1,0)","v":0}]
[null,1258,"[BE-BE] PST_ZANDV_2 [N - S]_LTA_corner#13_#10","22T20161020---56","[NL-BE] Rilland - Zandvliet 380 White/30","10T-BE-NL-00004C",0,0,-0.34223999999999999,-0.75185999999999997,-0.28993000000000002,-0.48324,0,1865,{"$f":"IF((G3170*ALBE+H3170*ALDE+I3170*AT+J3170*BE+K3170*DE+L3170*FR+M3170*NL)>(N3170),1,0)","v":0},null,{"$f":"IF((C$6*G3170+D$6*H3170+E$6*I3170+F$6*J3170+G$6*K3170+H$6*L3170+I$6*M3170)>(N3170),1,0)","v":0}]
[null,1259,"[D2-D2] Altheim - Sittling 220 [OPP]_LTA_corner#04_#2","11TD2L000000004J","[D2-AT] Pleinting - St. Peter 258","10T-AT-DE-000037",0,0,-0.99731000000000003,-8.9999999999999993E-3,0,-7.2709999999999997E-2,0,4926,{"$f":"IF((G3171*ALBE+H3171*ALDE+I3171*AT+J3171*BE+K3171*DE+L3171*FR+M3171*NL)>(N3171),1,0)","v":0},null,{"$f":"IF((C$6*G3171+D$6*H3171+E$6*I3171+F$6*J3171+G$6*K3171+H$6*L3171+I$6*M3171)>(N3171),1,0)","v":0}]
[null,1260,"[D7-FR] Ensdorf - Vigy 2S [OPP] [D7]_LTA_corner#23_#0","10T-DE-FR-000068","[D7-D7] Ensdorf - Uchtelfangen Taubental N","11T0-0000-0604-N",0,0,0.1779,0.33150000000000002,0,0.92652999999999996,0,3324,{"$f":"IF((G3172*ALBE+H3172*ALDE+I3172*AT+J3172*BE+K3172*DE+L3172*FR+M3172*NL)>(N3172),1,0)","v":0},null,{"$f":"IF((C$6*G3172+D$6*H3172+E$6*I3172+F$6*J3172+G$6*K3172+H$6*L3172+I$6*M3172)>(N3172),1,0)","v":0}]
[null,1261,"[BE-FR] Achene - Lonny 380.19 [DIR] [BE]_LTA_corner#02_#7","10T-BE-FR-000015","[BE-BE] Avelgem - Horta 380.102","22T20161020---1E",0,0,-0.42176000000000002,0.36603999999999998,-0.32385999999999998,-0.76371,0,2259,{"$f":"IF((G3173*ALBE+H3173*ALDE+I3173*AT+J3173*BE+K3173*DE+L3173*FR+M3173*NL)>(N3173),1,0)","v":0},null,{"$f":"IF((C$6*G3173+D$6*H3173+E$6*I3173+F$6*J3173+G$6*K3173+H$6*L3173+I$6*M3173)>(N3173),1,0)","v":0}]
[null,1262,"ALBE_export","N/A","BASECASE","N/A",1,0,0,0,0,0,0,0,{"$f":"IF((G3174*ALBE+H3174*ALDE+I3174*AT+J3174*BE+K3174*DE+L3174*FR+M3174*NL)>(N3174),1,0)","v":0},null,{"$f":"IF((C$6*G3174+D$6*H3174+E$6*I3174+F$6*J3174+G$6*K3174+H$6*L3174+I$6*M3174)>(N3174),1,0)","v":0}]
[null,1263,"[D7-FR] Ensdorf - Vigy 2S [OPP] [D7]_LTA_corner#23_#3","10T-DE-FR-000068","[D7-D7] Ensdorf - Uchtelfangen Taubental N","11T0-0000-0604-N",0,0,0.17571999999999999,0.36743999999999999,3.8519999999999999E-2,0.91247999999999996,0,3036,{"$f":"IF((G3175*ALBE+H3175*ALDE+I3175*AT+J3175*BE+K3175*DE+L3175*FR+M3175*NL)>(N3175),1,0)","v":0},null,{"$f":"IF((C$6*G3175+D$6*H3175+E$6*I3175+F$6*J3175+G$6*K3175+H$6*L3175+I$6*M3175)>(N3175),1,0)","v":0}]
[null,1264,"[BE-FR] Achene - Lonny 380.19 [DIR] [BE]_LTA_corner#02_#17","10T-BE-FR-000015","[BE-BE] Avelgem - Horta 380.102","22T20161020---1E",0,0,-0.47088999999999998,0,-0.34683999999999998,-0.81115000000000004,0,2024,{"$f":"IF((G3176*ALBE+H3176*ALDE+I3176*AT+J3176*BE+K3176*DE+L3176*FR+M3176*NL)>(N3176),1,0)","v":0},null,{"$f":"IF((C$6*G3176+D$6*H3176+E$6*I3176+F$6*J3176+G$6*K3176+H$6*L3176+I$6*M3176)>(N3176),1,0)","v":0}]
[null,1265,"[BE-BE] PST_ZANDV_2 [N - S]_LTA_corner#13_#2","22T20161020---56","[NL-BE] Rilland - Zandvliet 380 White/30","10T-BE-NL-00004C",0,0,-0.37379000000000001,-0.70745000000000002,-0.32388,-0.50488,0,1742,{"$f":"IF((G3177*ALBE+H3177*ALDE+I3177*AT+J3177*BE+K3177*DE+L3177*FR+M3177*NL)>(N3177),1,0)","v":0},null,{"$f":"IF((C$6*G3177+D$6*H3177+E$6*I3177+F$6*J3177+G$6*K3177+H$6*L3177+I$6*M3177)>(N3177),1,0)","v":0}]
[null,1266,"[D2-AT] Pleinting - St. Peter 258 [DIR] [AT]_LTA_corner#04_#1","10T-AT-DE-000037","[D2-D2] Pirach - Pleinting 257","11TD2L000000201H",0,0,-0.99961,-2.7699999999999999E-3,8.4700000000000001E-3,-2.6429999999999999E-2,0,4920,{"$f":"IF((G3178*ALBE+H3178*ALDE+I3178*AT+J3178*BE+K3178*DE+L3178*FR+M3178*NL)>(N3178),1,0)","v":0},null,{"$f":"IF((C$6*G3178+D$6*H3178+E$6*I3178+F$6*J3178+G$6*K3178+H$6*L3178+I$6*M3178)>(N3178),1,0)","v":0}]
[null,1267,"[D2-D2] Altheim - Sittling 220 [OPP]_LTA_corner#09_#18","11TD2L000000004J","[D2-AT] Pleinting - St. Peter 258","10T-AT-DE-000037",0,0,-0.99628000000000005,-2.164E-2,-2.4250000000000001E-2,-7.9799999999999996E-2,0,4826,{"$f":"IF((G3179*ALBE+H3179*ALDE+I3179*AT+J3179*BE+K3179*DE+L3179*FR+M3179*NL)>(N3179),1,0)","v":0},null,{"$f":"IF((C$6*G3179+D$6*H3179+E$6*I3179+F$6*J3179+G$6*K3179+H$6*L3179+I$6*M3179)>(N3179),1,0)","v":0}]
[null,1268,"[D7-FR] Ensdorf - Vigy 2S [OPP] [D7]_LTA_corner#30_#34","10T-DE-FR-000068","[D7-D7] Ensdorf - Uchtelfangen Taubental N","11T0-0000-0604-N",0,0,0.15905,0.32456000000000002,-9.1900000000000003E-3,0.93235000000000001,0,3328,{"$f":"IF((G3180*ALBE+H3180*ALDE+I3180*AT+J3180*BE+K3180*DE+L3180*FR+M3180*NL)>(N3180),1,0)","v":0},null,{"$f":"IF((C$6*G3180+D$6*H3180+E$6*I3180+F$6*J3180+G$6*K3180+H$6*L3180+I$6*M3180)>(N3180),1,0)","v":0}]
[null,1269,"[D7-FR] Ensdorf - Vigy 2S [OPP] [D7]_LTA_corner#30_#31","10T-DE-FR-000068","[D7-D7] Ensdorf - Uchtelfangen Taubental N","11T0-0000-0604-N",0,0,-0.12137000000000001,0.40393000000000001,-0.30591000000000002,0.85353999999999997,0,3887,{"$f":"IF((G3181*ALBE+H3181*ALDE+I3181*AT+J3181*BE+K3181*DE+L3181*FR+M3181*NL)>(N3181),1,0)","v":0},null,{"$f":"IF((C$6*G3181+D$6*H3181+E$6*I3181+F$6*J3181+G$6*K3181+H$6*L3181+I$6*M3181)>(N3181),1,0)","v":0}]
[null,1270,"[AT-AT] Westtirol Transformer WTRHU41 [OPP]_LTA_corner#20_#18","14T-38220-WT041O","BASECASE","N/A",0,0,0.99295999999999995,-1.924E-2,9.7659999999999997E-2,-6.4189999999999997E-2,0,4623,{"$f":"IF((G3182*ALBE+H3182*ALDE+I3182*AT+J3182*BE+K3182*DE+L3182*FR+M3182*NL)>(N3182),1,0)","v":0},null,{"$f":"IF((C$6*G3182+D$6*H3182+E$6*I3182+F$6*J3182+G$6*K3182+H$6*L3182+I$6*M3182)>(N3182),1,0)","v":0}]
[null,1271,"[BE-BE] PST_ZANDV_2 [N - S]_LTA_corner#13_#0","22T20161020---56","[NL-BE] Rilland - Zandvliet 380 White/30","10T-BE-NL-00004C",0,0,-0.37089,-0.72055000000000002,-0.30796000000000001,-0.49841000000000002,0,1835,{"$f":"IF((G3183*ALBE+H3183*ALDE+I3183*AT+J3183*BE+K3183*DE+L3183*FR+M3183*NL)>(N3183),1,0)","v":0},null,{"$f":"IF((C$6*G3183+D$6*H3183+E$6*I3183+F$6*J3183+G$6*K3183+H$6*L3183+I$6*M3183)>(N3183),1,0)","v":0}]
[null,1272,"[BE-FR] Achene - Lonny 380.19 [DIR] [BE]_LTA_corner#02_#2","10T-BE-FR-000015","[BE-BE] Avelgem - Horta 380.102","22T20161020---1E",0,0,-0.34977999999999998,0.60394000000000003,-0.23069000000000001,-0.67801,0,2480,{"$f":"IF((G3184*ALBE+H3184*ALDE+I3184*AT+J3184*BE+K3184*DE+L3184*FR+M3184*NL)>(N3184),1,0)","v":0},null,{"$f":"IF((C$6*G3184+D$6*H3184+E$6*I3184+F$6*J3184+G$6*K3184+H$6*L3184+I$6*M3184)>(N3184),1,0)","v":0}]
[null,1273,"[D7-FR] Ensdorf - Vigy 2S [OPP] [D7]_LTA_corner#30_#41","10T-DE-FR-000068","[D7-D7] Ensdorf - Uchtelfangen Taubental N","11T0-0000-0604-N",0,0,-4.9100000000000003E-3,0.33267999999999998,-0.21414,0.91839000000000004,0,4031,{"$f":"IF((G3185*ALBE+H3185*ALDE+I3185*AT+J3185*BE+K3185*DE+L3185*FR+M3185*NL)>(N3185),1,0)","v":0},null,{"$f":"IF((C$6*G3185+D$6*H3185+E$6*I3185+F$6*J3185+G$6*K3185+H$6*L3185+I$6*M3185)>(N3185),1,0)","v":0}]
[null,1274,"[D7-FR] Ensdorf - Vigy 2S [OPP] [D7]_LTA_corner#23_#23","10T-DE-FR-000068","[D7-D7] Ensdorf - Uchtelfangen Taubental N","11T0-0000-0604-N",0,0,0.16069,0.33165,0,0.92962,0,3251,{"$f":"IF((G3186*ALBE+H3186*ALDE+I3186*AT+J3186*BE+K3186*DE+L3186*FR+M3186*NL)>(N3186),1,0)","v":0},null,{"$f":"IF((C$6*G3186+D$6*H3186+E$6*I3186+F$6*J3186+G$6*K3186+H$6*L3186+I$6*M3186)>(N3186),1,0)","v":0}]
[null,1275,"[D2-AT] Pleinting - St. Peter 258 [DIR] [AT]_LTA_corner#04_#6","10T-AT-DE-000037","[D2-D2] Pirach - Pleinting 257","11TD2L000000201H",0,0,-0.99970999999999999,-2.0999999999999999E-3,2.66E-3,-2.3800000000000002E-2,0,4876,{"$f":"IF((G3187*ALBE+H3187*ALDE+I3187*AT+J3187*BE+K3187*DE+L3187*FR+M3187*NL)>(N3187),1,0)","v":0},null,{"$f":"IF((C$6*G3187+D$6*H3187+E$6*I3187+F$6*J3187+G$6*K3187+H$6*L3187+I$6*M3187)>(N3187),1,0)","v":0}]
[null,1276,"[BE-BE] PST_VANYK_2 [N - S]","22T-BE-PST--002U","[BE-FR] Achene - Lonny 380.19","10T-BE-FR-000015",-0.58408000000000004,2.8410000000000001E-2,-5.3499999999999997E-3,-0.32887,6.6800000000000002E-3,-4.7039999999999998E-2,-2.1430000000000001E-2,2118,{"$f":"IF((G3188*ALBE+H3188*ALDE+I3188*AT+J3188*BE+K3188*DE+L3188*FR+M3188*NL)>(N3188),1,0)","v":0},null,{"$f":"IF((C$6*G3188+D$6*H3188+E$6*I3188+F$6*J3188+G$6*K3188+H$6*L3188+I$6*M3188)>(N3188),1,0)","v":0}]
[null,1277,"[D7-FR] Ensdorf - Vigy 2S [OPP] [D7]_LTA_corner#23_#7","10T-DE-FR-000068","[D7-D7] Ensdorf - Uchtelfangen Taubental N","11T0-0000-0604-N",0,0,0.13766,0.36609999999999998,0,0.92034000000000005,0,3074,{"$f":"IF((G3189*ALBE+H3189*ALDE+I3189*AT+J3189*BE+K3189*DE+L3189*FR+M3189*NL)>(N3189),1,0)","v":0},null,{"$f":"IF((C$6*G3189+D$6*H3189+E$6*I3189+F$6*J3189+G$6*K3189+H$6*L3189+I$6*M3189)>(N3189),1,0)","v":0}]
[null,1278,"[D2-NL] Diele - Meeden 380 Black [DIR] [D2]","10T-DE-NL-00001V","[D2-NL] Diele - Meeden 380 White ","10T-DE-NL-00002T",-6.6189999999999999E-2,-4.3799999999999999E-2,-1.159E-2,-6.8970000000000004E-2,9.6799999999999994E-3,-4.0210000000000003E-2,-0.12758,691,{"$f":"IF((G3190*ALBE+H3190*ALDE+I3190*AT+J3190*BE+K3190*DE+L3190*FR+M3190*NL)>(N3190),1,0)","v":0},null,{"$f":"IF((C$6*G3190+D$6*H3190+E$6*I3190+F$6*J3190+G$6*K3190+H$6*L3190+I$6*M3190)>(N3190),1,0)","v":0}]
[null,1279,"[AT-AT] Westtirol Transformer WTRHU41 [OPP]_LTA_corner#20_#8","14T-38220-WT041O","BASECASE","N/A",0,0,0.99283999999999994,-1.4590000000000001E-2,0.10730000000000001,-5.0410000000000003E-2,0,4574,{"$f":"IF((G3191*ALBE+H3191*ALDE+I3191*AT+J3191*BE+K3191*DE+L3191*FR+M3191*NL)>(N3191),1,0)","v":0},null,{"$f":"IF((C$6*G3191+D$6*H3191+E$6*I3191+F$6*J3191+G$6*K3191+H$6*L3191+I$6*M3191)>(N3191),1,0)","v":0}]
[null,1280,"[NL-D7] Maasbracht - Oberzier 380 white [DIR] [D7]","10T-DE-NL-00005N","[NL-D7] Maasbracht - Siersdorf 380 black","10T-DE-NL-00006L",0.30696000000000001,-0.17480999999999999,2.3E-3,0.27022000000000002,7.6699999999999997E-3,8.004E-2,0.25228,1142,{"$f":"IF((G3192*ALBE+H3192*ALDE+I3192*AT+J3192*BE+K3192*DE+L3192*FR+M3192*NL)>(N3192),1,0)","v":0},null,{"$f":"IF((C$6*G3192+D$6*H3192+E$6*I3192+F$6*J3192+G$6*K3192+H$6*L3192+I$6*M3192)>(N3192),1,0)","v":0}]
[null,1281,"[BE-FR] Achene - Lonny 380.19 [DIR] [BE]_LTA_corner#02_#20","10T-BE-FR-000015","[BE-BE] Avelgem - Horta 380.102","22T20161020---1E",0,0,-0.47603000000000001,0,-0.36392000000000002,-0.80059999999999998,0,1955,{"$f":"IF((G3193*ALBE+H3193*ALDE+I3193*AT+J3193*BE+K3193*DE+L3193*FR+M3193*NL)>(N3193),1,0)","v":0},null,{"$f":"IF((C$6*G3193+D$6*H3193+E$6*I3193+F$6*J3193+G$6*K3193+H$6*L3193+I$6*M3193)>(N3193),1,0)","v":0}]
[null,1282,"[D7-FR] Ensdorf - Vigy 2S [OPP] [D7]_LTA_corner#23_#9","10T-DE-FR-000068","[D7-D7] Ensdorf - Uchtelfangen Taubental N","11T0-0000-0604-N",0,0,0.14601,0.37317,0,0.91620000000000001,0,3094,{"$f":"IF((G3194*ALBE+H3194*ALDE+I3194*AT+J3194*BE+K3194*DE+L3194*FR+M3194*NL)>(N3194),1,0)","v":0},null,{"$f":"IF((C$6*G3194+D$6*H3194+E$6*I3194+F$6*J3194+G$6*K3194+H$6*L3194+I$6*M3194)>(N3194),1,0)","v":0}]
[null,1283,"[BE-FR] Achene - Lonny 380.19 [DIR] [BE]_LTA_corner#02_#0","10T-BE-FR-000015","[BE-BE] Avelgem - Horta 380.102","22T20161020---1E",0,0,-0.36012,0.67301,-0.27437,-0.58487999999999996,0,2271,{"$f":"IF((G3195*ALBE+H3195*ALDE+I3195*AT+J3195*BE+K3195*DE+L3195*FR+M3195*NL)>(N3195),1,0)","v":0},null,{"$f":"IF((C$6*G3195+D$6*H3195+E$6*I3195+F$6*J3195+G$6*K3195+H$6*L3195+I$6*M3195)>(N3195),1,0)","v":0}]
[null,1284,"[NL-D7] Maasbracht - Oberzier 380 white [OPP] [D7]","10T-DE-NL-00005N","[NL-D7] Maasbracht - Siersdorf 380 black","10T-DE-NL-00006L",-0.30696000000000001,0.17480999999999999,-2.3E-3,-0.27022000000000002,-7.6699999999999997E-3,-8.004E-2,-0.25228,2121,{"$f":"IF((G3196*ALBE+H3196*ALDE+I3196*AT+J3196*BE+K3196*DE+L3196*FR+M3196*NL)>(N3196),1,0)","v":0},null,{"$f":"IF((C$6*G3196+D$6*H3196+E$6*I3196+F$6*J3196+G$6*K3196+H$6*L3196+I$6*M3196)>(N3196),1,0)","v":0}]
[null,1285,"[D7-FR] Ensdorf - Vigy 2S [OPP] [D7]_LTA_corner#30_#43","10T-DE-FR-000068","[D7-D7] Ensdorf - Uchtelfangen Taubental N","11T0-0000-0604-N",0,0,-1.342E-2,0.33329999999999999,-0.22736000000000001,0.91490000000000005,0,4078,{"$f":"IF((G3197*ALBE+H3197*ALDE+I3197*AT+J3197*BE+K3197*DE+L3197*FR+M3197*NL)>(N3197),1,0)","v":0},null,{"$f":"IF((C$6*G3197+D$6*H3197+E$6*I3197+F$6*J3197+G$6*K3197+H$6*L3197+I$6*M3197)>(N3197),1,0)","v":0}]
[null,1286,"[BE-FR] Achene - Lonny 380.19 [DIR] [BE]_LTA_corner#02_#16","10T-BE-FR-000015","[BE-BE] Avelgem - Horta 380.102","22T20161020---1E",0,0,-0.47198000000000001,0,-0.35915999999999998,-0.80513000000000001,0,1964,{"$f":"IF((G3198*ALBE+H3198*ALDE+I3198*AT+J3198*BE+K3198*DE+L3198*FR+M3198*NL)>(N3198),1,0)","v":0},null,{"$f":"IF((C$6*G3198+D$6*H3198+E$6*I3198+F$6*J3198+G$6*K3198+H$6*L3198+I$6*M3198)>(N3198),1,0)","v":0}]
[null,1287,"[D2-AT] Pleinting - St. Peter 258 [DIR] [AT]_LTA_corner#04_#7","10T-AT-DE-000037","[D2-D2] Pirach - Pleinting 257","11TD2L000000201H",0,0,-0.99968000000000001,-2.7699999999999999E-3,5.9699999999999996E-3,-2.461E-2,0,4900,{"$f":"IF((G3199*ALBE+H3199*ALDE+I3199*AT+J3199*BE+K3199*DE+L3199*FR+M3199*NL)>(N3199),1,0)","v":0},null,{"$f":"IF((C$6*G3199+D$6*H3199+E$6*I3199+F$6*J3199+G$6*K3199+H$6*L3199+I$6*M3199)>(N3199),1,0)","v":0}]
[null,1288,"[BE-BE] PST_VANYK_2 [S - N]","22T-BE-PST--002U","[NL-BE] Maasbracht - Van Eyck 380 Black/27","10T-BE-NL-00002G",0.50263000000000002,-5.8029999999999998E-2,1.2460000000000001E-2,0.28466000000000002,-1.6029999999999999E-2,9.8400000000000001E-2,-8.3199999999999993E-3,995,{"$f":"IF((G3200*ALBE+H3200*ALDE+I3200*AT+J3200*BE+K3200*DE+L3200*FR+M3200*NL)>(N3200),1,0)","v":0},null,{"$f":"IF((C$6*G3200+D$6*H3200+E$6*I3200+F$6*J3200+G$6*K3200+H$6*L3200+I$6*M3200)>(N3200),1,0)","v":0}]
[null,1289,"[D7-FR] Ensdorf - Vigy 2S [OPP] [D7]_LTA_corner#30_#13","10T-DE-FR-000068","[D7-D7] Ensdorf - Uchtelfangen Taubental N","11T0-0000-0604-N",0,0,-3.8739999999999997E-2,0.40837000000000001,-0.21903,0.88529999999999998,0,3723,{"$f":"IF((G3201*ALBE+H3201*ALDE+I3201*AT+J3201*BE+K3201*DE+L3201*FR+M3201*NL)>(N3201),1,0)","v":0},null,{"$f":"IF((C$6*G3201+D$6*H3201+E$6*I3201+F$6*J3201+G$6*K3201+H$6*L3201+I$6*M3201)>(N3201),1,0)","v":0}]
[null,1290,"[BE-BE] PST_ZANDV_2 [N - S]_LTA_corner#13_#8","22T20161020---56","[NL-BE] Rilland - Zandvliet 380 White/30","10T-BE-NL-00004C",0,0,-0.36264000000000002,-0.72580999999999996,-0.2994,-0.50205,0,1844,{"$f":"IF((G3202*ALBE+H3202*ALDE+I3202*AT+J3202*BE+K3202*DE+L3202*FR+M3202*NL)>(N3202),1,0)","v":0},null,{"$f":"IF((C$6*G3202+D$6*H3202+E$6*I3202+F$6*J3202+G$6*K3202+H$6*L3202+I$6*M3202)>(N3202),1,0)","v":0}]
["hour 24",1291,"[BE-FR] Achene - Lonny 380.19 [DIR] [BE]_LTA_corner#09_#0","10T-BE-FR-000015","[BE-BE] Avelgem - Horta 380.102","22T20161020---1E",0,0,-0.46589000000000003,-0.32995999999999998,-0.36703000000000002,-0.73441000000000001,0,1837,{"$f":"IF((G3203*ALBE+H3203*ALDE+I3203*AT+J3203*BE+K3203*DE+L3203*FR+M3203*NL)>(N3203),1,0)","v":0},null,{"$f":"IF((C$6*G3203+D$6*H3203+E$6*I3203+F$6*J3203+G$6*K3203+H$6*L3203+I$6*M3203)>(N3203),1,0)","v":0}]
[null,1292,"[NL-NL] Krimpen a/d IJssel - Geertruidenberg 380 Zwart [OPP]","49T0000000000282","[BE-BE] Avelgem - Horta 380.102","22T20161020---1E",0.12842999999999999,4.3749999999999997E-2,1.048E-2,0.16624,-1.7340000000000001E-2,4.5359999999999998E-2,-0.29157,1627,{"$f":"IF((G3204*ALBE+H3204*ALDE+I3204*AT+J3204*BE+K3204*DE+L3204*FR+M3204*NL)>(N3204),1,0)","v":0},null,{"$f":"IF((C$6*G3204+D$6*H3204+E$6*I3204+F$6*J3204+G$6*K3204+H$6*L3204+I$6*M3204)>(N3204),1,0)","v":0}]
[null,1293,"[D2-AT] Y - St. Peter (- Altheim - Simbach) 234/230 [OPP] [D2]_LTA_corner#30_#13","10T-AT-DE-000045","[D2-AT] Y - St. Peter (- Altheim - Simbach) 233/230 ","10T-AT-DE-00001B",0,0,0.99875000000000003,0,-2.9440000000000001E-2,4.0340000000000001E-2,0,5158,{"$f":"IF((G3205*ALBE+H3205*ALDE+I3205*AT+J3205*BE+K3205*DE+L3205*FR+M3205*NL)>(N3205),1,0)","v":0},null,{"$f":"IF((C$6*G3205+D$6*H3205+E$6*I3205+F$6*J3205+G$6*K3205+H$6*L3205+I$6*M3205)>(N3205),1,0)","v":0}]
[null,1294,"[D2-AT] Y - St. Peter (- Altheim - Simbach) 234/230 [OPP] [D2]_LTA_corner#30_#15","10T-AT-DE-000045","[D2-AT] Y - St. Peter (- Altheim - Simbach) 233/230 ","10T-AT-DE-00001B",0,0,0.99860000000000004,0,-3.286E-2,4.1399999999999999E-2,0,5186,{"$f":"IF((G3206*ALBE+H3206*ALDE+I3206*AT+J3206*BE+K3206*DE+L3206*FR+M3206*NL)>(N3206),1,0)","v":0},null,{"$f":"IF((C$6*G3206+D$6*H3206+E$6*I3206+F$6*J3206+G$6*K3206+H$6*L3206+I$6*M3206)>(N3206),1,0)","v":0}]
[null,1295,"[BE-FR] Achene - Lonny 380.19 [DIR] [BE]_LTA_corner#02_#18","10T-BE-FR-000015","[BE-BE] Avelgem - Horta 380.102","22T20161020---1E",0,0,-0.47860000000000003,0,-0.35086000000000001,-0.80488999999999999,0,2033,{"$f":"IF((G3207*ALBE+H3207*ALDE+I3207*AT+J3207*BE+K3207*DE+L3207*FR+M3207*NL)>(N3207),1,0)","v":0},null,{"$f":"IF((C$6*G3207+D$6*H3207+E$6*I3207+F$6*J3207+G$6*K3207+H$6*L3207+I$6*M3207)>(N3207),1,0)","v":0}]
[null,1296,"[D2-AT] Y - St. Peter (- Altheim - Simbach) 234/230 [OPP] [D2]_LTA_corner#23_#27","10T-AT-DE-000045","[D2-AT] Y - St. Peter (- Altheim - Simbach) 233/230 ","10T-AT-DE-00001B",0,0,0.99860000000000004,1.3010000000000001E-2,0,5.1209999999999999E-2,0,4954,{"$f":"IF((G3208*ALBE+H3208*ALDE+I3208*AT+J3208*BE+K3208*DE+L3208*FR+M3208*NL)>(N3208),1,0)","v":0},null,{"$f":"IF((C$6*G3208+D$6*H3208+E$6*I3208+F$6*J3208+G$6*K3208+H$6*L3208+I$6*M3208)>(N3208),1,0)","v":0}]
[null,1297,"[D2-AT] Y - St. Peter (- Altheim - Simbach) 234/230 [OPP] [D2]_LTA_corner#30_#16","10T-AT-DE-000045","[D2-AT] Y - St. Peter (- Altheim - Simbach) 233/230 ","10T-AT-DE-00001B",0,0,0.99860000000000004,0,-3.1440000000000003E-2,4.258E-2,0,5179,{"$f":"IF((G3209*ALBE+H3209*ALDE+I3209*AT+J3209*BE+K3209*DE+L3209*FR+M3209*NL)>(N3209),1,0)","v":0},null,{"$f":"IF((C$6*G3209+D$6*H3209+E$6*I3209+F$6*J3209+G$6*K3209+H$6*L3209+I$6*M3209)>(N3209),1,0)","v":0}]
[null,1298,"[D2-D2] Altheim - Sittling 220 [OPP]","11TD2L000000004J","[D2-AT] Pleinting - St. Peter 258","10T-AT-DE-000037",3.5310000000000001E-2,3.6830000000000002E-2,-2.494E-2,3.4950000000000002E-2,3.4790000000000001E-2,3.0970000000000001E-2,3.628E-2,322,{"$f":"IF((G3210*ALBE+H3210*ALDE+I3210*AT+J3210*BE+K3210*DE+L3210*FR+M3210*NL)>(N3210),1,0)","v":0},null,{"$f":"IF((C$6*G3210+D$6*H3210+E$6*I3210+F$6*J3210+G$6*K3210+H$6*L3210+I$6*M3210)>(N3210),1,0)","v":0}]
[null,1299,"[AT-AT] Westtirol Transformer WTRHU41 [OPP]_LTA_corner#20_#12","14T-38220-WT041O","BASECASE","N/A",0,0,0.98699999999999999,-2.0129999999999999E-2,0.11888,-0.10631,0,4604,{"$f":"IF((G3211*ALBE+H3211*ALDE+I3211*AT+J3211*BE+K3211*DE+L3211*FR+M3211*NL)>(N3211),1,0)","v":0},null,{"$f":"IF((C$6*G3211+D$6*H3211+E$6*I3211+F$6*J3211+G$6*K3211+H$6*L3211+I$6*M3211)>(N3211),1,0)","v":0}]
[null,1300,"[BE-FR] Achene - Lonny 380.19 [DIR] [BE]_LTA_corner#02_#11","10T-BE-FR-000015","[BE-BE] Avelgem - Horta 380.102","22T20161020---1E",0,0,-0.4219,0.36527999999999999,-0.3241,-0.76388999999999996,0,2258,{"$f":"IF((G3212*ALBE+H3212*ALDE+I3212*AT+J3212*BE+K3212*DE+L3212*FR+M3212*NL)>(N3212),1,0)","v":0},null,{"$f":"IF((C$6*G3212+D$6*H3212+E$6*I3212+F$6*J3212+G$6*K3212+H$6*L3212+I$6*M3212)>(N3212),1,0)","v":0}]
[null,1301,"[AT-AT] Westtirol Transformer WTRHU41 [OPP]_LTA_corner#17_#1","14T-38220-WT041O","BASECASE","N/A",0,0,0.98921999999999999,0,0.11915000000000001,-8.5129999999999997E-2,0,4577,{"$f":"IF((G3213*ALBE+H3213*ALDE+I3213*AT+J3213*BE+K3213*DE+L3213*FR+M3213*NL)>(N3213),1,0)","v":0},null,{"$f":"IF((C$6*G3213+D$6*H3213+E$6*I3213+F$6*J3213+G$6*K3213+H$6*L3213+I$6*M3213)>(N3213),1,0)","v":0}]
[null,1302,"[BE-FR] Achene - Lonny 380.19 [DIR] [BE]_LTA_corner#02_#15","10T-BE-FR-000015","[BE-BE] Avelgem - Horta 380.102","22T20161020---1E",0,0,-0.48366999999999999,0,-0.35670000000000002,-0.79927000000000004,0,2022,{"$f":"IF((G3214*ALBE+H3214*ALDE+I3214*AT+J3214*BE+K3214*DE+L3214*FR+M3214*NL)>(N3214),1,0)","v":0},null,{"$f":"IF((C$6*G3214+D$6*H3214+E$6*I3214+F$6*J3214+G$6*K3214+H$6*L3214+I$6*M3214)>(N3214),1,0)","v":0}]
[null,1303,"[D2-AT] Y - St. Peter (- Altheim - Simbach) 234/230 [OPP] [D2]_LTA_corner#23_#23","10T-AT-DE-000045","[D2-AT] Y - St. Peter (- Altheim - Simbach) 233/230 ","10T-AT-DE-00001B",0,0,0.99797999999999998,2.2009999999999998E-2,0,5.9659999999999998E-2,0,4967,{"$f":"IF((G3215*ALBE+H3215*ALDE+I3215*AT+J3215*BE+K3215*DE+L3215*FR+M3215*NL)>(N3215),1,0)","v":0},null,{"$f":"IF((C$6*G3215+D$6*H3215+E$6*I3215+F$6*J3215+G$6*K3215+H$6*L3215+I$6*M3215)>(N3215),1,0)","v":0}]
[null,1304,"[BE-FR] Achene - Lonny 380.19 [DIR] [BE]_LTA_corner#02_#16","10T-BE-FR-000015","[BE-BE] Avelgem - Horta 380.102","22T20161020---1E",0,0,-0.48241000000000001,0,-0.36749999999999999,-0.79512000000000005,0,1962,{"$f":"IF((G3216*ALBE+H3216*ALDE+I3216*AT+J3216*BE+K3216*DE+L3216*FR+M3216*NL)>(N3216),1,0)","v":0},null,{"$f":"IF((C$6*G3216+D$6*H3216+E$6*I3216+F$6*J3216+G$6*K3216+H$6*L3216+I$6*M3216)>(N3216),1,0)","v":0}]
[null,1305,"[AT-AT] Westtirol Transformer WTRHU41 [OPP]_LTA_corner#20_#6","14T-38220-WT041O","BASECASE","N/A",0,0,0.99358000000000002,-1.2749999999999999E-2,0.10349,-4.3979999999999998E-2,0,4577,{"$f":"IF((G3217*ALBE+H3217*ALDE+I3217*AT+J3217*BE+K3217*DE+L3217*FR+M3217*NL)>(N3217),1,0)","v":0},null,{"$f":"IF((C$6*G3217+D$6*H3217+E$6*I3217+F$6*J3217+G$6*K3217+H$6*L3217+I$6*M3217)>(N3217),1,0)","v":0}]
[null,1306,"ALDE_import","N/A","BASECASE","N/A",0,-1,0,0,0,0,0,0,{"$f":"IF((G3218*ALBE+H3218*ALDE+I3218*AT+J3218*BE+K3218*DE+L3218*FR+M3218*NL)>(N3218),1,0)","v":0},null,{"$f":"IF((C$6*G3218+D$6*H3218+E$6*I3218+F$6*J3218+G$6*K3218+H$6*L3218+I$6*M3218)>(N3218),1,0)","v":0}]
[null,1307,"[AT-AT] Westtirol Transformer WTRHU41 [OPP]_LTA_corner#17_#5","14T-38220-WT041O","BASECASE","N/A",0,0,0.99224000000000001,0,0.11092,-5.6160000000000002E-2,0,4568,{"$f":"IF((G3219*ALBE+H3219*ALDE+I3219*AT+J3219*BE+K3219*DE+L3219*FR+M3219*NL)>(N3219),1,0)","v":0},null,{"$f":"IF((C$6*G3219+D$6*H3219+E$6*I3219+F$6*J3219+G$6*K3219+H$6*L3219+I$6*M3219)>(N3219),1,0)","v":0}]
[null,1308,"[BE-BE] PST_ZANDV_2 [N - S]_LTA_corner#13_#0","22T20161020---56","[NL-BE] Rilland - Zandvliet 380 White/30","10T-BE-NL-00004C",0,0,-0.36260999999999999,-0.72489000000000003,-0.30179,-0.50195999999999996,0,1831,{"$f":"IF((G3220*ALBE+H3220*ALDE+I3220*AT+J3220*BE+K3220*DE+L3220*FR+M3220*NL)>(N3220),1,0)","v":0},null,{"$f":"IF((C$6*G3220+D$6*H3220+E$6*I3220+F$6*J3220+G$6*K3220+H$6*L3220+I$6*M3220)>(N3220),1,0)","v":0}]
[null,1309,"[BE-BE] PST_ZANDV_2 [N - S]_LTA_corner#13_#17","22T20161020---56","[NL-BE] Rilland - Zandvliet 380 White/30","10T-BE-NL-00004C",0,0,-0.35622999999999999,-0.72463,-0.31019999999999998,-0.50178,0,1762,{"$f":"IF((G3221*ALBE+H3221*ALDE+I3221*AT+J3221*BE+K3221*DE+L3221*FR+M3221*NL)>(N3221),1,0)","v":0},null,{"$f":"IF((C$6*G3221+D$6*H3221+E$6*I3221+F$6*J3221+G$6*K3221+H$6*L3221+I$6*M3221)>(N3221),1,0)","v":0}]
[null,1310,"[D2-AT] Y - St. Peter (- Altheim - Simbach) 234/230 [OPP] [D2]_LTA_corner#23_#26","10T-AT-DE-000045","[D2-AT] Y - St. Peter (- Altheim - Simbach) 233/230 ","10T-AT-DE-00001B",0,0,0.99885000000000002,8.3700000000000007E-3,0,4.727E-2,0,4948,{"$f":"IF((G3222*ALBE+H3222*ALDE+I3222*AT+J3222*BE+K3222*DE+L3222*FR+M3222*NL)>(N3222),1,0)","v":0},null,{"$f":"IF((C$6*G3222+D$6*H3222+E$6*I3222+F$6*J3222+G$6*K3222+H$6*L3222+I$6*M3222)>(N3222),1,0)","v":0}]
[null,1311,"[NL-NL] Krimpen a/d IJssel - Geertruidenberg 380 Zwart [OPP]","49T0000000000282","[NL-NL] Diemen - Lelystad 380 Wit","49T0000000000096",0.10183,3.1800000000000002E-2,1.1610000000000001E-2,0.12499,-1.8499999999999999E-2,5.9299999999999999E-2,-0.34222000000000002,1767,{"$f":"IF((G3223*ALBE+H3223*ALDE+I3223*AT+J3223*BE+K3223*DE+L3223*FR+M3223*NL)>(N3223),1,0)","v":0},null,{"$f":"IF((C$6*G3223+D$6*H3223+E$6*I3223+F$6*J3223+G$6*K3223+H$6*L3223+I$6*M3223)>(N3223),1,0)","v":0}]
[null,1312,"[D7-FR] Ensdorf - Vigy 2S [OPP] [D7]_LTA_corner#30_#23","10T-DE-FR-000068","[D7-D7] Ensdorf - Uchtelfangen Taubental N","11T0-0000-0604-N",0,0,4.1930000000000002E-2,0.34510000000000002,-0.15076999999999999,0.92542999999999997,0,3787,{"$f":"IF((G3224*ALBE+H3224*ALDE+I3224*AT+J3224*BE+K3224*DE+L3224*FR+M3224*NL)>(N3224),1,0)","v":0},null,{"$f":"IF((C$6*G3224+D$6*H3224+E$6*I3224+F$6*J3224+G$6*K3224+H$6*L3224+I$6*M3224)>(N3224),1,0)","v":0}]
[null,1313,"[BE-FR] Achene - Lonny 380.19 [DIR] [BE]_LTA_corner#02_#22","10T-BE-FR-000015","[BE-BE] Avelgem - Horta 380.102","22T20161020---1E",0,0,-0.40327000000000002,0.37246000000000001,-0.30326999999999998,-0.77890000000000004,0,2294,{"$f":"IF((G3225*ALBE+H3225*ALDE+I3225*AT+J3225*BE+K3225*DE+L3225*FR+M3225*NL)>(N3225),1,0)","v":0},null,{"$f":"IF((C$6*G3225+D$6*H3225+E$6*I3225+F$6*J3225+G$6*K3225+H$6*L3225+I$6*M3225)>(N3225),1,0)","v":0}]
[null,1314,"[D2-NL] Diele - Meeden 380 Black [DIR] [D2]","10T-DE-NL-00001V","[D2-NL] Diele - Meeden 380 White ","10T-DE-NL-00002T",-6.6189999999999999E-2,-4.3799999999999999E-2,-1.159E-2,-6.8970000000000004E-2,9.6799999999999994E-3,-4.0250000000000001E-2,-0.12726999999999999,695,{"$f":"IF((G3226*ALBE+H3226*ALDE+I3226*AT+J3226*BE+K3226*DE+L3226*FR+M3226*NL)>(N3226),1,0)","v":0},null,{"$f":"IF((C$6*G3226+D$6*H3226+E$6*I3226+F$6*J3226+G$6*K3226+H$6*L3226+I$6*M3226)>(N3226),1,0)","v":0}]
[null,1315,"[D2-AT] Y - St. Peter (- Altheim - Simbach) 234/230 [OPP] [D2]_LTA_corner#30_#14","10T-AT-DE-000045","[D2-AT] Y - St. Peter (- Altheim - Simbach) 233/230 ","10T-AT-DE-00001B",0,0,0.99868999999999997,0,-3.1370000000000002E-2,4.0349999999999997E-2,0,5172,{"$f":"IF((G3227*ALBE+H3227*ALDE+I3227*AT+J3227*BE+K3227*DE+L3227*FR+M3227*NL)>(N3227),1,0)","v":0},null,{"$f":"IF((C$6*G3227+D$6*H3227+E$6*I3227+F$6*J3227+G$6*K3227+H$6*L3227+I$6*M3227)>(N3227),1,0)","v":0}]
[null,1316,"[BE-BE] PST_VANYK_2 [N - S]","22T-BE-PST--002U","[BE-FR] Achene - Lonny 380.19","10T-BE-FR-000015",-0.58408000000000004,2.8410000000000001E-2,-5.3499999999999997E-3,-0.32887,6.6800000000000002E-3,-4.7129999999999998E-2,-2.1579999999999998E-2,2058,{"$f":"IF((G3228*ALBE+H3228*ALDE+I3228*AT+J3228*BE+K3228*DE+L3228*FR+M3228*NL)>(N3228),1,0)","v":0},null,{"$f":"IF((C$6*G3228+D$6*H3228+E$6*I3228+F$6*J3228+G$6*K3228+H$6*L3228+I$6*M3228)>(N3228),1,0)","v":0}]
[null,1317,"[D7-FR] Ensdorf - Vigy 2S [OPP] [D7]_LTA_corner#30_#3","10T-DE-FR-000068","[D7-D7] Ensdorf - Uchtelfangen Taubental N","11T0-0000-0604-N",0,0,5.8729999999999997E-2,0.35782999999999998,-8.7179999999999994E-2,0.92784999999999995,0,3383,{"$f":"IF((G3229*ALBE+H3229*ALDE+I3229*AT+J3229*BE+K3229*DE+L3229*FR+M3229*NL)>(N3229),1,0)","v":0},null,{"$f":"IF((C$6*G3229+D$6*H3229+E$6*I3229+F$6*J3229+G$6*K3229+H$6*L3229+I$6*M3229)>(N3229),1,0)","v":0}]
[null,1318,"[D2-AT] Y - St. Peter (- Altheim - Simbach) 234/230 [OPP] [D2]_LTA_corner#30_#17","10T-AT-DE-000045","[D2-AT] Y - St. Peter (- Altheim - Simbach) 233/230 ","10T-AT-DE-00001B",0,0,0.99865999999999999,0,-2.3720000000000001E-2,4.5920000000000002E-2,0,5131,{"$f":"IF((G3230*ALBE+H3230*ALDE+I3230*AT+J3230*BE+K3230*DE+L3230*FR+M3230*NL)>(N3230),1,0)","v":0},null,{"$f":"IF((C$6*G3230+D$6*H3230+E$6*I3230+F$6*J3230+G$6*K3230+H$6*L3230+I$6*M3230)>(N3230),1,0)","v":0}]
[null,1319,"[D7-D7] PST Gronau [OPP]","11T0-0000-0620-R","[D7-D7] Gronau - Kusenhorst Hamaland","11T0-0000-0618-7",-7.6200000000000004E-2,-4.7910000000000001E-2,-1.091E-2,-7.621E-2,2.1430000000000001E-2,-4.2360000000000002E-2,-0.12164,801,{"$f":"IF((G3231*ALBE+H3231*ALDE+I3231*AT+J3231*BE+K3231*DE+L3231*FR+M3231*NL)>(N3231),1,0)","v":0},null,{"$f":"IF((C$6*G3231+D$6*H3231+E$6*I3231+F$6*J3231+G$6*K3231+H$6*L3231+I$6*M3231)>(N3231),1,0)","v":0}]
[null,1320,"[D7-FR] Ensdorf - Vigy 2S [OPP] [D7]_LTA_corner#30_#2","10T-DE-FR-000068","[D7-D7] Ensdorf - Uchtelfangen Taubental N","11T0-0000-0604-N",0,0,3.7560000000000003E-2,0.34564,-0.15769,0.92425999999999997,0,3814,{"$f":"IF((G3232*ALBE+H3232*ALDE+I3232*AT+J3232*BE+K3232*DE+L3232*FR+M3232*NL)>(N3232),1,0)","v":0},null,{"$f":"IF((C$6*G3232+D$6*H3232+E$6*I3232+F$6*J3232+G$6*K3232+H$6*L3232+I$6*M3232)>(N3232),1,0)","v":0}]
[null,1321,"[AT-AT] Westtirol Transformer WTRHU41 [OPP]_LTA_corner#20_#20","14T-38220-WT041O","BASECASE","N/A",0,0,0.98670999999999998,-2.7119999999999998E-2,0.12567,-9.9400000000000002E-2,0,4574,{"$f":"IF((G3233*ALBE+H3233*ALDE+I3233*AT+J3233*BE+K3233*DE+L3233*FR+M3233*NL)>(N3233),1,0)","v":0},null,{"$f":"IF((C$6*G3233+D$6*H3233+E$6*I3233+F$6*J3233+G$6*K3233+H$6*L3233+I$6*M3233)>(N3233),1,0)","v":0}]
[null,1322,"[AT-AT] Westtirol Transformer WTRHU41 [OPP]_LTA_corner#20_#11","14T-38220-WT041O","BASECASE","N/A",0,0,0.99400999999999995,-2.027E-2,8.1290000000000001E-2,-7.0169999999999996E-2,0,4683,{"$f":"IF((G3234*ALBE+H3234*ALDE+I3234*AT+J3234*BE+K3234*DE+L3234*FR+M3234*NL)>(N3234),1,0)","v":0},null,{"$f":"IF((C$6*G3234+D$6*H3234+E$6*I3234+F$6*J3234+G$6*K3234+H$6*L3234+I$6*M3234)>(N3234),1,0)","v":0}]
[null,1323,"[D2-AT] Y - St. Peter (- Altheim - Simbach) 234/230 [OPP] [D2]_LTA_corner#23_#2","10T-AT-DE-000045","[D2-AT] Y - St. Peter (- Altheim - Simbach) 233/230 ","10T-AT-DE-00001B",0,0,0.99295999999999995,3.7940000000000002E-2,6.0310000000000002E-2,9.4630000000000006E-2,0,4726,{"$f":"IF((G3235*ALBE+H3235*ALDE+I3235*AT+J3235*BE+K3235*DE+L3235*FR+M3235*NL)>(N3235),1,0)","v":0},null,{"$f":"IF((C$6*G3235+D$6*H3235+E$6*I3235+F$6*J3235+G$6*K3235+H$6*L3235+I$6*M3235)>(N3235),1,0)","v":0}]
[null,1324,"[BE-BE] PST_ZANDV_2 [N - S]_LTA_corner#13_#2","22T20161020---56","[NL-BE] Rilland - Zandvliet 380 White/30","10T-BE-NL-00004C",0,0,-0.36913000000000001,-0.72074000000000005,-0.30853000000000003,-0.49908000000000002,0,1824,{"$f":"IF((G3236*ALBE+H3236*ALDE+I3236*AT+J3236*BE+K3236*DE+L3236*FR+M3236*NL)>(N3236),1,0)","v":0},null,{"$f":"IF((C$6*G3236+D$6*H3236+E$6*I3236+F$6*J3236+G$6*K3236+H$6*L3236+I$6*M3236)>(N3236),1,0)","v":0}]
[null,1325,"[D2-AT] Y - St. Peter (- Altheim - Simbach) 234/230 [OPP] [D2]_LTA_corner#23_#24","10T-AT-DE-000045","[D2-AT] Y - St. Peter (- Altheim - Simbach) 233/230 ","10T-AT-DE-00001B",0,0,0.99821000000000004,3.31E-3,0,5.9670000000000001E-2,0,4989,{"$f":"IF((G3237*ALBE+H3237*ALDE+I3237*AT+J3237*BE+K3237*DE+L3237*FR+M3237*NL)>(N3237),1,0)","v":0},null,{"$f":"IF((C$6*G3237+D$6*H3237+E$6*I3237+F$6*J3237+G$6*K3237+H$6*L3237+I$6*M3237)>(N3237),1,0)","v":0}]
[null,1326,"[BE-FR] Achene - Lonny 380.19 [DIR] [BE]_LTA_corner#02_#9","10T-BE-FR-000015","[BE-BE] Avelgem - Horta 380.102","22T20161020---1E",0,0,-0.36692000000000002,0.65290999999999999,-0.27789000000000003,-0.60155000000000003,0,2290,{"$f":"IF((G3238*ALBE+H3238*ALDE+I3238*AT+J3238*BE+K3238*DE+L3238*FR+M3238*NL)>(N3238),1,0)","v":0},null,{"$f":"IF((C$6*G3238+D$6*H3238+E$6*I3238+F$6*J3238+G$6*K3238+H$6*L3238+I$6*M3238)>(N3238),1,0)","v":0}]
[null,1327,"[BE-BE] PST_ZANDV_2 [N - S]_LTA_corner#13_#6","22T20161020---56","[NL-BE] Rilland - Zandvliet 380 White/30","10T-BE-NL-00004C",0,0,-0.35020000000000001,-0.74682999999999999,-0.30214999999999997,-0.47782000000000002,0,1840,{"$f":"IF((G3239*ALBE+H3239*ALDE+I3239*AT+J3239*BE+K3239*DE+L3239*FR+M3239*NL)>(N3239),1,0)","v":0},null,{"$f":"IF((C$6*G3239+D$6*H3239+E$6*I3239+F$6*J3239+G$6*K3239+H$6*L3239+I$6*M3239)>(N3239),1,0)","v":0}]
[null,1328,"[BE-BE] PST_ZANDV_2 [N - S]_LTA_corner#13_#7","22T20161020---56","[NL-BE] Rilland - Zandvliet 380 White/30","10T-BE-NL-00004C",0,0,-0.37128,-0.71062000000000003,-0.32092999999999999,-0.50414999999999999,0,1751,{"$f":"IF((G3240*ALBE+H3240*ALDE+I3240*AT+J3240*BE+K3240*DE+L3240*FR+M3240*NL)>(N3240),1,0)","v":0},null,{"$f":"IF((C$6*G3240+D$6*H3240+E$6*I3240+F$6*J3240+G$6*K3240+H$6*L3240+I$6*M3240)>(N3240),1,0)","v":0}]
[null,1329,"[D2-AT] Y - St. Peter (- Altheim - Simbach) 234/230 [OPP] [D2]_LTA_corner#23_#10","10T-AT-DE-000045","[D2-AT] Y - St. Peter (- Altheim - Simbach) 233/230 ","10T-AT-DE-00001B",0,0,0.99739,1.3390000000000001E-2,9.7000000000000005E-4,7.0949999999999999E-2,0,5003,{"$f":"IF((G3241*ALBE+H3241*ALDE+I3241*AT+J3241*BE+K3241*DE+L3241*FR+M3241*NL)>(N3241),1,0)","v":0},null,{"$f":"IF((C$6*G3241+D$6*H3241+E$6*I3241+F$6*J3241+G$6*K3241+H$6*L3241+I$6*M3241)>(N3241),1,0)","v":0}]
[null,1330,"[AT-AT] Westtirol Transformer WTRHU41 [OPP]_LTA_corner#17_#7","14T-38220-WT041O","BASECASE","N/A",0,0,0.99216000000000004,0,0.10352,-7.0040000000000005E-2,0,4610,{"$f":"IF((G3242*ALBE+H3242*ALDE+I3242*AT+J3242*BE+K3242*DE+L3242*FR+M3242*NL)>(N3242),1,0)","v":0},null,{"$f":"IF((C$6*G3242+D$6*H3242+E$6*I3242+F$6*J3242+G$6*K3242+H$6*L3242+I$6*M3242)>(N3242),1,0)","v":0}]
[null,1331,"[BE-BE] PST_ZANDV_2 [N - S]_LTA_corner#13_#1","22T20161020---56","[NL-BE] Rilland - Zandvliet 380 White/30","10T-BE-NL-00004C",0,0,-0.38812000000000002,-0.65998000000000001,-0.32604,-0.55452000000000001,0,1650,{"$f":"IF((G3243*ALBE+H3243*ALDE+I3243*AT+J3243*BE+K3243*DE+L3243*FR+M3243*NL)>(N3243),1,0)","v":0},null,{"$f":"IF((C$6*G3243+D$6*H3243+E$6*I3243+F$6*J3243+G$6*K3243+H$6*L3243+I$6*M3243)>(N3243),1,0)","v":0}]
[null,1332,"[D2-AT] Y - St. Peter (- Altheim - Simbach) 234/230 [OPP] [D2]_LTA_corner#23_#7","10T-AT-DE-000045","[D2-AT] Y - St. Peter (- Altheim - Simbach) 233/230 ","10T-AT-DE-00001B",0,0,0.99817999999999996,3.3700000000000002E-3,9.7000000000000005E-4,6.0240000000000002E-2,0,4985,{"$f":"IF((G3244*ALBE+H3244*ALDE+I3244*AT+J3244*BE+K3244*DE+L3244*FR+M3244*NL)>(N3244),1,0)","v":0},null,{"$f":"IF((C$6*G3244+D$6*H3244+E$6*I3244+F$6*J3244+G$6*K3244+H$6*L3244+I$6*M3244)>(N3244),1,0)","v":0}]
[null,1333,"[D7-FR] Ensdorf - Vigy 2S [OPP] [D7]_LTA_corner#30_#4","10T-DE-FR-000068","[D7-D7] Ensdorf - Uchtelfangen Taubental N","11T0-0000-0604-N",0,0,0.13413,0.36425999999999997,-2.2700000000000001E-2,0.92130999999999996,0,3233,{"$f":"IF((G3245*ALBE+H3245*ALDE+I3245*AT+J3245*BE+K3245*DE+L3245*FR+M3245*NL)>(N3245),1,0)","v":0},null,{"$f":"IF((C$6*G3245+D$6*H3245+E$6*I3245+F$6*J3245+G$6*K3245+H$6*L3245+I$6*M3245)>(N3245),1,0)","v":0}]
[null,1334,"[AT-AT] Westtirol Transformer WTRHU41 [OPP]_LTA_corner#20_#23","14T-38220-WT041O","BASECASE","N/A",0,0,0.99411000000000005,-1.8689999999999998E-2,8.7440000000000004E-2,-6.1219999999999997E-2,0,4652,{"$f":"IF((G3246*ALBE+H3246*ALDE+I3246*AT+J3246*BE+K3246*DE+L3246*FR+M3246*NL)>(N3246),1,0)","v":0},null,{"$f":"IF((C$6*G3246+D$6*H3246+E$6*I3246+F$6*J3246+G$6*K3246+H$6*L3246+I$6*M3246)>(N3246),1,0)","v":0}]
[null,1335,"[D4-AT] Buers - Westtirol 421 weiss [OPP] [D4]_LTA_corner#20_#32","10T-AT-DE-000061","[AT-AT] Westtirol Transformer WTRHU41","14T-38220-WT041O",0,0,0.98821999999999999,-2.802E-2,0.12553,-8.2970000000000002E-2,0,4555,{"$f":"IF((G3247*ALBE+H3247*ALDE+I3247*AT+J3247*BE+K3247*DE+L3247*FR+M3247*NL)>(N3247),1,0)","v":0},null,{"$f":"IF((C$6*G3247+D$6*H3247+E$6*I3247+F$6*J3247+G$6*K3247+H$6*L3247+I$6*M3247)>(N3247),1,0)","v":0}]
[null,1336,"[D2-AT] Y - St. Peter (- Altheim - Simbach) 234/230 [OPP] [D2]_LTA_corner#23_#31","10T-AT-DE-000045","[D2-AT] Y - St. Peter (- Altheim - Simbach) 233/230 ","10T-AT-DE-00001B",0,0,0.99821000000000004,3.3700000000000002E-3,0,5.9760000000000001E-2,0,4989,{"$f":"IF((G3248*ALBE+H3248*ALDE+I3248*AT+J3248*BE+K3248*DE+L3248*FR+M3248*NL)>(N3248),1,0)","v":0},null,{"$f":"IF((C$6*G3248+D$6*H3248+E$6*I3248+F$6*J3248+G$6*K3248+H$6*L3248+I$6*M3248)>(N3248),1,0)","v":0}]
[null,1337,"[AT-AT] Westtirol Transformer WTRHU41 [OPP]_LTA_corner#20_#16","14T-38220-WT041O","BASECASE","N/A",0,0,0.98889000000000005,-5.509E-2,0.11910999999999999,-6.9809999999999997E-2,0,4559,{"$f":"IF((G3249*ALBE+H3249*ALDE+I3249*AT+J3249*BE+K3249*DE+L3249*FR+M3249*NL)>(N3249),1,0)","v":0},null,{"$f":"IF((C$6*G3249+D$6*H3249+E$6*I3249+F$6*J3249+G$6*K3249+H$6*L3249+I$6*M3249)>(N3249),1,0)","v":0}]
[null,1338,"[D2-AT] Pleinting - St. Peter 258 [DIR] [AT]","10T-AT-DE-000037","[D2-D2] Pirach - Pleinting 257","11TD2L000000201H",5.604E-2,5.6800000000000003E-2,-3.4250000000000003E-2,5.5879999999999999E-2,5.6669999999999998E-2,5.3749999999999999E-2,5.6129999999999999E-2,500,{"$f":"IF((G3250*ALBE+H3250*ALDE+I3250*AT+J3250*BE+K3250*DE+L3250*FR+M3250*NL)>(N3250),1,0)","v":0},null,{"$f":"IF((C$6*G3250+D$6*H3250+E$6*I3250+F$6*J3250+G$6*K3250+H$6*L3250+I$6*M3250)>(N3250),1,0)","v":0}]
[null,1339,"[D7-FR] Ensdorf - Vigy 2S [OPP] [D7]_LTA_corner#30_#9","10T-DE-FR-000068","[D7-D7] Ensdorf - Uchtelfangen Taubental N","11T0-0000-0604-N",0,0,1.537E-2,0.36619000000000002,-0.13743,0.92020999999999997,0,3520,{"$f":"IF((G3251*ALBE+H3251*ALDE+I3251*AT+J3251*BE+K3251*DE+L3251*FR+M3251*NL)>(N3251),1,0)","v":0},null,{"$f":"IF((C$6*G3251+D$6*H3251+E$6*I3251+F$6*J3251+G$6*K3251+H$6*L3251+I$6*M3251)>(N3251),1,0)","v":0}]
[null,1340,"[D7-FR] Ensdorf - Vigy 2S [OPP] [D7]_LTA_corner#30_#16","10T-DE-FR-000068","[D7-D7] Ensdorf - Uchtelfangen Taubental N","11T0-0000-0604-N",0,0,0.10136000000000001,0.33811000000000002,-7.3730000000000004E-2,0.93271999999999999,0,3523,{"$f":"IF((G3252*ALBE+H3252*ALDE+I3252*AT+J3252*BE+K3252*DE+L3252*FR+M3252*NL)>(N3252),1,0)","v":0},null,{"$f":"IF((C$6*G3252+D$6*H3252+E$6*I3252+F$6*J3252+G$6*K3252+H$6*L3252+I$6*M3252)>(N3252),1,0)","v":0}]
[null,1341,"[BE-FR] Achene - Lonny 380.19 [DIR] [BE]_LTA_corner#02_#17","10T-BE-FR-000015","[BE-BE] Avelgem - Horta 380.102","22T20161020---1E",0,0,-0.48253000000000001,0,-0.36754999999999999,-0.79503000000000001,0,1962,{"$f":"IF((G3253*ALBE+H3253*ALDE+I3253*AT+J3253*BE+K3253*DE+L3253*FR+M3253*NL)>(N3253),1,0)","v":0},null,{"$f":"IF((C$6*G3253+D$6*H3253+E$6*I3253+F$6*J3253+G$6*K3253+H$6*L3253+I$6*M3253)>(N3253),1,0)","v":0}]
[null,1342,"[BE-FR] Achene - Lonny 380.19 [DIR] [BE]_LTA_corner#02_#7","10T-BE-FR-000015","[BE-BE] Avelgem - Horta 380.102","22T20161020---1E",0,0,-0.45488000000000001,0.36247000000000001,-0.29514000000000001,-0.75802000000000003,0,2533,{"$f":"IF((G3254*ALBE+H3254*ALDE+I3254*AT+J3254*BE+K3254*DE+L3254*FR+M3254*NL)>(N3254),1,0)","v":0},null,{"$f":"IF((C$6*G3254+D$6*H3254+E$6*I3254+F$6*J3254+G$6*K3254+H$6*L3254+I$6*M3254)>(N3254),1,0)","v":0}]
[null,1343,"[D7-FR] Ensdorf - Vigy 2S [OPP] [D7]_LTA_corner#30_#6","10T-DE-FR-000068","[D7-D7] Ensdorf - Uchtelfangen Taubental N","11T0-0000-0604-N",0,0,-2.487E-2,0.3866,-0.20691999999999999,0.89839000000000002,0,3761,{"$f":"IF((G3255*ALBE+H3255*ALDE+I3255*AT+J3255*BE+K3255*DE+L3255*FR+M3255*NL)>(N3255),1,0)","v":0},null,{"$f":"IF((C$6*G3255+D$6*H3255+E$6*I3255+F$6*J3255+G$6*K3255+H$6*L3255+I$6*M3255)>(N3255),1,0)","v":0}]
[null,1344,"[BE-FR] Achene - Lonny 380.19 [DIR] [BE]_LTA_corner#02_#0","10T-BE-FR-000015","[BE-BE] Avelgem - Horta 380.102","22T20161020---1E",0,0,-0.34819,0.60762000000000005,-0.22935,-0.67598999999999998,0,2480,{"$f":"IF((G3256*ALBE+H3256*ALDE+I3256*AT+J3256*BE+K3256*DE+L3256*FR+M3256*NL)>(N3256),1,0)","v":0},null,{"$f":"IF((C$6*G3256+D$6*H3256+E$6*I3256+F$6*J3256+G$6*K3256+H$6*L3256+I$6*M3256)>(N3256),1,0)","v":0}]
[null,1345,"[BE-BE] PST_VANYK_2 [S - N]","22T-BE-PST--002U","[NL-BE] Maasbracht - Van Eyck 380 Black/27","10T-BE-NL-00002G",0.50263000000000002,-5.8029999999999998E-2,1.2460000000000001E-2,0.28466000000000002,-1.6029999999999999E-2,9.8489999999999994E-2,-8.1600000000000006E-3,1010,{"$f":"IF((G3257*ALBE+H3257*ALDE+I3257*AT+J3257*BE+K3257*DE+L3257*FR+M3257*NL)>(N3257),1,0)","v":0},null,{"$f":"IF((C$6*G3257+D$6*H3257+E$6*I3257+F$6*J3257+G$6*K3257+H$6*L3257+I$6*M3257)>(N3257),1,0)","v":0}]
[null,1346,"[D7-FR] Ensdorf - Vigy 2S [OPP] [D7]_LTA_corner#30_#11","10T-DE-FR-000068","[D7-D7] Ensdorf - Uchtelfangen Taubental N","11T0-0000-0604-N",0,0,0.14011000000000001,0.34028000000000003,-2.8989999999999998E-2,0.92937000000000003,0,3360,{"$f":"IF((G3258*ALBE+H3258*ALDE+I3258*AT+J3258*BE+K3258*DE+L3258*FR+M3258*NL)>(N3258),1,0)","v":0},null,{"$f":"IF((C$6*G3258+D$6*H3258+E$6*I3258+F$6*J3258+G$6*K3258+H$6*L3258+I$6*M3258)>(N3258),1,0)","v":0}]
[null,1347,"ALDE_export","N/A","BASECASE","N/A",0,1,0,0,0,0,0,0,{"$f":"IF((G3259*ALBE+H3259*ALDE+I3259*AT+J3259*BE+K3259*DE+L3259*FR+M3259*NL)>(N3259),1,0)","v":0},null,{"$f":"IF((C$6*G3259+D$6*H3259+E$6*I3259+F$6*J3259+G$6*K3259+H$6*L3259+I$6*M3259)>(N3259),1,0)","v":0}]
[null,1348,"[D2-AT] Y - St. Peter (- Altheim - Simbach) 234/230 [OPP] [D2]_LTA_corner#23_#0","10T-AT-DE-000045","[D2-AT] Y - St. Peter (- Altheim - Simbach) 233/230 ","10T-AT-DE-00001B",0,0,0.99792999999999998,2.273E-2,9.7000000000000005E-4,6.0220000000000003E-2,0,4963,{"$f":"IF((G3260*ALBE+H3260*ALDE+I3260*AT+J3260*BE+K3260*DE+L3260*FR+M3260*NL)>(N3260),1,0)","v":0},null,{"$f":"IF((C$6*G3260+D$6*H3260+E$6*I3260+F$6*J3260+G$6*K3260+H$6*L3260+I$6*M3260)>(N3260),1,0)","v":0}]
[null,1349,"[BE-FR] Achene - Lonny 380.19 [DIR] [BE]_LTA_corner#02_#2","10T-BE-FR-000015","[BE-BE] Avelgem - Horta 380.102","22T20161020---1E",0,0,-0.38168000000000002,0.61336000000000002,-0.28947000000000001,-0.62795000000000001,0,2304,{"$f":"IF((G3261*ALBE+H3261*ALDE+I3261*AT+J3261*BE+K3261*DE+L3261*FR+M3261*NL)>(N3261),1,0)","v":0},null,{"$f":"IF((C$6*G3261+D$6*H3261+E$6*I3261+F$6*J3261+G$6*K3261+H$6*L3261+I$6*M3261)>(N3261),1,0)","v":0}]
[null,1350,"[BE-FR] Achene - Lonny 380.19 [DIR] [BE]_LTA_corner#02_#19","10T-BE-FR-000015","[BE-BE] Avelgem - Horta 380.102","22T20161020---1E",0,0,-0.47105000000000002,0,-0.34727999999999998,-0.81086999999999998,0,2022,{"$f":"IF((G3262*ALBE+H3262*ALDE+I3262*AT+J3262*BE+K3262*DE+L3262*FR+M3262*NL)>(N3262),1,0)","v":0},null,{"$f":"IF((C$6*G3262+D$6*H3262+E$6*I3262+F$6*J3262+G$6*K3262+H$6*L3262+I$6*M3262)>(N3262),1,0)","v":0}]
[null,1351,"[D7-FR] Ensdorf - Vigy 2S [OPP] [D7]_LTA_corner#30_#18","10T-DE-FR-000068","[D7-D7] Ensdorf - Uchtelfangen Taubental N","11T0-0000-0604-N",0,0,0.13005,0.33833000000000002,-4.0869999999999997E-2,0.93110000000000004,0,3408,{"$f":"IF((G3263*ALBE+H3263*ALDE+I3263*AT+J3263*BE+K3263*DE+L3263*FR+M3263*NL)>(N3263),1,0)","v":0},null,{"$f":"IF((C$6*G3263+D$6*H3263+E$6*I3263+F$6*J3263+G$6*K3263+H$6*L3263+I$6*M3263)>(N3263),1,0)","v":0}]
[null,1352,"[BE-BE] PST_ZANDV_2 [N - S]_LTA_corner#13_#22","22T20161020---56","[NL-BE] Rilland - Zandvliet 380 White/30","10T-BE-NL-00004C",0,0,-0.36096,-0.72158999999999995,-0.31519000000000003,-0.49967,0,1757,{"$f":"IF((G3264*ALBE+H3264*ALDE+I3264*AT+J3264*BE+K3264*DE+L3264*FR+M3264*NL)>(N3264),1,0)","v":0},null,{"$f":"IF((C$6*G3264+D$6*H3264+E$6*I3264+F$6*J3264+G$6*K3264+H$6*L3264+I$6*M3264)>(N3264),1,0)","v":0}]
[null,1353,"[BE-FR] Achene - Lonny 380.19 [OPP] [BE]","10T-BE-FR-000015","[BE-BE] Avelgem - Horta 380.102","22T20161020---1E",-0.28541,-7.5569999999999998E-2,2.0539999999999999E-2,-0.28199999999999997,-2.7300000000000001E-2,0.15198,-0.14161000000000001,2463,{"$f":"IF((G3265*ALBE+H3265*ALDE+I3265*AT+J3265*BE+K3265*DE+L3265*FR+M3265*NL)>(N3265),1,0)","v":0},null,{"$f":"IF((C$6*G3265+D$6*H3265+E$6*I3265+F$6*J3265+G$6*K3265+H$6*L3265+I$6*M3265)>(N3265),1,0)","v":0}]
[null,1354,"[D7-D7] PST Gronau [OPP]","11T0-0000-0620-R","[NL-NL] Zwolle - Meeden 380 Zwart","49T000000000002K",-9.2859999999999998E-2,-4.879E-2,-1.12E-2,-9.4170000000000004E-2,2.4539999999999999E-2,-4.8910000000000002E-2,-0.16427,967,{"$f":"IF((G3266*ALBE+H3266*ALDE+I3266*AT+J3266*BE+K3266*DE+L3266*FR+M3266*NL)>(N3266),1,0)","v":0},null,{"$f":"IF((C$6*G3266+D$6*H3266+E$6*I3266+F$6*J3266+G$6*K3266+H$6*L3266+I$6*M3266)>(N3266),1,0)","v":0}]
[null,1355,"[NL-D7] Maasbracht - Oberzier 380 white [DIR] [D7]","10T-DE-NL-00005N","[NL-D7] Maasbracht - Siersdorf 380 black","10T-DE-NL-00006L",0.30696000000000001,-0.17480999999999999,2.3E-3,0.27022000000000002,7.6699999999999997E-3,8.0180000000000001E-2,0.25268000000000002,1136,{"$f":"IF((G3267*ALBE+H3267*ALDE+I3267*AT+J3267*BE+K3267*DE+L3267*FR+M3267*NL)>(N3267),1,0)","v":0},null,{"$f":"IF((C$6*G3267+D$6*H3267+E$6*I3267+F$6*J3267+G$6*K3267+H$6*L3267+I$6*M3267)>(N3267),1,0)","v":0}]
[null,1356,"[D2-AT] Y - St. Peter (- Altheim - Simbach) 234/230 [OPP] [D2]_LTA_corner#23_#13","10T-AT-DE-000045","[D2-AT] Y - St. Peter (- Altheim - Simbach) 233/230 ","10T-AT-DE-00001B",0,0,0.99882000000000004,8.9599999999999992E-3,2.4199999999999998E-3,4.7570000000000001E-2,0,4936,{"$f":"IF((G3268*ALBE+H3268*ALDE+I3268*AT+J3268*BE+K3268*DE+L3268*FR+M3268*NL)>(N3268),1,0)","v":0},null,{"$f":"IF((C$6*G3268+D$6*H3268+E$6*I3268+F$6*J3268+G$6*K3268+H$6*L3268+I$6*M3268)>(N3268),1,0)","v":0}]
[null,1357,"[BE-FR] Achene - Lonny 380.19 [DIR] [BE]_LTA_corner#02_#1","10T-BE-FR-000015","[BE-BE] Avelgem - Horta 380.102","22T20161020---1E",0,0,-0.42986000000000002,0.37217,-0.26638000000000001,-0.77829999999999999,0,2585,{"$f":"IF((G3269*ALBE+H3269*ALDE+I3269*AT+J3269*BE+K3269*DE+L3269*FR+M3269*NL)>(N3269),1,0)","v":0},null,{"$f":"IF((C$6*G3269+D$6*H3269+E$6*I3269+F$6*J3269+G$6*K3269+H$6*L3269+I$6*M3269)>(N3269),1,0)","v":0}]
[null,1358,"[BE-FR] Achene - Lonny 380.19 [DIR] [BE]_LTA_corner#02_#21","10T-BE-FR-000015","[BE-BE] Avelgem - Horta 380.102","22T20161020---1E",0,0,-0.47244999999999998,0,-0.35919000000000001,-0.80484999999999995,0,1966,{"$f":"IF((G3270*ALBE+H3270*ALDE+I3270*AT+J3270*BE+K3270*DE+L3270*FR+M3270*NL)>(N3270),1,0)","v":0},null,{"$f":"IF((C$6*G3270+D$6*H3270+E$6*I3270+F$6*J3270+G$6*K3270+H$6*L3270+I$6*M3270)>(N3270),1,0)","v":0}]
[null,1359,"[BE-BE] PST_ZANDV_2 [N - S]_LTA_corner#13_#8","22T20161020---56","[NL-BE] Rilland - Zandvliet 380 White/30","10T-BE-NL-00004C",0,0,-0.37389,-0.70365999999999995,-0.32180999999999998,-0.51137999999999995,0,1738,{"$f":"IF((G3271*ALBE+H3271*ALDE+I3271*AT+J3271*BE+K3271*DE+L3271*FR+M3271*NL)>(N3271),1,0)","v":0},null,{"$f":"IF((C$6*G3271+D$6*H3271+E$6*I3271+F$6*J3271+G$6*K3271+H$6*L3271+I$6*M3271)>(N3271),1,0)","v":0}]
[null,1360,"[D2-AT] Y - St. Peter (- Altheim - Simbach) 234/230 [OPP] [D2]_LTA_corner#30_#10","10T-AT-DE-000045","[D2-AT] Y - St. Peter (- Altheim - Simbach) 233/230 ","10T-AT-DE-00001B",0,0,0.99863999999999997,0,-3.2960000000000003E-2,4.0419999999999998E-2,0,5184,{"$f":"IF((G3272*ALBE+H3272*ALDE+I3272*AT+J3272*BE+K3272*DE+L3272*FR+M3272*NL)>(N3272),1,0)","v":0},null,{"$f":"IF((C$6*G3272+D$6*H3272+E$6*I3272+F$6*J3272+G$6*K3272+H$6*L3272+I$6*M3272)>(N3272),1,0)","v":0}]
[null,1361,"[D7-FR] Ensdorf - Vigy 2S [OPP] [D7]_LTA_corner#30_#26","10T-DE-FR-000068","[D7-D7] Ensdorf - Uchtelfangen Taubental N","11T0-0000-0604-N",0,0,2.0310000000000002E-2,0.3861,-0.15798999999999999,0.90859999999999996,0,3642,{"$f":"IF((G3273*ALBE+H3273*ALDE+I3273*AT+J3273*BE+K3273*DE+L3273*FR+M3273*NL)>(N3273),1,0)","v":0},null,{"$f":"IF((C$6*G3273+D$6*H3273+E$6*I3273+F$6*J3273+G$6*K3273+H$6*L3273+I$6*M3273)>(N3273),1,0)","v":0}]
[null,1362,"[AT-AT] Strass - Thaur 273B [OPP]","14T-220-0-0273BO","[AT-AT] Strass - Thaur 274B","14T-220-0-0274BL",2.5919999999999999E-2,2.5729999999999999E-2,-8.3500000000000005E-2,2.598E-2,2.8989999999999998E-2,2.639E-2,2.5409999999999999E-2,624,{"$f":"IF((G3274*ALBE+H3274*ALDE+I3274*AT+J3274*BE+K3274*DE+L3274*FR+M3274*NL)>(N3274),1,0)","v":0},null,{"$f":"IF((C$6*G3274+D$6*H3274+E$6*I3274+F$6*J3274+G$6*K3274+H$6*L3274+I$6*M3274)>(N3274),1,0)","v":0}]
[null,1363,"[BE-BE] PST_ZANDV_2 [N - S]_LTA_corner#13_#35","22T20161020---56","[NL-BE] Rilland - Zandvliet 380 White/30","10T-BE-NL-00004C",0,0,-0.35265999999999997,-0.74329000000000001,-0.30375000000000002,-0.48050999999999999,0,1834,{"$f":"IF((G3275*ALBE+H3275*ALDE+I3275*AT+J3275*BE+K3275*DE+L3275*FR+M3275*NL)>(N3275),1,0)","v":0},null,{"$f":"IF((C$6*G3275+D$6*H3275+E$6*I3275+F$6*J3275+G$6*K3275+H$6*L3275+I$6*M3275)>(N3275),1,0)","v":0}]
[null,1364,"[AT-AT] Westtirol Transformer WTRHU41 [OPP]_LTA_corner#17_#0","14T-38220-WT041O","BASECASE","N/A",0,0,0.98873999999999995,0,0.13236000000000001,-6.9800000000000001E-2,0,4514,{"$f":"IF((G3276*ALBE+H3276*ALDE+I3276*AT+J3276*BE+K3276*DE+L3276*FR+M3276*NL)>(N3276),1,0)","v":0},null,{"$f":"IF((C$6*G3276+D$6*H3276+E$6*I3276+F$6*J3276+G$6*K3276+H$6*L3276+I$6*M3276)>(N3276),1,0)","v":0}]
[null,1365,"[NL-NL] Borssele - Rilland 380 Zwart [DIR]","49T000000000059S","[NL-NL] Borssele - Rilland 380 Grijs","49T000000000057W",-6.5100000000000002E-3,2.7399999999999998E-3,-8.1999999999999998E-4,-1.554E-2,1.09E-3,-6.4200000000000004E-3,0.14302999999999999,674,{"$f":"IF((G3277*ALBE+H3277*ALDE+I3277*AT+J3277*BE+K3277*DE+L3277*FR+M3277*NL)>(N3277),1,0)","v":0},null,{"$f":"IF((C$6*G3277+D$6*H3277+E$6*I3277+F$6*J3277+G$6*K3277+H$6*L3277+I$6*M3277)>(N3277),1,0)","v":0}]
[null,1366,"[BE-BE] PST_ZANDV_2 [N - S]_LTA_corner#13_#10","22T20161020---56","[NL-BE] Rilland - Zandvliet 380 White/30","10T-BE-NL-00004C",0,0,-0.34876000000000001,-0.74670999999999998,-0.29965999999999998,-0.48060999999999998,0,1842,{"$f":"IF((G3278*ALBE+H3278*ALDE+I3278*AT+J3278*BE+K3278*DE+L3278*FR+M3278*NL)>(N3278),1,0)","v":0},null,{"$f":"IF((C$6*G3278+D$6*H3278+E$6*I3278+F$6*J3278+G$6*K3278+H$6*L3278+I$6*M3278)>(N3278),1,0)","v":0}]
[null,1367,"[AT-AT] Westtirol Transformer WTRHU41 [OPP]_LTA_corner#20_#15","14T-38220-WT041O","BASECASE","N/A",0,0,0.98792000000000002,-2.717E-2,0.11632000000000001,-9.8669999999999994E-2,0,4604,{"$f":"IF((G3279*ALBE+H3279*ALDE+I3279*AT+J3279*BE+K3279*DE+L3279*FR+M3279*NL)>(N3279),1,0)","v":0},null,{"$f":"IF((C$6*G3279+D$6*H3279+E$6*I3279+F$6*J3279+G$6*K3279+H$6*L3279+I$6*M3279)>(N3279),1,0)","v":0}]
[null,1368,"[AT-AT] Westtirol Transformer WTRHU41 [OPP]_LTA_corner#17_#3","14T-38220-WT041O","BASECASE","N/A",0,0,0.99028000000000005,1.511E-2,0.11928,-6.991E-2,0,4576,{"$f":"IF((G3280*ALBE+H3280*ALDE+I3280*AT+J3280*BE+K3280*DE+L3280*FR+M3280*NL)>(N3280),1,0)","v":0},null,{"$f":"IF((C$6*G3280+D$6*H3280+E$6*I3280+F$6*J3280+G$6*K3280+H$6*L3280+I$6*M3280)>(N3280),1,0)","v":0}]
[null,1369,"[AT-AT] Westtirol Transformer WTRHU41 [OPP]_LTA_corner#20_#0","14T-38220-WT041O","BASECASE","N/A",0,0,0.98594999999999999,-2.0109999999999999E-2,0.15049999999999999,-6.9599999999999995E-2,0,4454,{"$f":"IF((G3281*ALBE+H3281*ALDE+I3281*AT+J3281*BE+K3281*DE+L3281*FR+M3281*NL)>(N3281),1,0)","v":0},null,{"$f":"IF((C$6*G3281+D$6*H3281+E$6*I3281+F$6*J3281+G$6*K3281+H$6*L3281+I$6*M3281)>(N3281),1,0)","v":0}]
[null,1370,"[AT-AT] Westtirol Transformer WTRHU41 [OPP]_LTA_corner#20_#4","14T-38220-WT041O","BASECASE","N/A",0,0,0.99194000000000004,-2.0230000000000001E-2,0.11948,-3.6929999999999998E-2,0,4515,{"$f":"IF((G3282*ALBE+H3282*ALDE+I3282*AT+J3282*BE+K3282*DE+L3282*FR+M3282*NL)>(N3282),1,0)","v":0},null,{"$f":"IF((C$6*G3282+D$6*H3282+E$6*I3282+F$6*J3282+G$6*K3282+H$6*L3282+I$6*M3282)>(N3282),1,0)","v":0}]
[null,1371,"[D7-FR] Ensdorf - Vigy 2S [OPP] [D7]_LTA_corner#30_#38","10T-DE-FR-000068","[D7-D7] Ensdorf - Uchtelfangen Taubental N","11T0-0000-0604-N",0,0,1.123E-2,0.38716,-0.16811999999999999,0.90649000000000002,0,3667,{"$f":"IF((G3283*ALBE+H3283*ALDE+I3283*AT+J3283*BE+K3283*DE+L3283*FR+M3283*NL)>(N3283),1,0)","v":0},null,{"$f":"IF((C$6*G3283+D$6*H3283+E$6*I3283+F$6*J3283+G$6*K3283+H$6*L3283+I$6*M3283)>(N3283),1,0)","v":0}]
[null,1372,"[D2-AT] Y - St. Peter (- Altheim - Simbach) 234/230 [OPP] [D2]_LTA_corner#30_#12","10T-AT-DE-000045","[D2-AT] Y - St. Peter (- Altheim - Simbach) 233/230 ","10T-AT-DE-00001B",0,0,0.99863999999999997,0,-3.2969999999999999E-2,4.0500000000000001E-2,0,5184,{"$f":"IF((G3284*ALBE+H3284*ALDE+I3284*AT+J3284*BE+K3284*DE+L3284*FR+M3284*NL)>(N3284),1,0)","v":0},null,{"$f":"IF((C$6*G3284+D$6*H3284+E$6*I3284+F$6*J3284+G$6*K3284+H$6*L3284+I$6*M3284)>(N3284),1,0)","v":0}]
[null,1373,"[BE-BE] PST_ZANDV_2 [N - S]_LTA_corner#13_#4","22T20161020---56","[NL-BE] Rilland - Zandvliet 380 White/30","10T-BE-NL-00004C",0,0,-0.34570000000000001,-0.74682000000000004,-0.29348000000000002,-0.48642999999999997,0,1851,{"$f":"IF((G3285*ALBE+H3285*ALDE+I3285*AT+J3285*BE+K3285*DE+L3285*FR+M3285*NL)>(N3285),1,0)","v":0},null,{"$f":"IF((C$6*G3285+D$6*H3285+E$6*I3285+F$6*J3285+G$6*K3285+H$6*L3285+I$6*M3285)>(N3285),1,0)","v":0}]
[null,1374,"[AT-AT] Westtirol Transformer WTRHU41 [OPP]_LTA_corner#17_#2","14T-38220-WT041O","BASECASE","N/A",0,0,0.99126000000000003,0,0.11939,-5.62E-2,0,4540,{"$f":"IF((G3286*ALBE+H3286*ALDE+I3286*AT+J3286*BE+K3286*DE+L3286*FR+M3286*NL)>(N3286),1,0)","v":0},null,{"$f":"IF((C$6*G3286+D$6*H3286+E$6*I3286+F$6*J3286+G$6*K3286+H$6*L3286+I$6*M3286)>(N3286),1,0)","v":0}]
[null,1375,"[BE-FR] Achene - Lonny 380.19 [DIR] [BE]_LTA_corner#02_#20","10T-BE-FR-000015","[BE-BE] Avelgem - Horta 380.102","22T20161020---1E",0,0,-0.47611999999999999,0,-0.36351,-0.80073000000000005,0,1958,{"$f":"IF((G3287*ALBE+H3287*ALDE+I3287*AT+J3287*BE+K3287*DE+L3287*FR+M3287*NL)>(N3287),1,0)","v":0},null,{"$f":"IF((C$6*G3287+D$6*H3287+E$6*I3287+F$6*J3287+G$6*K3287+H$6*L3287+I$6*M3287)>(N3287),1,0)","v":0}]
[null,1376,"[BE-BE] PST_VANYK_2 [S - N]","22T-BE-PST--002U","[BE-FR] Achene - Lonny 380.19","10T-BE-FR-000015",0.58408000000000004,-2.8410000000000001E-2,5.3499999999999997E-3,0.32887,-6.6800000000000002E-3,4.7129999999999998E-2,2.1579999999999998E-2,950,{"$f":"IF((G3288*ALBE+H3288*ALDE+I3288*AT+J3288*BE+K3288*DE+L3288*FR+M3288*NL)>(N3288),1,0)","v":0},null,{"$f":"IF((C$6*G3288+D$6*H3288+E$6*I3288+F$6*J3288+G$6*K3288+H$6*L3288+I$6*M3288)>(N3288),1,0)","v":0}]
[null,1377,"[BE-FR] Achene - Lonny 380.19 [DIR] [BE]_LTA_corner#02_#26","10T-BE-FR-000015","[BE-BE] Avelgem - Horta 380.102","22T20161020---1E",0,0,-0.42756,0.26315,-0.28853000000000001,-0.81528999999999996,0,2402,{"$f":"IF((G3289*ALBE+H3289*ALDE+I3289*AT+J3289*BE+K3289*DE+L3289*FR+M3289*NL)>(N3289),1,0)","v":0},null,{"$f":"IF((C$6*G3289+D$6*H3289+E$6*I3289+F$6*J3289+G$6*K3289+H$6*L3289+I$6*M3289)>(N3289),1,0)","v":0}]
[null,1378,"[D4-AT] Buers - Westtirol 421 weiss [OPP] [D4]_LTA_corner#20_#26","10T-AT-DE-000061","[AT-AT] Westtirol Transformer WTRHU41","14T-38220-WT041O",0,0,0.98767000000000005,-3.1460000000000002E-2,0.11815000000000001,-9.7799999999999998E-2,0,4597,{"$f":"IF((G3290*ALBE+H3290*ALDE+I3290*AT+J3290*BE+K3290*DE+L3290*FR+M3290*NL)>(N3290),1,0)","v":0},null,{"$f":"IF((C$6*G3290+D$6*H3290+E$6*I3290+F$6*J3290+G$6*K3290+H$6*L3290+I$6*M3290)>(N3290),1,0)","v":0}]
[null,1379,"ALBE_export","N/A","BASECASE","N/A",1,0,0,0,0,0,0,0,{"$f":"IF((G3291*ALBE+H3291*ALDE+I3291*AT+J3291*BE+K3291*DE+L3291*FR+M3291*NL)>(N3291),1,0)","v":0},null,{"$f":"IF((C$6*G3291+D$6*H3291+E$6*I3291+F$6*J3291+G$6*K3291+H$6*L3291+I$6*M3291)>(N3291),1,0)","v":0}]
[null,1380,"[AT-AT] Westtirol Transformer WTRHU41 [OPP]_LTA_corner#17_#4","14T-38220-WT041O","BASECASE","N/A",0,0,0.99224999999999997,0,0.10807,-6.1249999999999999E-2,0,4584,{"$f":"IF((G3292*ALBE+H3292*ALDE+I3292*AT+J3292*BE+K3292*DE+L3292*FR+M3292*NL)>(N3292),1,0)","v":0},null,{"$f":"IF((C$6*G3292+D$6*H3292+E$6*I3292+F$6*J3292+G$6*K3292+H$6*L3292+I$6*M3292)>(N3292),1,0)","v":0}]
[null,1381,"[D2-AT] Y - St. Peter (- Altheim - Simbach) 234/230 [OPP] [D2]_LTA_corner#23_#30","10T-AT-DE-000045","[D2-AT] Y - St. Peter (- Altheim - Simbach) 233/230 ","10T-AT-DE-00001B",0,0,0.99746000000000001,1.302E-2,0,7.0080000000000003E-2,0,5006,{"$f":"IF((G3293*ALBE+H3293*ALDE+I3293*AT+J3293*BE+K3293*DE+L3293*FR+M3293*NL)>(N3293),1,0)","v":0},null,{"$f":"IF((C$6*G3293+D$6*H3293+E$6*I3293+F$6*J3293+G$6*K3293+H$6*L3293+I$6*M3293)>(N3293),1,0)","v":0}]
[null,1382,"ALBE_import","N/A","BASECASE","N/A",-1,0,0,0,0,0,0,0,{"$f":"IF((G3294*ALBE+H3294*ALDE+I3294*AT+J3294*BE+K3294*DE+L3294*FR+M3294*NL)>(N3294),1,0)","v":0},null,{"$f":"IF((C$6*G3294+D$6*H3294+E$6*I3294+F$6*J3294+G$6*K3294+H$6*L3294+I$6*M3294)>(N3294),1,0)","v":0}]
[null,1383,"[AT-AT] Westtirol Transformer WTRHU41 [OPP]_LTA_corner#20_#28","14T-38220-WT041O","BASECASE","N/A",0,0,0.99394000000000005,-1.584E-2,9.572E-2,-5.1709999999999999E-2,0,4613,{"$f":"IF((G3295*ALBE+H3295*ALDE+I3295*AT+J3295*BE+K3295*DE+L3295*FR+M3295*NL)>(N3295),1,0)","v":0},null,{"$f":"IF((C$6*G3295+D$6*H3295+E$6*I3295+F$6*J3295+G$6*K3295+H$6*L3295+I$6*M3295)>(N3295),1,0)","v":0}]
[null,1384,"[D7-FR] Ensdorf - Vigy 2S [OPP] [D7]_LTA_corner#30_#10","10T-DE-FR-000068","[D7-D7] Ensdorf - Uchtelfangen Taubental N","11T0-0000-0604-N",0,0,0.1321,0.36112,-2.256E-2,0.92283999999999999,0,3231,{"$f":"IF((G3296*ALBE+H3296*ALDE+I3296*AT+J3296*BE+K3296*DE+L3296*FR+M3296*NL)>(N3296),1,0)","v":0},null,{"$f":"IF((C$6*G3296+D$6*H3296+E$6*I3296+F$6*J3296+G$6*K3296+H$6*L3296+I$6*M3296)>(N3296),1,0)","v":0}]
[null,1385,"[NL-D7] Maasbracht - Oberzier 380 white [OPP] [D7]","10T-DE-NL-00005N","[NL-D7] Maasbracht - Siersdorf 380 black","10T-DE-NL-00006L",-0.30696000000000001,0.17480999999999999,-2.3E-3,-0.27022000000000002,-7.6699999999999997E-3,-8.0180000000000001E-2,-0.25268000000000002,2127,{"$f":"IF((G3297*ALBE+H3297*ALDE+I3297*AT+J3297*BE+K3297*DE+L3297*FR+M3297*NL)>(N3297),1,0)","v":0},null,{"$f":"IF((C$6*G3297+D$6*H3297+E$6*I3297+F$6*J3297+G$6*K3297+H$6*L3297+I$6*M3297)>(N3297),1,0)","v":0}]
[null,1386,"[BE-BE] PST_ZANDV_2 [N - S]_LTA_corner#13_#16","22T20161020---56","[NL-BE] Rilland - Zandvliet 380 White/30","10T-BE-NL-00004C",0,0,-0.34636,-0.74182000000000003,-0.29138999999999998,-0.49480000000000002,0,1846,{"$f":"IF((G3298*ALBE+H3298*ALDE+I3298*AT+J3298*BE+K3298*DE+L3298*FR+M3298*NL)>(N3298),1,0)","v":0},null,{"$f":"IF((C$6*G3298+D$6*H3298+E$6*I3298+F$6*J3298+G$6*K3298+H$6*L3298+I$6*M3298)>(N3298),1,0)","v":0}]
[null,1387,"[D2-AT] Y - St. Peter (- Altheim - Simbach) 234/230 [OPP] [D2]_LTA_corner#32_#0","10T-AT-DE-000045","[D2-AT] Y - St. Peter (- Altheim - Simbach) 233/230 ","10T-AT-DE-00001B",0,0,0.99860000000000004,-1.8799999999999999E-3,-3.5889999999999998E-2,3.8699999999999998E-2,0,5205,{"$f":"IF((G3299*ALBE+H3299*ALDE+I3299*AT+J3299*BE+K3299*DE+L3299*FR+M3299*NL)>(N3299),1,0)","v":0},null,{"$f":"IF((C$6*G3299+D$6*H3299+E$6*I3299+F$6*J3299+G$6*K3299+H$6*L3299+I$6*M3299)>(N3299),1,0)","v":0}]
[null,1388,"[BE-FR] Achene - Lonny 380.19 [DIR] [BE]_LTA_corner#02_#28","10T-BE-FR-000015","[BE-BE] Avelgem - Horta 380.102","22T20161020---1E",0,0,-0.43458999999999998,0.22314999999999999,-0.29532999999999998,-0.82103999999999999,0,2366,{"$f":"IF((G3300*ALBE+H3300*ALDE+I3300*AT+J3300*BE+K3300*DE+L3300*FR+M3300*NL)>(N3300),1,0)","v":0},null,{"$f":"IF((C$6*G3300+D$6*H3300+E$6*I3300+F$6*J3300+G$6*K3300+H$6*L3300+I$6*M3300)>(N3300),1,0)","v":0}]
[null,1389,"[BE-FR] Achene - Lonny 380.19 [OPP] [BE]","10T-BE-FR-000015","[NL-BE] Maasbracht - Van Eyck 380 White/28","10T-BE-NL-00001I",-0.40078999999999998,-3.32E-2,9.3100000000000006E-3,-0.27811000000000002,-1.2579999999999999E-2,5.9610000000000003E-2,-7.8839999999999993E-2,2096,{"$f":"IF((G3301*ALBE+H3301*ALDE+I3301*AT+J3301*BE+K3301*DE+L3301*FR+M3301*NL)>(N3301),1,0)","v":0},null,{"$f":"IF((C$6*G3301+D$6*H3301+E$6*I3301+F$6*J3301+G$6*K3301+H$6*L3301+I$6*M3301)>(N3301),1,0)","v":0}]
[null,1390,"[D7-FR] Ensdorf - Vigy 2S [OPP] [D7]_LTA_corner#30_#1","10T-DE-FR-000068","[D7-D7] Ensdorf - Uchtelfangen Taubental N","11T0-0000-0604-N",0,0,0.13782,0.36309999999999998,-1.6389999999999998E-2,0.92135,0,3205,{"$f":"IF((G3302*ALBE+H3302*ALDE+I3302*AT+J3302*BE+K3302*DE+L3302*FR+M3302*NL)>(N3302),1,0)","v":0},null,{"$f":"IF((C$6*G3302+D$6*H3302+E$6*I3302+F$6*J3302+G$6*K3302+H$6*L3302+I$6*M3302)>(N3302),1,0)","v":0}]

{"sheet":"LTN","index":7,"n_rows":29,"n_cols":13,"rows_kept":29,"cut":false,"hidden":false,"merged":[[3,1,3,12]]}
[]
["Date:","2020-11-04",null,"The data for 2020-11-04 has been retrieved successfully."]
[]
[null,"LT Nominations (in MW)"]
["Hour","AT-DE","DE-AT","BE-NL","NL-BE","DE-NL","NL-DE","BE-FR","FR-BE","FR-DE","DE-FR","BE-DE(DC)","DE-BE(DC)"]
[1,0,0,0,0,0,0,0,0,0,0,0,0]
[2,0,0,0,0,0,0,0,0,0,0,0,0]
[3,0,0,0,0,0,0,0,0,0,0,0,0]
[4,0,0,0,0,0,0,0,0,0,0,0,0]
[5,0,0,0,0,0,0,0,0,0,0,0,0]
[6,0,0,0,0,0,0,0,0,0,0,0,0]
[7,0,0,0,0,0,0,0,0,0,0,0,0]
[8,0,0,0,0,0,0,0,0,0,0,0,0]
[9,0,0,0,0,0,0,0,0,0,0,0,0]
[10,0,0,0,0,0,0,0,0,0,0,0,0]
[11,0,0,0,0,0,0,0,0,0,0,0,0]
[12,0,0,0,0,0,0,0,0,0,0,0,0]
[13,0,0,0,0,0,0,0,0,0,0,0,0]
[14,0,0,0,0,0,0,0,0,0,0,0,0]
[15,0,0,0,0,0,0,0,0,0,0,0,0]
[16,0,0,0,0,0,0,0,0,0,0,0,0]
[17,0,0,0,0,0,0,0,0,0,0,0,0]
[18,0,0,0,0,0,0,0,0,0,0,0,0]
[19,0,0,0,0,0,0,0,0,0,0,0,0]
[20,0,0,0,0,0,0,0,0,0,0,0,0]
[21,0,0,0,0,0,0,0,0,0,0,0,0]
[22,0,0,0,0,0,0,0,0,0,0,0,0]
[23,0,0,0,0,0,0,0,0,0,0,0,0]
[24,0,0,0,0,0,0,0,0,0,0,0,0]

{"sheet":"PTDFs","index":8,"n_rows":6,"n_cols":17,"rows_kept":6,"cut":false,"hidden":false,"merged":[]}
[null,null,"ALBE-hub","ALDE-hub","AT-hub (MW)","BE-hub (MW)","DE-hub (MW)","FR-hub (MW)","NL-hub (MW)","Sum"]
[null,"Test Hub to Hub",{"$f":"'CWE Market view'!E13","v":0},{"$f":"-'CWE Market view'!E13","v":0},{"$f":"-'CWE Market view'!E12","v":0},{"$f":"-'CWE Market view'!E13-'CWE Market view'!E16+'CWE Market view'!E18","v":0},{"$f":"'CWE Market view'!E12+'CWE Market view'!E13+'CWE Market view'!E14+'CWE Market view'!E15","v":0},{"$f":"-'CWE Market view'!E15-'CWE Market view'!E17-'CWE Market view'!E18","v":0},{"$f":"-'CWE Market view'!E14+'CWE Market view'!E16+'CWE Market view'!E17","v":0},{"$f":"SUM(C2:I2)","v":0}]
[null,"Test Hub Positions",{"$f":"'CWE Market view'!E21","v":0},{"$f":"'CWE Market view'!E22","v":0},{"$f":"'CWE Market view'!E23","v":0},{"$f":"'CWE Market view'!E25","v":0},{"$f":"'CWE Market view'!E24","v":0},{"$f":"'CWE Market view'!E26","v":0},{"$f":"'CWE Market view'!E27","v":0},{"$f":"SUM(C3:I3)","v":0}]
[]
[null,null,null,null,null,null,null,null,null,null,null,null,null,null,"Test Hub to Hub","# of constraints violated","Test Hub positions"]
[null,"ID","Critical Branch name","EIC code","Critical Outage name","EIC code","ALBE-hub","ALDE-hub","AT-hub","BE-hub","DE-hub","FR-hub","NL-hub","RAM (MW)",{"$f":"SUM(O7:O2000)","v":0},null,{"$f":"SUM(Q7:Q2000)","v":0}]

{"sheet":"Virgin domain final computation","index":9,"n_rows":4,"n_cols":31,"rows_kept":4,"cut":false,"hidden":false,"merged":[]}
[]
["Date:","2020-11-04",null,"The data for 2020-11-04 was not loaded automatically, please reselect the date in this sheet to load the data."]
[]
["FileId","DeliveryDate","Period","Row","OutageName","EIC_Code","CriticalBranchName","EIC_Code","Presolved","RemainingAvailableMargin","Fmax","Fref","FRM","FAV","AMR","MinRAMFactor","MinRAMFactorJustification","BiddingArea_Shortname","Factor","BiddingArea_Shortname","Factor","BiddingArea_Shortname","Factor","BiddingArea_Shortname","Factor","BiddingArea_Shortname","Factor","BiddingArea_Shortname","Factor","BiddingArea_Shortname","Factor"]

{"sheet":"ATCs","index":10,"n_rows":29,"n_cols":25,"rows_kept":29,"cut":false,"hidden":false,"merged":[[3,1,3,24]]}
[]
["Date:","2020-11-04",null,"The data for 2020-11-04 has been retrieved successfully."]
[]
[null,"ATC (in MW)"]
["Hour","FR-ES","ES-FR","DK1-DE","DE-DK1","FR-IT","IT-FR","AT-IT","IT-AT","SI-IT","IT-SI","SI-AT","AT-SI","SI-HR","HR-SI","BE-GB","GB-BE","DE-D2","D2-DE","DK-NL","NL-DK","NO-NL","NL-NO","BE-DE(DC)","DE-BE(DC)"]
[1,"N/A","N/A","N/A","N/A",3039,1259,295,145,"N/A","N/A",806,494,"N/A","N/A","N/A","N/A","N/A","N/A","N/A","N/A","N/A","N/A","N/A","N/A"]
[2,"N/A","N/A","N/A","N/A",3039,1259,295,145,"N/A","N/A",806,494,"N/A","N/A","N/A","N/A","N/A","N/A","N/A","N/A","N/A","N/A","N/A","N/A"]
[3,"N/A","N/A","N/A","N/A",3039,1259,295,145,"N/A","N/A",800,500,"N/A","N/A","N/A","N/A","N/A","N/A","N/A","N/A","N/A","N/A","N/A","N/A"]
[4,"N/A","N/A","N/A","N/A",3441,1259,295,145,"N/A","N/A",804,496,"N/A","N/A","N/A","N/A","N/A","N/A","N/A","N/A","N/A","N/A","N/A","N/A"]
[5,"N/A","N/A","N/A","N/A",3441,1259,295,145,"N/A","N/A",791,509,"N/A","N/A","N/A","N/A","N/A","N/A","N/A","N/A","N/A","N/A","N/A","N/A"]
[6,"N/A","N/A","N/A","N/A",3441,1259,295,145,"N/A","N/A",823,477,"N/A","N/A","N/A","N/A","N/A","N/A","N/A","N/A","N/A","N/A","N/A","N/A"]
[7,"N/A","N/A","N/A","N/A",3441,1259,295,145,"N/A","N/A",854,446,"N/A","N/A","N/A","N/A","N/A","N/A","N/A","N/A","N/A","N/A","N/A","N/A"]
[8,"N/A","N/A","N/A","N/A",3147,1094,315,100,"N/A","N/A",854,446,"N/A","N/A","N/A","N/A","N/A","N/A","N/A","N/A","N/A","N/A","N/A","N/A"]
[9,"N/A","N/A","N/A","N/A",3147,1094,315,100,"N/A","N/A",854,446,"N/A","N/A","N/A","N/A","N/A","N/A","N/A","N/A","N/A","N/A","N/A","N/A"]
[10,"N/A","N/A","N/A","N/A",2912,1094,305,100,"N/A","N/A",854,446,"N/A","N/A","N/A","N/A","N/A","N/A","N/A","N/A","N/A","N/A","N/A","N/A"]
[11,"N/A","N/A","N/A","N/A",2912,1094,305,100,"N/A","N/A",854,446,"N/A","N/A","N/A","N/A","N/A","N/A","N/A","N/A","N/A","N/A","N/A","N/A"]
[12,"N/A","N/A","N/A","N/A",2912,1094,305,100,"N/A","N/A",854,446,"N/A","N/A","N/A","N/A","N/A","N/A","N/A","N/A","N/A","N/A","N/A","N/A"]
[13,"N/A","N/A","N/A","N/A",3073,1094,315,100,"N/A","N/A",854,446,"N/A","N/A","N/A","N/A","N/A","N/A","N/A","N/A","N/A","N/A","N/A","N/A"]
[14,"N/A","N/A","N/A","N/A",3073,1094,315,100,"N/A","N/A",854,446,"N/A","N/A","N/A","N/A","N/A","N/A","N/A","N/A","N/A","N/A","N/A","N/A"]
[15,"N/A","N/A","N/A","N/A",3073,1094,315,100,"N/A","N/A",854,446,"N/A","N/A","N/A","N/A","N/A","N/A","N/A","N/A","N/A","N/A","N/A","N/A"]
[16,"N/A","N/A","N/A","N/A",3144,1094,315,100,"N/A","N/A",854,446,"N/A","N/A","N/A","N/A","N/A","N/A","N/A","N/A","N/A","N/A","N/A","N/A"]
[17,"N/A","N/A","N/A","N/A",3144,1094,315,100,"N/A","N/A",854,446,"N/A","N/A","N/A","N/A","N/A","N/A","N/A","N/A","N/A","N/A","N/A","N/A"]
[18,"N/A","N/A","N/A","N/A",3144,1094,315,100,"N/A","N/A",854,446,"N/A","N/A","N/A","N/A","N/A","N/A","N/A","N/A","N/A","N/A","N/A","N/A"]
[19,"N/A","N/A","N/A","N/A",2800,1094,297,100,"N/A","N/A",854,446,"N/A","N/A","N/A","N/A","N/A","N/A","N/A","N/A","N/A","N/A","N/A","N/A"]
[20,"N/A","N/A","N/A","N/A",2800,1094,297,100,"N/A","N/A",854,446,"N/A","N/A","N/A","N/A","N/A","N/A","N/A","N/A","N/A","N/A","N/A","N/A"]
[21,"N/A","N/A","N/A","N/A",2800,1094,297,100,"N/A","N/A",818,482,"N/A","N/A","N/A","N/A","N/A","N/A","N/A","N/A","N/A","N/A","N/A","N/A"]
[22,"N/A","N/A","N/A","N/A",2893,1094,303,100,"N/A","N/A",805,495,"N/A","N/A","N/A","N/A","N/A","N/A","N/A","N/A","N/A","N/A","N/A","N/A"]
[23,"N/A","N/A","N/A","N/A",2893,1094,303,100,"N/A","N/A",800,500,"N/A","N/A","N/A","N/A","N/A","N/A","N/A","N/A","N/A","N/A","N/A","N/A"]
[24,"N/A","N/A","N/A","N/A",2728,1259,283,145,"N/A","N/A",801,499,"N/A","N/A","N/A","N/A","N/A","N/A","N/A","N/A","N/A","N/A","N/A","N/A"]

{"sheet":"Max net pos","index":11,"n_rows":337,"n_cols":25,"rows_kept":337,"cut":false,"hidden":false,"merged":[[197,0,210,0],[337,0,350,0],[1,0,14,0],[15,0,28,0],[29,0,42,0],[43,0,56,0],[57,0,70,0],[71,0,84,0],[85,0,98,0],[99,0,112,0],[113,0,126,0],[127,0,140,0],[141,0,154,0],[155,0,168,0],[169,0,182,0],[183,0,196,0],[295,0,308,0],[309,0,322,0],[323,0,336,0],[211,0,224,0],[225,0,238,0],[239,0,252,0],[253,0,266,0],[267,0,280,0],[281,0,294,0]]}
[null,"Prog","ALBE","ALDE","AT","BE","DE","FR","NL",null,"hour","Min ALBE","Max ALBE","Min ALDE","Max ALDE","Min AT","Max AT","Min BE","Max BE","Min DE","Max DE","Min FR","Max FR","Min NL","Max NL"]
["hour 1","MinALBE",{"$f":"L2","v":0},null,null,null,null,null,null,null,1,0,0,0,0,-5508,5234,-4679,3288,-11538,9121,-6180,6782,-3495,4831]
[null,"MaxALBE",{"$f":"M2","v":0},null,null,null,null,null,null,null,2,0,0,0,0,-5676,5186,-4737,3667,-11325,8981,-6190,6755,-3959,3769]
[null,"MinALDE",null,{"$f":"N2","v":0},null,null,null,null,null,null,3,0,0,0,0,-5502,5346,-4752,3630,-10946,9282,-6508,6396,-3878,3156]
[null,"MaxALDE",null,{"$f":"O2","v":0},null,null,null,null,null,null,4,0,0,0,0,-5148,5531,-4768,3633,-11131,9303,-6637,6417,-3879,3137]
[null,"MinAT",null,null,{"$f":"P2","v":-5508},null,null,null,null,null,5,0,0,0,0,-5323,5377,-4746,3191,-11262,9146,-6375,6436,-3770,4459]
[null,"MaxAT",null,null,{"$f":"Q2","v":5234},null,null,null,null,null,6,0,0,0,0,-5602,5033,-4908,3141,-10444,10215,-7003,6287,-3377,4396]
[null,"MinBE",null,null,null,{"$f":"R2","v":-4679},null,null,null,null,7,0,0,0,0,-4943,5126,-5243,3430,-10711,10486,-7566,6409,-5750,3245]
[null,"MaxBE",null,null,null,{"$f":"S2","v":3288},null,null,null,null,8,0,0,0,0,-4821,4942,-5256,3142,-10506,9159,-6441,7035,-5418,3812]
[null,"MinDE",null,null,null,null,{"$f":"T2","v":-11538},null,null,null,9,0,0,0,0,-4821,5054,-5094,3129,-10097,8992,-6146,6693,-5548,3462]
[null,"MaxDE",null,null,null,null,{"$f":"U2","v":9121},null,null,null,10,0,0,0,0,-4821,5062,-5036,3085,-10679,9350,-6309,6647,-4749,4007]
[null,"MinFR",null,null,null,null,null,{"$f":"V2","v":-6180},null,null,11,0,0,0,0,-4821,5149,-5013,3245,-11099,9179,-6216,6678,-4668,4038]
[null,"MaxFR",null,null,null,null,null,{"$f":"W2","v":6782},null,null,12,0,0,0,0,-4821,5513,-5112,3569,-11152,9075,-6474,6738,-5373,3497]
[null,"MinNL",null,null,null,null,null,null,{"$f":"X2","v":-3495},null,13,0,0,0,0,-4821,5448,-5078,3540,-10915,8744,-6298,6644,-5216,3486]
[null,"MaxNL",null,null,null,null,null,null,{"$f":"Y2","v":4831},null,14,0,0,0,0,-4821,5712,-4983,3573,-11116,8655,-6299,6561,-5117,3480]
["hour 2","MinALBE",{"$f":"L3","v":0},null,null,null,null,null,null,null,15,0,0,0,0,-4821,5619,-4872,3569,-10882,8101,-6292,6497,-5374,3471]
[null,"MaxALBE",{"$f":"M3","v":0},null,null,null,null,null,null,null,16,0,0,0,0,-4821,5222,-5091,3662,-10440,9506,-7012,6322,-6209,3471]
[null,"MinALDE",null,{"$f":"N3","v":0},null,null,null,null,null,null,17,0,0,0,0,-4821,5421,-4914,3257,-11095,9554,-6782,6334,-4984,4035]
[null,"MaxALDE",null,{"$f":"O3","v":0},null,null,null,null,null,null,18,0,0,0,0,-4821,5609,-5093,3139,-11053,9842,-6973,5508,-5728,4082]
[null,"MinAT",null,null,{"$f":"P3","v":-5676},null,null,null,null,null,19,0,0,0,0,-4821,5444,-6053,2948,-10558,10869,-7177,6000,-6003,4011]
[null,"MaxAT",null,null,{"$f":"Q3","v":5186},null,null,null,null,null,20,0,0,0,0,-4821,6395,-6200,3008,-12342,10390,-7067,6596,-5969,4091]
[null,"MinBE",null,null,null,{"$f":"R3","v":-4737},null,null,null,null,21,0,0,0,0,-4821,5769,-6458,3079,-13235,10618,-6560,7639,-5518,4472]
[null,"MaxBE",null,null,null,{"$f":"S3","v":3667},null,null,null,null,22,0,0,0,0,-4859,5478,-6586,3277,-11520,12251,-7499,6817,-5887,3785]
[null,"MinDE",null,null,null,null,{"$f":"T3","v":-11325},null,null,null,23,0,0,0,0,-5006,5221,-6615,3268,-10682,12906,-7643,6483,-5698,4084]
[null,"MaxDE",null,null,null,null,{"$f":"U3","v":8981},null,null,null,24,0,0,0,0,-5662,5071,-6570,3318,-10985,12808,-7557,6765,-5453,4844]
[null,"MinFR",null,null,null,null,null,{"$f":"V3","v":-6190}]
[null,"MaxFR",null,null,null,null,null,{"$f":"W3","v":6755}]
[null,"MinNL",null,null,null,null,null,null,{"$f":"X3","v":-3959}]
[null,"MaxNL",null,null,null,null,null,null,{"$f":"Y3","v":3769}]
["hour 3","MinALBE",{"$f":"L4","v":0}]
[null,"MaxALBE",{"$f":"M4","v":0}]
[null,"MinALDE",null,{"$f":"N4","v":0}]
[null,"MaxALDE",null,{"$f":"O4","v":0}]
[null,"MinAT",null,null,{"$f":"P4","v":-5502}]
[null,"MaxAT",null,null,{"$f":"Q4","v":5346}]
[null,"MinBE",null,null,null,{"$f":"R4","v":-4752}]
[null,"MaxBE",null,null,null,{"$f":"S4","v":3630}]
[null,"MinDE",null,null,null,null,{"$f":"T4","v":-10946}]
[null,"MaxDE",null,null,null,null,{"$f":"U4","v":9282}]
[null,"MinFR",null,null,null,null,null,{"$f":"V4","v":-6508}]
[null,"MaxFR",null,null,null,null,null,{"$f":"W4","v":6396}]
[null,"MinNL",null,null,null,null,null,null,{"$f":"X4","v":-3878}]
[null,"MaxNL",null,null,null,null,null,null,{"$f":"Y4","v":3156}]
["hour 4","MinALBE",{"$f":"L5","v":0}]
[null,"MaxALBE",{"$f":"M5","v":0}]
[null,"MinALDE",null,{"$f":"N5","v":0}]
[null,"MaxALDE",null,{"$f":"O5","v":0}]
[null,"MinAT",null,null,{"$f":"P5","v":-5148}]
[null,"MaxAT",null,null,{"$f":"Q5","v":5531}]
[null,"MinBE",null,null,null,{"$f":"R5","v":-4768}]
[null,"MaxBE",null,null,null,{"$f":"S5","v":3633}]
[null,"MinDE",null,null,null,null,{"$f":"T5","v":-11131}]
[null,"MaxDE",null,null,null,null,{"$f":"U5","v":9303}]
[null,"MinFR",null,null,null,null,null,{"$f":"V5","v":-6637}]
[null,"MaxFR",null,null,null,null,null,{"$f":"W5","v":6417}]
[null,"MinNL",null,null,null,null,null,null,{"$f":"X5","v":-3879}]
[null,"MaxNL",null,null,null,null,null,null,{"$f":"Y5","v":3137}]
["hour 5","MinALBE",{"$f":"L6","v":0}]
[null,"MaxALBE",{"$f":"M6","v":0}]
[null,"MinALDE",null,{"$f":"N6","v":0}]
[null,"MaxALDE",null,{"$f":"O6","v":0}]
[null,"MinAT",null,null,{"$f":"P6","v":-5323}]
[null,"MaxAT",null,null,{"$f":"Q6","v":5377}]
[null,"MinBE",null,null,null,{"$f":"R6","v":-4746}]
[null,"MaxBE",null,null,null,{"$f":"S6","v":3191}]
[null,"MinDE",null,null,null,null,{"$f":"T6","v":-11262}]
[null,"MaxDE",null,null,null,null,{"$f":"U6","v":9146}]
[null,"MinFR",null,null,null,null,null,{"$f":"V6","v":-6375}]
[null,"MaxFR",null,null,null,null,null,{"$f":"W6","v":6436}]
[null,"MinNL",null,null,null,null,null,null,{"$f":"X6","v":-3770}]
[null,"MaxNL",null,null,null,null,null,null,{"$f":"Y6","v":4459}]
["hour 6","MinALBE",{"$f":"L7","v":0}]
[null,"MaxALBE",{"$f":"M7","v":0}]
[null,"MinALDE",null,{"$f":"N7","v":0}]
[null,"MaxALDE",null,{"$f":"O7","v":0}]
[null,"MinAT",null,null,{"$f":"P7","v":-5602}]
[null,"MaxAT",null,null,{"$f":"Q7","v":5033}]
[null,"MinBE",null,null,null,{"$f":"R7","v":-4908}]
[null,"MaxBE",null,null,null,{"$f":"S7","v":3141}]
[null,"MinDE",null,null,null,null,{"$f":"T7","v":-10444}]
[null,"MaxDE",null,null,null,null,{"$f":"U7","v":10215}]
[null,"MinFR",null,null,null,null,null,{"$f":"V7","v":-7003}]
[null,"MaxFR",null,null,null,null,null,{"$f":"W7","v":6287}]
[null,"MinNL",null,null,null,null,null,null,{"$f":"X7","v":-3377}]
[null,"MaxNL",null,null,null,null,null,null,{"$f":"Y7","v":4396}]
["hour 7","MinALBE",{"$f":"L8","v":0}]
[null,"MaxALBE",{"$f":"M8","v":0}]
[null,"MinALDE",null,{"$f":"N8","v":0}]
[null,"MaxALDE",null,{"$f":"O8","v":0}]
[null,"MinAT",null,null,{"$f":"P8","v":-4943}]
[null,"MaxAT",null,null,{"$f":"Q8","v":5126}]
[null,"MinBE",null,null,null,{"$f":"R8","v":-5243}]
[null,"MaxBE",null,null,null,{"$f":"S8","v":3430}]
[null,"MinDE",null,null,null,null,{"$f":"T8","v":-10711}]
[null,"MaxDE",null,null,null,null,{"$f":"U8","v":10486}]
[null,"MinFR",null,null,null,null,null,{"$f":"V8","v":-7566}]
[null,"MaxFR",null,null,null,null,null,{"$f":"W8","v":6409}]
[null,"MinNL",null,null,null,null,null,null,{"$f":"X8","v":-5750}]
[null,"MaxNL",null,null,null,null,null,null,{"$f":"Y8","v":3245}]
["hour 8","MinALBE",{"$f":"L9","v":0}]
[null,"MaxALBE",{"$f":"M9","v":0}]
[null,"MinALDE",null,{"$f":"N9","v":0}]
[null,"MaxALDE",null,{"$f":"O9","v":0}]
[null,"MinAT",null,null,{"$f":"P9","v":-4821}]
[null,"MaxAT",null,null,{"$f":"Q9","v":4942}]
[null,"MinBE",null,null,null,{"$f":"R9","v":-5256}]
[null,"MaxBE",null,null,null,{"$f":"S9","v":3142}]
[null,"MinDE",null,null,null,null,{"$f":"T9","v":-10506}]
[null,"MaxDE",null,null,null,null,{"$f":"U9","v":9159}]
[null,"MinFR",null,null,null,null,null,{"$f":"V9","v":-6441}]
[null,"MaxFR",null,null,null,null,null,{"$f":"W9","v":7035}]
[null,"MinNL",null,null,null,null,null,null,{"$f":"X9","v":-5418}]
[null,"MaxNL",null,null,null,null,null,null,{"$f":"Y9","v":3812}]
["hour 9","MinALBE",{"$f":"L10","v":0}]
[null,"MaxALBE",{"$f":"M10","v":0}]
[null,"MinALDE",null,{"$f":"N10","v":0}]
[null,"MaxALDE",null,{"$f":"O10","v":0}]
[null,"MinAT",null,null,{"$f":"P10","v":-4821}]
[null,"MaxAT",null,null,{"$f":"Q10","v":5054}]
[null,"MinBE",null,null,null,{"$f":"R10","v":-5094}]
[null,"MaxBE",null,null,null,{"$f":"S10","v":3129}]
[null,"MinDE",null,null,null,null,{"$f":"T10","v":-10097}]
[null,"MaxDE",null,null,null,null,{"$f":"U10","v":8992}]
[null,"MinFR",null,null,null,null,null,{"$f":"V10","v":-6146}]
[null,"MaxFR",null,null,null,null,null,{"$f":"W10","v":6693}]
[null,"MinNL",null,null,null,null,null,null,{"$f":"X10","v":-5548}]
[null,"MaxNL",null,null,null,null,null,null,{"$f":"Y10","v":3462}]
["hour 10","MinALBE",{"$f":"L11","v":0}]
[null,"MaxALBE",{"$f":"M11","v":0}]
[null,"MinALDE",null,{"$f":"N11","v":0}]
[null,"MaxALDE",null,{"$f":"O11","v":0}]
[null,"MinAT",null,null,{"$f":"P11","v":-4821}]
[null,"MaxAT",null,null,{"$f":"Q11","v":5062}]
[null,"MinBE",null,null,null,{"$f":"R11","v":-5036}]
[null,"MaxBE",null,null,null,{"$f":"S11","v":3085}]
[null,"MinDE",null,null,null,null,{"$f":"T11","v":-10679}]
[null,"MaxDE",null,null,null,null,{"$f":"U11","v":9350}]
[null,"MinFR",null,null,null,null,null,{"$f":"V11","v":-6309}]
[null,"MaxFR",null,null,null,null,null,{"$f":"W11","v":6647}]
[null,"MinNL",null,null,null,null,null,null,{"$f":"X11","v":-4749}]
[null,"MaxNL",null,null,null,null,null,null,{"$f":"Y11","v":4007}]
["hour 11","MinALBE",{"$f":"L12","v":0}]
[null,"MaxALBE",{"$f":"M12","v":0}]
[null,"MinALDE",null,{"$f":"N12","v":0}]
[null,"MaxALDE",null,{"$f":"O12","v":0}]
[null,"MinAT",null,null,{"$f":"P12","v":-4821}]
[null,"MaxAT",null,null,{"$f":"Q12","v":5149}]
[null,"MinBE",null,null,null,{"$f":"R12","v":-5013}]
[null,"MaxBE",null,null,null,{"$f":"S12","v":3245}]
[null,"MinDE",null,null,null,null,{"$f":"T12","v":-11099}]
[null,"MaxDE",null,null,null,null,{"$f":"U12","v":9179}]
[null,"MinFR",null,null,null,null,null,{"$f":"V12","v":-6216}]
[null,"MaxFR",null,null,null,null,null,{"$f":"W12","v":6678}]
[null,"MinNL",null,null,null,null,null,null,{"$f":"X12","v":-4668}]
[null,"MaxNL",null,null,null,null,null,null,{"$f":"Y12","v":4038}]
["hour 12","MinALBE",{"$f":"L13","v":0}]
[null,"MaxALBE",{"$f":"M13","v":0}]
[null,"MinALDE",null,{"$f":"N13","v":0}]
[null,"MaxALDE",null,{"$f":"O13","v":0}]
[null,"MinAT",null,null,{"$f":"P13","v":-4821}]
[null,"MaxAT",null,null,{"$f":"Q13","v":5513}]
[null,"MinBE",null,null,null,{"$f":"R13","v":-5112}]
[null,"MaxBE",null,null,null,{"$f":"S13","v":3569}]
[null,"MinDE",null,null,null,null,{"$f":"T13","v":-11152}]
[null,"MaxDE",null,null,null,null,{"$f":"U13","v":9075}]
[null,"MinFR",null,null,null,null,null,{"$f":"V13","v":-6474}]
[null,"MaxFR",null,null,null,null,null,{"$f":"W13","v":6738}]
[null,"MinNL",null,null,null,null,null,null,{"$f":"X13","v":-5373}]
[null,"MaxNL",null,null,null,null,null,null,{"$f":"Y13","v":3497}]
["hour 13","MinALBE",{"$f":"L14","v":0}]
[null,"MaxALBE",{"$f":"M14","v":0}]
[null,"MinALDE",null,{"$f":"N14","v":0}]
[null,"MaxALDE",null,{"$f":"O14","v":0}]
[null,"MinAT",null,null,{"$f":"P14","v":-4821}]
[null,"MaxAT",null,null,{"$f":"Q14","v":5448}]
[null,"MinBE",null,null,null,{"$f":"R14","v":-5078}]
[null,"MaxBE",null,null,null,{"$f":"S14","v":3540}]
[null,"MinDE",null,null,null,null,{"$f":"T14","v":-10915}]
[null,"MaxDE",null,null,null,null,{"$f":"U14","v":8744}]
[null,"MinFR",null,null,null,null,null,{"$f":"V14","v":-6298}]
[null,"MaxFR",null,null,null,null,null,{"$f":"W14","v":6644}]
[null,"MinNL",null,null,null,null,null,null,{"$f":"X14","v":-5216}]
[null,"MaxNL",null,null,null,null,null,null,{"$f":"Y14","v":3486}]
["hour 14","MinALBE",{"$f":"L15","v":0}]
[null,"MaxALBE",{"$f":"M15","v":0}]
[null,"MinALDE",null,{"$f":"N15","v":0}]
[null,"MaxALDE",null,{"$f":"O15","v":0}]
[null,"MinAT",null,null,{"$f":"P15","v":-4821}]
[null,"MaxAT",null,null,{"$f":"Q15","v":5712}]
[null,"MinBE",null,null,null,{"$f":"R15","v":-4983}]
[null,"MaxBE",null,null,null,{"$f":"S15","v":3573}]
[null,"MinDE",null,null,null,null,{"$f":"T15","v":-11116}]
[null,"MaxDE",null,null,null,null,{"$f":"U15","v":8655}]
[null,"MinFR",null,null,null,null,null,{"$f":"V15","v":-6299}]
[null,"MaxFR",null,null,null,null,null,{"$f":"W15","v":6561}]
[null,"MinNL",null,null,null,null,null,null,{"$f":"X15","v":-5117}]
[null,"MaxNL",null,null,null,null,null,null,{"$f":"Y15","v":3480}]
["hour 15","MinALBE",{"$f":"L16","v":0}]
[null,"MaxALBE",{"$f":"M16","v":0}]
[null,"MinALDE",null,{"$f":"N16","v":0}]
[null,"MaxALDE",null,{"$f":"O16","v":0}]
[null,"MinAT",null,null,{"$f":"P16","v":-4821}]
[null,"MaxAT",null,null,{"$f":"Q16","v":5619}]
[null,"MinBE",null,null,null,{"$f":"R16","v":-4872}]
[null,"MaxBE",null,null,null,{"$f":"S16","v":3569}]
[null,"MinDE",null,null,null,null,{"$f":"T16","v":-10882}]
[null,"MaxDE",null,null,null,null,{"$f":"U16","v":8101}]
[null,"MinFR",null,null,null,null,null,{"$f":"V16","v":-6292}]
[null,"MaxFR",null,null,null,null,null,{"$f":"W16","v":6497}]
[null,"MinNL",null,null,null,null,null,null,{"$f":"X16","v":-5374}]
[null,"MaxNL",null,null,null,null,null,null,{"$f":"Y16","v":3471}]
["hour 16","MinALBE",{"$f":"L17","v":0}]
[null,"MaxALBE",{"$f":"M17","v":0}]
[null,"MinALDE",null,{"$f":"N17","v":0}]
[null,"MaxALDE",null,{"$f":"O17","v":0}]
[null,"MinAT",null,null,{"$f":"P17","v":-4821}]
[null,"MaxAT",null,null,{"$f":"Q17","v":5222}]
[null,"MinBE",null,null,null,{"$f":"R17","v":-5091}]
[null,"MaxBE",null,null,null,{"$f":"S17","v":3662}]
[null,"MinDE",null,null,null,null,{"$f":"T17","v":-10440}]
[null,"MaxDE",null,null,null,null,{"$f":"U17","v":9506}]
[null,"MinFR",null,null,null,null,null,{"$f":"V17","v":-7012}]
[null,"MaxFR",null,null,null,null,null,{"$f":"W17","v":6322}]
[null,"MinNL",null,null,null,null,null,null,{"$f":"X17","v":-6209}]
[null,"MaxNL",null,null,null,null,null,null,{"$f":"Y17","v":3471}]
["hour 17","MinALBE",{"$f":"L18","v":0}]
[null,"MaxALBE",{"$f":"M18","v":0}]
[null,"MinALDE",null,{"$f":"N18","v":0}]
[null,"MaxALDE",null,{"$f":"O18","v":0}]
[null,"MinAT",null,null,{"$f":"P18","v":-4821}]
[null,"MaxAT",null,null,{"$f":"Q18","v":5421}]
[null,"MinBE",null,null,null,{"$f":"R18","v":-4914}]
[null,"MaxBE",null,null,null,{"$f":"S18","v":3257}]
[null,"MinDE",null,null,null,null,{"$f":"T18","v":-11095}]
[null,"MaxDE",null,null,null,null,{"$f":"U18","v":9554}]
[null,"MinFR",null,null,null,null,null,{"$f":"V18","v":-6782}]
[null,"MaxFR",null,null,null,null,null,{"$f":"W18","v":6334}]
[null,"MinNL",null,null,null,null,null,null,{"$f":"X18","v":-4984}]
[null,"MaxNL",null,null,null,null,null,null,{"$f":"Y18","v":4035}]
["hour 18","MinALBE",{"$f":"L19","v":0}]
[null,"MaxALBE",{"$f":"M19","v":0}]
[null,"MinALDE",null,{"$f":"N19","v":0}]
[null,"MaxALDE",null,{"$f":"O19","v":0}]
[null,"MinAT",null,null,{"$f":"P19","v":-4821}]
[null,"MaxAT",null,null,{"$f":"Q19","v":5609}]
[null,"MinBE",null,null,null,{"$f":"R19","v":-5093}]
[null,"MaxBE",null,null,null,{"$f":"S19","v":3139}]
[null,"MinDE",null,null,null,null,{"$f":"T19","v":-11053}]
[null,"MaxDE",null,null,null,null,{"$f":"U19","v":9842}]
[null,"MinFR",null,null,null,null,null,{"$f":"V19","v":-6973}]
[null,"MaxFR",null,null,null,null,null,{"$f":"W19","v":5508}]
[null,"MinNL",null,null,null,null,null,null,{"$f":"X19","v":-5728}]
[null,"MaxNL",null,null,null,null,null,null,{"$f":"Y19","v":4082}]
["hour 19","MinALBE",{"$f":"L20","v":0}]
[null,"MaxALBE",{"$f":"M20","v":0}]
[null,"MinALDE",null,{"$f":"N20","v":0}]
[null,"MaxALDE",null,{"$f":"O20","v":0}]
[null,"MinAT",null,null,{"$f":"P20","v":-4821}]
[null,"MaxAT",null,null,{"$f":"Q20","v":5444}]
[null,"MinBE",null,null,null,{"$f":"R20","v":-6053}]
[null,"MaxBE",null,null,null,{"$f":"S20","v":2948}]
[null,"MinDE",null,null,null,null,{"$f":"T20","v":-10558}]
[null,"MaxDE",null,null,null,null,{"$f":"U20","v":10869}]
[null,"MinFR",null,null,null,null,null,{"$f":"V20","v":-7177}]
[null,"MaxFR",null,null,null,null,null,{"$f":"W20","v":6000}]
[null,"MinNL",null,null,null,null,null,null,{"$f":"X20","v":-6003}]
[null,"MaxNL",null,null,null,null,null,null,{"$f":"Y20","v":4011}]
["hour 20","MinALBE",{"$f":"L21","v":0}]
[null,"MaxALBE",{"$f":"M21","v":0}]
[null,"MinALDE",null,{"$f":"N21","v":0}]
[null,"MaxALDE",null,{"$f":"O21","v":0}]
[null,"MinAT",null,null,{"$f":"P21","v":-4821}]
[null,"MaxAT",null,null,{"$f":"Q21","v":6395}]
[null,"MinBE",null,null,null,{"$f":"R21","v":-6200}]
[null,"MaxBE",null,null,null,{"$f":"S21","v":3008}]
[null,"MinDE",null,null,null,null,{"$f":"T21","v":-12342}]
[null,"MaxDE",null,null,null,null,{"$f":"U21","v":10390}]
[null,"MinFR",null,null,null,null,null,{"$f":"V21","v":-7067}]
[null,"MaxFR",null,null,null,null,null,{"$f":"W21","v":6596}]
[null,"MinNL",null,null,null,null,null,null,{"$f":"X21","v":-5969}]
[null,"MaxNL",null,null,null,null,null,null,{"$f":"Y21","v":4091}]
["hour 21","MinALBE",{"$f":"L22","v":0}]
[null,"MaxALBE",{"$f":"M22","v":0}]
[null,"MinALDE",null,{"$f":"N22","v":0}]
[null,"MaxALDE",null,{"$f":"O22","v":0}]
[null,"MinAT",null,null,{"$f":"P22","v":-4821}]
[null,"MaxAT",null,null,{"$f":"Q22","v":5769}]
[null,"MinBE",null,null,null,{"$f":"R22","v":-6458}]
[null,"MaxBE",null,null,null,{"$f":"S22","v":3079}]
[null,"MinDE",null,null,null,null,{"$f":"T22","v":-13235}]
[null,"MaxDE",null,null,null,null,{"$f":"U22","v":10618}]
[null,"MinFR",null,null,null,null,null,{"$f":"V22","v":-6560}]
[null,"MaxFR",null,null,null,null,null,{"$f":"W22","v":7639}]
[null,"MinNL",null,null,null,null,null,null,{"$f":"X22","v":-5518}]
[null,"MaxNL",null,null,null,null,null,null,{"$f":"Y22","v":4472}]
["hour 22","MinALBE",{"$f":"L23","v":0}]
[null,"MaxALBE",{"$f":"M23","v":0}]
[null,"MinALDE",null,{"$f":"N23","v":0}]
[null,"MaxALDE",null,{"$f":"O23","v":0}]
[null,"MinAT",null,null,{"$f":"P23","v":-4859}]
[null,"MaxAT",null,null,{"$f":"Q23","v":5478}]
[null,"MinBE",null,null,null,{"$f":"R23","v":-6586}]
[null,"MaxBE",null,null,null,{"$f":"S23","v":3277}]
[null,"MinDE",null,null,null,null,{"$f":"T23","v":-11520}]
[null,"MaxDE",null,null,null,null,{"$f":"U23","v":12251}]
[null,"MinFR",null,null,null,null,null,{"$f":"V23","v":-7499}]
[null,"MaxFR",null,null,null,null,null,{"$f":"W23","v":6817}]
[null,"MinNL",null,null,null,null,null,null,{"$f":"X23","v":-5887}]
[null,"MaxNL",null,null,null,null,null,null,{"$f":"Y23","v":3785}]
["hour 23","MinALBE",{"$f":"L24","v":0}]
[null,"MaxALBE",{"$f":"M24","v":0}]
[null,"MinALDE",null,{"$f":"N24","v":0}]
[null,"MaxALDE",null,{"$f":"O24","v":0}]
[null,"MinAT",null,null,{"$f":"P24","v":-5006}]
[null,"MaxAT",null,null,{"$f":"Q24","v":5221}]
[null,"MinBE",null,null,null,{"$f":"R24","v":-6615}]
[null,"MaxBE",null,null,null,{"$f":"S24","v":3268}]
[null,"MinDE",null,null,null,null,{"$f":"T24","v":-10682}]
[null,"MaxDE",null,null,null,null,{"$f":"U24","v":12906}]
[null,"MinFR",null,null,null,null,null,{"$f":"V24","v":-7643}]
[null,"MaxFR",null,null,null,null,null,{"$f":"W24","v":6483}]
[null,"MinNL",null,null,null,null,null,null,{"$f":"X24","v":-5698}]
[null,"MaxNL",null,null,null,null,null,null,{"$f":"Y24","v":4084}]
["hour 24","MinALBE",{"$f":"L25","v":0}]
[null,"MaxALBE",{"$f":"M25","v":0}]
[null,"MinALDE",null,{"$f":"N25","v":0}]
[null,"MaxALDE",null,{"$f":"O25","v":0}]
[null,"MinAT",null,null,{"$f":"P25","v":-5662}]
[null,"MaxAT",null,null,{"$f":"Q25","v":5071}]
[null,"MinBE",null,null,null,{"$f":"R25","v":-6570}]
[null,"MaxBE",null,null,null,{"$f":"S25","v":3318}]
[null,"MinDE",null,null,null,null,{"$f":"T25","v":-10985}]
[null,"MaxDE",null,null,null,null,{"$f":"U25","v":12808}]
[null,"MinFR",null,null,null,null,null,{"$f":"V25","v":-7557}]
[null,"MaxFR",null,null,null,null,null,{"$f":"W25","v":6765}]
[null,"MinNL",null,null,null,null,null,null,{"$f":"X25","v":-5453}]
[null,"MaxNL",null,null,null,null,null,null,{"$f":"Y25","v":4844}]

{"sheet":"Max exchanges (Maxbex)","index":12,"n_rows":481,"n_cols":25,"rows_kept":481,"cut":false,"hidden":false,"merged":[[281,0,300,0],[481,0,500,0],[1,0,20,0],[21,0,40,0],[41,0,60,0],[61,0,80,0],[81,0,100,0],[101,0,120,0],[121,0,140,0],[141,0,160,0],[161,0,180,0],[181,0,200,0],[201,0,220,0],[221,0,240,0],[241,0,260,0],[261,0,280,0],[421,0,440,0],[441,0,460,0],[461,0,480,0],[301,0,320,0],[321,0,340,0],[341,0,360,0],[361,0,380,0],[381,0,400,0],[401,0,420,0]]}
[null,"Direction","Exchange",null,"hour","Max AT=>BE","Max AT=>DE","Max AT=>FR","Max AT=>NL","Max BE=>AT","Max BE=>DE","Max BE=>FR","Max BE=>NL","Max DE=>AT","Max DE=>BE","Max DE=>FR","Max DE=>NL","Max FR=>AT","Max FR=>BE","Max FR=>DE","Max FR=>NL","Max NL=>AT","Max NL=>BE","Max NL=>DE","Max NL=>FR"]
["hour 1","Max AT=>BE",{"$f":"F2","v":3800},null,1,3800,5008,4003,1982,2746,2904,2022,2781,5068,3519,4946,1982,4709,4333,3939,2669,3936,2393,4305,2589]
[null,"Max AT=>DE",{"$f":"G2","v":5008},null,2,3982,4992,4003,2023,2794,3133,2054,3159,5235,3469,5016,2023,4695,4310,3927,2862,3437,2337,3643,2489]
[null,"Max AT=>FR",{"$f":"H2","v":4003},null,3,4054,5039,4050,2019,2943,3041,2104,3249,5136,3704,5272,2019,4310,4171,3607,2838,2997,2349,3021,2506]
[null,"Max AT=>NL",{"$f":"I2","v":1982},null,4,4072,5155,4198,2022,2838,3001,2107,3261,4956,3736,5295,2022,4454,4171,3724,2842,2981,2352,3005,2511]
[null,"Max BE=>AT",{"$f":"J2","v":2746},null,5,3949,5129,4173,2023,2747,2675,2048,2836,5053,3648,5071,2023,4321,4288,3612,2851,3079,2367,3278,2530]
[null,"Max BE=>DE",{"$f":"K2","v":2904},null,6,4111,4955,4134,1967,2779,2675,2117,2778,5369,3726,5337,1967,4028,4153,3377,2586,4002,2446,3796,3063]
[null,"Max BE=>FR",{"$f":"L2","v":2022},null,7,4348,4982,4187,4204,2586,2480,2132,2685,4849,4010,5252,3509,4399,4166,3632,4352,3019,2418,3052,2801]
[null,"Max BE=>NL",{"$f":"M2","v":2781},null,8,4143,4879,4187,3142,2226,2451,1853,2739,4821,3750,4573,2726,4556,4815,3932,4308,3244,2391,3435,2496]
[null,"Max DE=>AT",{"$f":"N2","v":5068},null,9,3961,4964,4003,3329,2067,2242,1782,2791,4821,3642,4413,2822,4366,4751,3538,4079,3226,2373,3293,2467]
[null,"Max DE=>BE",{"$f":"O2","v":3519},null,10,3939,4980,4029,2935,2177,2396,1833,2805,4821,3602,4434,2584,4389,4666,3541,3694,3475,2412,3724,2532]
[null,"Max DE=>FR",{"$f":"P2","v":4946},null,11,3994,4995,3922,2823,2302,2570,1892,2968,4821,3630,4483,2522,4547,4527,3635,3613,3693,2428,3821,2559]
[null,"Max DE=>NL",{"$f":"Q2","v":1982},null,12,4140,5061,3983,3645,2407,2714,1945,3131,4821,3740,4603,3022,4616,4414,3814,4537,3244,2420,3294,2552]
[null,"Max FR=>AT",{"$f":"R2","v":4709},null,13,4077,5041,3994,3261,2343,2621,1915,3180,4821,3686,4537,2787,4527,4532,3629,4318,3223,2407,3293,2527]
[null,"Max FR=>BE",{"$f":"S2","v":4333},null,14,4060,5082,4081,3036,2404,2707,1942,3229,4821,3679,4578,2669,4479,4453,3590,4212,3119,2407,3293,2539]
[null,"Max FR=>DE",{"$f":"T2","v":3939},null,15,3959,5075,4132,2979,2412,2719,1946,3229,4821,3613,4577,2638,4401,4443,3553,4161,3084,2391,3288,2536]
[null,"Max FR=>NL",{"$f":"U2","v":2669},null,16,4030,5052,4259,4084,2403,2694,1931,3180,4821,3690,4629,3437,4168,4430,3453,3921,3245,2381,3291,2502]
[null,"Max NL=>AT",{"$f":"V2","v":3936},null,17,3846,5156,4264,3225,2308,2564,1881,2910,4821,3563,4526,2818,4169,4501,3445,3852,3487,2379,3714,2503]
[null,"Max NL=>BE",{"$f":"W2","v":2393},null,18,3768,5064,4272,4361,2465,2376,1924,2556,4821,3503,4384,3794,3383,4497,3070,3031,3718,2366,3812,2536]
[null,"Max NL=>DE",{"$f":"X2","v":4305},null,19,4168,5007,4239,4560,2082,2242,1757,2412,4821,3787,4275,4105,3515,5292,3139,3138,3750,2414,3814,2489]
[null,"Max NL=>FR",{"$f":"Y2","v":2589},null,20,4099,5658,4681,4628,1932,2061,1686,2604,4821,3715,4123,4047,3948,5350,3352,3440,3735,2393,3814,2422]
["hour 2","Max AT=>BE",{"$f":"F3","v":3982},null,21,4100,5037,4208,4347,1916,2039,1673,2586,4821,3664,4006,3839,4690,5484,4121,4393,3796,2396,4137,2388]
[null,"Max AT=>DE",{"$f":"G3","v":4992},null,22,4415,5136,4243,4554,2191,2395,1807,2930,4830,3958,4310,5172,4063,5733,3408,3626,3459,2429,3511,2462]
[null,"Max AT=>FR",{"$f":"H3","v":4003},null,23,4428,5086,4248,4555,2198,2397,1805,2895,4864,4037,4359,5034,3678,5426,3225,3327,3860,2422,3912,2439]
[null,"Max AT=>NL",{"$f":"I3","v":2023},null,24,4367,4954,4211,4517,2245,2460,1825,3092,5391,4083,4362,5075,3890,5675,3328,3479,3943,2432,4637,2443]
[null,"Max BE=>AT",{"$f":"J3","v":2794}]
[null,"Max BE=>DE",{"$f":"K3","v":3133}]
[null,"Max BE=>FR",{"$f":"L3","v":2054}]
[null,"Max BE=>NL",{"$f":"M3","v":3159}]
[null,"Max DE=>AT",{"$f":"N3","v":5235}]
[null,"Max DE=>BE",{"$f":"O3","v":3469}]
[null,"Max DE=>FR",{"$f":"P3","v":5016}]
[null,"Max DE=>NL",{"$f":"Q3","v":2023}]
[null,"Max FR=>AT",{"$f":"R3","v":4695}]
[null,"Max FR=>BE",{"$f":"S3","v":4310}]
[null,"Max FR=>DE",{"$f":"T3","v":3927}]
[null,"Max FR=>NL",{"$f":"U3","v":2862}]
[null,"Max NL=>AT",{"$f":"V3","v":3437}]
[null,"Max NL=>BE",{"$f":"W3","v":2337}]
[null,"Max NL=>DE",{"$f":"X3","v":3643}]
[null,"Max NL=>FR",{"$f":"Y3","v":2489}]
["hour 3","Max AT=>BE",{"$f":"F4","v":4054}]
[null,"Max AT=>DE",{"$f":"G4","v":5039}]
[null,"Max AT=>FR",{"$f":"H4","v":4050}]
[null,"Max AT=>NL",{"$f":"I4","v":2019}]
[null,"Max BE=>AT",{"$f":"J4","v":2943}]
[null,"Max BE=>DE",{"$f":"K4","v":3041}]
[null,"Max BE=>FR",{"$f":"L4","v":2104}]
[null,"Max BE=>NL",{"$f":"M4","v":3249}]
[null,"Max DE=>AT",{"$f":"N4","v":5136}]
[null,"Max DE=>BE",{"$f":"O4","v":3704}]
[null,"Max DE=>FR",{"$f":"P4","v":5272}]
[null,"Max DE=>NL",{"$f":"Q4","v":2019}]
[null,"Max FR=>AT",{"$f":"R4","v":4310}]
[null,"Max FR=>BE",{"$f":"S4","v":4171}]
[null,"Max FR=>DE",{"$f":"T4","v":3607}]
[null,"Max FR=>NL",{"$f":"U4","v":2838}]
[null,"Max NL=>AT",{"$f":"V4","v":2997}]
[null,"Max NL=>BE",{"$f":"W4","v":2349}]
[null,"Max NL=>DE",{"$f":"X4","v":3021}]
[null,"Max NL=>FR",{"$f":"Y4","v":2506}]
["hour 4","Max AT=>BE",{"$f":"F5","v":4072}]
[null,"Max AT=>DE",{"$f":"G5","v":5155}]
[null,"Max AT=>FR",{"$f":"H5","v":4198}]
[null,"Max AT=>NL",{"$f":"I5","v":2022}]
[null,"Max BE=>AT",{"$f":"J5","v":2838}]
[null,"Max BE=>DE",{"$f":"K5","v":3001}]
[null,"Max BE=>FR",{"$f":"L5","v":2107}]
[null,"Max BE=>NL",{"$f":"M5","v":3261}]
[null,"Max DE=>AT",{"$f":"N5","v":4956}]
[null,"Max DE=>BE",{"$f":"O5","v":3736}]
[null,"Max DE=>FR",{"$f":"P5","v":5295}]
[null,"Max DE=>NL",{"$f":"Q5","v":2022}]
[null,"Max FR=>AT",{"$f":"R5","v":4454}]
[null,"Max FR=>BE",{"$f":"S5","v":4171}]
[null,"Max FR=>DE",{"$f":"T5","v":3724}]
[null,"Max FR=>NL",{"$f":"U5","v":2842}]
[null,"Max NL=>AT",{"$f":"V5","v":2981}]
[null,"Max NL=>BE",{"$f":"W5","v":2352}]
[null,"Max NL=>DE",{"$f":"X5","v":3005}]
[null,"Max NL=>FR",{"$f":"Y5","v":2511}]
["hour 5","Max AT=>BE",{"$f":"F6","v":3949}]
[null,"Max AT=>DE",{"$f":"G6","v":5129}]
[null,"Max AT=>FR",{"$f":"H6","v":4173}]
[null,"Max AT=>NL",{"$f":"I6","v":2023}]
[null,"Max BE=>AT",{"$f":"J6","v":2747}]
[null,"Max BE=>DE",{"$f":"K6","v":2675}]
[null,"Max BE=>FR",{"$f":"L6","v":2048}]
[null,"Max BE=>NL",{"$f":"M6","v":2836}]
[null,"Max DE=>AT",{"$f":"N6","v":5053}]
[null,"Max DE=>BE",{"$f":"O6","v":3648}]
[null,"Max DE=>FR",{"$f":"P6","v":5071}]
[null,"Max DE=>NL",{"$f":"Q6","v":2023}]
[null,"Max FR=>AT",{"$f":"R6","v":4321}]
[null,"Max FR=>BE",{"$f":"S6","v":4288}]
[null,"Max FR=>DE",{"$f":"T6","v":3612}]
[null,"Max FR=>NL",{"$f":"U6","v":2851}]
[null,"Max NL=>AT",{"$f":"V6","v":3079}]
[null,"Max NL=>BE",{"$f":"W6","v":2367}]
[null,"Max NL=>DE",{"$f":"X6","v":3278}]
[null,"Max NL=>FR",{"$f":"Y6","v":2530}]
["hour 6","Max AT=>BE",{"$f":"F7","v":4111}]
[null,"Max AT=>DE",{"$f":"G7","v":4955}]
[null,"Max AT=>FR",{"$f":"H7","v":4134}]
[null,"Max AT=>NL",{"$f":"I7","v":1967}]
[null,"Max BE=>AT",{"$f":"J7","v":2779}]
[null,"Max BE=>DE",{"$f":"K7","v":2675}]
[null,"Max BE=>FR",{"$f":"L7","v":2117}]
[null,"Max BE=>NL",{"$f":"M7","v":2778}]
[null,"Max DE=>AT",{"$f":"N7","v":5369}]
[null,"Max DE=>BE",{"$f":"O7","v":3726}]
[null,"Max DE=>FR",{"$f":"P7","v":5337}]
[null,"Max DE=>NL",{"$f":"Q7","v":1967}]
[null,"Max FR=>AT",{"$f":"R7","v":4028}]
[null,"Max FR=>BE",{"$f":"S7","v":4153}]
[null,"Max FR=>DE",{"$f":"T7","v":3377}]
[null,"Max FR=>NL",{"$f":"U7","v":2586}]
[null,"Max NL=>AT",{"$f":"V7","v":4002}]
[null,"Max NL=>BE",{"$f":"W7","v":2446}]
[null,"Max NL=>DE",{"$f":"X7","v":3796}]
[null,"Max NL=>FR",{"$f":"Y7","v":3063}]
["hour 7","Max AT=>BE",{"$f":"F8","v":4348}]
[null,"Max AT=>DE",{"$f":"G8","v":4982}]
[null,"Max AT=>FR",{"$f":"H8","v":4187}]
[null,"Max AT=>NL",{"$f":"I8","v":4204}]
[null,"Max BE=>AT",{"$f":"J8","v":2586}]
[null,"Max BE=>DE",{"$f":"K8","v":2480}]
[null,"Max BE=>FR",{"$f":"L8","v":2132}]
[null,"Max BE=>NL",{"$f":"M8","v":2685}]
[null,"Max DE=>AT",{"$f":"N8","v":4849}]
[null,"Max DE=>BE",{"$f":"O8","v":4010}]
[null,"Max DE=>FR",{"$f":"P8","v":5252}]
[null,"Max DE=>NL",{"$f":"Q8","v":3509}]
[null,"Max FR=>AT",{"$f":"R8","v":4399}]
[null,"Max FR=>BE",{"$f":"S8","v":4166}]
[null,"Max FR=>DE",{"$f":"T8","v":3632}]
[null,"Max FR=>NL",{"$f":"U8","v":4352}]
[null,"Max NL=>AT",{"$f":"V8","v":3019}]
[null,"Max NL=>BE",{"$f":"W8","v":2418}]
[null,"Max NL=>DE",{"$f":"X8","v":3052}]
[null,"Max NL=>FR",{"$f":"Y8","v":2801}]
["hour 8","Max AT=>BE",{"$f":"F9","v":4143}]
[null,"Max AT=>DE",{"$f":"G9","v":4879}]
[null,"Max AT=>FR",{"$f":"H9","v":4187}]
[null,"Max AT=>NL",{"$f":"I9","v":3142}]
[null,"Max BE=>AT",{"$f":"J9","v":2226}]
[null,"Max BE=>DE",{"$f":"K9","v":2451}]
[null,"Max BE=>FR",{"$f":"L9","v":1853}]
[null,"Max BE=>NL",{"$f":"M9","v":2739}]
[null,"Max DE=>AT",{"$f":"N9","v":4821}]
[null,"Max DE=>BE",{"$f":"O9","v":3750}]
[null,"Max DE=>FR",{"$f":"P9","v":4573}]
[null,"Max DE=>NL",{"$f":"Q9","v":2726}]
[null,"Max FR=>AT",{"$f":"R9","v":4556}]
[null,"Max FR=>BE",{"$f":"S9","v":4815}]
[null,"Max FR=>DE",{"$f":"T9","v":3932}]
[null,"Max FR=>NL",{"$f":"U9","v":4308}]
[null,"Max NL=>AT",{"$f":"V9","v":3244}]
[null,"Max NL=>BE",{"$f":"W9","v":2391}]
[null,"Max NL=>DE",{"$f":"X9","v":3435}]
[null,"Max NL=>FR",{"$f":"Y9","v":2496}]
["hour 9","Max AT=>BE",{"$f":"F10","v":3961}]
[null,"Max AT=>DE",{"$f":"G10","v":4964}]
[null,"Max AT=>FR",{"$f":"H10","v":4003}]
[null,"Max AT=>NL",{"$f":"I10","v":3329}]
[null,"Max BE=>AT",{"$f":"J10","v":2067}]
[null,"Max BE=>DE",{"$f":"K10","v":2242}]
[null,"Max BE=>FR",{"$f":"L10","v":1782}]
[null,"Max BE=>NL",{"$f":"M10","v":2791}]
[null,"Max DE=>AT",{"$f":"N10","v":4821}]
[null,"Max DE=>BE",{"$f":"O10","v":3642}]
[null,"Max DE=>FR",{"$f":"P10","v":4413}]
[null,"Max DE=>NL",{"$f":"Q10","v":2822}]
[null,"Max FR=>AT",{"$f":"R10","v":4366}]
[null,"Max FR=>BE",{"$f":"S10","v":4751}]
[null,"Max FR=>DE",{"$f":"T10","v":3538}]
[null,"Max FR=>NL",{"$f":"U10","v":4079}]
[null,"Max NL=>AT",{"$f":"V10","v":3226}]
[null,"Max NL=>BE",{"$f":"W10","v":2373}]
[null,"Max NL=>DE",{"$f":"X10","v":3293}]
[null,"Max NL=>FR",{"$f":"Y10","v":2467}]
["hour 10","Max AT=>BE",{"$f":"F11","v":3939}]
[null,"Max AT=>DE",{"$f":"G11","v":4980}]
[null,"Max AT=>FR",{"$f":"H11","v":4029}]
[null,"Max AT=>NL",{"$f":"I11","v":2935}]
[null,"Max BE=>AT",{"$f":"J11","v":2177}]
[null,"Max BE=>DE",{"$f":"K11","v":2396}]
[null,"Max BE=>FR",{"$f":"L11","v":1833}]
[null,"Max BE=>NL",{"$f":"M11","v":2805}]
[null,"Max DE=>AT",{"$f":"N11","v":4821}]
[null,"Max DE=>BE",{"$f":"O11","v":3602}]
[null,"Max DE=>FR",{"$f":"P11","v":4434}]
[null,"Max DE=>NL",{"$f":"Q11","v":2584}]
[null,"Max FR=>AT",{"$f":"R11","v":4389}]
[null,"Max FR=>BE",{"$f":"S11","v":4666}]
[null,"Max FR=>DE",{"$f":"T11","v":3541}]
[null,"Max FR=>NL",{"$f":"U11","v":3694}]
[null,"Max NL=>AT",{"$f":"V11","v":3475}]
[null,"Max NL=>BE",{"$f":"W11","v":2412}]
[null,"Max NL=>DE",{"$f":"X11","v":3724}]
[null,"Max NL=>FR",{"$f":"Y11","v":2532}]
["hour 11","Max AT=>BE",{"$f":"F12","v":3994}]
[null,"Max AT=>DE",{"$f":"G12","v":4995}]
[null,"Max AT=>FR",{"$f":"H12","v":3922}]
[null,"Max AT=>NL",{"$f":"I12","v":2823}]
[null,"Max BE=>AT",{"$f":"J12","v":2302}]
[null,"Max BE=>DE",{"$f":"K12","v":2570}]
[null,"Max BE=>FR",{"$f":"L12","v":1892}]
[null,"Max BE=>NL",{"$f":"M12","v":2968}]
[null,"Max DE=>AT",{"$f":"N12","v":4821}]
[null,"Max DE=>BE",{"$f":"O12","v":3630}]
[null,"Max DE=>FR",{"$f":"P12","v":4483}]
[null,"Max DE=>NL",{"$f":"Q12","v":2522}]
[null,"Max FR=>AT",{"$f":"R12","v":4547}]
[null,"Max FR=>BE",{"$f":"S12","v":4527}]
[null,"Max FR=>DE",{"$f":"T12","v":3635}]
[null,"Max FR=>NL",{"$f":"U12","v":3613}]
[null,"Max NL=>AT",{"$f":"V12","v":3693}]
[null,"Max NL=>BE",{"$f":"W12","v":2428}]
[null,"Max NL=>DE",{"$f":"X12","v":3821}]
[null,"Max NL=>FR",{"$f":"Y12","v":2559}]
["hour 12","Max AT=>BE",{"$f":"F13","v":4140}]
[null,"Max AT=>DE",{"$f":"G13","v":5061}]
[null,"Max AT=>FR",{"$f":"H13","v":3983}]
[null,"Max AT=>NL",{"$f":"I13","v":3645}]
[null,"Max BE=>AT",{"$f":"J13","v":2407}]
[null,"Max BE=>DE",{"$f":"K13","v":2714}]
[null,"Max BE=>FR",{"$f":"L13","v":1945}]
[null,"Max BE=>NL",{"$f":"M13","v":3131}]
[null,"Max DE=>AT",{"$f":"N13","v":4821}]
[null,"Max DE=>BE",{"$f":"O13","v":3740}]
[null,"Max DE=>FR",{"$f":"P13","v":4603}]
[null,"Max DE=>NL",{"$f":"Q13","v":3022}]
[null,"Max FR=>AT",{"$f":"R13","v":4616}]
[null,"Max FR=>BE",{"$f":"S13","v":4414}]
[null,"Max FR=>DE",{"$f":"T13","v":3814}]
[null,"Max FR=>NL",{"$f":"U13","v":4537}]
[null,"Max NL=>AT",{"$f":"V13","v":3244}]
[null,"Max NL=>BE",{"$f":"W13","v":2420}]
[null,"Max NL=>DE",{"$f":"X13","v":3294}]
[null,"Max NL=>FR",{"$f":"Y13","v":2552}]
["hour 13","Max AT=>BE",{"$f":"F14","v":4077}]
[null,"Max AT=>DE",{"$f":"G14","v":5041}]
[null,"Max AT=>FR",{"$f":"H14","v":3994}]
[null,"Max AT=>NL",{"$f":"I14","v":3261}]
[null,"Max BE=>AT",{"$f":"J14","v":2343}]
[null,"Max BE=>DE",{"$f":"K14","v":2621}]
[null,"Max BE=>FR",{"$f":"L14","v":1915}]
[null,"Max BE=>NL",{"$f":"M14","v":3180}]
[null,"Max DE=>AT",{"$f":"N14","v":4821}]
[null,"Max DE=>BE",{"$f":"O14","v":3686}]
[null,"Max DE=>FR",{"$f":"P14","v":4537}]
[null,"Max DE=>NL",{"$f":"Q14","v":2787}]
[null,"Max FR=>AT",{"$f":"R14","v":4527}]
[null,"Max FR=>BE",{"$f":"S14","v":4532}]
[null,"Max FR=>DE",{"$f":"T14","v":3629}]
[null,"Max FR=>NL",{"$f":"U14","v":4318}]
[null,"Max NL=>AT",{"$f":"V14","v":3223}]
[null,"Max NL=>BE",{"$f":"W14","v":2407}]
[null,"Max NL=>DE",{"$f":"X14","v":3293}]
[null,"Max NL=>FR",{"$f":"Y14","v":2527}]
["hour 14","Max AT=>BE",{"$f":"F15","v":4060}]
[null,"Max AT=>DE",{"$f":"G15","v":5082}]
[null,"Max AT=>FR",{"$f":"H15","v":4081}]
[null,"Max AT=>NL",{"$f":"I15","v":3036}]
[null,"Max BE=>AT",{"$f":"J15","v":2404}]
[null,"Max BE=>DE",{"$f":"K15","v":2707}]
[null,"Max BE=>FR",{"$f":"L15","v":1942}]
[null,"Max BE=>NL",{"$f":"M15","v":3229}]
[null,"Max DE=>AT",{"$f":"N15","v":4821}]
[null,"Max DE=>BE",{"$f":"O15","v":3679}]
[null,"Max DE=>FR",{"$f":"P15","v":4578}]
[null,"Max DE=>NL",{"$f":"Q15","v":2669}]
[null,"Max FR=>AT",{"$f":"R15","v":4479}]
[null,"Max FR=>BE",{"$f":"S15","v":4453}]
[null,"Max FR=>DE",{"$f":"T15","v":3590}]
[null,"Max FR=>NL",{"$f":"U15","v":4212}]
[null,"Max NL=>AT",{"$f":"V15","v":3119}]
[null,"Max NL=>BE",{"$f":"W15","v":2407}]
[null,"Max NL=>DE",{"$f":"X15","v":3293}]
[null,"Max NL=>FR",{"$f":"Y15","v":2539}]
["hour 15","Max AT=>BE",{"$f":"F16","v":3959}]
[null,"Max AT=>DE",{"$f":"G16","v":5075}]
[null,"Max AT=>FR",{"$f":"H16","v":4132}]
[null,"Max AT=>NL",{"$f":"I16","v":2979}]
[null,"Max BE=>AT",{"$f":"J16","v":2412}]
[null,"Max BE=>DE",{"$f":"K16","v":2719}]
[null,"Max BE=>FR",{"$f":"L16","v":1946}]
[null,"Max BE=>NL",{"$f":"M16","v":3229}]
[null,"Max DE=>AT",{"$f":"N16","v":4821}]
[null,"Max DE=>BE",{"$f":"O16","v":3613}]
[null,"Max DE=>FR",{"$f":"P16","v":4577}]
[null,"Max DE=>NL",{"$f":"Q16","v":2638}]
[null,"Max FR=>AT",{"$f":"R16","v":4401}]
[null,"Max FR=>BE",{"$f":"S16","v":4443}]
[null,"Max FR=>DE",{"$f":"T16","v":3553}]
[null,"Max FR=>NL",{"$f":"U16","v":4161}]
[null,"Max NL=>AT",{"$f":"V16","v":3084}]
[null,"Max NL=>BE",{"$f":"W16","v":2391}]
[null,"Max NL=>DE",{"$f":"X16","v":3288}]
[null,"Max NL=>FR",{"$f":"Y16","v":2536}]
["hour 16","Max AT=>BE",{"$f":"F17","v":4030}]
[null,"Max AT=>DE",{"$f":"G17","v":5052}]
[null,"Max AT=>FR",{"$f":"H17","v":4259}]
[null,"Max AT=>NL",{"$f":"I17","v":4084}]
[null,"Max BE=>AT",{"$f":"J17","v":2403}]
[null,"Max BE=>DE",{"$f":"K17","v":2694}]
[null,"Max BE=>FR",{"$f":"L17","v":1931}]
[null,"Max BE=>NL",{"$f":"M17","v":3180}]
[null,"Max DE=>AT",{"$f":"N17","v":4821}]
[null,"Max DE=>BE",{"$f":"O17","v":3690}]
[null,"Max DE=>FR",{"$f":"P17","v":4629}]
[null,"Max DE=>NL",{"$f":"Q17","v":3437}]
[null,"Max FR=>AT",{"$f":"R17","v":4168}]
[null,"Max FR=>BE",{"$f":"S17","v":4430}]
[null,"Max FR=>DE",{"$f":"T17","v":3453}]
[null,"Max FR=>NL",{"$f":"U17","v":3921}]
[null,"Max NL=>AT",{"$f":"V17","v":3245}]
[null,"Max NL=>BE",{"$f":"W17","v":2381}]
[null,"Max NL=>DE",{"$f":"X17","v":3291}]
[null,"Max NL=>FR",{"$f":"Y17","v":2502}]
["hour 17","Max AT=>BE",{"$f":"F18","v":3846}]
[null,"Max AT=>DE",{"$f":"G18","v":5156}]
[null,"Max AT=>FR",{"$f":"H18","v":4264}]
[null,"Max AT=>NL",{"$f":"I18","v":3225}]
[null,"Max BE=>AT",{"$f":"J18","v":2308}]
[null,"Max BE=>DE",{"$f":"K18","v":2564}]
[null,"Max BE=>FR",{"$f":"L18","v":1881}]
[null,"Max BE=>NL",{"$f":"M18","v":2910}]
[null,"Max DE=>AT",{"$f":"N18","v":4821}]
[null,"Max DE=>BE",{"$f":"O18","v":3563}]
[null,"Max DE=>FR",{"$f":"P18","v":4526}]
[null,"Max DE=>NL",{"$f":"Q18","v":2818}]
[null,"Max FR=>AT",{"$f":"R18","v":4169}]
[null,"Max FR=>BE",{"$f":"S18","v":4501}]
[null,"Max FR=>DE",{"$f":"T18","v":3445}]
[null,"Max FR=>NL",{"$f":"U18","v":3852}]
[null,"Max NL=>AT",{"$f":"V18","v":3487}]
[null,"Max NL=>BE",{"$f":"W18","v":2379}]
[null,"Max NL=>DE",{"$f":"X18","v":3714}]
[null,"Max NL=>FR",{"$f":"Y18","v":2503}]
["hour 18","Max AT=>BE",{"$f":"F19","v":3768}]
[null,"Max AT=>DE",{"$f":"G19","v":5064}]
[null,"Max AT=>FR",{"$f":"H19","v":4272}]
[null,"Max AT=>NL",{"$f":"I19","v":4361}]
[null,"Max BE=>AT",{"$f":"J19","v":2465}]
[null,"Max BE=>DE",{"$f":"K19","v":2376}]
[null,"Max BE=>FR",{"$f":"L19","v":1924}]
[null,"Max BE=>NL",{"$f":"M19","v":2556}]
[null,"Max DE=>AT",{"$f":"N19","v":4821}]
[null,"Max DE=>BE",{"$f":"O19","v":3503}]
[null,"Max DE=>FR",{"$f":"P19","v":4384}]
[null,"Max DE=>NL",{"$f":"Q19","v":3794}]
[null,"Max FR=>AT",{"$f":"R19","v":3383}]
[null,"Max FR=>BE",{"$f":"S19","v":4497}]
[null,"Max FR=>DE",{"$f":"T19","v":3070}]
[null,"Max FR=>NL",{"$f":"U19","v":3031}]
[null,"Max NL=>AT",{"$f":"V19","v":3718}]
[null,"Max NL=>BE",{"$f":"W19","v":2366}]
[null,"Max NL=>DE",{"$f":"X19","v":3812}]
[null,"Max NL=>FR",{"$f":"Y19","v":2536}]
["hour 19","Max AT=>BE",{"$f":"F20","v":4168}]
[null,"Max AT=>DE",{"$f":"G20","v":5007}]
[null,"Max AT=>FR",{"$f":"H20","v":4239}]
[null,"Max AT=>NL",{"$f":"I20","v":4560}]
[null,"Max BE=>AT",{"$f":"J20","v":2082}]
[null,"Max BE=>DE",{"$f":"K20","v":2242}]
[null,"Max BE=>FR",{"$f":"L20","v":1757}]
[null,"Max BE=>NL",{"$f":"M20","v":2412}]
[null,"Max DE=>AT",{"$f":"N20","v":4821}]
[null,"Max DE=>BE",{"$f":"O20","v":3787}]
[null,"Max DE=>FR",{"$f":"P20","v":4275}]
[null,"Max DE=>NL",{"$f":"Q20","v":4105}]
[null,"Max FR=>AT",{"$f":"R20","v":3515}]
[null,"Max FR=>BE",{"$f":"S20","v":5292}]
[null,"Max FR=>DE",{"$f":"T20","v":3139}]
[null,"Max FR=>NL",{"$f":"U20","v":3138}]
[null,"Max NL=>AT",{"$f":"V20","v":3750}]
[null,"Max NL=>BE",{"$f":"W20","v":2414}]
[null,"Max NL=>DE",{"$f":"X20","v":3814}]
[null,"Max NL=>FR",{"$f":"Y20","v":2489}]
["hour 20","Max AT=>BE",{"$f":"F21","v":4099}]
[null,"Max AT=>DE",{"$f":"G21","v":5658}]
[null,"Max AT=>FR",{"$f":"H21","v":4681}]
[null,"Max AT=>NL",{"$f":"I21","v":4628}]
[null,"Max BE=>AT",{"$f":"J21","v":1932}]
[null,"Max BE=>DE",{"$f":"K21","v":2061}]
[null,"Max BE=>FR",{"$f":"L21","v":1686}]
[null,"Max BE=>NL",{"$f":"M21","v":2604}]
[null,"Max DE=>AT",{"$f":"N21","v":4821}]
[null,"Max DE=>BE",{"$f":"O21","v":3715}]
[null,"Max DE=>FR",{"$f":"P21","v":4123}]
[null,"Max DE=>NL",{"$f":"Q21","v":4047}]
[null,"Max FR=>AT",{"$f":"R21","v":3948}]
[null,"Max FR=>BE",{"$f":"S21","v":5350}]
[null,"Max FR=>DE",{"$f":"T21","v":3352}]
[null,"Max FR=>NL",{"$f":"U21","v":3440}]
[null,"Max NL=>AT",{"$f":"V21","v":3735}]
[null,"Max NL=>BE",{"$f":"W21","v":2393}]
[null,"Max NL=>DE",{"$f":"X21","v":3814}]
[null,"Max NL=>FR",{"$f":"Y21","v":2422}]
["hour 21","Max AT=>BE",{"$f":"F22","v":4100}]
[null,"Max AT=>DE",{"$f":"G22","v":5037}]
[null,"Max AT=>FR",{"$f":"H22","v":4208}]
[null,"Max AT=>NL",{"$f":"I22","v":4347}]
[null,"Max BE=>AT",{"$f":"J22","v":1916}]
[null,"Max BE=>DE",{"$f":"K22","v":2039}]
[null,"Max BE=>FR",{"$f":"L22","v":1673}]
[null,"Max BE=>NL",{"$f":"M22","v":2586}]
[null,"Max DE=>AT",{"$f":"N22","v":4821}]
[null,"Max DE=>BE",{"$f":"O22","v":3664}]
[null,"Max DE=>FR",{"$f":"P22","v":4006}]
[null,"Max DE=>NL",{"$f":"Q22","v":3839}]
[null,"Max FR=>AT",{"$f":"R22","v":4690}]
[null,"Max FR=>BE",{"$f":"S22","v":5484}]
[null,"Max FR=>DE",{"$f":"T22","v":4121}]
[null,"Max FR=>NL",{"$f":"U22","v":4393}]
[null,"Max NL=>AT",{"$f":"V22","v":3796}]
[null,"Max NL=>BE",{"$f":"W22","v":2396}]
[null,"Max NL=>DE",{"$f":"X22","v":4137}]
[null,"Max NL=>FR",{"$f":"Y22","v":2388}]
["hour 22","Max AT=>BE",{"$f":"F23","v":4415}]
[null,"Max AT=>DE",{"$f":"G23","v":5136}]
[null,"Max AT=>FR",{"$f":"H23","v":4243}]
[null,"Max AT=>NL",{"$f":"I23","v":4554}]
[null,"Max BE=>AT",{"$f":"J23","v":2191}]
[null,"Max BE=>DE",{"$f":"K23","v":2395}]
[null,"Max BE=>FR",{"$f":"L23","v":1807}]
[null,"Max BE=>NL",{"$f":"M23","v":2930}]
[null,"Max DE=>AT",{"$f":"N23","v":4830}]
[null,"Max DE=>BE",{"$f":"O23","v":3958}]
[null,"Max DE=>FR",{"$f":"P23","v":4310}]
[null,"Max DE=>NL",{"$f":"Q23","v":5172}]
[null,"Max FR=>AT",{"$f":"R23","v":4063}]
[null,"Max FR=>BE",{"$f":"S23","v":5733}]
[null,"Max FR=>DE",{"$f":"T23","v":3408}]
[null,"Max FR=>NL",{"$f":"U23","v":3626}]
[null,"Max NL=>AT",{"$f":"V23","v":3459}]
[null,"Max NL=>BE",{"$f":"W23","v":2429}]
[null,"Max NL=>DE",{"$f":"X23","v":3511}]
[null,"Max NL=>FR",{"$f":"Y23","v":2462}]
["hour 23","Max AT=>BE",{"$f":"F24","v":4428}]
[null,"Max AT=>DE",{"$f":"G24","v":5086}]
[null,"Max AT=>FR",{"$f":"H24","v":4248}]
[null,"Max AT=>NL",{"$f":"I24","v":4555}]
[null,"Max BE=>AT",{"$f":"J24","v":2198}]
[null,"Max BE=>DE",{"$f":"K24","v":2397}]
[null,"Max BE=>FR",{"$f":"L24","v":1805}]
[null,"Max BE=>NL",{"$f":"M24","v":2895}]
[null,"Max DE=>AT",{"$f":"N24","v":4864}]
[null,"Max DE=>BE",{"$f":"O24","v":4037}]
[null,"Max DE=>FR",{"$f":"P24","v":4359}]
[null,"Max DE=>NL",{"$f":"Q24","v":5034}]
[null,"Max FR=>AT",{"$f":"R24","v":3678}]
[null,"Max FR=>BE",{"$f":"S24","v":5426}]
[null,"Max FR=>DE",{"$f":"T24","v":3225}]
[null,"Max FR=>NL",{"$f":"U24","v":3327}]
[null,"Max NL=>AT",{"$f":"V24","v":3860}]
[null,"Max NL=>BE",{"$f":"W24","v":2422}]
[null,"Max NL=>DE",{"$f":"X24","v":3912}]
[null,"Max NL=>FR",{"$f":"Y24","v":2439}]
["hour 24","Max AT=>BE",{"$f":"F25","v":4367}]
[null,"Max AT=>DE",{"$f":"G25","v":4954}]
[null,"Max AT=>FR",{"$f":"H25","v":4211}]
[null,"Max AT=>NL",{"$f":"I25","v":4517}]
[null,"Max BE=>AT",{"$f":"J25","v":2245}]
[null,"Max BE=>DE",{"$f":"K25","v":2460}]
[null,"Max BE=>FR",{"$f":"L25","v":1825}]
[null,"Max BE=>NL",{"$f":"M25","v":3092}]
[null,"Max DE=>AT",{"$f":"N25","v":5391}]
[null,"Max DE=>BE",{"$f":"O25","v":4083}]
[null,"Max DE=>FR",{"$f":"P25","v":4362}]
[null,"Max DE=>NL",{"$f":"Q25","v":5075}]
[null,"Max FR=>AT",{"$f":"R25","v":3890}]
[null,"Max FR=>BE",{"$f":"S25","v":5675}]
[null,"Max FR=>DE",{"$f":"T25","v":3328}]
[null,"Max FR=>NL",{"$f":"U25","v":3479}]
[null,"Max NL=>AT",{"$f":"V25","v":3943}]
[null,"Max NL=>BE",{"$f":"W25","v":2432}]
[null,"Max NL=>DE",{"$f":"X25","v":4637}]
[null,"Max NL=>FR",{"$f":"Y25","v":2443}]

{"sheet":"Shadow Auction ATC","index":13,"n_rows":5,"n_cols":13,"rows_kept":5,"cut":false,"hidden":false,"merged":[[3,1,3,12]]}
[]
["Date:","2020-11-04",null,"Please note that the data for 2020-11-04 is not available."]
[]
[null,"Shadow Auction ATC (in MW)"]
["Hour","AT-DE","DE-AT","BE-NL","NL-BE","DE-NL","NL-DE","BE-FR","FR-BE","FR-DE","DE-FR","BE-DE(DC)","DE-BE(DC)"]

{"sheet":"Net Position","index":14,"n_rows":5,"n_cols":9,"rows_kept":5,"cut":false,"hidden":false,"merged":[[3,1,3,7]]}
[]
["Date:","2020-11-04",null,"Please note that the data for 2020-11-04 is not available."]
[]
[null,"Internal CWE Net Position (in MW)",null,null,null,null,null,null,"Import (-)     Export (+)"]
["Hour","ALBE","ALDE","AT","BE","DE","FR","NL"]

{"sheet":"Allocated Capacities","index":15,"n_rows":5,"n_cols":27,"rows_kept":5,"cut":false,"hidden":false,"merged":[[3,1,3,26]]}
[]
["Date:","2020-11-04",null,"Please note that the data for 2020-11-04 is not available."]
[]
[null,"Bilateral Exchanges (in MW)"]
["Hour","AT-DE","DE-AT","BE-DE(DC)","DE-BE(DC)","FR-ES","ES-FR","DK1-DE","DE-DK1","BE-NL","NL-BE","DE-NL","NL-DE","BE-FR","FR-BE","FR-DE","DE-FR","FR-IT","IT-FR","AT-IT","IT-AT","SI-IT","IT-SI","SI-AT","AT-SI","SI-HR","HR-SI"]

{"sheet":"Price Spread","index":16,"n_rows":5,"n_cols":31,"rows_kept":5,"cut":false,"hidden":false,"merged":[[3,1,3,26],[3,27,3,30]]}
[]
["Date:","2020-11-04",null,"Please note that the data for 2020-11-04 is not available."]
[]
[null,"Price Spread (in €/MWh)",null,null,null,null,null,null,null,null,null,null,null,null,null,null,null,null,null,null,null,null,null,null,null,null,null,"Loss-Adjusted Market Spread (in €/MWh)"]
["Hour","AT-DE","DE-AT","BE-DE(DC)","DE-BE(DC)","FR-ES","ES-FR","DK1-DE","DE-DK1","BE-NL","NL-BE","DE-NL","NL-DE","BE-FR","FR-BE","FR-DE","DE-FR","FR-IT","IT-FR","AT-IT","IT-AT","SI-IT","IT-SI","SI-AT","AT-SI","SI-HR","HR-SI","GB-IE","IE-GB","GB-NI","NI-GB"]

{"sheet":"Intraday ATC","index":17,"n_rows":6,"n_cols":25,"rows_kept":6,"cut":false,"hidden":false,"merged":[[5,21,5,22],[5,23,5,24],[3,1,3,24],[2,2,2,12],[5,17,5,18],[5,19,5,20],[5,1,5,2],[5,15,5,16],[5,13,5,14],[5,11,5,12],[5,9,5,10],[5,7,5,8],[5,5,5,6],[5,3,5,4]]}
[]
["Date:","2020-11-04",null,"Please note that the data for 2020-11-04 is not available."]
[null,null,"Please note that the capacity values published here are the result of an automatic process using the day ahead flow based domain and the day ahead market clearing point. \nThese values do not necessarily represent the capacities being made available for intraday trading as they are published at a time when TSOs have not yet performed \ntheir grid analysis and capacity calculation processes based on the day ahead market results as day ahead left-overs and are therefore without commitment. \nAs soon as those processes are completed the TSOs will publish the final capacities available for intraday trading on the ENTSOE transparency platform."]
[null,"Intraday ATC (in MW)"]
["Hour","Initial","Increase/Decrease","Initial","Increase/Decrease","Initial","Increase/Decrease","Initial","Increase/Decrease","Initial","Increase/Decrease","Initial","Increase/Decrease","Initial","Increase/Decrease","Initial","Increase/Decrease","Initial","Increase/Decrease","Initial","Increase/Decrease","Initial","Increase/Decrease","Initial","Increase/Decrease"]
[null,"AT-DE",null,"DE-AT",null,"BE-NL",null,"NL-BE",null,"DE-NL",null,"NL-DE",null,"BE-FR",null,"FR-BE",null,"FR-DE",null,"DE-FR",null,"BE-DE(DC)",null,"DE-BE(DC)"]

{"sheet":"Congestion Income","index":18,"n_rows":6,"n_cols":27,"rows_kept":6,"cut":false,"hidden":false,"merged":[[4,1,4,5],[4,6,4,12],[3,1,3,26],[4,13,4,26]]}
[]
["Date:","2020-11-04",null,"Please note that the data for 2020-11-04 is not available."]
[]
[null,"Congestion Income (in €)"]
[null,"Net Congestion Income Per Hub",null,null,null,null,"Net Congestion Income per TSO",null,null,null,null,null,null,"Gross Congestion Income per Border"]
["Hour","AT","BE","DE","FR","NL","Amprion","APG","Elia","RTE","Tennet BV","TenneT Gmbh","TransnetBW","DE-DK1","DK1-DE","FR-ES","ES-FR","FR-IT","IT-FR","AT-IT","IT-AT","SI-IT","IT-SI","SI-AT","AT-SI","SI-HR","HR-SI"]

{"sheet":"D2CF","index":19,"n_rows":6,"n_cols":43,"rows_kept":6,"cut":false,"hidden":false,"merged":[[5,40,5,42],[3,16,3,42],[3,1,3,15],[4,1,4,5],[4,6,4,10],[4,11,4,15],[5,28,5,30],[5,31,5,33],[5,34,5,36],[5,37,5,39],[5,16,5,18],[5,19,5,21],[5,22,5,24],[5,25,5,27]]}
[]
["Date:","2020-11-04",null,"Please note that the data for 2020-11-04 is not available."]
[]
[null,"D2CF per Hub (in MW)",null,null,null,null,null,null,null,null,null,null,null,null,null,null,"D2CF per TSO (in MW)"]
[null,"Vertical load",null,null,null,null,"Generation",null,null,null,null,"Best Forecast Net Positions ",null,null,null,null,"VertLoad","Gen","BFNP","VertLoad","Gen","BFNP","VertLoad","Gen","BFNP","VertLoad","Gen","BFNP","VertLoad","Gen","BFNP","VertLoad","Gen","BFNP","VertLoad","Gen","BFNP","VertLoad","Gen","BFNP","VertLoad","Gen","BFNP"]
["TimeStamps","AT","BE","DE","FR","NL","AT","BE","DE","FR","NL","AT","BE","DE","FR","NL","APG",null,null,"TenneT GmbH",null,null,"TransnetBW",null,null,"Amprion",null,null,"50Hertz",null,null,"Elia",null,null,"RTE",null,null,"TenneT BV",null,null,"Creos"]

{"sheet":"Refprog","index":20,"n_rows":12,"n_cols":16,"rows_kept":12,"cut":false,"hidden":false,"merged":[[3,1,3,12]]}
[]
["Date:","2020-11-04",null,"Please note that the data for 2020-11-04 is not available."]
[]
[null,"Refprog Bilateral Exchanges (in MW)"]
["Hour","BE-NL","DE-NL","BE-DE(DC)","FR-BE","FR-DE","FR-ES","FR-IT","CH-DE","CH-FR","DE-CZ","DE-PL","APG-CZ","q"]
[null,null,null,null,null,null,null,null,null,null,null,null,null,null,null,"Notes for extra borders:"]
[]
[null,null,null,null,null,null,null,null,null,null,null,null,null,null,null,"WPS: part of Ukraine"]
[null,null,null,null,null,null,null,null,null,null,null,null,null,null,null,"Zone ES+ includes ES and MA"]
[null,null,null,null,null,null,null,null,null,null,null,null,null,null,null,"Zone DE+ includes DE, DKw and Luxemburg"]
[null,null,null,null,null,null,null,null,null,null,null,null,null,null,null,"Zone SHB includes SI, HR and BA"]
[null,null,null,null,null,null,null,null,null,null,null,null,null,null,null,"Zone SMM includes ME, RS and MK"]

{"sheet":"Final Flowbased domain","index":21,"n_rows":4,"n_cols":31,"rows_kept":4,"cut":false,"hidden":false,"merged":[]}
[]
["Date:","2020-11-04",null,"The data for 2020-11-04 was not loaded automatically, please reselect the date in this sheet to load the data."]
[]
["FileId","DeliveryDate","Period","Row","OutageName","EIC_Code","CriticalBranchName","EIC_Code","Presolved","RemainingAvailableMargin (MW)","Fmax","Fref","FRM","FAV","AMR","MinRAMFactor","MinRAMFactorJustification","BiddingArea_Shortname","Factor","BiddingArea_Shortname","Factor","BiddingArea_Shortname","Factor","BiddingArea_Shortname","Factor","BiddingArea_Shortname","Factor","BiddingArea_Shortname","Factor","BiddingArea_Shortname","Factor"]

{"sheet":"Intraday Implicit Allocation","index":22,"n_rows":6,"n_cols":13,"rows_kept":6,"cut":false,"hidden":false,"merged":[[3,9,3,12],[4,9,4,10],[4,11,4,12],[3,1,3,4],[3,5,3,8],[4,1,4,2],[4,3,4,4],[4,5,4,6],[4,7,4,8]]}
[]
["Date:","2020-11-04",null,"Please note that the data for 2020-11-04 is not available."]
[]
[null,"Bilateral Exchanges (in MW)",null,null,null,"Price Spread (in €/MWh)",null,null,null,"Gross Congestion Income (in €)"]
[null,"Intraday 1",null,"Intraday 2",null,"Intraday 1",null,"Intraday 2",null,"Intraday 1",null,"Intraday 2"]
["Hour","CH-IT","IT-CH","CH-IT","IT-CH","CH-IT","IT-CH","CH-IT","IT-CH","CH-IT","IT-CH","CH-IT","IT-CH"]